{"text_format":"1","workbook":"xlsx","n_sheets":99,"sheets":["3","3F - Topics in the news","3b","3bF2 - Topics in news by Sex","9a","9aF - Overall presence of women","9b","9bF - Sex of news subjects","9c","9cF - Sex of news subjects","9d","9dF - Sex of news subjects","9e","9eF - Occ of News Subjects","9f","9fF - subject's Function","9g","9gF - Victims, by sex","9h","9hF - Family status, by sex","9j","9jF - Photographs","9k","9kF - Family status, by sex","10a","10aF - Presenters","10a2","10b","10c","10a2F - Presenters","10cF - Announcers & Reporters ","10d","10dF - Announcers","10e","10eF - Announcers","10f","10fF - Reporters, by sex","11a","11aF - Announcers","11b","11bF - Reporters","12a","12aF - major story topics","12b","12bF - different story topics","12c","12cF - major topics","12d","12dF - different topics","13a","13aF - sex of source","13b","13bF - sex of source","14","14F - Age","15a","15aF - Central Focus","15b","15bF - Central focus - Topic","16e","16eF - equality","17a","17aF - stereotypes","17a2","17a2F - stereotypes","17c","17cF - stereotypes","18a","18aF - News Subject Sex","18b","18bF - Occupation","18c","18cF - Age","18d","18dF - Age","19a","19aF -Victims","19b","19bF - Survivors","20a","20aF - Occupation","20b","20bF - Function-Age","20c","20cF - Victim","20d","20dF - Function-Family Status","20f","20fF - Function-Occupation","20g","20gF - Quoted","20h","20hF - Photo","4","4F - Themes","4c","4cF - Themes","3d","3dF - Topics"],"not_rendered":{"charts":15,"images":2,"macros":1,"external_links":0,"defined_names":113,"comments":0,"pivot_tables":0},"unopened":[],"bounds":{"document_bytes":16777216,"sheet_cells":100000,"rows_first":2000,"rows_last":500,"rows_between":2000,"halvings":0,"cell_chars":16384,"cell_head_chars":4096},"cells_cut":0,"cells_raw":0,"read":"whole","date_system":"1900"}

{"sheet":"3","index":0,"n_rows":97,"n_cols":37,"rows_kept":97,"cut":false,"hidden":true,"merged":[]}
["Topics in the news"]
[]
[]
[null,null,null,null,"PRINT","RADIO","TELEVISION",null,null,null,null,null,null,null,"TOTAL","COUNT","TOTAL",{"$f":"E4","v":"PRINT"},"RADIO","TELEVISION",0,0,0,0,0]
[null,null,1,"Politics and Government",0.12710049608722301,5.4999998770654202E-2,6.1200002208352103E-2,null,null,null,null,null,null,null,{"$f":"SUM(E5:N5)","v":0.2433004970662293},1,40,{"$f":"IF($O5>0,E5/$O5,0)","v":0.5224013005309428},0.2260578972663691,0.25154080220268821,0,0,0,0,0,null,null,null,null,null,null,null,null,null,null,1,2]
[null,null,2,"Economy",4.4858998619019999E-2,2.9999999329447701E-2,3.0600001104175999E-2,null,null,null,null,null,null,null,{"$f":"SUM(E6:N6)","v":0.10545899905264371},2,18,0.42536909151420066,0.2844707383811988,0.29016017010460049,0,0,0,0,0,null,null,null,null,null,null,null,null,null,null,2,0]
[null,null,3,"Science and Health",1.4952999539673301E-2,4.9999998882412902E-3,4.0800001472234698E-2,null,null,null,null,null,null,null,6.075300090014929E-2,3,11,0.24612775201424753,8.2300459469632617E-2,0.67157178851611987,0,0,0,0,0,null,null,null,null,null,null,null,null,null,null,3,0]
[null,null,4,"Social and Legal",3.73824988491833E-2,4.4999998994171599E-2,6.1200002208352103E-2,null,null,null,null,null,null,null,0.143582500051707,4,26,0.26035553661289568,0.31340866037272075,0.42623580301438357,0,0,0,0,0,null,null,null,null,null,null,null,null,null,null,4,0]
[null,null,5,"Crime and Violence",4.4858998619019999E-2,3.9999999105930301E-2,7.6500002760440097E-2,null,null,null,null,null,null,null,0.1613590004853904,5,29,0.2780074150439571,0.24789444025808738,0.47409814469795558,0,0,0,0,0,null,null,null,null,null,null,null,null,null,null,5,0]
[null,null,6,"Celebrity, Arts and Media, Sports",6.7288497928530006E-2,1.4999999664723899E-2,2.55000009201467E-2,null,null,null,null,null,null,null,0.10778849851340061,6,17,0.62426417341887808,0.13916141213210287,0.23657441444901897,0,0,0,0,0,null,null,null,null,null,null,null,null,null,null,6,0]
[null,null,7,"The Girl-child",null,null,null,null,null,null,null,null,null,null,0,7,0,0,0,0,0,0,0,0,0,null,null,null,null,null,null,null,null,null,null,7,0]
[null,null,8,"Other",null,null,5.1000001840293399E-3,null,null,null,null,null,null,null,5.1000001840293399E-3,8,1,0,0,1,0,0,0,0,0,null,null,null,null,null,null,null,null,null,null,8,0]
[null,null,null,null,null,null,null,null,null,null,null,null,null,null,null,null,null,null,null,null,0,0,0,0,0]
[]
[]
[]
[]
[]
[]
[]
[]
[]
[]
[]
[]
[]
[]
[]
[]
[]
[]
[]
[]
[]
[]
[]
[]
[]
[]
[]
[]
[]
[]
[]
[]
[]
[]
[]
[]
[]
[null,null,null,"TOTAL",{"$f":"SUM(E5:E50)","v":0.33644248964264956},0.189999995753169,0.30090001085773105,0,0,0,0,0,0,0,0.82734249625354961]
[]
[null,null,{"$f":"C5","v":1},"Politics and Government",{"$f":"IF(E$51>0,E5/E$51,0)","v":0.37777777777777732},0.28947368421052638,0.20338983050847467,0,0,0,0,0,0,0,0.29407470082579534]
[null,null,2,"Economy",{"$f":"IF(E$51>0,E6/E$51,0)","v":0.1333333333333335},0.15789473684210506,0.10169491525423716,0,0,0,0,0,0,0,0.12746716085562279]
[null,null,3,"Science and Health",{"$f":"IF(E$51>0,E7/E$51,0)","v":4.4444444444444405E-2},2.6315789473684213E-2,0.13559322033898299,0,0,0,0,0,0,0,7.343150046716658E-2]
[null,null,4,"Social and Legal",{"$f":"IF(E$51>0,E8/E$51,0)","v":0.11111111111111116},0.23684210526315785,0.20338983050847467,0,0,0,0,0,0,0,0.17354662754770947]
[null,null,5,"Crime and Violence",{"$f":"IF(E$51>0,E9/E$51,0)","v":0.1333333333333335},0.21052631578947359,0.25423728813559321,0,0,0,0,0,0,0,0.19503289292653461]
[null,null,6,"Celebrity, Arts and Media, Sports",{"$f":"IF(E$51>0,E10/E$51,0)","v":0.20000000000000029},7.8947368421052794E-2,8.4745762711864417E-2,0,0,0,0,0,0,0,0.13028280186440158]
[null,null,7,"The Girl-child",{"$f":"IF(E$51>0,E11/E$51,0)","v":0},0,0,0,0,0,0,0,0,0,0]
[null,null,8,"Other",{"$f":"IF(E$51>0,E12/E$51,0)","v":0},0,1.6949152542372881E-2,0,0,0,0,0,0,0,6.1643155127696714E-3]
[null,null,{"$f":"C14","v":0},0,{"$f":"IF(E$51>0,E14/E$51,0)","v":0},0,0,0,0,0,0,0,0,0,0]
[null,null,0,0,{"$f":"IF(E$51>0,E15/E$51,0)","v":0},0,0,0,0,0,0,0,0,0,0]
[null,null,0,0,{"$f":"IF(E$51>0,E16/E$51,0)","v":0},0,0,0,0,0,0,0,0,0,0]
[null,null,0,0,{"$f":"IF(E$51>0,E17/E$51,0)","v":0},0,0,0,0,0,0,0,0,0,0]
[null,null,0,0,{"$f":"IF(E$51>0,E18/E$51,0)","v":0},0,0,0,0,0,0,0,0,0,0]
[null,null,0,0,{"$f":"IF(E$51>0,E19/E$51,0)","v":0},0,0,0,0,0,0,0,0,0,0]
[null,null,0,0,{"$f":"IF(E$51>0,E20/E$51,0)","v":0},0,0,0,0,0,0,0,0,0,0]
[null,null,0,0,{"$f":"IF(E$51>0,E21/E$51,0)","v":0},0,0,0,0,0,0,0,0,0,0]
[null,null,0,0,{"$f":"IF(E$51>0,E22/E$51,0)","v":0},0,0,0,0,0,0,0,0,0,0]
[null,null,0,0,{"$f":"IF(E$51>0,E23/E$51,0)","v":0},0,0,0,0,0,0,0,0,0,0]
[null,null,0,0,{"$f":"IF(E$51>0,E24/E$51,0)","v":0},0,0,0,0,0,0,0,0,0,0]
[null,null,0,0,{"$f":"IF(E$51>0,E25/E$51,0)","v":0},0,0,0,0,0,0,0,0,0,0]
[null,null,{"$f":"C26","v":0},0,{"$f":"IF(E$51>0,E26/E$51,0)","v":0},0,0,0,0,0,0,0,0,0,0]
[null,null,0,0,{"$f":"IF(E$51>0,E27/E$51,0)","v":0},0,0,0,0,0,0,0,0,0,0]
[null,null,0,0,{"$f":"IF(E$51>0,E28/E$51,0)","v":0},0,0,0,0,0,0,0,0,0,0]
[null,null,0,0,{"$f":"IF(E$51>0,E29/E$51,0)","v":0},0,0,0,0,0,0,0,0,0,0]
[null,null,0,0,{"$f":"IF(E$51>0,E30/E$51,0)","v":0},0,0,0,0,0,0,0,0,0,0]
[null,null,0,0,{"$f":"IF(E$51>0,E31/E$51,0)","v":0},0,0,0,0,0,0,0,0,0,0]
[null,null,0,0,{"$f":"IF(E$51>0,E32/E$51,0)","v":0},0,0,0,0,0,0,0,0,0,0]
[null,null,0,0,{"$f":"IF(E$51>0,E33/E$51,0)","v":0},0,0,0,0,0,0,0,0,0,0]
[null,null,0,0,{"$f":"IF(E$51>0,E34/E$51,0)","v":0},0,0,0,0,0,0,0,0,0,0]
[null,null,0,0,{"$f":"IF(E$51>0,E35/E$51,0)","v":0},0,0,0,0,0,0,0,0,0,0]
[null,null,0,0,{"$f":"IF(E$51>0,E36/E$51,0)","v":0},0,0,0,0,0,0,0,0,0,0]
[null,null,0,0,{"$f":"IF(E$51>0,E37/E$51,0)","v":0},0,0,0,0,0,0,0,0,0,0]
[null,null,0,0,{"$f":"IF(E$51>0,E38/E$51,0)","v":0},0,0,0,0,0,0,0,0,0,0]
[null,null,0,0,{"$f":"IF(E$51>0,E39/E$51,0)","v":0},0,0,0,0,0,0,0,0,0,0]
[null,null,0,0,{"$f":"IF(E$51>0,E40/E$51,0)","v":0},0,0,0,0,0,0,0,0,0,0]
[null,null,0,0,{"$f":"IF(E$51>0,E41/E$51,0)","v":0},0,0,0,0,0,0,0,0,0,0]
[null,null,0,0,{"$f":"IF(E$51>0,E42/E$51,0)","v":0},0,0,0,0,0,0,0,0,0,0]
[null,null,0,0,{"$f":"IF(E$51>0,E43/E$51,0)","v":0},0,0,0,0,0,0,0,0,0,0]
[null,null,0,0,{"$f":"IF(E$51>0,E44/E$51,0)","v":0},0,0,0,0,0,0,0,0,0,0]
[null,null,0,0,{"$f":"IF(E$51>0,E45/E$51,0)","v":0},0,0,0,0,0,0,0,0,0,0]
[null,null,{"$f":"C46","v":0},0,{"$f":"IF(E$51>0,E46/E$51,0)","v":0},0,0,0,0,0,0,0,0,0,0]
[null,null,0,0,{"$f":"IF(E$51>0,E47/E$51,0)","v":0},0,0,0,0,0,0,0,0,0,0]
[null,null,0,0,{"$f":"IF(E$51>0,E48/E$51,0)","v":0},0,0,0,0,0,0,0,0,0,0]
[null,null,0,0,{"$f":"IF(E$51>0,E49/E$51,0)","v":0},0,0,0,0,0,0,0,0,0,0]
[null,null,0,0,{"$f":"IF(E$51>0,E50/E$51,0)","v":0},0,0,0,0,0,0,0,0,0,0]

{"sheet":"3F - Topics in the news","index":1,"n_rows":12,"n_cols":18,"rows_kept":12,"cut":false,"hidden":false,"merged":[[2,5,2,7],[2,8,2,10],[2,11,2,13],[2,14,2,16]]}
[{"$f":"'3'!A1","v":"Topics in the news"},null,null,null,null,null,null,null,null,null,null," "]
[null,null,null,null,null,null,"Topic groups were too different from 1995. Investigating if 2000 can be assimilated.    ",null,null,null,null,"Topic groups were too different from 1995. Investigating if 2000 can be assimilated.    "]
[null,null,null,null,null,1995,null,null,2000,null,null,2005,null,null,2010]
[null,null,null,null,"Topic",{"$f":"'3'!E4","v":"PRINT"},{"$f":"'3'!F4","v":"RADIO"},{"$f":"'3'!G4","v":"TELEVISION"},{"$f":"F4","v":"PRINT"},{"$f":"G4","v":"RADIO"},{"$f":"H4","v":"TELEVISION"},{"$f":"F4","v":"PRINT"},{"$f":"G4","v":"RADIO"},{"$f":"H4","v":"TELEVISION"},{"$f":"F4","v":"PRINT"},{"$f":"G4","v":"RADIO"},{"$f":"H4","v":"TELEVISION"},"N"]
[null,null,null,{"$f":"'3'!C5","v":1},{"$f":"'3'!D5","v":"Politics and Government"},"n/a","n/a","n/a","n/a","n/a","n/a",0.27,0.23,0.23,{"$f":"'3'!E53","v":0.37777777777777732},{"$f":"'3'!F53","v":0.28947368421052638},{"$f":"'3'!G53","v":0.20338983050847467},{"$f":"'3'!Q5","v":40}]
[null,null,null,{"$f":"'3'!C6","v":2},{"$f":"'3'!D6","v":"Economy"},"n/a","n/a","n/a","n/a","n/a","n/a",0.19,0.27,0.18,{"$f":"'3'!E54","v":0.1333333333333335},{"$f":"'3'!F54","v":0.15789473684210506},{"$f":"'3'!G54","v":0.10169491525423716},{"$f":"'3'!Q6","v":18}]
[null,null,null,{"$f":"'3'!C7","v":3},{"$f":"'3'!D7","v":"Science and Health"},"n/a","n/a","n/a","n/a","n/a","n/a",0.11,0.11,0.09,{"$f":"'3'!E55","v":4.4444444444444405E-2},{"$f":"'3'!F55","v":2.6315789473684213E-2},{"$f":"'3'!G55","v":0.13559322033898299},{"$f":"'3'!Q7","v":11}]
[null,null,null,{"$f":"'3'!C8","v":4},{"$f":"'3'!D8","v":"Social and Legal"},"n/a","n/a","n/a","n/a","n/a","n/a",0.14000000000000001,0.11,0.1,{"$f":"'3'!E56","v":0.11111111111111116},{"$f":"'3'!F56","v":0.23684210526315785},{"$f":"'3'!G56","v":0.20338983050847467},{"$f":"'3'!Q8","v":26}]
[null,null,null,{"$f":"'3'!C9","v":5},{"$f":"'3'!D9","v":"Crime and Violence"},"n/a","n/a","n/a","n/a","n/a","n/a",0.2,0.17,0.22,{"$f":"'3'!E57","v":0.1333333333333335},{"$f":"'3'!F57","v":0.21052631578947359},{"$f":"'3'!G57","v":0.25423728813559321},{"$f":"'3'!Q9","v":29}]
[null,null,null,{"$f":"'3'!C10","v":6},{"$f":"'3'!D10","v":"Celebrity, Arts and Media, Sports"},"n/a","n/a","n/a","n/a","n/a","n/a",0.09,0.08,0.14000000000000001,{"$f":"'3'!E58","v":0.20000000000000029},{"$f":"'3'!F58","v":7.8947368421052794E-2},{"$f":"'3'!G58","v":8.4745762711864417E-2},{"$f":"'3'!Q10","v":17}]
[null,null,null,{"$f":"'3'!C11","v":7},{"$f":"'3'!D11","v":"The Girl-child"},"n/a","n/a","n/a","n/a","n/a","n/a","new topic","new topic","new topic",{"$f":"'3'!E59","v":0},{"$f":"'3'!F59","v":0},{"$f":"'3'!G59","v":0},{"$f":"'3'!Q11","v":0}]
[null,null,null,{"$f":"'3'!C12","v":8},{"$f":"'3'!D12","v":"Other"},"n/a","n/a","n/a","n/a","n/a","n/a","* indicates less than 1% in all tables",0.01,0.01,{"$f":"'3'!E60","v":0},{"$f":"'3'!F60","v":0},{"$f":"'3'!G60","v":1.6949152542372881E-2},{"$f":"'3'!Q12","v":1}]

{"sheet":"3b","index":2,"n_rows":154,"n_cols":38,"rows_kept":154,"cut":false,"hidden":true,"merged":[]}
["Topics in the news by region by sex"]
[]
[null,null,null,null,"Africa",null,"Asia",null,"Caribbean",null,"Europe",null,"Latin America",null,"Middle East",null,"North America",null,"Pacific",null,null,null,{"$f":"E3","v":"Africa"},{"$f":"F3","v":0},"Asia",0,"Caribbean",0,"Europe",0,"Latin America",0,"Middle East",0,"North America",0,"Pacific"]
[null,null,null,null,"Female","Male","Female","Male","Female","Male","Female","Male","Female","Male","Female","Male","Female","Male","Female","Male",null,"TOTAL",{"$f":"E4","v":"Female"},"Male","Female","Male","Female","Male","Female","Male","Female","Male","Female","Male","Female","Male","Female",{"$f":"T4","v":"Male"}]
[null,null,1,"Politics and Government",null,null,null,null,null,null,9.5605999696999802E-2,0.206311999354511,null,null,null,null,null,null,null,null,null,{"$f":"SUM(E5:T5)","v":0.30191799905151079},{"$f":"IF((E5+F5)>0,E5/(E5+F5),0)","v":0},{"$f":"IF((E5+F5)>0,F5/(E5+F5),0)","v":0},{"$f":"IF((G5+H5)>0,G5/(G5+H5),0)","v":0},{"$f":"IF((G5+H5)>0,H5/(G5+H5),0)","v":0},{"$f":"IF((I5+J5)>0,I5/(I5+J5),0)","v":0},{"$f":"IF((I5+J5)>0,J5/(I5+J5),0)","v":0},{"$f":"IF((K5+L5)>0,K5/(K5+L5),0)","v":0.31666214004249638},{"$f":"IF((K5+L5)>0,L5/(K5+L5),0)","v":0.68333785995750362},{"$f":"IF((M5+N5)>0,M5/(M5+N5),0)","v":0},{"$f":"IF((M5+N5)>0,N5/(M5+N5),0)","v":0},{"$f":"IF((O5+P5)>0,O5/(O5+P5),0)","v":0},{"$f":"IF((O5+P5)>0,P5/(O5+P5),0)","v":0},{"$f":"IF((Q5+R5)>0,Q5/(Q5+R5),0)","v":0},{"$f":"IF((Q5+R5)>0,R5/(Q5+R5),0)","v":0},{"$f":"IF((S5+T5)>0,S5/(S5+T5),0)","v":0},{"$f":"IF((S5+T5)>0,T5/(S5+T5),0)","v":0}]
[null,null,2,"Economy",null,null,null,null,null,null,3.04000005125999E-2,9.0505999512970406E-2,null,null,null,null,null,null,null,null,null,{"$f":"SUM(E6:T6)","v":0.12090600002557031},{"$f":"IF((E6+F6)>0,E6/(E6+F6),0)","v":0},{"$f":"IF((E6+F6)>0,F6/(E6+F6),0)","v":0},{"$f":"IF((G6+H6)>0,G6/(G6+H6),0)","v":0},{"$f":"IF((G6+H6)>0,H6/(G6+H6),0)","v":0},{"$f":"IF((I6+J6)>0,I6/(I6+J6),0)","v":0},{"$f":"IF((I6+J6)>0,J6/(I6+J6),0)","v":0},{"$f":"IF((K6+L6)>0,K6/(K6+L6),0)","v":0.25143500327668294},{"$f":"IF((K6+L6)>0,L6/(K6+L6),0)","v":0.748564996723317},{"$f":"IF((M6+N6)>0,M6/(M6+N6),0)","v":0},{"$f":"IF((M6+N6)>0,N6/(M6+N6),0)","v":0},{"$f":"IF((O6+P6)>0,O6/(O6+P6),0)","v":0},{"$f":"IF((O6+P6)>0,P6/(O6+P6),0)","v":0},{"$f":"IF((Q6+R6)>0,Q6/(Q6+R6),0)","v":0},{"$f":"IF((Q6+R6)>0,R6/(Q6+R6),0)","v":0},{"$f":"IF((S6+T6)>0,S6/(S6+T6),0)","v":0},{"$f":"IF((S6+T6)>0,T6/(S6+T6),0)","v":0}]
[null,null,3,"Science and Health",null,null,null,null,null,null,5.8276501018554E-2,4.0700001176446697E-2,null,null,null,null,null,null,null,null,null,9.8976502195000704E-2,0,0,0,0,0,0,0.5887912759711319,0.41120872402886804,0,0,0,0,0,0,0,0]
[null,null,4,"Social and Legal",null,null,null,null,null,null,8.1200001761317295E-2,0.10827649990096699,null,null,null,null,null,null,null,null,null,0.1894765016622843,0,0,0,0,0,0,0.42854919237449868,0.57145080762550127,0,0,0,0,0,0,0,0]
[null,null,5,"Crime and Violence",null,null,null,null,null,null,6.8376501090824604E-2,0.15130600053817,null,null,null,null,null,null,null,null,null,0.21968250162899461,0,0,0,0,0,0,0.31125146784016772,0.68874853215983234,0,0,0,0,0,0,0,0]
[null,null,6,"Celebrity, Arts and Media, Sports",null,null,null,null,null,null,3.5152999684214599E-2,9.0458999387919903E-2,null,null,null,null,null,null,null,null,null,0.12561199907213449,0,0,0,0,0,0,0.27985383517403845,0.72014616482596161,0,0,0,0,0,0,0,0]
[null,null,7,"The Girl-child",null,null,null,null,null,null,null,null,null,null,null,null,null,null,null,null,null,0,0,0,0,0,0,0,0,0,0,0,0,0,0,0,0,0]
[null,null,8,"Other",null,null,null,null,null,null,5.1000001840293399E-3,null,null,null,null,null,null,null,null,null,null,5.1000001840293399E-3,0,0,0,0,0,0,1,0,0,0,0,0,0,0,0,0]
[]
[]
[]
[]
[]
[]
[]
[]
[]
[]
[]
[]
[]
[]
[]
[]
[]
[]
[]
[]
[]
[]
[]
[]
[]
[]
[]
[]
[]
[]
[]
[]
[]
[]
[]
[]
[]
[null,null,null,"TOTAL",{"$f":"SUM(E5:E49)","v":0},0,0,0,0,0,0.37411200394853955,0.68755949987098497,0,0,0,{"$f":"SUM(P5:P49)","v":0},{"$f":"SUM(Q5:Q49)","v":0},{"$f":"SUM(R5:R49)","v":0},{"$f":"SUM(S5:S49)","v":0},{"$f":"SUM(T5:T49)","v":0},null,{"$f":"SUM(E50:O50)","v":1.0616715038195246},{"$f":"IF((E50+F50)>0,E50/(E50+F50),0)","v":0},{"$f":"IF((E50+F50)>0,F50/(E50+F50),0)","v":0},{"$f":"IF((G50+H50)>0,G50/(G50+H50),0)","v":0},{"$f":"IF((G50+H50)>0,H50/(G50+H50),0)","v":0},{"$f":"IF((I50+J50)>0,I50/(I50+J50),0)","v":0},{"$f":"IF((I50+J50)>0,J50/(I50+J50),0)","v":0},{"$f":"IF((K50+L50)>0,K50/(K50+L50),0)","v":0.35238018784776154},{"$f":"IF((K50+L50)>0,L50/(K50+L50),0)","v":0.64761981215223841},{"$f":"IF((M50+N50)>0,M50/(M50+N50),0)","v":0},{"$f":"IF((M50+N50)>0,N50/(M50+N50),0)","v":0},{"$f":"IF((O50+P50)>0,O50/(O50+P50),0)","v":0},{"$f":"IF((O50+P50)>0,P50/(O50+P50),0)","v":0},{"$f":"IF((Q50+R50)>0,Q50/(Q50+R50),0)","v":0},{"$f":"IF((Q50+R50)>0,R50/(Q50+R50),0)","v":0},{"$f":"IF((S50+T50)>0,S50/(S50+T50),0)","v":0},{"$f":"IF((S50+T50)>0,T50/(S50+T50),0)","v":0}]
[]
[null,null,{"$f":"C5","v":1},"Politics and Government",{"$f":"IF(E$50>0,E5/E$50,0)","v":0},0,0,0,0,0,0.25555448284987603,0.30006421174200021,0,0,0,{"$f":"IF(P$50>0,P5/P$50,0)","v":0},0,0,0,0]
[null,null,2,"Economy",{"$f":"IF(E$50>0,E6/E$50,0)","v":0},0,0,0,0,0,8.1259088700028806E-2,0.13163369792716575,0,0,0,0,0,0,0,0]
[null,null,3,"Science and Health",{"$f":"IF(E$50>0,E7/E$50,0)","v":0},0,0,0,0,0,0.15577287123502764,5.9194878674621941E-2,0,0,0,0,0,0,0,0]
[null,null,4,"Social and Legal",{"$f":"IF(E$50>0,E8/E$50,0)","v":0},0,0,0,0,0,0.21704730376009707,0.15747946166300403,0,0,0,0,0,0,0,0]
[null,null,5,"Crime and Violence",{"$f":"IF(E$50>0,E9/E$50,0)","v":0},0,0,0,0,0,0.18277013399503225,0.22006240996824472,0,0,0,0,0,0,0,0]
[null,null,6,"Celebrity, Arts and Media, Sports",{"$f":"IF(E$50>0,E10/E$50,0)","v":0},0,0,0,0,0,9.3963837869928443E-2,0.13156534002496337,0,0,0,0,0,0,0,0]
[null,null,7,"The Girl-child",{"$f":"IF(E$50>0,E11/E$50,0)","v":0},0,0,0,0,0,0,0,0,0,0,0,0,0,0,0]
[null,null,8,"Other",{"$f":"IF(E$50>0,E12/E$50,0)","v":0},0,0,0,0,0,1.3632281590009775E-2,0,0,0,0,0,0,0,0,0]
[null,null,0,0,{"$f":"IF(E$50>0,E13/E$50,0)","v":0},0,0,0,0,0,0,0,0,0,0,0,0,0,0,0]
[null,null,0,0,{"$f":"IF(E$50>0,E14/E$50,0)","v":0},0,0,0,0,0,0,0,0,0,0,0,0,0,0,0]
[null,null,0,0,{"$f":"IF(E$50>0,E15/E$50,0)","v":0},0,0,0,0,0,0,0,0,0,0,{"$f":"IF(P$50>0,P15/P$50,0)","v":0},0,0,0,0]
[null,null,0,0,{"$f":"IF(E$50>0,E16/E$50,0)","v":0},0,0,0,0,0,0,0,0,0,0,0,0,0,0,0]
[null,null,0,0,{"$f":"IF(E$50>0,E17/E$50,0)","v":0},0,0,0,0,0,0,0,0,0,0,0,0,0,0,0]
[null,null,0,0,{"$f":"IF(E$50>0,E18/E$50,0)","v":0},0,0,0,0,0,0,0,0,0,0,0,0,0,0,0]
[null,null,0,0,{"$f":"IF(E$50>0,E19/E$50,0)","v":0},0,0,0,0,0,0,0,0,0,0,0,0,0,0,0]
[null,null,0,0,{"$f":"IF(E$50>0,E20/E$50,0)","v":0},0,0,0,0,0,0,0,0,0,0,0,0,0,0,0]
[null,null,0,0,{"$f":"IF(E$50>0,E21/E$50,0)","v":0},0,0,0,0,0,0,0,0,0,0,0,0,0,0,0]
[null,null,0,0,{"$f":"IF(E$50>0,E22/E$50,0)","v":0},0,0,0,0,0,0,0,0,0,0,0,0,0,0,0]
[null,null,0,0,{"$f":"IF(E$50>0,E23/E$50,0)","v":0},0,0,0,0,0,0,0,0,0,0,0,0,0,0,0]
[null,null,0,0,{"$f":"IF(E$50>0,E24/E$50,0)","v":0},0,0,0,0,0,0,0,0,0,0,0,0,0,0,0]
[null,null,{"$f":"C25","v":0},0,{"$f":"IF(E$50>0,E25/E$50,0)","v":0},0,0,0,0,0,0,0,0,0,0,{"$f":"IF(P$50>0,P25/P$50,0)","v":0},0,0,0,0]
[null,null,0,0,{"$f":"IF(E$50>0,E26/E$50,0)","v":0},0,0,0,0,0,0,0,0,0,0,0,0,0,0,0]
[null,null,0,0,{"$f":"IF(E$50>0,E27/E$50,0)","v":0},0,0,0,0,0,0,0,0,0,0,0,0,0,0,0]
[null,null,0,0,{"$f":"IF(E$50>0,E28/E$50,0)","v":0},0,0,0,0,0,0,0,0,0,0,0,0,0,0,0]
[null,null,0,0,{"$f":"IF(E$50>0,E29/E$50,0)","v":0},0,0,0,0,0,0,0,0,0,0,0,0,0,0,0]
[null,null,0,0,{"$f":"IF(E$50>0,E30/E$50,0)","v":0},0,0,0,0,0,0,0,0,0,0,0,0,0,0,0]
[null,null,0,0,{"$f":"IF(E$50>0,E31/E$50,0)","v":0},0,0,0,0,0,0,0,0,0,0,0,0,0,0,0]
[null,null,0,0,{"$f":"IF(E$50>0,E32/E$50,0)","v":0},0,0,0,0,0,0,0,0,0,0,0,0,0,0,0]
[null,null,0,0,{"$f":"IF(E$50>0,E33/E$50,0)","v":0},0,0,0,0,0,0,0,0,0,0,0,0,0,0,0]
[null,null,0,0,{"$f":"IF(E$50>0,E34/E$50,0)","v":0},0,0,0,0,0,0,0,0,0,0,0,0,0,0,0]
[null,null,0,0,{"$f":"IF(E$50>0,E35/E$50,0)","v":0},0,0,0,0,0,0,0,0,0,0,{"$f":"IF(P$50>0,P35/P$50,0)","v":0},0,0,0,0]
[null,null,0,0,{"$f":"IF(E$50>0,E36/E$50,0)","v":0},0,0,0,0,0,0,0,0,0,0,0,0,0,0,0]
[null,null,0,0,{"$f":"IF(E$50>0,E37/E$50,0)","v":0},0,0,0,0,0,0,0,0,0,0,0,0,0,0,0]
[null,null,0,0,{"$f":"IF(E$50>0,E38/E$50,0)","v":0},0,0,0,0,0,0,0,0,0,0,0,0,0,0,0]
[null,null,0,0,{"$f":"IF(E$50>0,E39/E$50,0)","v":0},0,0,0,0,0,0,0,0,0,0,0,0,0,0,0]
[null,null,0,0,{"$f":"IF(E$50>0,E40/E$50,0)","v":0},0,0,0,0,0,0,0,0,0,0,0,0,0,0,0]
[null,null,0,0,{"$f":"IF(E$50>0,E41/E$50,0)","v":0},0,0,0,0,0,0,0,0,0,0,0,0,0,0,0]
[null,null,0,0,{"$f":"IF(E$50>0,E42/E$50,0)","v":0},0,0,0,0,0,0,0,0,0,0,0,0,0,0,0]
[null,null,0,0,{"$f":"IF(E$50>0,E43/E$50,0)","v":0},0,0,0,0,0,0,0,0,0,0,0,0,0,0,0]
[null,null,0,0,{"$f":"IF(E$50>0,E44/E$50,0)","v":0},0,0,0,0,0,0,0,0,0,0,0,0,0,0,0]
[null,null,{"$f":"C45","v":0},0,{"$f":"IF(E$50>0,E45/E$50,0)","v":0},0,0,0,0,0,0,0,0,0,0,{"$f":"IF(P$50>0,P45/P$50,0)","v":0},0,0,0,0]
[null,null,0,0,{"$f":"IF(E$50>0,E46/E$50,0)","v":0},0,0,0,0,0,0,0,0,0,0,0,0,0,0,0]
[null,null,0,0,{"$f":"IF(E$50>0,E47/E$50,0)","v":0},0,0,0,0,0,0,0,0,0,0,0,0,0,0,0]
[null,null,0,0,{"$f":"IF(E$50>0,E48/E$50,0)","v":0},0,0,0,0,0,0,0,0,0,0,0,0,0,0,0]
[null,null,0,0,{"$f":"IF(E$50>0,E49/E$50,0)","v":0},0,0,0,0,0,0,0,0,0,0,0,0,0,0,0]
[]
[]
[]
[]
[]
[]
[]
[]
[]
[]
[]
[]
["COUNT"]
[null,null,null,null,{"$f":"E3","v":"Africa"},0,"Asia",0,"Caribbean",0,"Europe",0,"Latin America",0,"Middle East",0,"North America",0,"Pacific",0]
[null,null,null,null,{"$f":"E4","v":"Female"},"Male","Female","Male","Female","Male","Female","Male","Female","Male","Female","Male","Female","Male","Female","Male"]
[null,null,{"$f":"C5","v":1},"Politics and Government",0,0,0,0,0,0,17,37,0,0,0,0,0,0,0,0]
[null,null,2,"Economy",0,0,0,0,0,0,6,16,0,0,0,0,0,0,0,0]
[null,null,3,"Science and Health",0,0,0,0,0,0,11,8,0,0,0,0,0,0,0,0]
[null,null,4,"Social and Legal",0,0,0,0,0,0,16,21,0,0,0,0,0,0,0,0]
[null,null,5,"Crime and Violence",0,0,0,0,0,0,13,28,0,0,0,0,0,0,0,0]
[null,null,6,"Celebrity, Arts and Media, Sports",0,0,0,0,0,0,6,15,0,0,0,0,0,0,0,0]
[null,null,7,"The Girl-child",0,0,0,0,0,0,0,0,0,0,0,0,0,0,0,0]
[null,null,8,"Other",0,0,0,0,0,0,1,0,0,0,0,0,0,0,0,0]
[null,null,0,0]
[null,null,0,0]
[null,null,0,0]
[null,null,0,0]
[null,null,0,0]
[null,null,0,0]
[null,null,0,0]
[null,null,0,0]
[null,null,0,0]
[null,null,0,0]
[null,null,0,0]
[null,null,0,0]
[null,null,{"$f":"C25","v":0},0]
[null,null,0,0]
[null,null,0,0]
[null,null,0,0]
[null,null,0,0]
[null,null,0,0]
[null,null,0,0]
[null,null,0,0]
[null,null,0,0]
[null,null,0,0]
[null,null,0,0]
[null,null,0,0]
[null,null,0,0]
[null,null,0,0]
[null,null,0,0]
[null,null,0,0]
[null,null,0,0]
[null,null,0,0]
[null,null,0,0]
[null,null,0,0]
[null,null,{"$f":"C45","v":0},0]
[null,null,0,0]
[null,null,0,0]

{"sheet":"3bF2 - Topics in news by Sex","index":3,"n_rows":12,"n_cols":10,"rows_kept":12,"cut":false,"hidden":false,"merged":[]}
["Topics in the news by sex of Reporter"]
[]
[]
[null,null,"TOPIC","1995","2000","2005","% Female","N-F","% Male","N-M"]
[null,null,{"$f":"'3b'!D5","v":"Politics and Government"},"n/a","n/a",0.32,{"$f":"IF('3b'!V5=0, 0, ('3b'!E5+'3b'!G5+'3b'!I5+'3b'!K5+'3b'!M5+'3b'!O5+'3b'!Q5+'3b'!S5)/'3b'!V5)","v":0.31666214004249638},{"$f":"+'3b'!E112+'3b'!G112+'3b'!I112+'3b'!K112+'3b'!M112+'3b'!O112+'3b'!Q112+'3b'!S112","v":17},{"$f":"IF('3b'!V5=0, 0,('3b'!F5+'3b'!H5+'3b'!J5+'3b'!L5+'3b'!N5+'3b'!P5+'3b'!R5+'3b'!T5)/'3b'!V5)","v":0.68333785995750362},{"$f":"+'3b'!F112+'3b'!H112+'3b'!J112+'3b'!L112+'3b'!N112+'3b'!P112+'3b'!R112+'3b'!T112","v":37}]
[null,null,{"$f":"'3b'!D6","v":"Economy"},"n/a","n/a",0.43,{"$f":"IF('3b'!V6=0, 0, ('3b'!E6+'3b'!G6+'3b'!I6+'3b'!K6+'3b'!M6+'3b'!O6+'3b'!Q6+'3b'!S6)/'3b'!V6)","v":0.25143500327668294},{"$f":"+'3b'!E113+'3b'!G113+'3b'!I113+'3b'!K113+'3b'!M113+'3b'!O113+'3b'!Q113+'3b'!S113","v":6},{"$f":"IF('3b'!V6=0, 0,('3b'!F6+'3b'!H6+'3b'!J6+'3b'!L6+'3b'!N6+'3b'!P6+'3b'!R6+'3b'!T6)/'3b'!V6)","v":0.748564996723317},{"$f":"+'3b'!F113+'3b'!H113+'3b'!J113+'3b'!L113+'3b'!N113+'3b'!P113+'3b'!R113+'3b'!T113","v":16}]
[null,null,{"$f":"'3b'!D7","v":"Science and Health"},"n/a","n/a",0.38,{"$f":"IF('3b'!V7=0, 0, ('3b'!E7+'3b'!G7+'3b'!I7+'3b'!K7+'3b'!M7+'3b'!O7+'3b'!Q7+'3b'!S7)/'3b'!V7)","v":0.5887912759711319},{"$f":"+'3b'!E114+'3b'!G114+'3b'!I114+'3b'!K114+'3b'!M114+'3b'!O114+'3b'!Q114+'3b'!S114","v":11},{"$f":"IF('3b'!V7=0, 0,('3b'!F7+'3b'!H7+'3b'!J7+'3b'!L7+'3b'!N7+'3b'!P7+'3b'!R7+'3b'!T7)/'3b'!V7)","v":0.41120872402886804},{"$f":"+'3b'!F114+'3b'!H114+'3b'!J114+'3b'!L114+'3b'!N114+'3b'!P114+'3b'!R114+'3b'!T114","v":8}]
[null,null,{"$f":"'3b'!D8","v":"Social and Legal"},"n/a","n/a",0.4,{"$f":"IF('3b'!V8=0, 0, ('3b'!E8+'3b'!G8+'3b'!I8+'3b'!K8+'3b'!M8+'3b'!O8+'3b'!Q8+'3b'!S8)/'3b'!V8)","v":0.42854919237449868},{"$f":"+'3b'!E115+'3b'!G115+'3b'!I115+'3b'!K115+'3b'!M115+'3b'!O115+'3b'!Q115+'3b'!S115","v":16},{"$f":"IF('3b'!V8=0, 0,('3b'!F8+'3b'!H8+'3b'!J8+'3b'!L8+'3b'!N8+'3b'!P8+'3b'!R8+'3b'!T8)/'3b'!V8)","v":0.57145080762550127},{"$f":"+'3b'!F115+'3b'!H115+'3b'!J115+'3b'!L115+'3b'!N115+'3b'!P115+'3b'!R115+'3b'!T115","v":21}]
[null,null,{"$f":"'3b'!D9","v":"Crime and Violence"},"n/a","n/a",0.33,{"$f":"IF('3b'!V9=0, 0, ('3b'!E9+'3b'!G9+'3b'!I9+'3b'!K9+'3b'!M9+'3b'!O9+'3b'!Q9+'3b'!S9)/'3b'!V9)","v":0.31125146784016772},{"$f":"+'3b'!E116+'3b'!G116+'3b'!I116+'3b'!K116+'3b'!M116+'3b'!O116+'3b'!Q116+'3b'!S116","v":13},{"$f":"IF('3b'!V9=0, 0,('3b'!F9+'3b'!H9+'3b'!J9+'3b'!L9+'3b'!N9+'3b'!P9+'3b'!R9+'3b'!T9)/'3b'!V9)","v":0.68874853215983234},{"$f":"+'3b'!F116+'3b'!H116+'3b'!J116+'3b'!L116+'3b'!N116+'3b'!P116+'3b'!R116+'3b'!T116","v":28}]
[null,null,{"$f":"'3b'!D10","v":"Celebrity, Arts and Media, Sports"},"n/a","n/a",0.35,{"$f":"IF('3b'!V10=0, 0, ('3b'!E10+'3b'!G10+'3b'!I10+'3b'!K10+'3b'!M10+'3b'!O10+'3b'!Q10+'3b'!S10)/'3b'!V10)","v":0.27985383517403845},{"$f":"+'3b'!E117+'3b'!G117+'3b'!I117+'3b'!K117+'3b'!M117+'3b'!O117+'3b'!Q117+'3b'!S117","v":6},{"$f":"IF('3b'!V10=0, 0,('3b'!F10+'3b'!H10+'3b'!J10+'3b'!L10+'3b'!N10+'3b'!P10+'3b'!R10+'3b'!T10)/'3b'!V10)","v":0.72014616482596161},{"$f":"+'3b'!F117+'3b'!H117+'3b'!J117+'3b'!L117+'3b'!N117+'3b'!P117+'3b'!R117+'3b'!T117","v":15}]
[null,null,{"$f":"'3b'!D11","v":"The Girl-child"},"n/a","n/a",null,{"$f":"IF('3b'!V11=0, 0, ('3b'!E11+'3b'!G11+'3b'!I11+'3b'!K11+'3b'!M11+'3b'!O11+'3b'!Q11+'3b'!S11)/'3b'!V11)","v":0},{"$f":"+'3b'!E118+'3b'!G118+'3b'!I118+'3b'!K118+'3b'!M118+'3b'!O118+'3b'!Q118+'3b'!S118","v":0},{"$f":"IF('3b'!V11=0, 0,('3b'!F11+'3b'!H11+'3b'!J11+'3b'!L11+'3b'!N11+'3b'!P11+'3b'!R11+'3b'!T11)/'3b'!V11)","v":0},{"$f":"+'3b'!F118+'3b'!H118+'3b'!J118+'3b'!L118+'3b'!N118+'3b'!P118+'3b'!R118+'3b'!T118","v":0}]
[null,null,{"$f":"'3b'!D12","v":"Other"},"n/a","n/a",null,{"$f":"IF('3b'!V12=0, 0, ('3b'!E12+'3b'!G12+'3b'!I12+'3b'!K12+'3b'!M12+'3b'!O12+'3b'!Q12+'3b'!S12)/'3b'!V12)","v":1},{"$f":"+'3b'!E119+'3b'!G119+'3b'!I119+'3b'!K119+'3b'!M119+'3b'!O119+'3b'!Q119+'3b'!S119","v":1},{"$f":"IF('3b'!V12=0, 0,('3b'!F12+'3b'!H12+'3b'!J12+'3b'!L12+'3b'!N12+'3b'!P12+'3b'!R12+'3b'!T12)/'3b'!V12)","v":0},{"$f":"+'3b'!F119+'3b'!H119+'3b'!J119+'3b'!L119+'3b'!N119+'3b'!P119+'3b'!R119+'3b'!T119","v":0}]

{"sheet":"9a","index":4,"n_rows":154,"n_cols":38,"rows_kept":154,"cut":false,"hidden":true,"merged":[]}
["Summary of news subjects, by sex, by GMMP year"]
[]
[null,null,null,null,"Female","Male",null,null,null,null,null,null,null,null,null,null,null,null,null,null,null,null,{"$f":"E3","v":"Female"},"Male",0,0,0,0,0,0,0,0,0,0,0,0,0]
[null,null,null,null,null,null,null,null,null,null,null,null,null,null,null,null,null,null,null,null,null,"TOTAL",0,0,0,0,0,0,0,0,0,0,0,0,0,0,0,{"$f":"T4","v":0}]
[null,null,1,"Politics and Government",0.21290649659931701,0.61400749115273401,null,null,null,null,null,null,null,null,null,null,null,null,null,null,null,{"$f":"SUM(E5:O5)","v":0.82691398775205105},{"$f":"IF((E5+F5)>0,E5/(E5+F5),0)","v":0.2574711514774336},{"$f":"IF((E5+F5)>0,F5/(E5+F5),0)","v":0.7425288485225664},{"$f":"IF((G5+H5)>0,G5/(G5+H5),0)","v":0},{"$f":"IF((G5+H5)>0,H5/(G5+H5),0)","v":0},{"$f":"IF((I5+J5)>0,I5/(I5+J5),0)","v":0},{"$f":"IF((I5+J5)>0,J5/(I5+J5),0)","v":0},{"$f":"IF((K5+L5)>0,K5/(K5+L5),0)","v":0},{"$f":"IF((K5+L5)>0,L5/(K5+L5),0)","v":0},{"$f":"IF((M5+N5)>0,M5/(M5+N5),0)","v":0},{"$f":"IF((M5+N5)>0,N5/(M5+N5),0)","v":0},{"$f":"IF((O5+P5)>0,O5/(O5+P5),0)","v":0},{"$f":"IF((O5+P5)>0,P5/(O5+P5),0)","v":0},{"$f":"IF((Q5+R5)>0,Q5/(Q5+R5),0)","v":0},{"$f":"IF((Q5+R5)>0,R5/(Q5+R5),0)","v":0},{"$f":"IF((S5+T5)>0,S5/(S5+T5),0)","v":0},{"$f":"IF((S5+T5)>0,T5/(S5+T5),0)","v":0}]
[null,null,2,"Economy",4.7729499638080597E-2,0.19320049788802901,null,null,null,null,null,null,null,null,null,null,null,null,null,null,null,0.24092999752610961,0.19810525932084544,0.80189474067915456,0,0,0,0,0,0,0,0,0,0,0,0,0,0]
[null,null,3,"Science and Health",3.8076500874012702E-2,6.1000001616776003E-2,null,null,null,null,null,null,null,null,null,null,null,null,null,null,null,9.9076502490788698E-2,0.38431414025290944,0.61568585974709056,0,0,0,0,0,0,0,0,0,0,0,0,0,0]
[null,null,4,"Social and Legal",0.100859000347555,0.13917650189250699,null,null,null,null,null,null,null,null,null,null,null,null,null,null,null,0.24003550224006198,0.4201836786905167,0.57981632130948335,0,0,0,0,0,0,0,0,0,0,0,0,0,0]
[null,null,5,"Crime and Violence",0.118829501327127,0.17368849972263001,null,null,null,null,null,null,null,null,null,null,null,null,null,null,null,0.292518001049757,0.40622970518287599,0.59377029481712407,0,0,0,0,0,0,0,0,0,0,0,0,0,0]
[null,null,6,"Celebrity, Arts and Media, Sports",5.0205999519675998E-2,0.29237149329855999,null,null,null,null,null,null,null,null,null,null,null,null,null,null,null,0.34257749281823602,0.14655370119809413,0.85344629880190581,0,0,0,0,0,0,0,0,0,0,0,0,0,0]
[null,null,7,"The Girl-child",null,null,null,null,null,null,null,null,null,null,null,null,null,null,null,null,null,0,0,0,0,0,0,0,0,0,0,0,0,0,0,0,0,0]
[null,null,8,"Other",null,null,null,null,null,null,null,null,null,null,null,null,null,null,null,null,null,0,0,0,0,0,0,0,0,0,0,0,0,0,0,0,0,0]
[]
[]
[]
[]
[]
[]
[]
[]
[]
[]
[]
[]
[]
[]
[]
[]
[]
[]
[]
[]
[]
[]
[]
[]
[]
[]
[]
[]
[]
[]
[]
[]
[]
[]
[]
[]
[]
[null,null,null,"TOTAL",{"$f":"SUM(E5:E49)","v":0.56860699830576833},1.4734444855712361,0,0,0,0,0,0,0,0,0,0,0,0,0,0,null,{"$f":"SUM(E50:O50)","v":2.0420514838770045},{"$f":"IF((E50+F50)>0,E50/(E50+F50),0)","v":0.27844890434702491},{"$f":"IF((E50+F50)>0,F50/(E50+F50),0)","v":0.72155109565297504},{"$f":"IF((G50+H50)>0,G50/(G50+H50),0)","v":0},{"$f":"IF((G50+H50)>0,H50/(G50+H50),0)","v":0},{"$f":"IF((I50+J50)>0,I50/(I50+J50),0)","v":0},{"$f":"IF((I50+J50)>0,J50/(I50+J50),0)","v":0},{"$f":"IF((K50+L50)>0,K50/(K50+L50),0)","v":0},{"$f":"IF((K50+L50)>0,L50/(K50+L50),0)","v":0},{"$f":"IF((M50+N50)>0,M50/(M50+N50),0)","v":0},{"$f":"IF((M50+N50)>0,N50/(M50+N50),0)","v":0},{"$f":"IF((O50+P50)>0,O50/(O50+P50),0)","v":0},{"$f":"IF((O50+P50)>0,P50/(O50+P50),0)","v":0},{"$f":"IF((Q50+R50)>0,Q50/(Q50+R50),0)","v":0},{"$f":"IF((Q50+R50)>0,R50/(Q50+R50),0)","v":0},{"$f":"IF((S50+T50)>0,S50/(S50+T50),0)","v":0},{"$f":"IF((S50+T50)>0,T50/(S50+T50),0)","v":0}]
[]
[null,null,{"$f":"C5","v":1},"Politics and Government",{"$f":"IF(E$50>0,E5/E$50,0)","v":0.37443523775419058},0.41671572778304639,0,0,0,0,0,0,0,0,0,0,0,0,0,0]
[null,null,2,"Economy",{"$f":"IF(E$50>0,E6/E$50,0)","v":8.3941104805773187E-2},0.13112166748048712,0,0,0,0,0,0,0,0,0,0,0,0,0,0]
[null,null,3,"Science and Health",{"$f":"IF(E$50>0,E7/E$50,0)","v":6.6964530840222039E-2},4.1399592732621386E-2,0,0,0,0,0,0,0,0,0,0,0,0,0,0]
[null,null,4,"Social and Legal",{"$f":"IF(E$50>0,E8/E$50,0)","v":0.17737910480890368},9.4456563009599911E-2,0,0,0,0,0,0,0,0,0,0,0,0,0,0]
[null,null,5,"Crime and Violence",{"$f":"IF(E$50>0,E9/E$50,0)","v":0.20898353639894254},0.11787922885692781,0,0,0,0,0,0,0,0,0,0,0,0,0,0]
[null,null,6,"Celebrity, Arts and Media, Sports",{"$f":"IF(E$50>0,E10/E$50,0)","v":8.829648539196791E-2},0.19842722013731737,0,0,0,0,0,0,0,0,0,0,0,0,0,0]
[null,null,7,"The Girl-child",{"$f":"IF(E$50>0,E11/E$50,0)","v":0},0,0,0,0,0,0,0,0,0,0,0,0,0,0,0]
[null,null,8,"Other",{"$f":"IF(E$50>0,E12/E$50,0)","v":0},0,0,0,0,0,0,0,0,0,0,0,0,0,0,0]
[null,null,0,0,{"$f":"IF(E$50>0,E13/E$50,0)","v":0},0,0,0,0,0,0,0,0,0,0,0,0,0,0,0]
[null,null,0,0,{"$f":"IF(E$50>0,E14/E$50,0)","v":0},0,0,0,0,0,0,0,0,0,0,0,0,0,0,0]
[null,null,0,0,{"$f":"IF(E$50>0,E15/E$50,0)","v":0},0,0,0,0,0,0,0,0,0,0,0,0,0,0,0]
[null,null,0,0,{"$f":"IF(E$50>0,E16/E$50,0)","v":0},0,0,0,0,0,0,0,0,0,0,0,0,0,0,0]
[null,null,0,0,{"$f":"IF(E$50>0,E17/E$50,0)","v":0},0,0,0,0,0,0,0,0,0,0,0,0,0,0,0]
[null,null,0,0,{"$f":"IF(E$50>0,E18/E$50,0)","v":0},0,0,0,0,0,0,0,0,0,0,0,0,0,0,0]
[null,null,0,0,{"$f":"IF(E$50>0,E19/E$50,0)","v":0},0,0,0,0,0,0,0,0,0,0,0,0,0,0,0]
[null,null,0,0,{"$f":"IF(E$50>0,E20/E$50,0)","v":0},0,0,0,0,0,0,0,0,0,0,0,0,0,0,0]
[null,null,0,0,{"$f":"IF(E$50>0,E21/E$50,0)","v":0},0,0,0,0,0,0,0,0,0,0,0,0,0,0,0]
[null,null,0,0,{"$f":"IF(E$50>0,E22/E$50,0)","v":0},0,0,0,0,0,0,0,0,0,0,0,0,0,0,0]
[null,null,0,0,{"$f":"IF(E$50>0,E23/E$50,0)","v":0},0,0,0,0,0,0,0,0,0,0,0,0,0,0,0]
[null,null,0,0,{"$f":"IF(E$50>0,E24/E$50,0)","v":0},0,0,0,0,0,0,0,0,0,0,0,0,0,0,0]
[null,null,{"$f":"C25","v":0},0,{"$f":"IF(E$50>0,E25/E$50,0)","v":0},0,0,0,0,0,0,0,0,0,0,0,0,0,0,0]
[null,null,0,0,{"$f":"IF(E$50>0,E26/E$50,0)","v":0},0,0,0,0,0,0,0,0,0,0,0,0,0,0,0]
[null,null,0,0,{"$f":"IF(E$50>0,E27/E$50,0)","v":0},0,0,0,0,0,0,0,0,0,0,0,0,0,0,0]
[null,null,0,0,{"$f":"IF(E$50>0,E28/E$50,0)","v":0},0,0,0,0,0,0,0,0,0,0,0,0,0,0,0]
[null,null,0,0,{"$f":"IF(E$50>0,E29/E$50,0)","v":0},0,0,0,0,0,0,0,0,0,0,0,0,0,0,0]
[null,null,0,0,{"$f":"IF(E$50>0,E30/E$50,0)","v":0},0,0,0,0,0,0,0,0,0,0,0,0,0,0,0]
[null,null,0,0,{"$f":"IF(E$50>0,E31/E$50,0)","v":0},0,0,0,0,0,0,0,0,0,0,0,0,0,0,0]
[null,null,0,0,{"$f":"IF(E$50>0,E32/E$50,0)","v":0},0,0,0,0,0,0,0,0,0,0,0,0,0,0,0]
[null,null,0,0,{"$f":"IF(E$50>0,E33/E$50,0)","v":0},0,0,0,0,0,0,0,0,0,0,0,0,0,0,0]
[null,null,0,0,{"$f":"IF(E$50>0,E34/E$50,0)","v":0},0,0,0,0,0,0,0,0,0,0,0,0,0,0,0]
[null,null,0,0,{"$f":"IF(E$50>0,E35/E$50,0)","v":0},0,0,0,0,0,0,0,0,0,0,0,0,0,0,0]
[null,null,0,0,{"$f":"IF(E$50>0,E36/E$50,0)","v":0},0,0,0,0,0,0,0,0,0,0,0,0,0,0,0]
[null,null,0,0,{"$f":"IF(E$50>0,E37/E$50,0)","v":0},0,0,0,0,0,0,0,0,0,0,0,0,0,0,0]
[null,null,0,0,{"$f":"IF(E$50>0,E38/E$50,0)","v":0},0,0,0,0,0,0,0,0,0,0,0,0,0,0,0]
[null,null,0,0,{"$f":"IF(E$50>0,E39/E$50,0)","v":0},0,0,0,0,0,0,0,0,0,0,0,0,0,0,0]
[null,null,0,0,{"$f":"IF(E$50>0,E40/E$50,0)","v":0},0,0,0,0,0,0,0,0,0,0,0,0,0,0,0]
[null,null,0,0,{"$f":"IF(E$50>0,E41/E$50,0)","v":0},0,0,0,0,0,0,0,0,0,0,0,0,0,0,0]
[null,null,0,0,{"$f":"IF(E$50>0,E42/E$50,0)","v":0},0,0,0,0,0,0,0,0,0,0,0,0,0,0,0]
[null,null,0,0,{"$f":"IF(E$50>0,E43/E$50,0)","v":0},0,0,0,0,0,0,0,0,0,0,0,0,0,0,0]
[null,null,0,0,{"$f":"IF(E$50>0,E44/E$50,0)","v":0},0,0,0,0,0,0,0,0,0,0,0,0,0,0,0]
[null,null,{"$f":"C45","v":0},0,{"$f":"IF(E$50>0,E45/E$50,0)","v":0},0,0,0,0,0,0,0,0,0,0,0,0,0,0,0]
[null,null,0,0,{"$f":"IF(E$50>0,E46/E$50,0)","v":0},0,0,0,0,0,0,0,0,0,0,0,0,0,0,0]
[null,null,0,0,{"$f":"IF(E$50>0,E47/E$50,0)","v":0},0,0,0,0,0,0,0,0,0,0,0,0,0,0,0]
[null,null,0,0,{"$f":"IF(E$50>0,E48/E$50,0)","v":0},0,0,0,0,0,0,0,0,0,0,0,0,0,0,0]
[null,null,0,0,{"$f":"IF(E$50>0,E49/E$50,0)","v":0},0,0,0,0,0,0,0,0,0,0,0,0,0,0,0]
[]
[]
[]
[]
[]
[]
[]
[]
[]
[]
[]
[]
["COUNT"]
[null,null,null,null,{"$f":"E3","v":"Female"},"Male",0,0,0,0,0,0,0,0,0,0,0,0,0,0]
[null,null,null,null,{"$f":"E4","v":0},0,0,0,0,0,0,0,0,0,0,0,0,0,0,0]
[null,null,{"$f":"C5","v":1},"Politics and Government",32,95]
[null,null,2,"Economy",8,30]
[null,null,3,"Science and Health",7,12]
[null,null,4,"Social and Legal",17,27]
[null,null,5,"Crime and Violence",22,30]
[null,null,6,"Celebrity, Arts and Media, Sports",8,43]
[null,null,7,"The Girl-child",0,0]
[null,null,8,"Other",0,0]
[null,null,0,0]
[null,null,0,0]
[null,null,0,0]
[null,null,0,0]
[null,null,0,0]
[null,null,0,0]
[null,null,0,0]
[null,null,0,0]
[null,null,0,0]
[null,null,0,0]
[null,null,0,0]
[null,null,0,0]
[null,null,{"$f":"C25","v":0},0]
[null,null,0,0]
[null,null,0,0]
[null,null,0,0]
[null,null,0,0]
[null,null,0,0]
[null,null,0,0]
[null,null,0,0]
[null,null,0,0]
[null,null,0,0]
[null,null,0,0]
[null,null,0,0]
[null,null,0,0]
[null,null,0,0]
[null,null,0,0]
[null,null,0,0]
[null,null,0,0]
[null,null,0,0]
[null,null,0,0]
[null,null,0,0]
[null,null,{"$f":"C45","v":0},0]
[null,null,0,0]
[null,null,0,0]

{"sheet":"9aF - Overall presence of women","index":5,"n_rows":14,"n_cols":12,"rows_kept":14,"cut":false,"hidden":false,"merged":[[2,5,2,9],[2,10,2,11]]}
["Overall presence of women and men as subjects in the news"]
[]
[null,null,null,null,null,{"$f":"'9a'!W3 &  \"  %F\"","v":"Female  %F"},null,null,null,null,"Male %M"]
[null,null,null,null,"Topic",1995,2000,2005,2010,"N",2010,"N"]
[null,null,null,null,{"$f":"'9a'!D5","v":"Politics and Government"},0,0.12,0.14000000000000001,{"$f":"'9a'!W5","v":0.2574711514774336},{"$f":"'9a'!E112","v":32},{"$f":"'9a'!X5","v":0.7425288485225664},{"$f":"'9a'!F112","v":95}]
[null,null,null,null,{"$f":"'9a'!D6","v":"Economy"},0,0.18,0.2,{"$f":"'9a'!W6","v":0.19810525932084544},{"$f":"'9a'!E113","v":8},{"$f":"'9a'!X6","v":0.80189474067915456},{"$f":"'9a'!F113","v":30}]
[null,null,null,null,{"$f":"'9a'!D7","v":"Science and Health"},0,0.21,0.22,{"$f":"'9a'!W7","v":0.38431414025290944},{"$f":"'9a'!E114","v":7},{"$f":"'9a'!X7","v":0.61568585974709056},{"$f":"'9a'!F114","v":12}]
[null,null,null,null,{"$f":"'9a'!D8","v":"Social and Legal"},0,0.21,0.28000000000000003,{"$f":"'9a'!W8","v":0.4201836786905167},{"$f":"'9a'!E115","v":17},{"$f":"'9a'!X8","v":0.57981632130948335},{"$f":"'9a'!F115","v":27}]
[null,null,null,null,{"$f":"'9a'!D9","v":"Crime and Violence"},0,0.18,0.22,{"$f":"'9a'!W9","v":0.40622970518287599},{"$f":"'9a'!E116","v":22},{"$f":"'9a'!X9","v":0.59377029481712407},{"$f":"'9a'!F116","v":30}]
[null,null,null,null,{"$f":"'9a'!D10","v":"Celebrity, Arts and Media, Sports"},0,0.23,0.28000000000000003,{"$f":"'9a'!W10","v":0.14655370119809413},{"$f":"'9a'!E117","v":8},{"$f":"'9a'!X10","v":0.85344629880190581},{"$f":"'9a'!F117","v":43}]
[null,null,null,null,{"$f":"'9a'!D11","v":"The Girl-child"},0,"new code","new topic",{"$f":"'9a'!W11","v":0},{"$f":"'9a'!E118","v":0},{"$f":"'9a'!X11","v":0},{"$f":"'9a'!F118","v":0}]
[null,null,null,null,{"$f":"'9a'!D12","v":"Other"},0,"n/a","n/a",{"$f":"'9a'!W12","v":0},{"$f":"'9a'!E119","v":0},{"$f":"'9a'!X12","v":0},{"$f":"'9a'!F119","v":0}]
[]
[null,null,null,null,null,0,0,0,{"$f":"'9a'!$W$50","v":0.27844890434702491},{"$f":"SUM(J5:J12)","v":94},{"$f":"'9a'!$X$50","v":0.72155109565297504},{"$f":"SUM(L5:L12)","v":237}]

{"sheet":"9b","index":6,"n_rows":154,"n_cols":38,"rows_kept":154,"cut":false,"hidden":true,"merged":[]}
["Breakdown by sex of all 3 mediums"]
[]
[null,null,null,null,"PRINT","RADIO","TELEVISION",null,null,null,null,null,null,null,null,null,null,null,null,null,null,null,{"$f":"E3","v":"PRINT"},"RADIO","TELEVISION"]
[null,null,null,null,null,null,null,null,null,null,null,null,null,null,null,null,null,null,null,null,null,"TOTAL",0,0,0]
[null,null,1,"Female",0.28410699125379302,5.4999998770654202E-2,0.22950000828132,null,null,null,null,null,null,null,null,null,null,null,null,null,null,{"$f":"SUM(E5:O5)","v":0.56860699830576722},{"$f":"IF($V5>0,E5/$V5,0)","v":0.49965440471243566},{"$f":"IF($V5>0,F5/$V5,0)","v":9.672761491598468E-2},{"$f":"IF($V5>0,G5/$V5,0)","v":0.4036179803715797}]
[null,null,2,"Male",0.84484447399154305,0.189999995753169,0.43860001582652303,null,null,null,null,null,null,null,null,null,null,null,null,null,null,1.4734444855712352,{"$f":"IF($V6>0,E6/$V6,0)","v":0.57338059374799444},{"$f":"IF($V6>0,F6/$V6,0)","v":0.12894954483440108},{"$f":"IF($V6>0,G6/$V6,0)","v":0.29766986141760443}]
[null,null,null,null,null,null,null,null,null,null,null,null,null,null,null,null,null,null,null,null,null,0,0,0,0]
[null,null,null,null,null,null,null,null,null,null,null,null,null,null,null,null,null,null,null,null,null,0,0,0,0]
[null,null,null,null,null,null,null,null,null,null,null,null,null,null,null,null,null,null,null,null,null,0,0,0,0]
[null,null,null,null,null,null,null,null,null,null,null,null,null,null,null,null,null,null,null,null,null,0,0,0,0]
[null,null,null,null,null,null,null,null,null,null,null,null,null,null,null,null,null,null,null,null,null,0,0,0,0]
[null,null,null,null,null,null,null,null,null,null,null,null,null,null,null,null,null,null,null,null,null,0,0,0,0]
[]
[]
[]
[]
[]
[]
[]
[]
[]
[]
[]
[]
[]
[]
[]
[]
[]
[]
[]
[]
[]
[]
[]
[]
[]
[]
[]
[]
[]
[]
[]
[]
[]
[]
[]
[]
[]
[null,null,null,"TOTAL",{"$f":"SUM(E5:E49)","v":1.1289514652453361},0.24499999452382321,0.66810002410784297,0,0,0,0,0,0,0,0,0,0,0,0,0,null,{"$f":"SUM(E50:O50)","v":2.0420514838770023},{"$f":"IF((E50+F50)>0,E50/(E50+F50),0)","v":0.82168220515957213},{"$f":"IF((E50+F50)>0,F50/(E50+F50),0)","v":0.17831779484042778},{"$f":"IF((G50+H50)>0,G50/(G50+H50),0)","v":1},{"$f":"IF((G50+H50)>0,H50/(G50+H50),0)","v":0},{"$f":"IF((I50+J50)>0,I50/(I50+J50),0)","v":0},{"$f":"IF((I50+J50)>0,J50/(I50+J50),0)","v":0},{"$f":"IF((K50+L50)>0,K50/(K50+L50),0)","v":0},{"$f":"IF((K50+L50)>0,L50/(K50+L50),0)","v":0},{"$f":"IF((M50+N50)>0,M50/(M50+N50),0)","v":0},{"$f":"IF((M50+N50)>0,N50/(M50+N50),0)","v":0},{"$f":"IF((O50+P50)>0,O50/(O50+P50),0)","v":0},{"$f":"IF((O50+P50)>0,P50/(O50+P50),0)","v":0},{"$f":"IF((Q50+R50)>0,Q50/(Q50+R50),0)","v":0},{"$f":"IF((Q50+R50)>0,R50/(Q50+R50),0)","v":0},{"$f":"IF((S50+T50)>0,S50/(S50+T50),0)","v":0},{"$f":"IF((S50+T50)>0,T50/(S50+T50),0)","v":0}]
[]
[null,null,{"$f":"C5","v":1},"Female",{"$f":"IF(E$50>0,E5/E$50,0)","v":0.25165562913907269},0.2244897959183674,0.34351145038167924,0,0,0,0,0,0,0,0,0,0,0,0,0]
[null,null,2,"Male",{"$f":"IF(E$50>0,E6/E$50,0)","v":0.74834437086092731},0.77551020408163263,0.65648854961832082,0,0,0,0,0,0,0,0,0,0,0,0,0]
[null,null,0,0,{"$f":"IF(E$50>0,E7/E$50,0)","v":0},0,0,0,0,0,0,0,0,0,0,0,0,0,0,0]
[null,null,0,0,{"$f":"IF(E$50>0,E8/E$50,0)","v":0},0,0,0,0,0,0,0,0,0,0,0,0,0,0,0]
[null,null,0,0,{"$f":"IF(E$50>0,E9/E$50,0)","v":0},0,0,0,0,0,0,0,0,0,0,0,0,0,0,0]
[null,null,0,0,{"$f":"IF(E$50>0,E10/E$50,0)","v":0},0,0,0,0,0,0,0,0,0,0,0,0,0,0,0]
[null,null,0,0,{"$f":"IF(E$50>0,E11/E$50,0)","v":0},0,0,0,0,0,0,0,0,0,0,0,0,0,0,0]
[null,null,0,0,{"$f":"IF(E$50>0,E12/E$50,0)","v":0},0,0,0,0,0,0,0,0,0,0,0,0,0,0,0]
[null,null,0,0,{"$f":"IF(E$50>0,E13/E$50,0)","v":0},0,0,0,0,0,0,0,0,0,0,0,0,0,0,0]
[null,null,0,0,{"$f":"IF(E$50>0,E14/E$50,0)","v":0},0,0,0,0,0,0,0,0,0,0,0,0,0,0,0]
[null,null,0,0,{"$f":"IF(E$50>0,E15/E$50,0)","v":0},0,0,0,0,0,0,0,0,0,0,0,0,0,0,0]
[null,null,0,0,{"$f":"IF(E$50>0,E16/E$50,0)","v":0},0,0,0,0,0,0,0,0,0,0,0,0,0,0,0]
[null,null,0,0,{"$f":"IF(E$50>0,E17/E$50,0)","v":0},0,0,0,0,0,0,0,0,0,0,0,0,0,0,0]
[null,null,0,0,{"$f":"IF(E$50>0,E18/E$50,0)","v":0},0,0,0,0,0,0,0,0,0,0,0,0,0,0,0]
[null,null,0,0,{"$f":"IF(E$50>0,E19/E$50,0)","v":0},0,0,0,0,0,0,0,0,0,0,0,0,0,0,0]
[null,null,0,0,{"$f":"IF(E$50>0,E20/E$50,0)","v":0},0,0,0,0,0,0,0,0,0,0,0,0,0,0,0]
[null,null,0,0,{"$f":"IF(E$50>0,E21/E$50,0)","v":0},0,0,0,0,0,0,0,0,0,0,0,0,0,0,0]
[null,null,0,0,{"$f":"IF(E$50>0,E22/E$50,0)","v":0},0,0,0,0,0,0,0,0,0,0,0,0,0,0,0]
[null,null,0,0,{"$f":"IF(E$50>0,E23/E$50,0)","v":0},0,0,0,0,0,0,0,0,0,0,0,0,0,0,0]
[null,null,0,0,{"$f":"IF(E$50>0,E24/E$50,0)","v":0},0,0,0,0,0,0,0,0,0,0,0,0,0,0,0]
[null,null,{"$f":"C25","v":0},0,{"$f":"IF(E$50>0,E25/E$50,0)","v":0},0,0,0,0,0,0,0,0,0,0,0,0,0,0,0]
[null,null,0,0,{"$f":"IF(E$50>0,E26/E$50,0)","v":0},0,0,0,0,0,0,0,0,0,0,0,0,0,0,0]
[null,null,0,0,{"$f":"IF(E$50>0,E27/E$50,0)","v":0},0,0,0,0,0,0,0,0,0,0,0,0,0,0,0]
[null,null,0,0,{"$f":"IF(E$50>0,E28/E$50,0)","v":0},0,0,0,0,0,0,0,0,0,0,0,0,0,0,0]
[null,null,0,0,{"$f":"IF(E$50>0,E29/E$50,0)","v":0},0,0,0,0,0,0,0,0,0,0,0,0,0,0,0]
[null,null,0,0,{"$f":"IF(E$50>0,E30/E$50,0)","v":0},0,0,0,0,0,0,0,0,0,0,0,0,0,0,0]
[null,null,0,0,{"$f":"IF(E$50>0,E31/E$50,0)","v":0},0,0,0,0,0,0,0,0,0,0,0,0,0,0,0]
[null,null,0,0,{"$f":"IF(E$50>0,E32/E$50,0)","v":0},0,0,0,0,0,0,0,0,0,0,0,0,0,0,0]
[null,null,0,0,{"$f":"IF(E$50>0,E33/E$50,0)","v":0},0,0,0,0,0,0,0,0,0,0,0,0,0,0,0]
[null,null,0,0,{"$f":"IF(E$50>0,E34/E$50,0)","v":0},0,0,0,0,0,0,0,0,0,0,0,0,0,0,0]
[null,null,0,0,{"$f":"IF(E$50>0,E35/E$50,0)","v":0},0,0,0,0,0,0,0,0,0,0,0,0,0,0,0]
[null,null,0,0,{"$f":"IF(E$50>0,E36/E$50,0)","v":0},0,0,0,0,0,0,0,0,0,0,0,0,0,0,0]
[null,null,0,0,{"$f":"IF(E$50>0,E37/E$50,0)","v":0},0,0,0,0,0,0,0,0,0,0,0,0,0,0,0]
[null,null,0,0,{"$f":"IF(E$50>0,E38/E$50,0)","v":0},0,0,0,0,0,0,0,0,0,0,0,0,0,0,0]
[null,null,0,0,{"$f":"IF(E$50>0,E39/E$50,0)","v":0},0,0,0,0,0,0,0,0,0,0,0,0,0,0,0]
[null,null,0,0,{"$f":"IF(E$50>0,E40/E$50,0)","v":0},0,0,0,0,0,0,0,0,0,0,0,0,0,0,0]
[null,null,0,0,{"$f":"IF(E$50>0,E41/E$50,0)","v":0},0,0,0,0,0,0,0,0,0,0,0,0,0,0,0]
[null,null,0,0,{"$f":"IF(E$50>0,E42/E$50,0)","v":0},0,0,0,0,0,0,0,0,0,0,0,0,0,0,0]
[null,null,0,0,{"$f":"IF(E$50>0,E43/E$50,0)","v":0},0,0,0,0,0,0,0,0,0,0,0,0,0,0,0]
[null,null,0,0,{"$f":"IF(E$50>0,E44/E$50,0)","v":0},0,0,0,0,0,0,0,0,0,0,0,0,0,0,0]
[null,null,{"$f":"C45","v":0},0,{"$f":"IF(E$50>0,E45/E$50,0)","v":0},0,0,0,0,0,0,0,0,0,0,0,0,0,0,0]
[null,null,0,0,{"$f":"IF(E$50>0,E46/E$50,0)","v":0},0,0,0,0,0,0,0,0,0,0,0,0,0,0,0]
[null,null,0,0,{"$f":"IF(E$50>0,E47/E$50,0)","v":0},0,0,0,0,0,0,0,0,0,0,0,0,0,0,0]
[null,null,0,0,{"$f":"IF(E$50>0,E48/E$50,0)","v":0},0,0,0,0,0,0,0,0,0,0,0,0,0,0,0]
[null,null,0,0,{"$f":"IF(E$50>0,E49/E$50,0)","v":0},0,0,0,0,0,0,0,0,0,0,0,0,0,0,0]
[]
[]
[]
[]
[]
[]
[]
[]
[]
[]
[]
[]
["COUNT"]
[null,null,null,null,{"$f":"E3","v":"PRINT"},"RADIO","TELEVISION",0,0,0,0,0,0,0,0,0,0,0,0,0]
[null,null,null,null,{"$f":"E4","v":0},0,0,0,0,0,0,0,0,0,0,0,0,0,0,0]
[null,null,{"$f":"C5","v":1},"Female",38,11,45]
[null,null,2,"Male",113,38,86]
[null,null,0,0]
[null,null,0,0]
[null,null,0,0]
[null,null,0,0]
[null,null,0,0]
[null,null,0,0]
[null,null,0,0]
[null,null,0,0]
[null,null,0,0]
[null,null,0,0]
[null,null,0,0]
[null,null,0,0]
[null,null,0,0]
[null,null,0,0]
[null,null,0,0]
[null,null,0,0]
[null,null,0,0]
[null,null,0,0]
[null,null,{"$f":"C25","v":0},0]
[null,null,0,0]
[null,null,0,0]
[null,null,0,0]
[null,null,0,0]
[null,null,0,0]
[null,null,0,0]
[null,null,0,0]
[null,null,0,0]
[null,null,0,0]
[null,null,0,0]
[null,null,0,0]
[null,null,0,0]
[null,null,0,0]
[null,null,0,0]
[null,null,0,0]
[null,null,0,0]
[null,null,0,0]
[null,null,0,0]
[null,null,0,0]
[null,null,{"$f":"C45","v":0},0]
[null,null,0,0]
[null,null,0,0]

{"sheet":"9bF - Sex of news subjects","index":7,"n_rows":5,"n_cols":20,"rows_kept":5,"cut":false,"hidden":false,"merged":[[1,5,1,9],[1,10,1,14],[1,15,1,19]]}
["Sex of news subjects in print, radio and TV news"]
[null,null,null,null,null,{"$f":"'9b'!W3","v":"PRINT"},null,null,null,null,{"$f":"'9b'!X3","v":"RADIO"},null,null,null,null,{"$f":"'9b'!Y3","v":"TELEVISION"}]
[null,null,null,null,"Sex",1995,2000,2005,2010,"N",1995,2000,2005,2010,"N",1995,2000,2005,2010,"N"]
[null,null,null,null,{"$f":"'9b'!D5","v":"Female"},0,"n/a",0.21,{"$f":"'9b'!E52","v":0.25165562913907269},{"$f":"'9b'!E112","v":38},0,"n/a",0.17,{"$f":"'9b'!F52","v":0.2244897959183674},{"$f":"'9b'!F112","v":11},0,"n/a",0.22,{"$f":"'9b'!G52","v":0.34351145038167924},{"$f":"'9b'!G112","v":45}]
[null,null,null,null,{"$f":"'9b'!D6","v":"Male"},0,"n/a",{"$f":"1-H4","v":0.79},{"$f":"'9b'!E53","v":0.74834437086092731},{"$f":"'9b'!E113","v":113},0,"n/a",{"$f":"1-M4","v":0.83},{"$f":"'9b'!F53","v":0.77551020408163263},{"$f":"'9b'!F113","v":38},0,"n/a",{"$f":"1-R4","v":0.78},{"$f":"'9b'!G53","v":0.65648854961832082},{"$f":"'9b'!G113","v":86}]

{"sheet":"9c","index":8,"n_rows":154,"n_cols":38,"rows_kept":154,"cut":false,"hidden":true,"merged":[]}
["Sex of news subjects (sources) in local, national & other, and Foreign/International"]
[]
[null,null,null,null,"Female","Male",null,null,null,null,null,null,null,null,null,null,null,null,null,null,null,null,{"$f":"E3","v":"Female"},"Male",0,0,0,0,0,0,0,0,0,0,0,0,0]
[null,null,null,null,null,null,null,null,null,null,null,null,null,null,null,null,null,null,null,null,null,"TOTAL",0,0,0,0,0,0,0,0,0,0,0,0,0,0,0,{"$f":"T4","v":0}]
[null,null,0,"Do not know",7.4764997698366599E-3,null,null,null,null,null,null,null,null,null,null,null,null,null,null,null,null,{"$f":"SUM(E5:O5)","v":7.4764997698366599E-3},{"$f":"IF((E5+F5)>0,E5/(E5+F5),0)","v":1},{"$f":"IF((E5+F5)>0,F5/(E5+F5),0)","v":0},{"$f":"IF((G5+H5)>0,G5/(G5+H5),0)","v":0},{"$f":"IF((G5+H5)>0,H5/(G5+H5),0)","v":0},{"$f":"IF((I5+J5)>0,I5/(I5+J5),0)","v":0},{"$f":"IF((I5+J5)>0,J5/(I5+J5),0)","v":0},{"$f":"IF((K5+L5)>0,K5/(K5+L5),0)","v":0},{"$f":"IF((K5+L5)>0,L5/(K5+L5),0)","v":0},{"$f":"IF((M5+N5)>0,M5/(M5+N5),0)","v":0},{"$f":"IF((M5+N5)>0,N5/(M5+N5),0)","v":0},{"$f":"IF((O5+P5)>0,O5/(O5+P5),0)","v":0},{"$f":"IF((O5+P5)>0,P5/(O5+P5),0)","v":0},{"$f":"IF((Q5+R5)>0,Q5/(Q5+R5),0)","v":0},{"$f":"IF((Q5+R5)>0,R5/(Q5+R5),0)","v":0},{"$f":"IF((S5+T5)>0,S5/(S5+T5),0)","v":0},{"$f":"IF((S5+T5)>0,T5/(S5+T5),0)","v":0}]
[null,null,1,"Local: Has importance within your city, community, area",0.16175900166854301,0.25266500236466499,null,null,null,null,null,null,null,null,null,null,null,null,null,null,null,0.414424004033208,0.39032247189904856,0.60967752810095144,0,0,0,0,0,0,0,0,0,0,0,0,0,0]
[null,null,2,"National: Has importance within your own country",0.16819449840113501,0.46600699285045299,null,null,null,null,null,null,null,null,null,null,null,null,null,null,null,0.63420149125158798,0.26520672171427012,0.73479327828572993,0,0,0,0,0,0,0,0,0,0,0,0,0,0]
[null,null,3,"National and other: Involves your country and other countries",9.5164998434484005E-2,0.41605999413877698,null,null,null,null,null,null,null,null,null,null,null,null,null,null,null,0.51122499257326104,0.1861509116670316,0.81384908833296832,0,0,0,0,0,0,0,0,0,0,0,0,0,0]
[null,null,4,"Foreign, international: involves other countries or the world in general (e.g., global warming)",0.136012000031769,0.33871249621734001,null,null,null,null,null,null,null,null,null,null,null,null,null,null,null,0.47472449624910901,0.28650722915380683,0.71349277084619311,0,0,0,0,0,0,0,0,0,0,0,0,0,0]
[null,null,null,null,null,null,null,null,null,null,null,null,null,null,null,null,null,null,null,null,null,0,0,0,0,0,0,0,0,0,0,0,0,0,0,0,0,0]
[null,null,null,null,null,null,null,null,null,null,null,null,null,null,null,null,null,null,null,null,null,0,0,0,0,0,0,0,0,0,0,0,0,0,0,0,0,0]
[null,null,null,null,null,null,null,null,null,null,null,null,null,null,null,null,null,null,null,null,null,0,0,0,0,0,0,0,0,0,0,0,0,0,0,0,0,0]
[]
[]
[]
[]
[]
[]
[]
[]
[]
[]
[]
[]
[]
[]
[]
[]
[]
[]
[]
[]
[]
[]
[]
[]
[]
[]
[]
[]
[]
[]
[]
[]
[]
[]
[]
[]
[]
[null,null,null,"TOTAL",{"$f":"SUM(E5:E49)","v":0.56860699830576777},1.473444485571235,0,0,0,0,0,0,0,0,0,0,0,0,0,0,null,{"$f":"SUM(E50:O50)","v":2.0420514838770027},{"$f":"IF((E50+F50)>0,E50/(E50+F50),0)","v":0.27844890434702491},{"$f":"IF((E50+F50)>0,F50/(E50+F50),0)","v":0.72155109565297515},{"$f":"IF((G50+H50)>0,G50/(G50+H50),0)","v":0},{"$f":"IF((G50+H50)>0,H50/(G50+H50),0)","v":0},{"$f":"IF((I50+J50)>0,I50/(I50+J50),0)","v":0},{"$f":"IF((I50+J50)>0,J50/(I50+J50),0)","v":0},{"$f":"IF((K50+L50)>0,K50/(K50+L50),0)","v":0},{"$f":"IF((K50+L50)>0,L50/(K50+L50),0)","v":0},{"$f":"IF((M50+N50)>0,M50/(M50+N50),0)","v":0},{"$f":"IF((M50+N50)>0,N50/(M50+N50),0)","v":0},{"$f":"IF((O50+P50)>0,O50/(O50+P50),0)","v":0},{"$f":"IF((O50+P50)>0,P50/(O50+P50),0)","v":0},{"$f":"IF((Q50+R50)>0,Q50/(Q50+R50),0)","v":0},{"$f":"IF((Q50+R50)>0,R50/(Q50+R50),0)","v":0},{"$f":"IF((S50+T50)>0,S50/(S50+T50),0)","v":0},{"$f":"IF((S50+T50)>0,T50/(S50+T50),0)","v":0}]
[]
[null,null,{"$f":"C5","v":0},"Do not know",{"$f":"IF(E$50>0,E5/E$50,0)","v":1.3148800124011454E-2},0,0,0,0,0,0,0,0,0,0,0,0,0,0,0]
[null,null,1,"Local: Has importance within your city, community, area",{"$f":"IF(E$50>0,E6/E$50,0)","v":0.2844829594966703},0.17147914620394408,0,0,0,0,0,0,0,0,0,0,0,0,0,0]
[null,null,2,"National: Has importance within your own country",{"$f":"IF(E$50>0,E7/E$50,0)","v":0.29580096429043351},0.31627047874137465,0,0,0,0,0,0,0,0,0,0,0,0,0,0]
[null,null,3,"National and other: Involves your country and other countries",{"$f":"IF(E$50>0,E8/E$50,0)","v":0.16736515505092173},0.28237235824835027,0,0,0,0,0,0,0,0,0,0,0,0,0,0]
[null,null,4,"Foreign, international: involves other countries or the world in general (e.g., global warming)",{"$f":"IF(E$50>0,E9/E$50,0)","v":0.23920212103796284},0.22987801680633094,0,0,0,0,0,0,0,0,0,0,0,0,0,0]
[null,null,0,0,{"$f":"IF(E$50>0,E10/E$50,0)","v":0},0,0,0,0,0,0,0,0,0,0,0,0,0,0,0]
[null,null,0,0,{"$f":"IF(E$50>0,E11/E$50,0)","v":0},0,0,0,0,0,0,0,0,0,0,0,0,0,0,0]
[null,null,0,0,{"$f":"IF(E$50>0,E12/E$50,0)","v":0},0,0,0,0,0,0,0,0,0,0,0,0,0,0,0]
[null,null,0,0,{"$f":"IF(E$50>0,E13/E$50,0)","v":0},0,0,0,0,0,0,0,0,0,0,0,0,0,0,0]
[null,null,0,0,{"$f":"IF(E$50>0,E14/E$50,0)","v":0},0,0,0,0,0,0,0,0,0,0,0,0,0,0,0]
[null,null,0,0,{"$f":"IF(E$50>0,E15/E$50,0)","v":0},0,0,0,0,0,0,0,0,0,0,0,0,0,0,0]
[null,null,0,0,{"$f":"IF(E$50>0,E16/E$50,0)","v":0},0,0,0,0,0,0,0,0,0,0,0,0,0,0,0]
[null,null,0,0,{"$f":"IF(E$50>0,E17/E$50,0)","v":0},0,0,0,0,0,0,0,0,0,0,0,0,0,0,0]
[null,null,0,0,{"$f":"IF(E$50>0,E18/E$50,0)","v":0},0,0,0,0,0,0,0,0,0,0,0,0,0,0,0]
[null,null,0,0,{"$f":"IF(E$50>0,E19/E$50,0)","v":0},0,0,0,0,0,0,0,0,0,0,0,0,0,0,0]
[null,null,0,0,{"$f":"IF(E$50>0,E20/E$50,0)","v":0},0,0,0,0,0,0,0,0,0,0,0,0,0,0,0]
[null,null,0,0,{"$f":"IF(E$50>0,E21/E$50,0)","v":0},0,0,0,0,0,0,0,0,0,0,0,0,0,0,0]
[null,null,0,0,{"$f":"IF(E$50>0,E22/E$50,0)","v":0},0,0,0,0,0,0,0,0,0,0,0,0,0,0,0]
[null,null,0,0,{"$f":"IF(E$50>0,E23/E$50,0)","v":0},0,0,0,0,0,0,0,0,0,0,0,0,0,0,0]
[null,null,0,0,{"$f":"IF(E$50>0,E24/E$50,0)","v":0},0,0,0,0,0,0,0,0,0,0,0,0,0,0,0]
[null,null,{"$f":"C25","v":0},0,{"$f":"IF(E$50>0,E25/E$50,0)","v":0},0,0,0,0,0,0,0,0,0,0,0,0,0,0,0]
[null,null,0,0,{"$f":"IF(E$50>0,E26/E$50,0)","v":0},0,0,0,0,0,0,0,0,0,0,0,0,0,0,0]
[null,null,0,0,{"$f":"IF(E$50>0,E27/E$50,0)","v":0},0,0,0,0,0,0,0,0,0,0,0,0,0,0,0]
[null,null,0,0,{"$f":"IF(E$50>0,E28/E$50,0)","v":0},0,0,0,0,0,0,0,0,0,0,0,0,0,0,0]
[null,null,0,0,{"$f":"IF(E$50>0,E29/E$50,0)","v":0},0,0,0,0,0,0,0,0,0,0,0,0,0,0,0]
[null,null,0,0,{"$f":"IF(E$50>0,E30/E$50,0)","v":0},0,0,0,0,0,0,0,0,0,0,0,0,0,0,0]
[null,null,0,0,{"$f":"IF(E$50>0,E31/E$50,0)","v":0},0,0,0,0,0,0,0,0,0,0,0,0,0,0,0]
[null,null,0,0,{"$f":"IF(E$50>0,E32/E$50,0)","v":0},0,0,0,0,0,0,0,0,0,0,0,0,0,0,0]
[null,null,0,0,{"$f":"IF(E$50>0,E33/E$50,0)","v":0},0,0,0,0,0,0,0,0,0,0,0,0,0,0,0]
[null,null,0,0,{"$f":"IF(E$50>0,E34/E$50,0)","v":0},0,0,0,0,0,0,0,0,0,0,0,0,0,0,0]
[null,null,0,0,{"$f":"IF(E$50>0,E35/E$50,0)","v":0},0,0,0,0,0,0,0,0,0,0,0,0,0,0,0]
[null,null,0,0,{"$f":"IF(E$50>0,E36/E$50,0)","v":0},0,0,0,0,0,0,0,0,0,0,0,0,0,0,0]
[null,null,0,0,{"$f":"IF(E$50>0,E37/E$50,0)","v":0},0,0,0,0,0,0,0,0,0,0,0,0,0,0,0]
[null,null,0,0,{"$f":"IF(E$50>0,E38/E$50,0)","v":0},0,0,0,0,0,0,0,0,0,0,0,0,0,0,0]
[null,null,0,0,{"$f":"IF(E$50>0,E39/E$50,0)","v":0},0,0,0,0,0,0,0,0,0,0,0,0,0,0,0]
[null,null,0,0,{"$f":"IF(E$50>0,E40/E$50,0)","v":0},0,0,0,0,0,0,0,0,0,0,0,0,0,0,0]
[null,null,0,0,{"$f":"IF(E$50>0,E41/E$50,0)","v":0},0,0,0,0,0,0,0,0,0,0,0,0,0,0,0]
[null,null,0,0,{"$f":"IF(E$50>0,E42/E$50,0)","v":0},0,0,0,0,0,0,0,0,0,0,0,0,0,0,0]
[null,null,0,0,{"$f":"IF(E$50>0,E43/E$50,0)","v":0},0,0,0,0,0,0,0,0,0,0,0,0,0,0,0]
[null,null,0,0,{"$f":"IF(E$50>0,E44/E$50,0)","v":0},0,0,0,0,0,0,0,0,0,0,0,0,0,0,0]
[null,null,{"$f":"C45","v":0},0,{"$f":"IF(E$50>0,E45/E$50,0)","v":0},0,0,0,0,0,0,0,0,0,0,0,0,0,0,0]
[null,null,0,0,{"$f":"IF(E$50>0,E46/E$50,0)","v":0},0,0,0,0,0,0,0,0,0,0,0,0,0,0,0]
[null,null,0,0,{"$f":"IF(E$50>0,E47/E$50,0)","v":0},0,0,0,0,0,0,0,0,0,0,0,0,0,0,0]
[null,null,0,0,{"$f":"IF(E$50>0,E48/E$50,0)","v":0},0,0,0,0,0,0,0,0,0,0,0,0,0,0,0]
[null,null,0,0,{"$f":"IF(E$50>0,E49/E$50,0)","v":0},0,0,0,0,0,0,0,0,0,0,0,0,0,0,0]
[]
[]
[]
[]
[]
[]
[]
[]
[]
[]
[]
[]
["COUNT"]
[null,null,null,null,{"$f":"E3","v":"Female"},"Male",0,0,0,0,0,0,0,0,0,0,0,0,0,0]
[null,null,null,null,{"$f":"E4","v":0},0,0,0,0,0,0,0,0,0,0,0,0,0,0,0]
[null,null,{"$f":"C5","v":0},"Do not know",1,0]
[null,null,1,"Local: Has importance within your city, community, area",29,45]
[null,null,2,"National: Has importance within your own country",27,74]
[null,null,3,"National and other: Involves your country and other countries",14,63]
[null,null,4,"Foreign, international: involves other countries or the world in general (e.g., global warming)",23,55]
[null,null,0,0]
[null,null,0,0]
[null,null,0,0]
[null,null,0,0]
[null,null,0,0]
[null,null,0,0]
[null,null,0,0]
[null,null,0,0]
[null,null,0,0]
[null,null,0,0]
[null,null,0,0]
[null,null,0,0]
[null,null,0,0]
[null,null,0,0]
[null,null,0,0]
[null,null,{"$f":"C25","v":0},0]
[null,null,0,0]
[null,null,0,0]
[null,null,0,0]
[null,null,0,0]
[null,null,0,0]
[null,null,0,0]
[null,null,0,0]
[null,null,0,0]
[null,null,0,0]
[null,null,0,0]
[null,null,0,0]
[null,null,0,0]
[null,null,0,0]
[null,null,0,0]
[null,null,0,0]
[null,null,0,0]
[null,null,0,0]
[null,null,0,0]
[null,null,0,0]
[null,null,{"$f":"C45","v":0},0]
[null,null,0,0]
[null,null,0,0]

{"sheet":"9cF - Sex of news subjects","index":9,"n_rows":13,"n_cols":12,"rows_kept":13,"cut":false,"hidden":false,"merged":[[1,5,1,9],[1,10,1,11]]}
[{"$f":"'9c'!$A$1","v":"Sex of news subjects (sources) in local, national & other, and Foreign/International"}]
[null,null,null,null,null,{"$f":"'9c'!W3 &  \"  %F\"","v":"Female  %F"},null,null,null,null,"Male %M"]
[null,null,null,null,"Scope",1995,2000,2005,2010,"N",2010,"N"]
[]
[null,null,null,null,"Local",0.22,0.23,0.27,{"$f":"'9c'!W6","v":0.39032247189904856},{"$f":"'9c'!E113","v":29},{"$f":"'9c'!X6","v":0.60967752810095144},{"$f":"'9c'!F113","v":45}]
[null,null,null,null,"National",0.14000000000000001,0.17,0.19,{"$f":"'9c'!W7","v":0.26520672171427012},{"$f":"'9c'!E114","v":27},{"$f":"'9c'!X7","v":0.73479327828572993},{"$f":"'9c'!F114","v":74}]
[null,null,null,null,"National and other","new code","new code","new code",{"$f":"'9c'!W8","v":0.1861509116670316},{"$f":"'9c'!E115","v":14},{"$f":"'9c'!X8","v":0.81384908833296832},{"$f":"'9c'!F115","v":63}]
[null,null,null,null,"International",0.17,0.15,0.18,{"$f":"'9c'!W9","v":0.28650722915380683},{"$f":"'9c'!E116","v":23},{"$f":"'9c'!X9","v":0.71349277084619311},{"$f":"'9c'!F116","v":55}]
[]
[]
[]
[]
[null,null,null,null,"Total",0,0,0,{"$f":"'9c'!$W$50","v":0.27844890434702491},{"$f":"SUM(J5:J8)","v":93},{"$f":"'9c'!$X$50","v":0.72155109565297515},{"$f":"SUM(L5:L8)","v":237}]

{"sheet":"9d","index":10,"n_rows":205,"n_cols":38,"rows_kept":205,"cut":false,"hidden":true,"merged":[]}
["Sex of news subjects in different story topics by GMMP year"]
[]
[null,null,null,null,"Female","Male",null,null,null,null,null,null,null,null,null,null,null,null,null,null,null,null,{"$f":"E3","v":"Female"},"Male",0,0,0,0,0,0,0,0,0,0,0,0,0]
[null,null,null,null,null,null,null,null,null,null,null,null,null,null,null,null,null,null,null,null,null,"TOTAL",0,0,0,0,0,0,0,0,0,0,0,0,0,0,0,{"$f":"T4","v":0}]
[null,null,1,"Women in political power and decision-making (local, regional, national),",null,null,null,null,null,null,null,null,null,null,null,null,null,null,null,null,null,{"$f":"SUM(E5:O5)","v":0},{"$f":"IF((E5+F5)>0,E5/(E5+F5),0)","v":0},{"$f":"IF((E5+F5)>0,F5/(E5+F5),0)","v":0},{"$f":"IF((G5+H5)>0,G5/(G5+H5),0)","v":0},{"$f":"IF((G5+H5)>0,H5/(G5+H5),0)","v":0},{"$f":"IF((I5+J5)>0,I5/(I5+J5),0)","v":0},{"$f":"IF((I5+J5)>0,J5/(I5+J5),0)","v":0},{"$f":"IF((K5+L5)>0,K5/(K5+L5),0)","v":0},{"$f":"IF((K5+L5)>0,L5/(K5+L5),0)","v":0},{"$f":"IF((M5+N5)>0,M5/(M5+N5),0)","v":0},{"$f":"IF((M5+N5)>0,N5/(M5+N5),0)","v":0},{"$f":"IF((O5+P5)>0,O5/(O5+P5),0)","v":0},{"$f":"IF((O5+P5)>0,P5/(O5+P5),0)","v":0},{"$f":"IF((Q5+R5)>0,Q5/(Q5+R5),0)","v":0},{"$f":"IF((Q5+R5)>0,R5/(Q5+R5),0)","v":0},{"$f":"IF((S5+T5)>0,S5/(S5+T5),0)","v":0},{"$f":"IF((S5+T5)>0,T5/(S5+T5),0)","v":0}]
[null,null,2,"Women electoral candidates (local, regional, national),",5.1000001840293399E-3,1.0200000368058701E-2,null,null,null,null,null,null,null,null,null,null,null,null,null,null,null,1.530000055208804E-2,0.33333333333333293,0.66666666666666718,0,0,0,0,0,0,0,0,0,0,0,0,0,0]
[null,null,3,"Peace, negotiations, treaties…(local, regional, national),",2.242949930951E-2,7.47649976983666E-2,null,null,null,null,null,null,null,null,null,null,null,null,null,null,null,9.7194497007876607E-2,0.23076923076923089,0.76923076923076905,0,0,0,0,0,0,0,0,0,0,0,0,0,0]
[null,null,4,"Other domestic politics/government (local, regional, national), elections, speeches, the political process …",2.5052999611943998E-2,0.110511999111623,null,null,null,null,null,null,null,null,null,null,null,null,null,null,null,0.135564998723567,0.18480433628026666,0.81519566371973329,0,0,0,0,0,0,0,0,0,0,0,0,0,0]
[null,null,5,"Global partnerships (international trade and finance systems, e.g. WTO, IMF, World Bank, debt) …",null,null,null,null,null,null,null,null,null,null,null,null,null,null,null,null,null,0,0,0,0,0,0,0,0,0,0,0,0,0,0,0,0,0]
[null,null,6,"Foreign/international politics, relations with other countries, negotiations, treaties, UN peacekeeping …",4.52059996314347E-2,0.22102399822324501,null,null,null,null,null,null,null,null,null,null,null,null,null,null,null,0.26622999785467971,0.16980054838189257,0.83019945161810738,0,0,0,0,0,0,0,0,0,0,0,0,0,0]
[null,null,7,"National defence, military spending, military training, military parades, internal security …",null,2.9905999079346698E-2,null,null,null,null,null,null,null,null,null,null,null,null,null,null,null,2.9905999079346698E-2,0,1,0,0,0,0,0,0,0,0,0,0,0,0,0,0]
[null,null,8,"Other stories on politics and government (specify the subject in 'Comments' section of coding sheet)",0.115117997862399,0.16760049667209401,null,null,null,null,null,null,null,null,null,null,null,null,null,null,null,0.28271849453449299,0.40718240966847702,0.59281759033152304,0,0,0,0,0,0,0,0,0,0,0,0,0,0]
[null,null,9,"Economic policies, strategies, models (national, international) …",null,0.102641498204321,null,null,null,null,null,null,null,null,null,null,null,null,null,null,null,0.102641498204321,0,1]
[null,null,10,"Economic indicators, statistics, business, trade, stock markets …",null,7.4764997698366599E-3,null,null,null,null,null,null,null,null,null,null,null,null,null,null,null,{"$f":"SUM(E14:O14)","v":7.4764997698366599E-3},0,1]
[null,null,11,"Economic crisis, state bailouts of companies, company takeovers and mergers …",null,4.9999998882412902E-3,null,null,null,null,null,null,null,null,null,null,null,null,null,null,null,4.9999998882412902E-3,0,1]
[null,null,12,"Poverty, housing, social welfare, aid to those in need …",1.0200000368058701E-2,1.5300000552088E-2,null,null,null,null,null,null,null,null,null,null,null,null,null,null,null,2.55000009201467E-2,0.4000000000000008,0.5999999999999992]
[null,null,13,"Women's participation in economic processes (informal work, paid employment, unemployment, unpaid labour)",null,null,null,null,null,null,null,null,null,null,null,null,null,null,null,null,null,0,0,0]
[null,null,14,"Other labour issues, strikes, trade unions, negotiations, other employment and unemployment …",2.49529993161559E-2,1.9952999427914599E-2,null,null,null,null,null,null,null,null,null,null,null,null,null,null,null,4.4905998744070502E-2,0.55567184817263982,0.44432815182736007]
[null,null,15,"Rural economy, agriculture, farming practices, agricultural policy, land rights …",null,null,null,null,null,null,null,null,null,null,null,null,null,null,null,null,null,0,0,0]
[null,null,16,"Consumer issues, consumer protection, regulation, prices, consumer fraud …",null,1.2576499953866E-2,null,null,null,null,null,null,null,null,null,null,null,null,null,null,null,1.2576499953866E-2,0,1]
[null,null,17,"Transport, traffic, roads ……",null,null,null,null,null,null,null,null,null,null,null,null,null,null,null,null,null,0,0,0]
[null,null,18,"Other stories on the economy (specify the subject in 'Comments' section of coding sheet)",1.2576499953866E-2,3.0253000091761399E-2,null,null,null,null,null,null,null,null,null,null,null,null,null,null,null,4.2829500045627397E-2,0.29364106376371246,0.70635893623628754]
[null,null,19,"Science, technology, research, funding, discoveries, developments …",null,5.1000001840293399E-3,null,null,null,null,null,null,null,null,null,null,null,null,null,null,null,5.1000001840293399E-3,0,1]
[null,null,20,"Medicine, health, hygiene, safety, disability, medical research, funding (apart from HIV-AIDS)…",5.1000001840293399E-3,5.1000001840293399E-3,null,null,null,null,null,null,null,null,null,null,null,null,null,null,null,1.020000036805868E-2,0.5,0.5]
[null,null,21,"HIV and AIDS, incidence, policy, treatment, people affected …",null,null,null,null,null,null,null,null,null,null,null,null,null,null,null,null,null,0,0,0]
[null,null,22,"Other epidemics, viruses, contagions, Influenza, BSE, SARS …",2.0400000736117401E-2,3.04000005125999E-2,null,null,null,null,null,null,null,null,null,null,null,null,null,null,null,5.0800001248717301E-2,0.40157480776897619,0.59842519223102375]
[null,null,23,"Birth control, fertility, sterilisation, amniocentesis, termination of pregnancy …",null,null,null,null,null,null,null,null,null,null,null,null,null,null,null,null,null,0,0,0]
[null,null,24,"Environment, nature,   pollution, global warming, ecology, tourism …",1.2576499953866E-2,null,null,null,null,null,null,null,null,null,null,null,null,null,null,null,null,1.2576499953866E-2,1,0]
[null,null,25,"Other stories on science or health (specify the subject in 'Comments' section of coding sheet)",null,2.0400000736117401E-2,null,null,null,null,null,null,null,null,null,null,null,null,null,null,null,2.0400000736117401E-2,0,1]
[null,null,26,"Development issues, sustainability, community development …",null,null,null,null,null,null,null,null,null,null,null,null,null,null,null,null,null,0,0,0]
[null,null,27,"Education, child care, nurseries, pre-school to university, adult education, literacy …",4.52059996314347E-2,4.0400000289082499E-2,null,null,null,null,null,null,null,null,null,null,null,null,null,null,null,8.5605999920517206E-2,0.52807045853570089,0.471929541464299]
[null,null,28,"Family relations, inter-generational conflict, single parents …",null,null,null,null,null,null,null,null,null,null,null,null,null,null,null,null,null,0,0,0]
[null,null,29,"Human rights, women's rights, children's rights, gay & lesbian rights, rights of minorities ..",1.2476499658078E-2,null,null,null,null,null,null,null,null,null,null,null,null,null,null,null,null,1.2476499658078E-2,1,0]
[null,null,30,"Religion, culture, tradition, controversies, teachings, celebrations, practices …",null,null,null,null,null,null,null,null,null,null,null,null,null,null,null,null,null,0,0,0]
[null,null,31,"Migration, refugees, asylum seekers, ethnic conflict, integration, racism, xenophobia …",null,null,null,null,null,null,null,null,null,null,null,null,null,null,null,null,null,0,0,0]
[null,null,32,"Women's movement, activism, events, demonstrations, gender equality advocacy …",null,null,null,null,null,null,null,null,null,null,null,null,null,null,null,null,null,0,0,0]
[null,null,33,"Changing gender relations, roles and relationships of women and men inside and outside the home …",null,null,null,null,null,null,null,null,null,null,null,null,null,null,null,null,null,0,0,0]
[null,null,34,"Family law, family codes, property law, inheritance law and rights …",null,null,null,null,null,null,null,null,null,null,null,null,null,null,null,null,null,0,0,0]
[null,null,35,"Legal system, judicial system, legislation (apart from family, property & inheritance law) …",1.2576499953866E-2,2.2576499730348601E-2,null,null,null,null,null,null,null,null,null,null,null,null,null,null,null,3.5152999684214599E-2,0.35776463080940024,0.64223536919059976]
[null,null,36,"Other stories on social or legal issues (specify the subject in 'Comments' section of coding sheet)",3.0600001104175999E-2,7.6200001873076004E-2,null,null,null,null,null,null,null,null,null,null,null,null,null,null,null,0.10680000297725201,0.28651685628411155,0.71348314371588839]
[null,null,37,"Non-violent crime, bribery, theft, drug-dealing, corruption, (including political corruption/malpractice) …",2.2676500026136599E-2,4.7382498625665903E-2,null,null,null,null,null,null,null,null,null,null,null,null,null,null,null,7.0058998651802498E-2,0.32367719297331365,0.67632280702668635]
[null,null,38,"Violent crime, murder, abduction, kidnapping, assault, drug-related violence …",1.4999999664723899E-2,1.9999999552965199E-2,null,null,null,null,null,null,null,null,null,null,null,null,null,null,null,3.49999992176891E-2,0.42857142857142855,0.5714285714285714]
[null,null,39,"Gender-based violence, feminicide, harassment, domestic violence, rape, trafficking, genital mutilation …",2.27765003219247E-2,3.2976500689983403E-2,null,null,null,null,null,null,null,null,null,null,null,null,null,null,null,5.5753001011908103E-2,0.40852510014770221,0.59147489985229784]
[null,null,40,"Child abuse, sexual violence against children, trafficking, neglect.",1.0200000368058701E-2,2.0400000736117401E-2,null,null,null,null,null,null,null,null,null,null,null,null,null,null,null,3.06000011041761E-2,0.33333333333333337,0.66666666666666674]
[null,null,41,"War, civil war, terrorism, state-based violence …",2.2676500026136599E-2,2.55000009201467E-2,null,null,null,null,null,null,null,null,null,null,null,null,null,null,null,4.8176500946283299E-2,0.47069628513330286,0.52930371486669714]
[null,null,42,"Riots, demonstrations, public disorder …",null,null,null,null,null,null,null,null,null,null,null,null,null,null,null,null,null,0,0,0]
[null,null,43,"Disaster, accident, famine, earthquake, flood, hurricane, plane crash, car crash …",2.55000009201467E-2,4.9999998882412902E-3,null,null,null,null,null,null,null,null,null,null,null,null,null,null,null,3.0500000808387991E-2,0.83606558177971557,0.16393441822028443]
[null,null,44,"Other stories on crime and violence (specify the subject in 'Comments' section of coding sheet)",null,2.242949930951E-2,null,null,null,null,null,null,null,null,null,null,null,null,null,null,null,2.242949930951E-2,0,1]
[null,null,45,"Celebrity news, births, marriages, deaths, obituaries, famous people, royalty …",null,null,null,null,null,null,null,null,null,null,null,null,null,null,null,null,null,0,0,0]
[null,null,46,"Arts, entertainment, leisure, cinema, theatre, books, dance …",4.2729499749839299E-2,0.14487099647522,null,null,null,null,null,null,null,null,null,null,null,null,null,null,null,0.18760049622505931,0.22776858595607263,0.77223141404392737]
[null,null,47,"Media, including new media (computers, internet), portrayal of women and/or men, pornography …",null,null,null,null,null,null,null,null,null,null,null,null,null,null,null,null,null,0,0,0]
[null,null,48,"Beauty contests, models, fashion, beauty aids, cosmetic surgery …",7.4764997698366599E-3,null,null,null,null,null,null,null,null,null,null,null,null,null,null,null,null,7.4764997698366599E-3,1,0]
[null,null,49,"Sports, events, players, facilities, training, policies, funding …",null,0.102294497191906,null,null,null,null,null,null,null,null,null,null,null,null,null,null,null,0.102294497191906,0,1]
[null,null,50,"Other stories on celebrities, arts, media (specify the subject in 'Comments' section of coding sheet)",null,4.52059996314347E-2,null,null,null,null,null,null,null,null,null,null,null,null,null,null,null,4.52059996314347E-2,0,1]
[null,null,51,"News about the girl child, including, cultural attitudes and practices impinging on girls, education, health, economic exploitation, violence (ONLY WHERE EMPHASIS IS ON THE GIRL CHILD)…",null,null,null,null,null,null,null,null,null,null,null,null,null,null,null,null,null,0,0,0]
[null,null,52,"Other subject: use only if none of the above subject codes is suitable (specify the subject in 'Comments' section of coding sheet)",null,null,null,null,null,null,null,null,null,null,null,null,null,null,null,null,null,0,0,0]
[]
[]
[]
[]
[]
[]
[]
[]
[]
[]
[]
[null,null,null,"TOTAL",{"$f":"SUM(E5:E67)","v":0.56860699830576811},1.4734444855712365,0,0,0,0,0,0,0,0,0,0,0,0,0,0,null,{"$f":"SUM(E68:O68)","v":2.0420514838770045},{"$f":"IF((E68+F68)>0,E68/(E68+F68),0)","v":0.27844890434702479},{"$f":"IF((E68+F68)>0,F68/(E68+F68),0)","v":0.72155109565297526},{"$f":"IF((G68+H68)>0,G68/(G68+H68),0)","v":0},{"$f":"IF((G68+H68)>0,H68/(G68+H68),0)","v":0},{"$f":"IF((I68+J68)>0,I68/(I68+J68),0)","v":0},{"$f":"IF((I68+J68)>0,J68/(I68+J68),0)","v":0},{"$f":"IF((K68+L68)>0,K68/(K68+L68),0)","v":0},{"$f":"IF((K68+L68)>0,L68/(K68+L68),0)","v":0},{"$f":"IF((M68+N68)>0,M68/(M68+N68),0)","v":0},{"$f":"IF((M68+N68)>0,N68/(M68+N68),0)","v":0},{"$f":"IF((O68+P68)>0,O68/(O68+P68),0)","v":0},{"$f":"IF((O68+P68)>0,P68/(O68+P68),0)","v":0},{"$f":"IF((Q68+R68)>0,Q68/(Q68+R68),0)","v":0},{"$f":"IF((Q68+R68)>0,R68/(Q68+R68),0)","v":0},{"$f":"IF((S68+T68)>0,S68/(S68+T68),0)","v":0},{"$f":"IF((S68+T68)>0,T68/(S68+T68),0)","v":0}]
[]
[null,null,{"$f":"C5","v":1},"Women in political power and decision-making (local, regional, national),",{"$f":"IF(E$68>0,E5/E$68,0)","v":0},0,0,0,0,0,0,0,0,0,0,0,0,0,0,0]
[null,null,2,"Women electoral candidates (local, regional, national),",{"$f":"IF(E$68>0,E6/E$68,0)","v":8.969288452701769E-3},6.9225549166884864E-3,0,0,0,0,0,0,0,0,0,0,0,0,0,0]
[null,null,3,"Peace, negotiations, treaties…(local, regional, national),",{"$f":"IF(E$68>0,E7/E$68,0)","v":3.9446400372034375E-2},5.0741645464424209E-2,0,0,0,0,0,0,0,0,0,0,0,0,0,0]
[null,null,4,"Other domestic politics/government (local, regional, national), elections, speeches, the political process …",{"$f":"IF(E$68>0,E8/E$68,0)","v":4.4060308238541519E-2},7.5002485803717836E-2,0,0,0,0,0,0,0,0,0,0,0,0,0,0]
[null,null,5,"Global partnerships (international trade and finance systems, e.g. WTO, IMF, World Bank, debt) …",{"$f":"IF(E$68>0,E9/E$68,0)","v":0},0,0,0,0,0,0,0,0,0,0,0,0,0,0,0]
[null,null,6,"Foreign/international politics, relations with other countries, negotiations, treaties, UN peacekeeping …",{"$f":"IF(E$68>0,E10/E$68,0)","v":7.9503065854151164E-2},0.15000497160743501,0,0,0,0,0,0,0,0,0,0,0,0,0,0]
[null,null,7,"National defence, military spending, military training, military parades, internal security …",{"$f":"IF(E$68>0,E11/E$68,0)","v":0},2.0296658185769725E-2,0,0,0,0,0,0,0,0,0,0,0,0,0,0]
[null,null,8,"Other stories on politics and government (specify the subject in 'Comments' section of coding sheet)",{"$f":"IF(E$68>0,E12/E$68,0)","v":0.20245617483676195},0.11374741180501098,0,0,0,0,0,0,0,0,0,0,0,0,0,0]
[null,null,9,"Economic policies, strategies, models (national, international) …",{"$f":"IF(E$68>0,E13/E$68,0)","v":0},6.9660919844243843E-2,0,0,0,0,0,0,0,0,0,0,0,0,0,0]
[null,null,10,"Economic indicators, statistics, business, trade, stock markets …",{"$f":"IF(E$68>0,E14/E$68,0)","v":0},5.0741645464424208E-3,0,0,0,0,0,0,0,0,0,0,0,0,0,0]
[null,null,11,"Economic crisis, state bailouts of companies, company takeovers and mergers …",{"$f":"IF(E$68>0,E15/E$68,0)","v":0},3.3934090745894991E-3,0,0,0,0,0,0,0,0,0,0,0,0,0,0]
[null,null,12,"Poverty, housing, social welfare, aid to those in need …",{"$f":"IF(E$68>0,E16/E$68,0)","v":1.7938576905403573E-2},1.0383832375032695E-2,0,0,0,0,0,0,0,0,0,0,0,0,0,0]
[null,null,13,"Women's participation in economic processes (informal work, paid employment, unemployment, unpaid labour)",{"$f":"IF(E$68>0,E17/E$68,0)","v":0},0,0,0,0,0,0,0,0,0,0,0,0,0,0,0]
[null,null,14,"Other labour issues, strikes, trade unions, negotiations, other employment and unemployment …",{"$f":"IF(E$68>0,E18/E$68,0)","v":4.3884439323656439E-2},1.3541738167474334E-2,0,0,0,0,0,0,0,0,0,0,0,0,0,0]
[null,null,15,"Rural economy, agriculture, farming practices, agricultural policy, land rights …",{"$f":"IF(E$68>0,E19/E$68,0)","v":0},0,0,0,0,0,0,0,0,0,0,0,0,0,0,0]
[null,null,16,"Consumer issues, consumer protection, regulation, prices, consumer fraud …",{"$f":"IF(E$68>0,E20/E$68,0)","v":0},8.5354420047866579E-3,0,0,0,0,0,0,0,0,0,0,0,0,0,0]
[null,null,17,"Transport, traffic, roads ……",{"$f":"IF(E$68>0,E21/E$68,0)","v":0},0,0,0,0,0,0,0,0,0,0,0,0,0,0,0]
[null,null,18,"Other stories on the economy (specify the subject in 'Comments' section of coding sheet)",{"$f":"IF(E$68>0,E22/E$68,0)","v":2.2118088576713213E-2},2.053216146791759E-2,0,0,0,0,0,0,0,0,0,0,0,0,0,0]
[null,null,19,"Science, technology, research, funding, discoveries, developments …",{"$f":"IF(E$68>0,E23/E$68,0)","v":0},3.4612774583442358E-3,0,0,0,0,0,0,0,0,0,0,0,0,0,0]
[null,null,20,"Medicine, health, hygiene, safety, disability, medical research, funding (apart from HIV-AIDS)…",{"$f":"IF(E$68>0,E24/E$68,0)","v":8.969288452701769E-3},3.4612774583442358E-3,0,0,0,0,0,0,0,0,0,0,0,0,0,0]
[null,null,{"$f":"C25","v":21},"HIV and AIDS, incidence, policy, treatment, people affected …",{"$f":"IF(E$68>0,E25/E$68,0)","v":0},0,0,0,0,0,0,0,0,0,0,0,0,0,0,0]
[null,null,22,"Other epidemics, viruses, contagions, Influenza, BSE, SARS …",{"$f":"IF(E$68>0,E26/E$68,0)","v":3.5877153810807146E-2},2.0631927982555916E-2,0,0,0,0,0,0,0,0,0,0,0,0,0,0]
[null,null,23,"Birth control, fertility, sterilisation, amniocentesis, termination of pregnancy …",{"$f":"IF(E$68>0,E27/E$68,0)","v":0},0,0,0,0,0,0,0,0,0,0,0,0,0,0,0]
[null,null,24,"Environment, nature,   pollution, global warming, ecology, tourism …",{"$f":"IF(E$68>0,E28/E$68,0)","v":2.2118088576713213E-2},0,0,0,0,0,0,0,0,0,0,0,0,0,0,0]
[null,null,25,"Other stories on science or health (specify the subject in 'Comments' section of coding sheet)",{"$f":"IF(E$68>0,E29/E$68,0)","v":0},1.3845109833376973E-2,0,0,0,0,0,0,0,0,0,0,0,0,0,0]
[null,null,26,"Development issues, sustainability, community development …",{"$f":"IF(E$68>0,E30/E$68,0)","v":0},0,0,0,0,0,0,0,0,0,0,0,0,0,0,0]
[null,null,27,"Education, child care, nurseries, pre-school to university, adult education, literacy …",{"$f":"IF(E$68>0,E31/E$68,0)","v":7.9503065854151164E-2},2.7418746131734926E-2,0,0,0,0,0,0,0,0,0,0,0,0,0,0]
[null,null,28,"Family relations, inter-generational conflict, single parents …",{"$f":"IF(E$68>0,E32/E$68,0)","v":0},0,0,0,0,0,0,0,0,0,0,0,0,0,0,0]
[null,null,29,"Human rights, women's rights, children's rights, gay & lesbian rights, rights of minorities ..",{"$f":"IF(E$68>0,E33/E$68,0)","v":2.1942219661828306E-2},0,0,0,0,0,0,0,0,0,0,0,0,0,0,0]
[null,null,30,"Religion, culture, tradition, controversies, teachings, celebrations, practices …",{"$f":"IF(E$68>0,E34/E$68,0)","v":0},0,0,0,0,0,0,0,0,0,0,0,0,0,0,0]
[null,null,31,"Migration, refugees, asylum seekers, ethnic conflict, integration, racism, xenophobia …",{"$f":"IF(E$68>0,E35/E$68,0)","v":0},0,0,0,0,0,0,0,0,0,0,0,0,0,0,0]
[null,null,32,"Women's movement, activism, events, demonstrations, gender equality advocacy …",{"$f":"IF(E$68>0,E36/E$68,0)","v":0},0,0,0,0,0,0,0,0,0,0,0,0,0,0,0]
[null,null,33,"Changing gender relations, roles and relationships of women and men inside and outside the home …",{"$f":"IF(E$68>0,E37/E$68,0)","v":0},0,0,0,0,0,0,0,0,0,0,0,0,0,0,0]
[null,null,34,"Family law, family codes, property law, inheritance law and rights …",{"$f":"IF(E$68>0,E38/E$68,0)","v":0},0,0,0,0,0,0,0,0,0,0,0,0,0,0,0]
[null,null,35,"Legal system, judicial system, legislation (apart from family, property & inheritance law) …",{"$f":"IF(E$68>0,E39/E$68,0)","v":2.2118088576713213E-2},1.5322260153965669E-2,0,0,0,0,0,0,0,0,0,0,0,0,0,0]
[null,null,36,"Other stories on social or legal issues (specify the subject in 'Comments' section of coding sheet)",{"$f":"IF(E$68>0,E40/E$68,0)","v":5.3815730716210541E-2},5.1715556723899367E-2,0,0,0,0,0,0,0,0,0,0,0,0,0,0]
[null,null,37,"Non-violent crime, bribery, theft, drug-dealing, corruption, (including political corruption/malpractice) …",{"$f":"IF(E$68>0,E41/E$68,0)","v":3.9880796567231702E-2},3.2157640881391121E-2,0,0,0,0,0,0,0,0,0,0,0,0,0,0]
[null,null,38,"Violent crime, murder, abduction, kidnapping, assault, drug-related violence …",{"$f":"IF(E$68>0,E42/E$68,0)","v":2.6380258613450371E-2},1.3573636298358022E-2,0,0,0,0,0,0,0,0,0,0,0,0,0,0]
[null,null,39,"Gender-based violence, feminicide, harassment, domestic violence, rape, trafficking, genital mutilation …",{"$f":"IF(E$68>0,E43/E$68,0)","v":4.0056665482116789E-2},2.2380551838163631E-2,0,0,0,0,0,0,0,0,0,0,0,0,0,0]
[null,null,40,"Child abuse, sexual violence against children, trafficking, neglect.",{"$f":"IF(E$68>0,E44/E$68,0)","v":1.7938576905403573E-2},1.3845109833376973E-2,0,0,0,0,0,0,0,0,0,0,0,0,0,0]
[null,null,{"$f":"C45","v":41},"War, civil war, terrorism, state-based violence …",{"$f":"IF(E$68>0,E45/E$68,0)","v":3.9880796567231702E-2},1.7306387291721181E-2,0,0,0,0,0,0,0,0,0,0,0,0,0,0]
[null,null,42,"Riots, demonstrations, public disorder …",{"$f":"IF(E$68>0,E46/E$68,0)","v":0},0,0,0,0,0,0,0,0,0,0,0,0,0,0,0]
[null,null,43,"Disaster, accident, famine, earthquake, flood, hurricane, plane crash, car crash …",{"$f":"IF(E$68>0,E47/E$68,0)","v":4.4846442263508847E-2},3.3934090745894991E-3,0,0,0,0,0,0,0,0,0,0,0,0,0,0]
[null,null,44,"Other stories on crime and violence (specify the subject in 'Comments' section of coding sheet)",{"$f":"IF(E$68>0,E48/E$68,0)","v":0},1.5222493639327277E-2,0,0,0,0,0,0,0,0,0,0,0,0,0,0]
[null,null,45,"Celebrity news, births, marriages, deaths, obituaries, famous people, royalty …",{"$f":"IF(E$68>0,E49/E$68,0)","v":0},0,0,0,0,0,0,0,0,0,0,0,0,0,0,0]
[null,null,46,"Arts, entertainment, leisure, cinema, theatre, books, dance …",{"$f":"IF(E$68>0,E50/E$68,0)","v":7.5147685267956441E-2},9.8321313014419598E-2,0,0,0,0,0,0,0,0,0,0,0,0,0,0]
[null,null,47,"Media, including new media (computers, internet), portrayal of women and/or men, pornography …",{"$f":"IF(E$68>0,E51/E$68,0)","v":0},0,0,0,0,0,0,0,0,0,0,0,0,0,0,0]
[null,null,48,"Beauty contests, models, fashion, beauty aids, cosmetic surgery …",{"$f":"IF(E$68>0,E52/E$68,0)","v":1.3148800124011446E-2},0,0,0,0,0,0,0,0,0,0,0,0,0,0,0]
[null,null,49,"Sports, events, players, facilities, training, policies, funding …",{"$f":"IF(E$68>0,E53/E$68,0)","v":0},6.9425416562095763E-2,0,0,0,0,0,0,0,0,0,0,0,0,0,0]
[null,null,50,"Other stories on celebrities, arts, media (specify the subject in 'Comments' section of coding sheet)",{"$f":"IF(E$68>0,E54/E$68,0)","v":0},3.068049056080242E-2,0,0,0,0,0,0,0,0,0,0,0,0,0,0]
[null,null,51,"News about the girl child, including, cultural attitudes and practices impinging on girls, education, health, economic exploitation, violence (ONLY WHERE EMPHASIS IS ON THE GIRL CHILD)…",{"$f":"IF(E$68>0,E55/E$68,0)","v":0},0,0,0,0,0,0,0,0,0,0,0,0,0,0,0]
[null,null,52,"Other subject: use only if none of the above subject codes is suitable (specify the subject in 'Comments' section of coding sheet)",{"$f":"IF(E$68>0,E56/E$68,0)","v":0},0,0,0,0,0,0,0,0,0,0,0,0,0,0,0]
[null,null,0,0,{"$f":"IF(E$68>0,E57/E$68,0)","v":0},0,0,0,0,0,0,0,0,0,0,0,0,0,0,0]
[null,null,0,0,{"$f":"IF(E$68>0,E58/E$68,0)","v":0},0,0,0,0,0,0,0,0,0,0,0,0,0,0,0]
[null,null,0,0,{"$f":"IF(E$68>0,E59/E$68,0)","v":0},0,0,0,0,0,0,0,0,0,0,0,0,0,0,0]
[null,null,0,0,{"$f":"IF(E$68>0,E60/E$68,0)","v":0},0,0,0,0,0,0,0,0,0,0,0,0,0,0,0]
[null,null,0,0,{"$f":"IF(E$68>0,E61/E$68,0)","v":0},0,0,0,0,0,0,0,0,0,0,0,0,0,0,0]
[null,null,0,0,{"$f":"IF(E$68>0,E62/E$68,0)","v":0},0,0,0,0,0,0,0,0,0,0,0,0,0,0,0]
[]
[]
[]
[]
[]
[]
[]
[]
[]
[]
[]
[]
[]
[]
[]
[]
[]
[]
[]
[]
["COUNT"]
[null,null,null,null,{"$f":"E3","v":"Female"},"Male",0,0,0,0,0,0,0,0,0,0,0,0,0,0]
[null,null,null,null,{"$f":"E4","v":0},0,0,0,0,0,0,0,0,0,0,0,0,0,0,0]
[null,null,{"$f":"C5","v":1},"Women in political power and decision-making (local, regional, national),",0,0]
[null,null,2,"Women electoral candidates (local, regional, national),",1,2]
[null,null,3,"Peace, negotiations, treaties…(local, regional, national),",3,10]
[null,null,4,"Other domestic politics/government (local, regional, national), elections, speeches, the political process …",4,18]
[null,null,5,"Global partnerships (international trade and finance systems, e.g. WTO, IMF, World Bank, debt) …",0,0]
[null,null,6,"Foreign/international politics, relations with other countries, negotiations, treaties, UN peacekeeping …",7,36]
[null,null,7,"National defence, military spending, military training, military parades, internal security …",0,4]
[null,null,8,"Other stories on politics and government (specify the subject in 'Comments' section of coding sheet)",17,25]
[null,null,9,"Economic policies, strategies, models (national, international) …",0,15]
[null,null,10,"Economic indicators, statistics, business, trade, stock markets …",0,1]
[null,null,11,"Economic crisis, state bailouts of companies, company takeovers and mergers …",0,1]
[null,null,12,"Poverty, housing, social welfare, aid to those in need …",2,3]
[null,null,13,"Women's participation in economic processes (informal work, paid employment, unemployment, unpaid labour)",0,0]
[null,null,14,"Other labour issues, strikes, trade unions, negotiations, other employment and unemployment …",4,3]
[null,null,15,"Rural economy, agriculture, farming practices, agricultural policy, land rights …",0,0]
[null,null,16,"Consumer issues, consumer protection, regulation, prices, consumer fraud …",0,2]
[null,null,17,"Transport, traffic, roads ……",0,0]
[null,null,18,"Other stories on the economy (specify the subject in 'Comments' section of coding sheet)",2,5]
[null,null,19,"Science, technology, research, funding, discoveries, developments …",0,1]
[null,null,20,"Medicine, health, hygiene, safety, disability, medical research, funding (apart from HIV-AIDS)…",1,1]
[null,null,{"$f":"C25","v":21},"HIV and AIDS, incidence, policy, treatment, people affected …",0,0]
[null,null,22,"Other epidemics, viruses, contagions, Influenza, BSE, SARS …",4,6]
[null,null,23,"Birth control, fertility, sterilisation, amniocentesis, termination of pregnancy …",0,0]
[null,null,24,"Environment, nature,   pollution, global warming, ecology, tourism …",2,0]
[null,null,25,"Other stories on science or health (specify the subject in 'Comments' section of coding sheet)",0,4]
[null,null,26,"Development issues, sustainability, community development …",0,0]
[null,null,27,"Education, child care, nurseries, pre-school to university, adult education, literacy …",7,8]
[null,null,28,"Family relations, inter-generational conflict, single parents …",0,0]
[null,null,29,"Human rights, women's rights, children's rights, gay & lesbian rights, rights of minorities ..",2,0]
[null,null,30,"Religion, culture, tradition, controversies, teachings, celebrations, practices …",0,0]
[null,null,31,"Migration, refugees, asylum seekers, ethnic conflict, integration, racism, xenophobia …",0,0]
[null,null,32,"Women's movement, activism, events, demonstrations, gender equality advocacy …",0,0]
[null,null,33,"Changing gender relations, roles and relationships of women and men inside and outside the home …",0,0]
[null,null,34,"Family law, family codes, property law, inheritance law and rights …",0,0]
[null,null,35,"Legal system, judicial system, legislation (apart from family, property & inheritance law) …",2,4]
[null,null,36,"Other stories on social or legal issues (specify the subject in 'Comments' section of coding sheet)",6,15]
[null,null,37,"Non-violent crime, bribery, theft, drug-dealing, corruption, (including political corruption/malpractice) …",4,7]
[null,null,38,"Violent crime, murder, abduction, kidnapping, assault, drug-related violence …",3,4]
[null,null,39,"Gender-based violence, feminicide, harassment, domestic violence, rape, trafficking, genital mutilation …",4,6]
[null,null,40,"Child abuse, sexual violence against children, trafficking, neglect.",2,4]
[null,null,{"$f":"C45","v":41},"War, civil war, terrorism, state-based violence …",4,5]
[null,null,42,"Riots, demonstrations, public disorder …",0,0]
[null,null,43,"Disaster, accident, famine, earthquake, flood, hurricane, plane crash, car crash …",5,1]
[null,null,44,"Other stories on crime and violence (specify the subject in 'Comments' section of coding sheet)",0,3]
[null,null,45,"Celebrity news, births, marriages, deaths, obituaries, famous people, royalty …",0,0]
[null,null,46,"Arts, entertainment, leisure, cinema, theatre, books, dance …",7,22]
[null,null,47,"Media, including new media (computers, internet), portrayal of women and/or men, pornography …",0,0]
[null,null,48,"Beauty contests, models, fashion, beauty aids, cosmetic surgery …",1,0]
[null,null,49,"Sports, events, players, facilities, training, policies, funding …",0,14]
[null,null,50,"Other stories on celebrities, arts, media (specify the subject in 'Comments' section of coding sheet)",0,7]
[null,null,51,"News about the girl child, including, cultural attitudes and practices impinging on girls, education, health, economic exploitation, violence (ONLY WHERE EMPHASIS IS ON THE GIRL CHILD)…",0,0]
[null,null,52,"Other subject: use only if none of the above subject codes is suitable (specify the subject in 'Comments' section of coding sheet)",0,0]
[null,null,0,0]
[null,null,0,0]
[null,null,0,0]

{"sheet":"9dF - Sex of news subjects","index":11,"n_rows":57,"n_cols":11,"rows_kept":57,"cut":false,"hidden":false,"merged":[[1,7,1,8],[1,9,1,10]]}
[{"$f":"'9d'!$A$1","v":"Sex of news subjects in different story topics by GMMP year"}]
[null,null,null,null,null,null,null,"Female %F",null,"Male %M"]
[null,null,null,null,"Story Topics",2000,2005,"%F","N","%M","N"]
[null,null,null,null,{"$f":"'9d'!D5","v":"Women in political power and decision-making (local, regional, national),"},0,0,{"$f":"'9d'!W5","v":0},{"$f":"'9d'!E151","v":0},{"$f":"'9d'!X5","v":0},{"$f":"'9d'!F151","v":0}]
[null,null,null,null,{"$f":"'9d'!D6","v":"Women electoral candidates (local, regional, national),"},0,0,{"$f":"'9d'!W6","v":0.33333333333333293},{"$f":"'9d'!E152","v":1},{"$f":"'9d'!X6","v":0.66666666666666718},{"$f":"'9d'!F152","v":2}]
[null,null,null,null,{"$f":"'9d'!D7","v":"Peace, negotiations, treaties…(local, regional, national),"},0,0,{"$f":"'9d'!W7","v":0.23076923076923089},{"$f":"'9d'!E153","v":3},{"$f":"'9d'!X7","v":0.76923076923076905},{"$f":"'9d'!F153","v":10}]
[null,null,null,null,{"$f":"'9d'!D8","v":"Other domestic politics/government (local, regional, national), elections, speeches, the political process …"},0,0,{"$f":"'9d'!W8","v":0.18480433628026666},{"$f":"'9d'!E154","v":4},{"$f":"'9d'!X8","v":0.81519566371973329},{"$f":"'9d'!F154","v":18}]
[null,null,null,null,{"$f":"'9d'!D9","v":"Global partnerships (international trade and finance systems, e.g. WTO, IMF, World Bank, debt) …"},0,0,{"$f":"'9d'!W9","v":0},{"$f":"'9d'!E155","v":0},{"$f":"'9d'!X9","v":0},{"$f":"'9d'!F155","v":0}]
[null,null,null,null,{"$f":"'9d'!D10","v":"Foreign/international politics, relations with other countries, negotiations, treaties, UN peacekeeping …"},0,0,{"$f":"'9d'!W10","v":0.16980054838189257},{"$f":"'9d'!E156","v":7},{"$f":"'9d'!X10","v":0.83019945161810738},{"$f":"'9d'!F156","v":36}]
[null,null,null,null,{"$f":"'9d'!D11","v":"National defence, military spending, military training, military parades, internal security …"},0,0,{"$f":"'9d'!W11","v":0},{"$f":"'9d'!E157","v":0},{"$f":"'9d'!X11","v":1},{"$f":"'9d'!F157","v":4}]
[null,null,null,null,{"$f":"'9d'!D12","v":"Other stories on politics and government (specify the subject in 'Comments' section of coding sheet)"},0,0,{"$f":"'9d'!W12","v":0.40718240966847702},{"$f":"'9d'!E158","v":17},{"$f":"'9d'!X12","v":0.59281759033152304},{"$f":"'9d'!F158","v":25}]
[null,null,null,null,{"$f":"'9d'!D13","v":"Economic policies, strategies, models (national, international) …"},0,0,{"$f":"'9d'!W13","v":0},{"$f":"'9d'!E159","v":0},{"$f":"'9d'!X13","v":1},{"$f":"'9d'!F159","v":15}]
[null,null,null,null,{"$f":"'9d'!D14","v":"Economic indicators, statistics, business, trade, stock markets …"},0,0,{"$f":"'9d'!W14","v":0},{"$f":"'9d'!E160","v":0},{"$f":"'9d'!X14","v":1},{"$f":"'9d'!F160","v":1}]
[null,null,null,null,{"$f":"'9d'!D15","v":"Economic crisis, state bailouts of companies, company takeovers and mergers …"},0,0,{"$f":"'9d'!W15","v":0},{"$f":"'9d'!E161","v":0},{"$f":"'9d'!X15","v":1},{"$f":"'9d'!F161","v":1}]
[null,null,null,null,{"$f":"'9d'!D16","v":"Poverty, housing, social welfare, aid to those in need …"},0,0,{"$f":"'9d'!W16","v":0.4000000000000008},{"$f":"'9d'!E162","v":2},{"$f":"'9d'!X16","v":0.5999999999999992},{"$f":"'9d'!F162","v":3}]
[null,null,null,null,{"$f":"'9d'!D17","v":"Women's participation in economic processes (informal work, paid employment, unemployment, unpaid labour)"},0,0,{"$f":"'9d'!W17","v":0},{"$f":"'9d'!E163","v":0},{"$f":"'9d'!X17","v":0},{"$f":"'9d'!F163","v":0}]
[null,null,null,null,{"$f":"'9d'!D18","v":"Other labour issues, strikes, trade unions, negotiations, other employment and unemployment …"},0,0,{"$f":"'9d'!W18","v":0.55567184817263982},{"$f":"'9d'!E164","v":4},{"$f":"'9d'!X18","v":0.44432815182736007},{"$f":"'9d'!F164","v":3}]
[null,null,null,null,{"$f":"'9d'!D19","v":"Rural economy, agriculture, farming practices, agricultural policy, land rights …"},0,0,{"$f":"'9d'!W19","v":0},{"$f":"'9d'!E165","v":0},{"$f":"'9d'!X19","v":0},{"$f":"'9d'!F165","v":0}]
[null,null,null,null,{"$f":"'9d'!D20","v":"Consumer issues, consumer protection, regulation, prices, consumer fraud …"},0,0,{"$f":"'9d'!W20","v":0},{"$f":"'9d'!E166","v":0},{"$f":"'9d'!X20","v":1},{"$f":"'9d'!F166","v":2}]
[null,null,null,null,{"$f":"'9d'!D21","v":"Transport, traffic, roads ……"},0,0,{"$f":"'9d'!W21","v":0},{"$f":"'9d'!E167","v":0},{"$f":"'9d'!X21","v":0},{"$f":"'9d'!F167","v":0}]
[null,null,null,null,{"$f":"'9d'!D22","v":"Other stories on the economy (specify the subject in 'Comments' section of coding sheet)"},0,0,{"$f":"'9d'!W22","v":0.29364106376371246},{"$f":"'9d'!E168","v":2},{"$f":"'9d'!X22","v":0.70635893623628754},{"$f":"'9d'!F168","v":5}]
[null,null,null,null,{"$f":"'9d'!D23","v":"Science, technology, research, funding, discoveries, developments …"},0,0,{"$f":"'9d'!W23","v":0},{"$f":"'9d'!E169","v":0},{"$f":"'9d'!X23","v":1},{"$f":"'9d'!F169","v":1}]
[null,null,null,null,{"$f":"'9d'!D24","v":"Medicine, health, hygiene, safety, disability, medical research, funding (apart from HIV-AIDS)…"},0,0,{"$f":"'9d'!W24","v":0.5},{"$f":"'9d'!E170","v":1},{"$f":"'9d'!X24","v":0.5},{"$f":"'9d'!F170","v":1}]
[null,null,null,null,{"$f":"'9d'!D25","v":"HIV and AIDS, incidence, policy, treatment, people affected …"},0,0,{"$f":"'9d'!W25","v":0},{"$f":"'9d'!E171","v":0},{"$f":"'9d'!X25","v":0},{"$f":"'9d'!F171","v":0}]
[null,null,null,null,{"$f":"'9d'!D26","v":"Other epidemics, viruses, contagions, Influenza, BSE, SARS …"},0,0,{"$f":"'9d'!W26","v":0.40157480776897619},{"$f":"'9d'!E172","v":4},{"$f":"'9d'!X26","v":0.59842519223102375},{"$f":"'9d'!F172","v":6}]
[null,null,null,null,{"$f":"'9d'!D27","v":"Birth control, fertility, sterilisation, amniocentesis, termination of pregnancy …"},0,0,{"$f":"'9d'!W27","v":0},{"$f":"'9d'!E173","v":0},{"$f":"'9d'!X27","v":0},{"$f":"'9d'!F173","v":0}]
[null,null,null,null,{"$f":"'9d'!D28","v":"Environment, nature,   pollution, global warming, ecology, tourism …"},0,0,{"$f":"'9d'!W28","v":1},{"$f":"'9d'!E174","v":2},{"$f":"'9d'!X28","v":0},{"$f":"'9d'!F174","v":0}]
[null,null,null,null,{"$f":"'9d'!D29","v":"Other stories on science or health (specify the subject in 'Comments' section of coding sheet)"},0,0,{"$f":"'9d'!W29","v":0},{"$f":"'9d'!E175","v":0},{"$f":"'9d'!X29","v":1},{"$f":"'9d'!F175","v":4}]
[null,null,null,null,{"$f":"'9d'!D30","v":"Development issues, sustainability, community development …"},0,0,{"$f":"'9d'!W30","v":0},{"$f":"'9d'!E176","v":0},{"$f":"'9d'!X30","v":0},{"$f":"'9d'!F176","v":0}]
[null,null,null,null,{"$f":"'9d'!D31","v":"Education, child care, nurseries, pre-school to university, adult education, literacy …"},0,0,{"$f":"'9d'!W31","v":0.52807045853570089},{"$f":"'9d'!E177","v":7},{"$f":"'9d'!X31","v":0.471929541464299},{"$f":"'9d'!F177","v":8}]
[null,null,null,null,{"$f":"'9d'!D32","v":"Family relations, inter-generational conflict, single parents …"},0,0,{"$f":"'9d'!W32","v":0},{"$f":"'9d'!E178","v":0},{"$f":"'9d'!X32","v":0},{"$f":"'9d'!F178","v":0}]
[null,null,null,null,{"$f":"'9d'!D33","v":"Human rights, women's rights, children's rights, gay & lesbian rights, rights of minorities .."},0,0,{"$f":"'9d'!W33","v":1},{"$f":"'9d'!E179","v":2},{"$f":"'9d'!X33","v":0},{"$f":"'9d'!F179","v":0}]
[null,null,null,null,{"$f":"'9d'!D34","v":"Religion, culture, tradition, controversies, teachings, celebrations, practices …"},0,0,{"$f":"'9d'!W34","v":0},{"$f":"'9d'!E180","v":0},{"$f":"'9d'!X34","v":0},{"$f":"'9d'!F180","v":0}]
[null,null,null,null,{"$f":"'9d'!D35","v":"Migration, refugees, asylum seekers, ethnic conflict, integration, racism, xenophobia …"},0,0,{"$f":"'9d'!W35","v":0},{"$f":"'9d'!E181","v":0},{"$f":"'9d'!X35","v":0},{"$f":"'9d'!F181","v":0}]
[null,null,null,null,{"$f":"'9d'!D36","v":"Women's movement, activism, events, demonstrations, gender equality advocacy …"},0,0,{"$f":"'9d'!W36","v":0},{"$f":"'9d'!E182","v":0},{"$f":"'9d'!X36","v":0},{"$f":"'9d'!F182","v":0}]
[null,null,null,null,{"$f":"'9d'!D37","v":"Changing gender relations, roles and relationships of women and men inside and outside the home …"},0,0,{"$f":"'9d'!W37","v":0},{"$f":"'9d'!E183","v":0},{"$f":"'9d'!X37","v":0},{"$f":"'9d'!F183","v":0}]
[null,null,null,null,{"$f":"'9d'!D38","v":"Family law, family codes, property law, inheritance law and rights …"},0,0,{"$f":"'9d'!W38","v":0},{"$f":"'9d'!E184","v":0},{"$f":"'9d'!X38","v":0},{"$f":"'9d'!F184","v":0}]
[null,null,null,null,{"$f":"'9d'!D39","v":"Legal system, judicial system, legislation (apart from family, property & inheritance law) …"},0,0,{"$f":"'9d'!W39","v":0.35776463080940024},{"$f":"'9d'!E185","v":2},{"$f":"'9d'!X39","v":0.64223536919059976},{"$f":"'9d'!F185","v":4}]
[null,null,null,null,{"$f":"'9d'!D40","v":"Other stories on social or legal issues (specify the subject in 'Comments' section of coding sheet)"},0,0,{"$f":"'9d'!W40","v":0.28651685628411155},{"$f":"'9d'!E186","v":6},{"$f":"'9d'!X40","v":0.71348314371588839},{"$f":"'9d'!F186","v":15}]
[null,null,null,null,{"$f":"'9d'!D41","v":"Non-violent crime, bribery, theft, drug-dealing, corruption, (including political corruption/malpractice) …"},0,0,{"$f":"'9d'!W41","v":0.32367719297331365},{"$f":"'9d'!E187","v":4},{"$f":"'9d'!X41","v":0.67632280702668635},{"$f":"'9d'!F187","v":7}]
[null,null,null,null,{"$f":"'9d'!D42","v":"Violent crime, murder, abduction, kidnapping, assault, drug-related violence …"},0,0,{"$f":"'9d'!W42","v":0.42857142857142855},{"$f":"'9d'!E188","v":3},{"$f":"'9d'!X42","v":0.5714285714285714},{"$f":"'9d'!F188","v":4}]
[null,null,null,null,{"$f":"'9d'!D43","v":"Gender-based violence, feminicide, harassment, domestic violence, rape, trafficking, genital mutilation …"},0,0,{"$f":"'9d'!W43","v":0.40852510014770221},{"$f":"'9d'!E189","v":4},{"$f":"'9d'!X43","v":0.59147489985229784},{"$f":"'9d'!F189","v":6}]
[null,null,null,null,{"$f":"'9d'!D44","v":"Child abuse, sexual violence against children, trafficking, neglect."},0,0,{"$f":"'9d'!W44","v":0.33333333333333337},{"$f":"'9d'!E190","v":2},{"$f":"'9d'!X44","v":0.66666666666666674},{"$f":"'9d'!F190","v":4}]
[null,null,null,null,{"$f":"'9d'!D45","v":"War, civil war, terrorism, state-based violence …"},0,0,{"$f":"'9d'!W45","v":0.47069628513330286},{"$f":"'9d'!E191","v":4},{"$f":"'9d'!X45","v":0.52930371486669714},{"$f":"'9d'!F191","v":5}]
[null,null,null,null,{"$f":"'9d'!D46","v":"Riots, demonstrations, public disorder …"},0,0,{"$f":"'9d'!W46","v":0},{"$f":"'9d'!E192","v":0},{"$f":"'9d'!X46","v":0},{"$f":"'9d'!F192","v":0}]
[null,null,null,null,{"$f":"'9d'!D47","v":"Disaster, accident, famine, earthquake, flood, hurricane, plane crash, car crash …"},0,0,{"$f":"'9d'!W47","v":0.83606558177971557},{"$f":"'9d'!E193","v":5},{"$f":"'9d'!X47","v":0.16393441822028443},{"$f":"'9d'!F193","v":1}]
[null,null,null,null,{"$f":"'9d'!D48","v":"Other stories on crime and violence (specify the subject in 'Comments' section of coding sheet)"},0,0,{"$f":"'9d'!W48","v":0},{"$f":"'9d'!E194","v":0},{"$f":"'9d'!X48","v":1},{"$f":"'9d'!F194","v":3}]
[null,null,null,null,{"$f":"'9d'!D49","v":"Celebrity news, births, marriages, deaths, obituaries, famous people, royalty …"},0,0,{"$f":"'9d'!W49","v":0},{"$f":"'9d'!E195","v":0},{"$f":"'9d'!X49","v":0},{"$f":"'9d'!F195","v":0}]
[null,null,null,null,{"$f":"'9d'!D50","v":"Arts, entertainment, leisure, cinema, theatre, books, dance …"},0,0,{"$f":"'9d'!W50","v":0.22776858595607263},{"$f":"'9d'!E196","v":7},{"$f":"'9d'!X50","v":0.77223141404392737},{"$f":"'9d'!F196","v":22}]
[null,null,null,null,{"$f":"'9d'!D51","v":"Media, including new media (computers, internet), portrayal of women and/or men, pornography …"},0,0,{"$f":"'9d'!W51","v":0},{"$f":"'9d'!E197","v":0},{"$f":"'9d'!X51","v":0},{"$f":"'9d'!F197","v":0}]
[null,null,null,null,{"$f":"'9d'!D52","v":"Beauty contests, models, fashion, beauty aids, cosmetic surgery …"},0,0,{"$f":"'9d'!W52","v":1},{"$f":"'9d'!E198","v":1},{"$f":"'9d'!X52","v":0},{"$f":"'9d'!F198","v":0}]
[null,null,null,null,{"$f":"'9d'!D53","v":"Sports, events, players, facilities, training, policies, funding …"},0,0,{"$f":"'9d'!W53","v":0},{"$f":"'9d'!E199","v":0},{"$f":"'9d'!X53","v":1},{"$f":"'9d'!F199","v":14}]
[null,null,null,null,{"$f":"'9d'!D54","v":"Other stories on celebrities, arts, media (specify the subject in 'Comments' section of coding sheet)"},0,0,{"$f":"'9d'!W54","v":0},{"$f":"'9d'!E200","v":0},{"$f":"'9d'!X54","v":1},{"$f":"'9d'!F200","v":7}]
[null,null,null,null,{"$f":"'9d'!D55","v":"News about the girl child, including, cultural attitudes and practices impinging on girls, education, health, economic exploitation, violence (ONLY WHERE EMPHASIS IS ON THE GIRL CHILD)…"},0,0,{"$f":"'9d'!W55","v":0},{"$f":"'9d'!E201","v":0},{"$f":"'9d'!X55","v":0},{"$f":"'9d'!F201","v":0}]
[]
[]
[null,null,null,null,"Total",0,0,{"$f":"'9d'!$W$68","v":0.27844890434702479},{"$f":"SUM(I4:I54)","v":94},{"$f":"'9d'!$X$68","v":0.72155109565297526},{"$f":"SUM(K4:K54)","v":237}]

{"sheet":"9e","index":12,"n_rows":154,"n_cols":38,"rows_kept":154,"cut":false,"hidden":true,"merged":[]}
["Position or Occupation of News Subjects, by sex"]
[]
[null,null,null,null,"Female","Male",null,null,null,null,null,null,null,null,null,null,null,null,null,null,null,null,{"$f":"E3","v":"Female"},"Male",0,0,0,0,0,0,0,0,0,0,0,0,0]
[null,null,null,null,null,null,null,null,null,null,null,null,null,null,null,null,null,null,null,null,null,"TOTAL",0,0,0,0,0,0,0,0,0,0,0,0,0,0,0,{"$f":"T4","v":0}]
[null,null,0,"Not stated. Story does not describe the person’s occupation or position.",5.7929500006139299E-2,4.25294991582632E-2,null,null,null,null,null,null,null,null,null,null,null,null,null,null,null,{"$f":"SUM(E5:O5)","v":0.1004589991644025},{"$f":"IF((E5+F5)>0,E5/(E5+F5),0)","v":0.57664818968917753},{"$f":"IF((E5+F5)>0,F5/(E5+F5),0)","v":0.42335181031082247},{"$f":"IF((G5+H5)>0,G5/(G5+H5),0)","v":0},{"$f":"IF((G5+H5)>0,H5/(G5+H5),0)","v":0},{"$f":"IF((I5+J5)>0,I5/(I5+J5),0)","v":0},{"$f":"IF((I5+J5)>0,J5/(I5+J5),0)","v":0},{"$f":"IF((K5+L5)>0,K5/(K5+L5),0)","v":0},{"$f":"IF((K5+L5)>0,L5/(K5+L5),0)","v":0},{"$f":"IF((M5+N5)>0,M5/(M5+N5),0)","v":0},{"$f":"IF((M5+N5)>0,N5/(M5+N5),0)","v":0},{"$f":"IF((O5+P5)>0,O5/(O5+P5),0)","v":0},{"$f":"IF((O5+P5)>0,P5/(O5+P5),0)","v":0},{"$f":"IF((Q5+R5)>0,Q5/(Q5+R5),0)","v":0},{"$f":"IF((Q5+R5)>0,R5/(Q5+R5),0)","v":0},{"$f":"IF((S5+T5)>0,S5/(S5+T5),0)","v":0},{"$f":"IF((S5+T5)>0,T5/(S5+T5),0)","v":0}]
[null,null,1,"Royalty, ruling monarch, deposed monarch, any member of royal family …",null,null,null,null,null,null,null,null,null,null,null,null,null,null,null,null,null,0,0,0,0,0,0,0,0,0,0,0,0,0,0,0,0,0]
[null,null,2,"Government official, politician, president, government minister, political leader, political party staff, spokesperson …",0.190376996994019,0.57885449146851897,null,null,null,null,null,null,null,null,null,null,null,null,null,null,null,0.76923148846253797,0.24748986468887962,0.75251013531112032,0,0,0,0,0,0,0,0,0,0,0,0,0,0]
[null,null,3,"Government employee, public servant, bureaucrat, diplomat, intelligence officer …",5.1000001840293399E-3,1.2576499953866E-2,null,null,null,null,null,null,null,null,null,null,null,null,null,null,null,1.7676500137895339E-2,0.28851866287126754,0.71148133712873252,0,0,0,0,0,0,0,0,0,0,0,0,0,0]
[null,null,4,"Police, military, para-military group, militia, prison officer, security officer, fire officer …",7.4764997698366599E-3,3.762949956581E-2,null,null,null,null,null,null,null,null,null,null,null,null,null,null,null,4.5105999335646657E-2,0.16575399902354196,0.83424600097645807,0,0,0,0,0,0,0,0,0,0,0,0,0,0]
[null,null,5,"Academic expert, education professional, teacher or university lecturer (all disciplines), nursery or kindergarten teacher, child care worker  …",2.7529499493539299E-2,4.7582499217242002E-2,null,null,null,null,null,null,null,null,null,null,null,null,null,null,null,7.5111998710781308E-2,0.36651267395428544,0.63348732604571445,0,0,0,0,0,0,0,0,0,0,0,0,0,0]
[null,null,6,"Health or social service professional, doctor, nurse, laboratory technician, social worker, psychologist …",2.0300000440329299E-2,3.04000005125999E-2,null,null,null,null,null,null,null,null,null,null,null,null,null,null,null,5.0700000952929203E-2,0.40039447847695675,0.59960552152304314,0,0,0,0,0,0,0,0,0,0,0,0,0,0]
[null,null,7,"Science or technology professional, engineer, technician, computer specialist …",null,7.9864997882395997E-2,null,null,null,null,null,null,null,null,null,null,null,null,null,null,null,7.9864997882395997E-2,0,1,0,0,0,0,0,0,0,0,0,0,0,0,0,0]
[null,null,8,"Media professional, journalist, video or film-maker, theatre director ...",5.1000001840293399E-3,1.2576499953866E-2,null,null,null,null,null,null,null,null,null,null,null,null,null,null,null,{"$f":"SUM(E13:O13)","v":1.7676500137895339E-2},{"$f":"IF((E13+F13)>0,E13/(E13+F13),0)","v":0.28851866287126754},0.71148133712873252]
[null,null,9,"Lawyer, judge, magistrate, legal advocate, legal expert, legal clerk …",2.55000009201467E-2,6.2929499894380597E-2,null,null,null,null,null,null,null,null,null,null,null,null,null,null,null,{"$f":"SUM(E14:O14)","v":8.8429500814527301E-2},{"$f":"IF((E14+F14)>0,E14/(E14+F14),0)","v":0.28836531570646989},0.71163468429353005]
[null,null,10,"Business person, executive, manager, entrepreneur, economist, financial expert, stock broker …",null,2.5400000624358699E-2,null,null,null,null,null,null,null,null,null,null,null,null,null,null,null,{"$f":"SUM(E15:O15)","v":2.5400000624358699E-2},{"$f":"IF((E15+F15)>0,E15/(E15+F15),0)","v":0},1]
[null,null,11,"Office or service worker, non-management worker in office, store, restaurant, catering …",5.1000001840293399E-3,4.9999998882412902E-3,null,null,null,null,null,null,null,null,null,null,null,null,null,null,null,1.010000007227063E-2,0.50495050965705435,0.49504949034294571]
[null,null,12,"Tradesperson, artisan, labourer, truck driver, construction, factory, domestic worker …",7.4764997698366599E-3,2.5052999611943998E-2,null,null,null,null,null,null,null,null,null,null,null,null,null,null,null,3.2529499381780659E-2,0.229837529378769,0.770162470621231]
[null,null,13,"Agriculture, mining, fishing, forestry worker …",null,null,null,null,null,null,null,null,null,null,null,null,null,null,null,null,null,0,0,0]
[null,null,14,"Religious figure, priest, monk, rabbi, mullah, nun …",null,7.4764997698366599E-3,null,null,null,null,null,null,null,null,null,null,null,null,null,null,null,7.4764997698366599E-3,0,1]
[null,null,15,"Activist or worker in civil society organisation, non-governmental organisation, trade union, human rights, consumer issues, environment, aid agency, peasant leader, United Nations …",2.00529997237027E-2,5.56000005453825E-2,null,null,null,null,null,null,null,null,null,null,null,null,null,null,null,7.5653000269085197E-2,0.26506549181628619,0.73493450818371386]
[null,null,16,"Sex worker, prostitute …",null,null,null,null,null,null,null,null,null,null,null,null,null,null,null,null,null,0,0,0]
[null,null,17,"Celebrity, artist, actor, writer, singer, radio or television personality …",4.2729499749839299E-2,0.14997099665924901,null,null,null,null,null,null,null,null,null,null,null,null,null,null,null,0.19270049640908832,0.22174047574391226,0.77825952425608769]
[null,null,18,"Sportsperson, athlete, player, coach, referee …",5.1000001840293399E-3,0.112394497264177,null,null,null,null,null,null,null,null,null,null,null,null,null,null,null,0.11749449744820634,4.3406289611796593E-2,0.9565937103882034]
[null,null,19,"Student, pupil, schoolchild",1.2576499953866E-2,null,null,null,null,null,null,null,null,null,null,null,null,null,null,null,null,1.2576499953866E-2,1,0]
[null,null,20,"Homemaker, parent, either female or male. Code this only if no other occupation is given, e.g. a doctor who is also described as a mother is coded 6.",2.7776500210165998E-2,5.1000001840293399E-3,null,null,null,null,null,null,null,null,null,null,null,null,null,null,null,3.2876500394195339E-2,0.84487399440696564,0.15512600559303427]
[null,null,21,"Child, young person (up to 18 years). Code this only if no other occupation/position is given, e.g. a schoolchild is coded 19; a child labourer is coded 12.",5.1000001840293399E-3,2.55000009201467E-2,null,null,null,null,null,null,null,null,null,null,null,null,null,null,null,3.0600001104176041E-2,0.16666666666666666,0.83333333333333326]
[null,null,22,"Villager or resident engaged in unspecified occupation. Code this only if no other occupation is given, e.g. a teacher who is also described as a villager is coded 5.",5.80295003019273E-2,2.7876500505953999E-2,null,null,null,null,null,null,null,null,null,null,null,null,null,null,null,8.59060008078813E-2,0.67549996224016384,0.32450003775983616]
[null,null,23,"Retired person, pensioner. Code this only if no other occupation is given, e.g. a retired police officer is coded 4; a retired politician is coded 2.",3.2876500394195297E-2,1.5300000552088E-2,null,null,null,null,null,null,null,null,null,null,null,null,null,null,null,4.8176500946283299E-2,0.68241777107998214,0.31758222892001786]
[null,null,24,"Criminal, suspect. Code this only if no other occupation is given, e.g, a lawyer suspected of committing a crime is coded 9; a former politician who has committed a crime is coded 2.",7.4764997698366599E-3,6.0453000012785203E-2,null,null,null,null,null,null,null,null,null,null,null,null,null,null,null,6.7929499782621861E-2,0.11006263543470614,0.88993736456529393]
[null,null,25,"Unemployed. Code this only if no other occupation is given, e.g. an unemployed actor is coded 17; an unemployed person who commits a crime is coded 24.",4.9999998882412902E-3,null,null,null,null,null,null,null,null,null,null,null,null,null,null,null,null,4.9999998882412902E-3,1,0]
[null,null,26,"Other. Use only as a last resort (specify the occupation/position in 'Comments' section of coding sheet)",null,5.3376501426100703E-2,null,null,null,null,null,null,null,null,null,null,null,null,null,null,null,5.3376501426100703E-2,0,1]
[null,null,27,"NA – Use this where you are coding a secondary source only",null,null,null,null,null,null,null,null,null,null,null,null,null,null,null,null,null,0,0,0]
[]
[]
[]
[]
[]
[]
[]
[]
[]
[]
[]
[]
[]
[]
[]
[]
[]
[null,null,null,"TOTAL",{"$f":"SUM(E5:E49)","v":0.56860699830576822},1.4734444855712359,0,0,0,0,0,0,0,0,0,0,0,0,0,0,null,{"$f":"SUM(E50:O50)","v":2.0420514838770041},{"$f":"IF((E50+F50)>0,E50/(E50+F50),0)","v":0.27844890434702491},{"$f":"IF((E50+F50)>0,F50/(E50+F50),0)","v":0.72155109565297504},{"$f":"IF((G50+H50)>0,G50/(G50+H50),0)","v":0},{"$f":"IF((G50+H50)>0,H50/(G50+H50),0)","v":0},{"$f":"IF((I50+J50)>0,I50/(I50+J50),0)","v":0},{"$f":"IF((I50+J50)>0,J50/(I50+J50),0)","v":0},{"$f":"IF((K50+L50)>0,K50/(K50+L50),0)","v":0},{"$f":"IF((K50+L50)>0,L50/(K50+L50),0)","v":0},{"$f":"IF((M50+N50)>0,M50/(M50+N50),0)","v":0},{"$f":"IF((M50+N50)>0,N50/(M50+N50),0)","v":0},{"$f":"IF((O50+P50)>0,O50/(O50+P50),0)","v":0},{"$f":"IF((O50+P50)>0,P50/(O50+P50),0)","v":0},{"$f":"IF((Q50+R50)>0,Q50/(Q50+R50),0)","v":0},{"$f":"IF((Q50+R50)>0,R50/(Q50+R50),0)","v":0},{"$f":"IF((S50+T50)>0,S50/(S50+T50),0)","v":0},{"$f":"IF((S50+T50)>0,T50/(S50+T50),0)","v":0}]
[]
[null,null,{"$f":"C5","v":0},"Not stated. Story does not describe the person’s occupation or position.",{"$f":"IF(E$50>0,E5/E$50,0)","v":0.10187968171117678},2.8863998321440015E-2,0,0,0,0,0,0,0,0,0,0,0,0,0,0]
[null,null,1,"Royalty, ruling monarch, deposed monarch, any member of royal family …",{"$f":"IF(E$50>0,E6/E$50,0)","v":0},0,0,0,0,0,0,0,0,0,0,0,0,0,0,0]
[null,null,2,"Government official, politician, president, government minister, political leader, political party staff, spokesperson …",{"$f":"IF(E$50>0,E7/E$50,0)","v":0.33481296846727138},0.39285802562429378,0,0,0,0,0,0,0,0,0,0,0,0,0,0]
[null,null,3,"Government employee, public servant, bureaucrat, diplomat, intelligence officer …",{"$f":"IF(E$50>0,E8/E$50,0)","v":8.9692884527017673E-3},8.5354420047866614E-3,0,0,0,0,0,0,0,0,0,0,0,0,0,0]
[null,null,4,"Police, military, para-military group, militia, prison officer, security officer, fire officer …",{"$f":"IF(E$50>0,E9/E$50,0)","v":1.3148800124011444E-2},2.553845763060528E-2,0,0,0,0,0,0,0,0,0,0,0,0,0,0]
[null,null,5,"Academic expert, education professional, teacher or university lecturer (all disciplines), nursery or kindergarten teacher, child care worker  …",{"$f":"IF(E$50>0,E10/E$50,0)","v":4.8415688824736063E-2},3.2293377648900605E-2,0,0,0,0,0,0,0,0,0,0,0,0,0,0]
[null,null,6,"Health or social service professional, doctor, nurse, laboratory technician, social worker, psychologist …",{"$f":"IF(E$50>0,E11/E$50,0)","v":3.5701284895922052E-2},2.0631927982555923E-2,0,0,0,0,0,0,0,0,0,0,0,0,0,0]
[null,null,7,"Science or technology professional, engineer, technician, computer specialist …",{"$f":"IF(E$50>0,E12/E$50,0)","v":0},5.4202922922768508E-2,0,0,0,0,0,0,0,0,0,0,0,0,0,0]
[null,null,8,"Media professional, journalist, video or film-maker, theatre director ...",{"$f":"IF(E$50>0,E13/E$50,0)","v":8.9692884527017673E-3},8.5354420047866614E-3,0,0,0,0,0,0,0,0,0,0,0,0,0,0]
[null,null,9,"Lawyer, judge, magistrate, legal advocate, legal expert, legal clerk …",{"$f":"IF(E$50>0,E14/E$50,0)","v":4.4846442263508833E-2},4.2709108154816995E-2,0,0,0,0,0,0,0,0,0,0,0,0,0,0]
[null,null,10,"Business person, executive, manager, entrepreneur, economist, financial expert, stock broker …",{"$f":"IF(E$50>0,E15/E$50,0)","v":0},1.7238518907966485E-2,0,0,0,0,0,0,0,0,0,0,0,0,0,0]
[null,null,11,"Office or service worker, non-management worker in office, store, restaurant, catering …",{"$f":"IF(E$50>0,E16/E$50,0)","v":8.9692884527017673E-3},3.3934090745895004E-3,0,0,0,0,0,0,0,0,0,0,0,0,0,0]
[null,null,12,"Tradesperson, artisan, labourer, truck driver, construction, factory, domestic worker …",{"$f":"IF(E$50>0,E17/E$50,0)","v":1.3148800124011444E-2},1.7003015625818619E-2,0,0,0,0,0,0,0,0,0,0,0,0,0,0]
[null,null,13,"Agriculture, mining, fishing, forestry worker …",{"$f":"IF(E$50>0,E18/E$50,0)","v":0},0,0,0,0,0,0,0,0,0,0,0,0,0,0,0]
[null,null,14,"Religious figure, priest, monk, rabbi, mullah, nun …",{"$f":"IF(E$50>0,E19/E$50,0)","v":0},5.0741645464424234E-3,0,0,0,0,0,0,0,0,0,0,0,0,0,0]
[null,null,15,"Activist or worker in civil society organisation, non-governmental organisation, trade union, human rights, consumer issues, environment, aid agency, peasant leader, United Nations …",{"$f":"IF(E$50>0,E20/E$50,0)","v":3.5266888700724724E-2},3.7734710123012938E-2,0,0,0,0,0,0,0,0,0,0,0,0,0,0]
[null,null,16,"Sex worker, prostitute …",{"$f":"IF(E$50>0,E21/E$50,0)","v":0},0,0,0,0,0,0,0,0,0,0,0,0,0,0,0]
[null,null,17,"Celebrity, artist, actor, writer, singer, radio or television personality …",{"$f":"IF(E$50>0,E22/E$50,0)","v":7.5147685267956413E-2},0.10178259047276365,0,0,0,0,0,0,0,0,0,0,0,0,0,0]
[null,null,18,"Sportsperson, athlete, player, coach, referee …",{"$f":"IF(E$50>0,E23/E$50,0)","v":8.9692884527017673E-3},7.6280103095029778E-2,0,0,0,0,0,0,0,0,0,0,0,0,0,0]
[null,null,19,"Student, pupil, schoolchild",{"$f":"IF(E$50>0,E24/E$50,0)","v":2.2118088576713209E-2},0,0,0,0,0,0,0,0,0,0,0,0,0,0,0]
[null,null,{"$f":"C25","v":20},"Homemaker, parent, either female or male. Code this only if no other occupation is given, e.g. a doctor who is also described as a mother is coded 6.",{"$f":"IF(E$50>0,E25/E$50,0)","v":4.8850085019933563E-2},3.4612774583442376E-3,0,0,0,0,0,0,0,0,0,0,0,0,0,0]
[null,null,21,"Child, young person (up to 18 years). Code this only if no other occupation/position is given, e.g. a schoolchild is coded 19; a child labourer is coded 12.",{"$f":"IF(E$50>0,E26/E$50,0)","v":8.9692884527017673E-3},1.7306387291721188E-2,0,0,0,0,0,0,0,0,0,0,0,0,0,0]
[null,null,22,"Villager or resident engaged in unspecified occupation. Code this only if no other occupation is given, e.g. a teacher who is also described as a villager is coded 5.",{"$f":"IF(E$50>0,E27/E$50,0)","v":0.10205555062606168},1.891927437981936E-2,0,0,0,0,0,0,0,0,0,0,0,0,0,0]
[null,null,23,"Retired person, pensioner. Code this only if no other occupation is given, e.g. a retired police officer is coded 4; a retired politician is coded 2.",{"$f":"IF(E$50>0,E28/E$50,0)","v":5.7819373472635258E-2},1.0383832375032698E-2,0,0,0,0,0,0,0,0,0,0,0,0,0,0]
[null,null,24,"Criminal, suspect. Code this only if no other occupation is given, e.g, a lawyer suspected of committing a crime is coded 9; a former politician who has committed a crime is coded 2.",{"$f":"IF(E$50>0,E29/E$50,0)","v":1.3148800124011444E-2},4.102835268296405E-2,0,0,0,0,0,0,0,0,0,0,0,0,0,0]
[null,null,25,"Unemployed. Code this only if no other occupation is given, e.g. an unemployed actor is coded 17; an unemployed person who commits a crime is coded 24.",{"$f":"IF(E$50>0,E30/E$50,0)","v":8.7934195378167723E-3},0,0,0,0,0,0,0,0,0,0,0,0,0,0,0]
[null,null,26,"Other. Use only as a last resort (specify the occupation/position in 'Comments' section of coding sheet)",{"$f":"IF(E$50>0,E31/E$50,0)","v":0},3.6225661671540552E-2,0,0,0,0,0,0,0,0,0,0,0,0,0,0]
[null,null,27,"NA – Use this where you are coding a secondary source only",{"$f":"IF(E$50>0,E32/E$50,0)","v":0},0,0,0,0,0,0,0,0,0,0,0,0,0,0,0]
[null,null,0,0,{"$f":"IF(E$50>0,E33/E$50,0)","v":0},0,0,0,0,0,0,0,0,0,0,0,0,0,0,0]
[null,null,0,0,{"$f":"IF(E$50>0,E34/E$50,0)","v":0},0,0,0,0,0,0,0,0,0,0,0,0,0,0,0]
[null,null,0,0,{"$f":"IF(E$50>0,E35/E$50,0)","v":0},0,0,0,0,0,0,0,0,0,0,0,0,0,0,0]
[null,null,0,0,{"$f":"IF(E$50>0,E36/E$50,0)","v":0},0,0,0,0,0,0,0,0,0,0,0,0,0,0,0]
[null,null,0,0,{"$f":"IF(E$50>0,E37/E$50,0)","v":0},0,0,0,0,0,0,0,0,0,0,0,0,0,0,0]
[null,null,0,0,{"$f":"IF(E$50>0,E38/E$50,0)","v":0},0,0,0,0,0,0,0,0,0,0,0,0,0,0,0]
[null,null,0,0,{"$f":"IF(E$50>0,E39/E$50,0)","v":0},0,0,0,0,0,0,0,0,0,0,0,0,0,0,0]
[null,null,0,0,{"$f":"IF(E$50>0,E40/E$50,0)","v":0},0,0,0,0,0,0,0,0,0,0,0,0,0,0,0]
[null,null,0,0,{"$f":"IF(E$50>0,E41/E$50,0)","v":0},0,0,0,0,0,0,0,0,0,0,0,0,0,0,0]
[null,null,0,0,{"$f":"IF(E$50>0,E42/E$50,0)","v":0},0,0,0,0,0,0,0,0,0,0,0,0,0,0,0]
[null,null,0,0,{"$f":"IF(E$50>0,E43/E$50,0)","v":0},0,0,0,0,0,0,0,0,0,0,0,0,0,0,0]
[null,null,0,0,{"$f":"IF(E$50>0,E44/E$50,0)","v":0},0,0,0,0,0,0,0,0,0,0,0,0,0,0,0]
[null,null,{"$f":"C45","v":0},0,{"$f":"IF(E$50>0,E45/E$50,0)","v":0},0,0,0,0,0,0,0,0,0,0,0,0,0,0,0]
[null,null,0,0,{"$f":"IF(E$50>0,E46/E$50,0)","v":0},0,0,0,0,0,0,0,0,0,0,0,0,0,0,0]
[null,null,0,0,{"$f":"IF(E$50>0,E47/E$50,0)","v":0},0,0,0,0,0,0,0,0,0,0,0,0,0,0,0]
[null,null,0,0,{"$f":"IF(E$50>0,E48/E$50,0)","v":0},0,0,0,0,0,0,0,0,0,0,0,0,0,0,0]
[null,null,0,0,{"$f":"IF(E$50>0,E49/E$50,0)","v":0},0,0,0,0,0,0,0,0,0,0,0,0,0,0,0]
[]
[]
[]
[]
[]
[]
[]
[]
[]
[]
[]
[]
["COUNT"]
[null,null,null,null,{"$f":"E3","v":"Female"},"Male",0,0,0,0,0,0,0,0,0,0,0,0,0,0]
[null,null,null,null,{"$f":"E4","v":0},0,0,0,0,0,0,0,0,0,0,0,0,0,0,0]
[null,null,{"$f":"C5","v":0},"Not stated. Story does not describe the person’s occupation or position.",10,7]
[null,null,1,"Royalty, ruling monarch, deposed monarch, any member of royal family …",0,0]
[null,null,2,"Government official, politician, president, government minister, political leader, political party staff, spokesperson …",29,89]
[null,null,3,"Government employee, public servant, bureaucrat, diplomat, intelligence officer …",1,2]
[null,null,4,"Police, military, para-military group, militia, prison officer, security officer, fire officer …",1,6]
[null,null,5,"Academic expert, education professional, teacher or university lecturer (all disciplines), nursery or kindergarten teacher, child care worker  …",4,7]
[null,null,6,"Health or social service professional, doctor, nurse, laboratory technician, social worker, psychologist …",4,6]
[null,null,7,"Science or technology professional, engineer, technician, computer specialist …",0,11]
[null,null,8,"Media professional, journalist, video or film-maker, theatre director ...",1,2]
[null,null,9,"Lawyer, judge, magistrate, legal advocate, legal expert, legal clerk …",5,11]
[null,null,10,"Business person, executive, manager, entrepreneur, economist, financial expert, stock broker …",0,5]
[null,null,11,"Office or service worker, non-management worker in office, store, restaurant, catering …",1,1]
[null,null,12,"Tradesperson, artisan, labourer, truck driver, construction, factory, domestic worker …",1,4]
[null,null,13,"Agriculture, mining, fishing, forestry worker …",0,0]
[null,null,14,"Religious figure, priest, monk, rabbi, mullah, nun …",0,1]
[null,null,15,"Activist or worker in civil society organisation, non-governmental organisation, trade union, human rights, consumer issues, environment, aid agency, peasant leader, United Nations …",3,11]
[null,null,16,"Sex worker, prostitute …",0,0]
[null,null,17,"Celebrity, artist, actor, writer, singer, radio or television personality …",7,23]
[null,null,18,"Sportsperson, athlete, player, coach, referee …",1,16]
[null,null,19,"Student, pupil, schoolchild",2,0]
[null,null,{"$f":"C25","v":20},"Homemaker, parent, either female or male. Code this only if no other occupation is given, e.g. a doctor who is also described as a mother is coded 6.",5,1]
[null,null,21,"Child, young person (up to 18 years). Code this only if no other occupation/position is given, e.g. a schoolchild is coded 19; a child labourer is coded 12.",1,5]
[null,null,22,"Villager or resident engaged in unspecified occupation. Code this only if no other occupation is given, e.g. a teacher who is also described as a villager is coded 5.",10,5]
[null,null,23,"Retired person, pensioner. Code this only if no other occupation is given, e.g. a retired police officer is coded 4; a retired politician is coded 2.",6,3]
[null,null,24,"Criminal, suspect. Code this only if no other occupation is given, e.g, a lawyer suspected of committing a crime is coded 9; a former politician who has committed a crime is coded 2.",1,11]
[null,null,25,"Unemployed. Code this only if no other occupation is given, e.g. an unemployed actor is coded 17; an unemployed person who commits a crime is coded 24.",1,0]
[null,null,26,"Other. Use only as a last resort (specify the occupation/position in 'Comments' section of coding sheet)",0,10]
[null,null,27,"NA – Use this where you are coding a secondary source only",0,0]
[null,null,0,0]
[null,null,0,0]
[null,null,0,0]
[null,null,0,0]
[null,null,0,0]
[null,null,0,0]
[null,null,0,0]
[null,null,0,0]
[null,null,0,0]
[null,null,0,0]
[null,null,0,0]
[null,null,0,0]
[null,null,{"$f":"C45","v":0},0]
[null,null,0,0]
[null,null,0,0]

{"sheet":"9eF - Occ of News Subjects","index":13,"n_rows":33,"n_cols":12,"rows_kept":33,"cut":false,"hidden":false,"merged":[[1,5,1,9],[1,10,1,11]]}
[{"$f":"'9e'!$A$1","v":"Position or Occupation of News Subjects, by sex"}]
[null,null,null,null,null,{"$f":"'9e'!W3 &  \"  %F\"","v":"Female  %F"},null,null,null,null,"Male %M"]
[null,null,null,null,"Position or Occupation",1995,2000,2005,2010,"N",2010,"N"]
[]
[null,null,null,null,{"$f":"'9e'!D6","v":"Royalty, ruling monarch, deposed monarch, any member of royal family …"},"n/a","n/a",0.33,{"$f":"'9e'!W6","v":0},{"$f":"'9e'!E113","v":0},{"$f":"'9e'!X6","v":0},{"$f":"'9e'!F113","v":0}]
[null,null,null,null,{"$f":"'9e'!D7","v":"Government official, politician, president, government minister, political leader, political party staff, spokesperson …"},0,0.1,0.12,{"$f":"'9e'!W7","v":0.24748986468887962},{"$f":"'9e'!E114","v":29},{"$f":"'9e'!X7","v":0.75251013531112032},{"$f":"'9e'!F114","v":89}]
[null,null,null,null,{"$f":"'9e'!D8","v":"Government employee, public servant, bureaucrat, diplomat, intelligence officer …"},0,0.12,0.17,{"$f":"'9e'!W8","v":0.28851866287126754},{"$f":"'9e'!E115","v":1},{"$f":"'9e'!X8","v":0.71148133712873252},{"$f":"'9e'!F115","v":2}]
[null,null,null,null,{"$f":"'9e'!D9","v":"Police, military, para-military group, militia, prison officer, security officer, fire officer …"},0,0.04,0.05,{"$f":"'9e'!W9","v":0.16575399902354196},{"$f":"'9e'!E116","v":1},{"$f":"'9e'!X9","v":0.83424600097645807},{"$f":"'9e'!F116","v":6}]
[null,null,null,null,{"$f":"'9e'!D10","v":"Academic expert, education professional, teacher or university lecturer (all disciplines), nursery or kindergarten teacher, child care worker  …"},0,0.27,0.25,{"$f":"'9e'!W10","v":0.36651267395428544},{"$f":"'9e'!E117","v":4},{"$f":"'9e'!X10","v":0.63348732604571445},{"$f":"'9e'!F117","v":7}]
[null,null,null,null,{"$f":"'9e'!D11","v":"Health or social service professional, doctor, nurse, laboratory technician, social worker, psychologist …"},0,0.2,0.3,{"$f":"'9e'!W11","v":0.40039447847695675},{"$f":"'9e'!E118","v":4},{"$f":"'9e'!X11","v":0.59960552152304314},{"$f":"'9e'!F118","v":6}]
[null,null,null,null,{"$f":"'9e'!D12","v":"Science or technology professional, engineer, technician, computer specialist …"},0,0.12,0.1,{"$f":"'9e'!W12","v":0},{"$f":"'9e'!E119","v":0},{"$f":"'9e'!X12","v":1},{"$f":"'9e'!F119","v":11}]
[null,null,null,null,{"$f":"'9e'!D13","v":"Media professional, journalist, video or film-maker, theatre director ..."},0,"n/a",0.36,{"$f":"'9e'!W13","v":0.28851866287126754},{"$f":"'9e'!E120","v":1},{"$f":"'9e'!X13","v":0.71148133712873252},{"$f":"'9e'!F120","v":2}]
[null,null,null,null,{"$f":"'9e'!D14","v":"Lawyer, judge, magistrate, legal advocate, legal expert, legal clerk …"},0,"n/a",0.18,{"$f":"'9e'!W14","v":0.28836531570646989},{"$f":"'9e'!E121","v":5},{"$f":"'9e'!X14","v":0.71163468429353005},{"$f":"'9e'!F121","v":11}]
[null,null,null,null,{"$f":"'9e'!D15","v":"Business person, executive, manager, entrepreneur, economist, financial expert, stock broker …"},0,"n/a",0.12,{"$f":"'9e'!W15","v":0},{"$f":"'9e'!E122","v":0},{"$f":"'9e'!X15","v":1},{"$f":"'9e'!F122","v":5}]
[null,null,null,null,{"$f":"'9e'!D16","v":"Office or service worker, non-management worker in office, store, restaurant, catering …"},0,0.35,0.4,{"$f":"'9e'!W16","v":0.50495050965705435},{"$f":"'9e'!E123","v":1},{"$f":"'9e'!X16","v":0.49504949034294571},{"$f":"'9e'!F123","v":1}]
[null,null,null,null,{"$f":"'9e'!D17","v":"Tradesperson, artisan, labourer, truck driver, construction, factory, domestic worker …"},0,0.15,0.23,{"$f":"'9e'!W17","v":0.229837529378769},{"$f":"'9e'!E124","v":1},{"$f":"'9e'!X17","v":0.770162470621231},{"$f":"'9e'!F124","v":4}]
[null,null,null,null,{"$f":"'9e'!D18","v":"Agriculture, mining, fishing, forestry worker …"},0,0.15,0.13,{"$f":"'9e'!W18","v":0},{"$f":"'9e'!E125","v":0},{"$f":"'9e'!X18","v":0},{"$f":"'9e'!F125","v":0}]
[null,null,null,null,{"$f":"'9e'!D19","v":"Religious figure, priest, monk, rabbi, mullah, nun …"},0,0.09,0.21,{"$f":"'9e'!W19","v":0},{"$f":"'9e'!E126","v":0},{"$f":"'9e'!X19","v":1},{"$f":"'9e'!F126","v":1}]
[null,null,null,null,{"$f":"'9e'!D20","v":"Activist or worker in civil society organisation, non-governmental organisation, trade union, human rights, consumer issues, environment, aid agency, peasant leader, United Nations …"},0,0.24,0.23,{"$f":"'9e'!W20","v":0.26506549181628619},{"$f":"'9e'!E127","v":3},{"$f":"'9e'!X20","v":0.73493450818371386},{"$f":"'9e'!F127","v":11}]
[null,null,null,null,{"$f":"'9e'!D21","v":"Sex worker, prostitute …"},0,"n/a","n/a",{"$f":"'9e'!W21","v":0},{"$f":"'9e'!E128","v":0},{"$f":"'9e'!X21","v":0},{"$f":"'9e'!F128","v":0}]
[null,null,null,null,{"$f":"'9e'!D22","v":"Celebrity, artist, actor, writer, singer, radio or television personality …"},0,0.45,0.42,{"$f":"'9e'!W22","v":0.22174047574391226},{"$f":"'9e'!E129","v":7},{"$f":"'9e'!X22","v":0.77825952425608769},{"$f":"'9e'!F129","v":23}]
[null,null,null,null,{"$f":"'9e'!D23","v":"Sportsperson, athlete, player, coach, referee …"},0,0.09,0.16,{"$f":"'9e'!W23","v":4.3406289611796593E-2},{"$f":"'9e'!E130","v":1},{"$f":"'9e'!X23","v":0.9565937103882034},{"$f":"'9e'!F130","v":16}]
[null,null,null,null,{"$f":"'9e'!D24","v":"Student, pupil, schoolchild"},0,0.46,0.51,{"$f":"'9e'!W24","v":1},{"$f":"'9e'!E131","v":2},{"$f":"'9e'!X24","v":0},{"$f":"'9e'!F131","v":0}]
[null,null,null,null,{"$f":"'9e'!D25","v":"Homemaker, parent, either female or male. Code this only if no other occupation is given, e.g. a doctor who is also described as a mother is coded 6."},0,0.81,0.75,{"$f":"'9e'!W25","v":0.84487399440696564},{"$f":"'9e'!E132","v":5},{"$f":"'9e'!X25","v":0.15512600559303427},{"$f":"'9e'!F132","v":1}]
[null,null,null,null,{"$f":"'9e'!D26","v":"Child, young person (up to 18 years). Code this only if no other occupation/position is given, e.g. a schoolchild is coded 19; a child labourer is coded 12."},0,"n/a",0.44,{"$f":"'9e'!W26","v":0.16666666666666666},{"$f":"'9e'!E133","v":1},{"$f":"'9e'!X26","v":0.83333333333333326},{"$f":"'9e'!F133","v":5}]
[null,null,null,null,{"$f":"'9e'!D27","v":"Villager or resident engaged in unspecified occupation. Code this only if no other occupation is given, e.g. a teacher who is also described as a villager is coded 5."},0,"n/a",0.39,{"$f":"'9e'!W27","v":0.67549996224016384},{"$f":"'9e'!E134","v":10},{"$f":"'9e'!X27","v":0.32450003775983616},{"$f":"'9e'!F134","v":5}]
[null,null,null,null,{"$f":"'9e'!D28","v":"Retired person, pensioner. Code this only if no other occupation is given, e.g. a retired police officer is coded 4; a retired politician is coded 2."},0,0.35,0.33,{"$f":"'9e'!W28","v":0.68241777107998214},{"$f":"'9e'!E135","v":6},{"$f":"'9e'!X28","v":0.31758222892001786},{"$f":"'9e'!F135","v":3}]
[null,null,null,null,{"$f":"'9e'!D29","v":"Criminal, suspect. Code this only if no other occupation is given, e.g, a lawyer suspected of committing a crime is coded 9; a former politician who has committed a crime is coded 2."},0,7.0000000000000007E-2,0.09,{"$f":"'9e'!W29","v":0.11006263543470614},{"$f":"'9e'!E136","v":1},{"$f":"'9e'!X29","v":0.88993736456529393},{"$f":"'9e'!F136","v":11}]
[null,null,null,null,{"$f":"'9e'!D30","v":"Unemployed. Code this only if no other occupation is given, e.g. an unemployed actor is coded 17; an unemployed person who commits a crime is coded 24."},0,0.33,0.19,{"$f":"'9e'!W30","v":1},{"$f":"'9e'!E137","v":1},{"$f":"'9e'!X30","v":0},{"$f":"'9e'!F137","v":0}]
[null,null,null,null,{"$f":"'9e'!D31","v":"Other. Use only as a last resort (specify the occupation/position in 'Comments' section of coding sheet)"},0,0.44,0.42,{"$f":"'9e'!W31","v":0},{"$f":"'9e'!E138","v":0},{"$f":"'9e'!X31","v":1},{"$f":"'9e'!F138","v":10}]
[]
[]
[null,null,null,null,"Total",0,0,0,{"$f":"'9e'!$W$50","v":0.27844890434702491},{"$f":"SUM(J5:J30)","v":84},{"$f":"'9e'!$X$50","v":0.72155109565297504},{"$f":"SUM(L5:L30)","v":230}]

{"sheet":"9f","index":14,"n_rows":154,"n_cols":38,"rows_kept":154,"cut":false,"hidden":true,"merged":[]}
["News subject's Function in news story, by sex"]
[]
[null,null,null,null,"Female","Male",null,null,null,null,null,null,null,null,null,null,null,null,null,null,null,null,{"$f":"E3","v":"Female"},"Male",0,0,0,0,0,0,0,0,0,0,0,0,0]
[null,null,null,null,null,null,null,null,null,null,null,null,null,null,null,null,null,null,null,null,null,"TOTAL",0,0,0,0,0,0,0,0,0,0,0,0,0,0,0,{"$f":"T4","v":0}]
[null,null,0,"Do not know: the person's function is not clear.",5.1000001840293399E-3,null,null,null,null,null,null,null,null,null,null,null,null,null,null,null,null,{"$f":"SUM(E5:O5)","v":5.1000001840293399E-3},{"$f":"IF((E5+F5)>0,E5/(E5+F5),0)","v":1},{"$f":"IF((E5+F5)>0,F5/(E5+F5),0)","v":0},{"$f":"IF((G5+H5)>0,G5/(G5+H5),0)","v":0},{"$f":"IF((G5+H5)>0,H5/(G5+H5),0)","v":0},{"$f":"IF((I5+J5)>0,I5/(I5+J5),0)","v":0},{"$f":"IF((I5+J5)>0,J5/(I5+J5),0)","v":0},{"$f":"IF((K5+L5)>0,K5/(K5+L5),0)","v":0},{"$f":"IF((K5+L5)>0,L5/(K5+L5),0)","v":0},{"$f":"IF((M5+N5)>0,M5/(M5+N5),0)","v":0},{"$f":"IF((M5+N5)>0,N5/(M5+N5),0)","v":0},{"$f":"IF((O5+P5)>0,O5/(O5+P5),0)","v":0},{"$f":"IF((O5+P5)>0,P5/(O5+P5),0)","v":0},{"$f":"IF((Q5+R5)>0,Q5/(Q5+R5),0)","v":0},{"$f":"IF((Q5+R5)>0,R5/(Q5+R5),0)","v":0},{"$f":"IF((S5+T5)>0,S5/(S5+T5),0)","v":0},{"$f":"IF((S5+T5)>0,T5/(S5+T5),0)","v":0}]
[null,null,1,"Subject: the story is about this person, or about something the person has done, said etc.",0.33876549638807801,1.0037674820050599,null,null,null,null,null,null,null,null,null,null,null,null,null,null,null,1.3425329783931379,0.25233309113459729,0.74766690886540277,0,0,0,0,0,0,0,0,0,0,0,0,0,0]
[null,null,2,"Spokesperson: the person represents, or speaks on behalf of another person, a group or an organisation",4.5553000643849401E-2,0.13675300218164901,null,null,null,null,null,null,null,null,null,null,null,null,null,null,null,0.18230600282549841,0.2498710955088643,0.75012890449113567,0,0,0,0,0,0,0,0,0,0,0,0,0,0]
[null,null,3,"Expert or commentator: the person provides additional information, opinion or comment, based on specialist knowledge or expertise",6.3229500781744705E-2,0.17661200091242801,null,null,null,null,null,null,null,null,null,null,null,null,null,null,null,0.23984150169417273,0.26363035727807466,0.73636964272192529,0,0,0,0,0,0,0,0,0,0,0,0,0,0]
[null,null,4,"Personal experience: the person provides opinion or comment, based on individual personal experience; the opinion is not necessarily meant to reflect the views of a wider group",5.5653000716119998E-2,0.123535500373691,null,null,null,null,null,null,null,null,null,null,null,null,null,null,null,0.17918850108981099,0.3105835496007982,0.68941645039920185,0,0,0,0,0,0,0,0,0,0,0,0,0,0]
[null,null,5,"Eye witness: the person gives testimony or comment, based on direct observation (e.g. being present at an event)",4.0252999868243898E-2,1.7476499546319201E-2,null,null,null,null,null,null,null,null,null,null,null,null,null,null,null,5.7729499414563096E-2,0.69726916526993998,0.30273083473006007,0,0,0,0,0,0,0,0,0,0,0,0,0,0]
[null,null,6,"Popular opinion: the person's opinion is assumed to reflect that of the 'ordinary citizen' (e.g., in a street interview, vox populi etc); it is implied that the person's point of view is shared by a wider group of people.",2.00529997237027E-2,1.5300000552088E-2,null,null,null,null,null,null,null,null,null,null,null,null,null,null,null,3.5353000275790698E-2,0.56722200569309955,0.4327779943069005,0,0,0,0,0,0,0,0,0,0,0,0,0,0]
[null,null,7,"Other. Use only as a last resort (describe the function in 'Comments' section of coding sheet).",null,null,null,null,null,null,null,null,null,null,null,null,null,null,null,null,null,0,0,0,0,0,0,0,0,0,0,0,0,0,0,0,0,0]
[null,null,8,"NA – Use this where you are coding a secondary source only"]
[]
[]
[]
[]
[]
[]
[]
[]
[]
[]
[]
[]
[]
[]
[]
[]
[]
[]
[]
[]
[]
[]
[]
[]
[]
[]
[]
[]
[]
[]
[]
[]
[]
[]
[]
[]
[null,null,null,"TOTAL",{"$f":"SUM(E5:E49)","v":0.56860699830576811},1.4734444855712352,0,0,0,0,0,0,0,0,0,0,0,0,0,0,null,{"$f":"SUM(E50:O50)","v":2.0420514838770032},{"$f":"IF((E50+F50)>0,E50/(E50+F50),0)","v":0.27844890434702502},{"$f":"IF((E50+F50)>0,F50/(E50+F50),0)","v":0.72155109565297504},{"$f":"IF((G50+H50)>0,G50/(G50+H50),0)","v":0},{"$f":"IF((G50+H50)>0,H50/(G50+H50),0)","v":0},{"$f":"IF((I50+J50)>0,I50/(I50+J50),0)","v":0},{"$f":"IF((I50+J50)>0,J50/(I50+J50),0)","v":0},{"$f":"IF((K50+L50)>0,K50/(K50+L50),0)","v":0},{"$f":"IF((K50+L50)>0,L50/(K50+L50),0)","v":0},{"$f":"IF((M50+N50)>0,M50/(M50+N50),0)","v":0},{"$f":"IF((M50+N50)>0,N50/(M50+N50),0)","v":0},{"$f":"IF((O50+P50)>0,O50/(O50+P50),0)","v":0},{"$f":"IF((O50+P50)>0,P50/(O50+P50),0)","v":0},{"$f":"IF((Q50+R50)>0,Q50/(Q50+R50),0)","v":0},{"$f":"IF((Q50+R50)>0,R50/(Q50+R50),0)","v":0},{"$f":"IF((S50+T50)>0,S50/(S50+T50),0)","v":0},{"$f":"IF((S50+T50)>0,T50/(S50+T50),0)","v":0}]
[]
[null,null,{"$f":"C5","v":0},"Do not know: the person's function is not clear.",{"$f":"IF(E$50>0,E5/E$50,0)","v":8.969288452701769E-3},0,0,0,0,0,0,0,0,0,0,0,0,0,0,0]
[null,null,1,"Subject: the story is about this person, or about something the person has done, said etc.",{"$f":"IF(E$50>0,E6/E$50,0)","v":0.59578144025217761},0.68123875166963777,0,0,0,0,0,0,0,0,0,0,0,0,0,0]
[null,null,2,"Spokesperson: the person represents, or speaks on behalf of another person, a group or an organisation",{"$f":"IF(E$50>0,E7/E$50,0)","v":8.0113330964233578E-2},9.2811777790618055E-2,0,0,0,0,0,0,0,0,0,0,0,0,0,0]
[null,null,3,"Expert or commentator: the person provides additional information, opinion or comment, based on specialist knowledge or expertise",{"$f":"IF(E$50>0,E8/E$50,0)","v":0.11120070799364849},0.11986335599468333,0,0,0,0,0,0,0,0,0,0,0,0,0,0]
[null,null,4,"Personal experience: the person provides opinion or comment, based on individual personal experience; the opinion is not necessarily meant to reflect the views of a wider group",{"$f":"IF(E$50>0,E9/E$50,0)","v":9.7876038954752054E-2},8.3841299474406661E-2,0,0,0,0,0,0,0,0,0,0,0,0,0,0]
[null,null,5,"Eye witness: the person gives testimony or comment, based on direct observation (e.g. being present at an event)",{"$f":"IF(E$50>0,E10/E$50,0)","v":7.0792304681761703E-2},1.1860982695621403E-2,0,0,0,0,0,0,0,0,0,0,0,0,0,0]
[null,null,6,"Popular opinion: the person's opinion is assumed to reflect that of the 'ordinary citizen' (e.g., in a street interview, vox populi etc); it is implied that the person's point of view is shared by a wider group of people.",{"$f":"IF(E$50>0,E11/E$50,0)","v":3.5266888700724731E-2},1.0383832375032704E-2,0,0,0,0,0,0,0,0,0,0,0,0,0,0]
[null,null,7,"Other. Use only as a last resort (describe the function in 'Comments' section of coding sheet).",{"$f":"IF(E$50>0,E12/E$50,0)","v":0},0,0,0,0,0,0,0,0,0,0,0,0,0,0,0]
[null,null,8,"NA – Use this where you are coding a secondary source only",{"$f":"IF(E$50>0,E13/E$50,0)","v":0},0,0,0,0,0,0,0,0,0,0,0,0,0,0,0]
[null,null,0,0,{"$f":"IF(E$50>0,E14/E$50,0)","v":0},0,0,0,0,0,0,0,0,0,0,0,0,0,0,0]
[null,null,0,0,{"$f":"IF(E$50>0,E15/E$50,0)","v":0},0,0,0,0,0,0,0,0,0,0,0,0,0,0,0]
[null,null,0,0,{"$f":"IF(E$50>0,E16/E$50,0)","v":0},0,0,0,0,0,0,0,0,0,0,0,0,0,0,0]
[null,null,0,0,{"$f":"IF(E$50>0,E17/E$50,0)","v":0},0,0,0,0,0,0,0,0,0,0,0,0,0,0,0]
[null,null,0,0,{"$f":"IF(E$50>0,E18/E$50,0)","v":0},0,0,0,0,0,0,0,0,0,0,0,0,0,0,0]
[null,null,0,0,{"$f":"IF(E$50>0,E19/E$50,0)","v":0},0,0,0,0,0,0,0,0,0,0,0,0,0,0,0]
[null,null,0,0,{"$f":"IF(E$50>0,E20/E$50,0)","v":0},0,0,0,0,0,0,0,0,0,0,0,0,0,0,0]
[null,null,0,0,{"$f":"IF(E$50>0,E21/E$50,0)","v":0},0,0,0,0,0,0,0,0,0,0,0,0,0,0,0]
[null,null,0,0,{"$f":"IF(E$50>0,E22/E$50,0)","v":0},0,0,0,0,0,0,0,0,0,0,0,0,0,0,0]
[null,null,0,0,{"$f":"IF(E$50>0,E23/E$50,0)","v":0},0,0,0,0,0,0,0,0,0,0,0,0,0,0,0]
[null,null,0,0,{"$f":"IF(E$50>0,E24/E$50,0)","v":0},0,0,0,0,0,0,0,0,0,0,0,0,0,0,0]
[null,null,{"$f":"C25","v":0},0,{"$f":"IF(E$50>0,E25/E$50,0)","v":0},0,0,0,0,0,0,0,0,0,0,0,0,0,0,0]
[null,null,0,0,{"$f":"IF(E$50>0,E26/E$50,0)","v":0},0,0,0,0,0,0,0,0,0,0,0,0,0,0,0]
[null,null,0,0,{"$f":"IF(E$50>0,E27/E$50,0)","v":0},0,0,0,0,0,0,0,0,0,0,0,0,0,0,0]
[null,null,0,0,{"$f":"IF(E$50>0,E28/E$50,0)","v":0},0,0,0,0,0,0,0,0,0,0,0,0,0,0,0]
[null,null,0,0,{"$f":"IF(E$50>0,E29/E$50,0)","v":0},0,0,0,0,0,0,0,0,0,0,0,0,0,0,0]
[null,null,0,0,{"$f":"IF(E$50>0,E30/E$50,0)","v":0},0,0,0,0,0,0,0,0,0,0,0,0,0,0,0]
[null,null,0,0,{"$f":"IF(E$50>0,E31/E$50,0)","v":0},0,0,0,0,0,0,0,0,0,0,0,0,0,0,0]
[null,null,0,0,{"$f":"IF(E$50>0,E32/E$50,0)","v":0},0,0,0,0,0,0,0,0,0,0,0,0,0,0,0]
[null,null,0,0,{"$f":"IF(E$50>0,E33/E$50,0)","v":0},0,0,0,0,0,0,0,0,0,0,0,0,0,0,0]
[null,null,0,0,{"$f":"IF(E$50>0,E34/E$50,0)","v":0},0,0,0,0,0,0,0,0,0,0,0,0,0,0,0]
[null,null,0,0,{"$f":"IF(E$50>0,E35/E$50,0)","v":0},0,0,0,0,0,0,0,0,0,0,0,0,0,0,0]
[null,null,0,0,{"$f":"IF(E$50>0,E36/E$50,0)","v":0},0,0,0,0,0,0,0,0,0,0,0,0,0,0,0]
[null,null,0,0,{"$f":"IF(E$50>0,E37/E$50,0)","v":0},0,0,0,0,0,0,0,0,0,0,0,0,0,0,0]
[null,null,0,0,{"$f":"IF(E$50>0,E38/E$50,0)","v":0},0,0,0,0,0,0,0,0,0,0,0,0,0,0,0]
[null,null,0,0,{"$f":"IF(E$50>0,E39/E$50,0)","v":0},0,0,0,0,0,0,0,0,0,0,0,0,0,0,0]
[null,null,0,0,{"$f":"IF(E$50>0,E40/E$50,0)","v":0},0,0,0,0,0,0,0,0,0,0,0,0,0,0,0]
[null,null,0,0,{"$f":"IF(E$50>0,E41/E$50,0)","v":0},0,0,0,0,0,0,0,0,0,0,0,0,0,0,0]
[null,null,0,0,{"$f":"IF(E$50>0,E42/E$50,0)","v":0},0,0,0,0,0,0,0,0,0,0,0,0,0,0,0]
[null,null,0,0,{"$f":"IF(E$50>0,E43/E$50,0)","v":0},0,0,0,0,0,0,0,0,0,0,0,0,0,0,0]
[null,null,0,0,{"$f":"IF(E$50>0,E44/E$50,0)","v":0},0,0,0,0,0,0,0,0,0,0,0,0,0,0,0]
[null,null,{"$f":"C45","v":0},0,{"$f":"IF(E$50>0,E45/E$50,0)","v":0},0,0,0,0,0,0,0,0,0,0,0,0,0,0,0]
[null,null,0,0,{"$f":"IF(E$50>0,E46/E$50,0)","v":0},0,0,0,0,0,0,0,0,0,0,0,0,0,0,0]
[null,null,0,0,{"$f":"IF(E$50>0,E47/E$50,0)","v":0},0,0,0,0,0,0,0,0,0,0,0,0,0,0,0]
[null,null,0,0,{"$f":"IF(E$50>0,E48/E$50,0)","v":0},0,0,0,0,0,0,0,0,0,0,0,0,0,0,0]
[null,null,0,0,{"$f":"IF(E$50>0,E49/E$50,0)","v":0},0,0,0,0,0,0,0,0,0,0,0,0,0,0,0]
[]
[]
[]
[]
[]
[]
[]
[]
[]
[]
[]
[]
["COUNT"]
[null,null,null,null,{"$f":"E3","v":"Female"},"Male",0,0,0,0,0,0,0,0,0,0,0,0,0,0]
[null,null,null,null,{"$f":"E4","v":0},0,0,0,0,0,0,0,0,0,0,0,0,0,0,0]
[null,null,{"$f":"C5","v":0},"Do not know: the person's function is not clear.",1,0]
[null,null,1,"Subject: the story is about this person, or about something the person has done, said etc.",54,153]
[null,null,2,"Spokesperson: the person represents, or speaks on behalf of another person, a group or an organisation",8,26]
[null,null,3,"Expert or commentator: the person provides additional information, opinion or comment, based on specialist knowledge or expertise",11,31]
[null,null,4,"Personal experience: the person provides opinion or comment, based on individual personal experience; the opinion is not necessarily meant to reflect the views of a wider group",10,21]
[null,null,5,"Eye witness: the person gives testimony or comment, based on direct observation (e.g. being present at an event)",7,3]
[null,null,6,"Popular opinion: the person's opinion is assumed to reflect that of the 'ordinary citizen' (e.g., in a street interview, vox populi etc); it is implied that the person's point of view is shared by a wider group of people.",3,3]
[null,null,7,"Other. Use only as a last resort (describe the function in 'Comments' section of coding sheet).",0,0]
[null,null,8,"NA – Use this where you are coding a secondary source only",0,0]
[null,null,0,0]
[null,null,0,0]
[null,null,0,0]
[null,null,0,0]
[null,null,0,0]
[null,null,0,0]
[null,null,0,0]
[null,null,0,0]
[null,null,0,0]
[null,null,0,0]
[null,null,0,0]
[null,null,{"$f":"C25","v":0},0]
[null,null,0,0]
[null,null,0,0]
[null,null,0,0]
[null,null,0,0]
[null,null,0,0]
[null,null,0,0]
[null,null,0,0]
[null,null,0,0]
[null,null,0,0]
[null,null,0,0]
[null,null,0,0]
[null,null,0,0]
[null,null,0,0]
[null,null,0,0]
[null,null,0,0]
[null,null,0,0]
[null,null,0,0]
[null,null,0,0]
[null,null,0,0]
[null,null,{"$f":"C45","v":0},0]
[null,null,0,0]
[null,null,0,0]

{"sheet":"9fF - subject's Function","index":15,"n_rows":18,"n_cols":12,"rows_kept":18,"cut":false,"hidden":false,"merged":[[1,5,1,9],[1,10,1,11]]}
[{"$f":"'9f'!$A$1","v":"News subject's Function in news story, by sex"}]
[null,null,null,null,null,{"$f":"'9f'!W3 &  \"  %F\"","v":"Female  %F"},null,null,null,null,"Male %M"]
[null,null,null,null,"Function in News Story",1995,2000,2005,2010,"N",2010,"N"]
[]
[null,null,null,null,{"$f":"'9f'!D6","v":"Subject: the story is about this person, or about something the person has done, said etc."},0,0,0.23,{"$f":"'9f'!W6","v":0.25233309113459729},{"$f":"'9f'!E113","v":54},{"$f":"'9f'!X6","v":0.74766690886540277},{"$f":"'9f'!F113","v":153}]
[null,null,null,null,{"$f":"'9f'!D7","v":"Spokesperson: the person represents, or speaks on behalf of another person, a group or an organisation"},0,0,0.14000000000000001,{"$f":"'9f'!W7","v":0.2498710955088643},{"$f":"'9f'!E114","v":8},{"$f":"'9f'!X7","v":0.75012890449113567},{"$f":"'9f'!F114","v":26}]
[null,null,null,null,{"$f":"'9f'!D8","v":"Expert or commentator: the person provides additional information, opinion or comment, based on specialist knowledge or expertise"},0,0,0.17,{"$f":"'9f'!W8","v":0.26363035727807466},{"$f":"'9f'!E115","v":11},{"$f":"'9f'!X8","v":0.73636964272192529},{"$f":"'9f'!F115","v":31}]
[null,null,null,null,{"$f":"'9f'!D9","v":"Personal experience: the person provides opinion or comment, based on individual personal experience; the opinion is not necessarily meant to reflect the views of a wider group"},0,0,0.31,{"$f":"'9f'!W9","v":0.3105835496007982},{"$f":"'9f'!E116","v":10},{"$f":"'9f'!X9","v":0.68941645039920185},{"$f":"'9f'!F116","v":21}]
[null,null,null,null,{"$f":"'9f'!D10","v":"Eye witness: the person gives testimony or comment, based on direct observation (e.g. being present at an event)"},0,0,0.3,{"$f":"'9f'!W10","v":0.69726916526993998},{"$f":"'9f'!E117","v":7},{"$f":"'9f'!X10","v":0.30273083473006007},{"$f":"'9f'!F117","v":3}]
[null,null,null,null,{"$f":"'9f'!D11","v":"Popular opinion: the person's opinion is assumed to reflect that of the 'ordinary citizen' (e.g., in a street interview, vox populi etc); it is implied that the person's point of view is shared by a wider group of people."},0,0,0.34,{"$f":"'9f'!W11","v":0.56722200569309955},{"$f":"'9f'!E118","v":3},{"$f":"'9f'!X11","v":0.4327779943069005},{"$f":"'9f'!F118","v":3}]
[null,null,null,null,{"$f":"'9f'!D12","v":"Other. Use only as a last resort (describe the function in 'Comments' section of coding sheet)."},0,0,"n/a",{"$f":"'9f'!W12","v":0},{"$f":"'9f'!E119","v":0},{"$f":"'9f'!X12","v":0},{"$f":"'9f'!F119","v":0}]
[null,null,null,null,{"$f":"'9f'!D13","v":"NA – Use this where you are coding a secondary source only"},0,0,"n/a",{"$f":"'9f'!W13","v":0},{"$f":"'9f'!E120","v":0},{"$f":"'9f'!X13","v":0},{"$f":"'9f'!F120","v":0}]
[]
[]
[null,null,null,null,"Total",0,0,0,{"$f":"'9f'!$W$50","v":0.27844890434702502},{"$f":"SUM(J5:J12)","v":93},{"$f":"'9f'!$X$50","v":0.72155109565297504},{"$f":"SUM(L5:L12)","v":237}]
[]
[]
[null,null,null,null,null,"No data available for 2000"]

{"sheet":"9g","index":16,"n_rows":154,"n_cols":38,"rows_kept":154,"cut":false,"hidden":true,"merged":[]}
["News Subjects who are portrayed as victims, by sex"]
[]
[null,null,null,null,"Female","Male",null,null,null,null,null,null,null,null,null,null,null,null,null,null,null,null,{"$f":"E3","v":"Female"},"Male",0,0,0,0,0,0,0,0,0,0,0,0,0]
[null,null,null,null,null,null,null,null,null,null,null,null,null,null,null,null,null,null,null,null,null,"TOTAL",0,0,0,0,0,0,0,0,0,0,0,0,0,0,0,{"$f":"T4","v":0}]
[null,null,0,"Not a victim",0.48290099808946302,1.3850149847567099,null,null,null,null,null,null,null,null,null,null,null,null,null,null,null,{"$f":"SUM(E5:O5)","v":1.8679159828461729},{"$f":"IF((E5+F5)>0,E5/(E5+F5),0)","v":0.25852393925858441},{"$f":"IF((E5+F5)>0,F5/(E5+F5),0)","v":0.74147606074141559},{"$f":"IF((G5+H5)>0,G5/(G5+H5),0)","v":0},{"$f":"IF((G5+H5)>0,H5/(G5+H5),0)","v":0},{"$f":"IF((I5+J5)>0,I5/(I5+J5),0)","v":0},{"$f":"IF((I5+J5)>0,J5/(I5+J5),0)","v":0},{"$f":"IF((K5+L5)>0,K5/(K5+L5),0)","v":0},{"$f":"IF((K5+L5)>0,L5/(K5+L5),0)","v":0},{"$f":"IF((M5+N5)>0,M5/(M5+N5),0)","v":0},{"$f":"IF((M5+N5)>0,N5/(M5+N5),0)","v":0},{"$f":"IF((O5+P5)>0,O5/(O5+P5),0)","v":0},{"$f":"IF((O5+P5)>0,P5/(O5+P5),0)","v":0},{"$f":"IF((Q5+R5)>0,Q5/(Q5+R5),0)","v":0},{"$f":"IF((Q5+R5)>0,R5/(Q5+R5),0)","v":0},{"$f":"IF((S5+T5)>0,S5/(S5+T5),0)","v":0},{"$f":"IF((S5+T5)>0,T5/(S5+T5),0)","v":0}]
[null,null,1,"Victim of an accident, natural disaster, poverty, disease, illness …",1.5300000552088E-2,4.2976500466465999E-2,null,null,null,null,null,null,null,null,null,null,null,null,null,null,null,5.8276501018554E-2,0.26254150960808037,0.73745849039191957,0,0,0,0,0,0,0,0,0,0,0,0,0,0]
[null,null,2,"Victim of domestic violence (by husband/wife/partner/other family member), psychological violence, physical assault, marital rape, murder …",3.2776500098407303E-2,5.1000001840293399E-3,null,null,null,null,null,null,null,null,null,null,null,null,null,null,null,3.7876500282436644E-2,0.86535186339815529,0.13464813660184474,0,0,0,0,0,0,0,0,0,0,0,0,0,0]
[null,null,3,"Victim of non-domestic sexual violence or abuse, sexual harassment, rape, trafficking …",null,7.4764997698366599E-3,null,null,null,null,null,null,null,null,null,null,null,null,null,null,null,7.4764997698366599E-3,0,1,0,0,0,0,0,0,0,0,0,0,0,0,0,0]
[null,null,4,"Victim of other crime, robbery, assault, murder …",null,2.2676500026136599E-2,null,null,null,null,null,null,null,null,null,null,null,null,null,null,null,2.2676500026136599E-2,0,1,0,0,0,0,0,0,0,0,0,0,0,0,0,0]
[null,null,5,"Victim of violation based on religion, tradition, cultural belief, genital mutilation, bride-burning …",null,null,null,null,null,null,null,null,null,null,null,null,null,null,null,null,null,0,0,0,0,0,0,0,0,0,0,0,0,0,0,0,0,0]
[null,null,6,"Victim of war, terrorism, vigilantism, state-based violence …",3.2529499381780597E-2,null,null,null,null,null,null,null,null,null,null,null,null,null,null,null,null,3.2529499381780597E-2,1,0,0,0,0,0,0,0,0,0,0,0,0,0,0,0]
[null,null,7,"Victim of discrimination based on gender, race, ethnicity, age, religion, ability …",null,null,null,null,null,null,null,null,null,null,null,null,null,null,null,null,null,0,0,0,0,0,0,0,0,0,0,0,0,0,0,0,0,0]
[null,null,8,"Other victim: describe in 'Comments' section of coding sheet …",5.1000001840293399E-3,1.0200000368058701E-2,null,null,null,null,null,null,null,null,null,null,null,null,null,null,null,{"$f":"SUM(E13:O13)","v":1.530000055208804E-2},{"$f":"IF((E13+F13)>0,E13/(E13+F13),0)","v":0.33333333333333293},{"$f":"IF((E13+F13)>0,F13/(E13+F13),0)","v":0.66666666666666718},{"$f":"IF((G13+H13)>0,G13/(G13+H13),0)","v":0},{"$f":"IF((G13+H13)>0,H13/(G13+H13),0)","v":0},{"$f":"IF((I13+J13)>0,I13/(I13+J13),0)","v":0},{"$f":"IF((I13+J13)>0,J13/(I13+J13),0)","v":0},{"$f":"IF((K13+L13)>0,K13/(K13+L13),0)","v":0},{"$f":"IF((K13+L13)>0,L13/(K13+L13),0)","v":0},{"$f":"IF((M13+N13)>0,M13/(M13+N13),0)","v":0},{"$f":"IF((M13+N13)>0,N13/(M13+N13),0)","v":0},{"$f":"IF((O13+P13)>0,O13/(O13+P13),0)","v":0},{"$f":"IF((O13+P13)>0,P13/(O13+P13),0)","v":0},{"$f":"IF((Q13+R13)>0,Q13/(Q13+R13),0)","v":0},{"$f":"IF((Q13+R13)>0,R13/(Q13+R13),0)","v":0},{"$f":"IF((S13+T13)>0,S13/(S13+T13),0)","v":0},{"$f":"IF((S13+T13)>0,T13/(S13+T13),0)","v":0}]
[null,null,9,"Do not know, cannot decide"]
[null,null,10,"NA – Use this where you are coding a secondary source only"]
[]
[]
[]
[]
[]
[]
[]
[]
[]
[]
[]
[]
[]
[]
[]
[]
[]
[]
[]
[]
[]
[]
[]
[]
[]
[]
[]
[]
[]
[]
[]
[]
[]
[]
[null,null,null,"TOTAL",{"$f":"SUM(E6:E13)","v":8.5706000216305242E-2},{"$f":"SUM(F6:F13)","v":8.8429500814527287E-2},{"$f":"SUM(G5:G49)","v":0},0,0,0,0,0,0,0,0,0,0,0,0,0,null,{"$f":"SUM(E50:O50)","v":0.17413550103083253},{"$f":"IF((E50+F50)>0,E50/(E50+F50),0)","v":0.49217993866242182},{"$f":"IF((E50+F50)>0,F50/(E50+F50),0)","v":0.50782006133757818},{"$f":"IF((G50+H50)>0,G50/(G50+H50),0)","v":0},{"$f":"IF((G50+H50)>0,H50/(G50+H50),0)","v":0},{"$f":"IF((I50+J50)>0,I50/(I50+J50),0)","v":0},{"$f":"IF((I50+J50)>0,J50/(I50+J50),0)","v":0},{"$f":"IF((K50+L50)>0,K50/(K50+L50),0)","v":0},{"$f":"IF((K50+L50)>0,L50/(K50+L50),0)","v":0},{"$f":"IF((M50+N50)>0,M50/(M50+N50),0)","v":0},{"$f":"IF((M50+N50)>0,N50/(M50+N50),0)","v":0},{"$f":"IF((O50+P50)>0,O50/(O50+P50),0)","v":0},{"$f":"IF((O50+P50)>0,P50/(O50+P50),0)","v":0},{"$f":"IF((Q50+R50)>0,Q50/(Q50+R50),0)","v":0},{"$f":"IF((Q50+R50)>0,R50/(Q50+R50),0)","v":0},{"$f":"IF((S50+T50)>0,S50/(S50+T50),0)","v":0},{"$f":"IF((S50+T50)>0,T50/(S50+T50),0)","v":0}]
[]
[null,null,{"$f":"C5","v":0},"Not a victim",{"$f":"IF(E$50>0,E5/E$50,0)","v":5.6343896211550533},15.662363487289733,0,0,0,0,0,0,0,0,0,0,0,0,0,0]
[null,null,1,"Victim of an accident, natural disaster, poverty, disease, illness …",{"$f":"IF(E$50>0,E6/E$50,0)","v":0.17851726265925116},0.48599732069736817,0,0,0,0,0,0,0,0,0,0,0,0,0,0]
[null,null,2,"Victim of domestic violence (by husband/wife/partner/other family member), psychological violence, physical assault, marital rape, murder …",{"$f":"IF(E$50>0,E7/E$50,0)","v":0.38242946836494301},5.767306314129398E-2,0,0,0,0,0,0,0,0,0,0,0,0,0,0]
[null,null,3,"Victim of non-domestic sexual violence or abuse, sexual harassment, rape, trafficking …",{"$f":"IF(E$50>0,E8/E$50,0)","v":0},8.4547574067142223E-2,0,0,0,0,0,0,0,0,0,0,0,0,0,0]
[null,null,4,"Victim of other crime, robbery, assault, murder …",{"$f":"IF(E$50>0,E9/E$50,0)","v":0},0.25643591581160752,0,0,0,0,0,0,0,0,0,0,0,0,0,0]
[null,null,5,"Victim of violation based on religion, tradition, cultural belief, genital mutilation, bride-burning …",{"$f":"IF(E$50>0,E10/E$50,0)","v":0},0,0,0,0,0,0,0,0,0,0,0,0,0,0,0]
[null,null,6,"Victim of war, terrorism, vigilantism, state-based violence …",{"$f":"IF(E$50>0,E11/E$50,0)","v":0.37954751475605536},0,0,0,0,0,0,0,0,0,0,0,0,0,0,0]
[null,null,7,"Victim of discrimination based on gender, race, ethnicity, age, religion, ability …",{"$f":"IF(E$50>0,E12/E$50,0)","v":0},0,0,0,0,0,0,0,0,0,0,0,0,0,0,0]
[null,null,8,"Other victim: describe in 'Comments' section of coding sheet …",{"$f":"IF(E$50>0,E13/E$50,0)","v":5.9505754219750462E-2},0.1153461262825882,0,0,0,0,0,0,0,0,0,0,0,0,0,0]
[null,null,9,"Do not know, cannot decide",{"$f":"IF(E$50>0,E14/E$50,0)","v":0},0,0,0,0,0,0,0,0,0,0,0,0,0,0,0]
[null,null,10,"NA – Use this where you are coding a secondary source only",{"$f":"IF(E$50>0,E15/E$50,0)","v":0},0,0,0,0,0,0,0,0,0,0,0,0,0,0,0]
[null,null,0,0,{"$f":"IF(E$50>0,E16/E$50,0)","v":0},0,0,0,0,0,0,0,0,0,0,0,0,0,0,0]
[null,null,0,0,{"$f":"IF(E$50>0,E17/E$50,0)","v":0},0,0,0,0,0,0,0,0,0,0,0,0,0,0,0]
[null,null,0,0,{"$f":"IF(E$50>0,E18/E$50,0)","v":0},0,0,0,0,0,0,0,0,0,0,0,0,0,0,0]
[null,null,0,0,{"$f":"IF(E$50>0,E19/E$50,0)","v":0},0,0,0,0,0,0,0,0,0,0,0,0,0,0,0]
[null,null,0,0,{"$f":"IF(E$50>0,E20/E$50,0)","v":0},0,0,0,0,0,0,0,0,0,0,0,0,0,0,0]
[null,null,0,0,{"$f":"IF(E$50>0,E21/E$50,0)","v":0},0,0,0,0,0,0,0,0,0,0,0,0,0,0,0]
[null,null,0,0,{"$f":"IF(E$50>0,E22/E$50,0)","v":0},0,0,0,0,0,0,0,0,0,0,0,0,0,0,0]
[null,null,0,0,{"$f":"IF(E$50>0,E23/E$50,0)","v":0},0,0,0,0,0,0,0,0,0,0,0,0,0,0,0]
[null,null,0,0,{"$f":"IF(E$50>0,E24/E$50,0)","v":0},0,0,0,0,0,0,0,0,0,0,0,0,0,0,0]
[null,null,{"$f":"C25","v":0},0,{"$f":"IF(E$50>0,E25/E$50,0)","v":0},0,0,0,0,0,0,0,0,0,0,0,0,0,0,0]
[null,null,0,0,{"$f":"IF(E$50>0,E26/E$50,0)","v":0},0,0,0,0,0,0,0,0,0,0,0,0,0,0,0]
[null,null,0,0,{"$f":"IF(E$50>0,E27/E$50,0)","v":0},0,0,0,0,0,0,0,0,0,0,0,0,0,0,0]
[null,null,0,0,{"$f":"IF(E$50>0,E28/E$50,0)","v":0},0,0,0,0,0,0,0,0,0,0,0,0,0,0,0]
[null,null,0,0,{"$f":"IF(E$50>0,E29/E$50,0)","v":0},0,0,0,0,0,0,0,0,0,0,0,0,0,0,0]
[null,null,0,0,{"$f":"IF(E$50>0,E30/E$50,0)","v":0},0,0,0,0,0,0,0,0,0,0,0,0,0,0,0]
[null,null,0,0,{"$f":"IF(E$50>0,E31/E$50,0)","v":0},0,0,0,0,0,0,0,0,0,0,0,0,0,0,0]
[null,null,0,0,{"$f":"IF(E$50>0,E32/E$50,0)","v":0},0,0,0,0,0,0,0,0,0,0,0,0,0,0,0]
[null,null,0,0,{"$f":"IF(E$50>0,E33/E$50,0)","v":0},0,0,0,0,0,0,0,0,0,0,0,0,0,0,0]
[null,null,0,0,{"$f":"IF(E$50>0,E34/E$50,0)","v":0},0,0,0,0,0,0,0,0,0,0,0,0,0,0,0]
[null,null,0,0,{"$f":"IF(E$50>0,E35/E$50,0)","v":0},0,0,0,0,0,0,0,0,0,0,0,0,0,0,0]
[null,null,0,0,{"$f":"IF(E$50>0,E36/E$50,0)","v":0},0,0,0,0,0,0,0,0,0,0,0,0,0,0,0]
[null,null,0,0,{"$f":"IF(E$50>0,E37/E$50,0)","v":0},0,0,0,0,0,0,0,0,0,0,0,0,0,0,0]
[null,null,0,0,{"$f":"IF(E$50>0,E38/E$50,0)","v":0},0,0,0,0,0,0,0,0,0,0,0,0,0,0,0]
[null,null,0,0,{"$f":"IF(E$50>0,E39/E$50,0)","v":0},0,0,0,0,0,0,0,0,0,0,0,0,0,0,0]
[null,null,0,0,{"$f":"IF(E$50>0,E40/E$50,0)","v":0},0,0,0,0,0,0,0,0,0,0,0,0,0,0,0]
[null,null,0,0,{"$f":"IF(E$50>0,E41/E$50,0)","v":0},0,0,0,0,0,0,0,0,0,0,0,0,0,0,0]
[null,null,0,0,{"$f":"IF(E$50>0,E42/E$50,0)","v":0},0,0,0,0,0,0,0,0,0,0,0,0,0,0,0]
[null,null,0,0,{"$f":"IF(E$50>0,E43/E$50,0)","v":0},0,0,0,0,0,0,0,0,0,0,0,0,0,0,0]
[null,null,0,0,{"$f":"IF(E$50>0,E44/E$50,0)","v":0},0,0,0,0,0,0,0,0,0,0,0,0,0,0,0]
[null,null,{"$f":"C45","v":0},0,{"$f":"IF(E$50>0,E45/E$50,0)","v":0},0,0,0,0,0,0,0,0,0,0,0,0,0,0,0]
[null,null,0,0,{"$f":"IF(E$50>0,E46/E$50,0)","v":0},0,0,0,0,0,0,0,0,0,0,0,0,0,0,0]
[null,null,0,0,{"$f":"IF(E$50>0,E47/E$50,0)","v":0},0,0,0,0,0,0,0,0,0,0,0,0,0,0,0]
[null,null,0,0,{"$f":"IF(E$50>0,E48/E$50,0)","v":0},0,0,0,0,0,0,0,0,0,0,0,0,0,0,0]
[null,null,0,0,{"$f":"IF(E$50>0,E49/E$50,0)","v":0},0,0,0,0,0,0,0,0,0,0,0,0,0,0,0]
[]
[]
[]
[]
[]
[]
[]
[]
[]
[]
[]
[]
["COUNT"]
[null,null,null,null,{"$f":"E3","v":"Female"},"Male",0,0,0,0,0,0,0,0,0,0,0,0,0,0]
[null,null,null,null,{"$f":"E4","v":0},0,0,0,0,0,0,0,0,0,0,0,0,0,0,0]
[null,null,{"$f":"C5","v":0},"Not a victim",79,221]
[null,null,1,"Victim of an accident, natural disaster, poverty, disease, illness …",3,8]
[null,null,2,"Victim of domestic violence (by husband/wife/partner/other family member), psychological violence, physical assault, marital rape, murder …",6,1]
[null,null,3,"Victim of non-domestic sexual violence or abuse, sexual harassment, rape, trafficking …",0,1]
[null,null,4,"Victim of other crime, robbery, assault, murder …",0,4]
[null,null,5,"Victim of violation based on religion, tradition, cultural belief, genital mutilation, bride-burning …",0,0]
[null,null,6,"Victim of war, terrorism, vigilantism, state-based violence …",5,0]
[null,null,7,"Victim of discrimination based on gender, race, ethnicity, age, religion, ability …",0,0]
[null,null,8,"Other victim: describe in 'Comments' section of coding sheet …",1,2]
[null,null,9,"Do not know, cannot decide",0,0]
[null,null,10,"NA – Use this where you are coding a secondary source only",0,0]
[null,null,0,0]
[null,null,0,0]
[null,null,0,0]
[null,null,0,0]
[null,null,0,0]
[null,null,0,0]
[null,null,0,0]
[null,null,0,0]
[null,null,0,0]
[null,null,{"$f":"C25","v":0},0]
[null,null,0,0]
[null,null,0,0]
[null,null,0,0]
[null,null,0,0]
[null,null,0,0]
[null,null,0,0]
[null,null,0,0]
[null,null,0,0]
[null,null,0,0]
[null,null,0,0]
[null,null,0,0]
[null,null,0,0]
[null,null,0,0]
[null,null,0,0]
[null,null,0,0]
[null,null,0,0]
[null,null,0,0]
[null,null,0,0]
[null,null,0,0]
[null,null,{"$f":"C45","v":0},0]
[null,null,0,0]
[null,null,0,0]

{"sheet":"9gF - Victims, by sex","index":17,"n_rows":15,"n_cols":15,"rows_kept":15,"cut":false,"hidden":false,"merged":[[1,5,1,9],[1,10,1,14]]}
[{"$f":"'9g'!$A$1","v":"News Subjects who are portrayed as victims, by sex"}]
[null,null,null,null,null,"% Female",null,null,null,null,"% Male"]
[null,null,null,null,"Victim Type",1995,2000,2005,2010,"N",1995,2000,2005,2010,"N"]
[]
[null,null,null,null,{"$f":"'9g'!D6","v":"Victim of an accident, natural disaster, poverty, disease, illness …"},0.16,0.28999999999999998,0.35,{"$f":"'9g'!W6","v":0.26254150960808037},{"$f":"'9g'!E113","v":3},{"$f":"1-F5","v":0.84},{"$f":"1-G5","v":0.71},{"$f":"1-H5","v":0.65},{"$f":"'9g'!X6","v":0.73745849039191957},{"$f":"'9g'!F113","v":8}]
[null,null,null,null,{"$f":"'9g'!D7","v":"Victim of domestic violence (by husband/wife/partner/other family member), psychological violence, physical assault, marital rape, murder …"},"n/a",0.88,0.47,{"$f":"'9g'!W7","v":0.86535186339815529},{"$f":"'9g'!E114","v":6},"n/a",{"$f":"1-G6","v":0.12},{"$f":"1-H6","v":0.53},{"$f":"'9g'!X7","v":0.13464813660184474},{"$f":"'9g'!F114","v":1}]
[null,null,null,null,{"$f":"'9g'!D8","v":"Victim of non-domestic sexual violence or abuse, sexual harassment, rape, trafficking …"},"n/a","n/a",0.7,{"$f":"'9g'!W8","v":0},{"$f":"'9g'!E115","v":0},"n/a","n/a",0.30000000000000004,{"$f":"'9g'!X8","v":1},{"$f":"'9g'!F115","v":1}]
[null,null,null,null,{"$f":"'9g'!D9","v":"Victim of other crime, robbery, assault, murder …"},0.06,0.4,0.35,{"$f":"'9g'!W9","v":0},{"$f":"'9g'!E116","v":0},{"$f":"1-F8","v":0.94},{"$f":"1-G8","v":0.6},0.65,{"$f":"'9g'!X9","v":1},{"$f":"'9g'!F116","v":4}]
[null,null,null,null,{"$f":"'9g'!D10","v":"Victim of violation based on religion, tradition, cultural belief, genital mutilation, bride-burning …"},"n/a","n/a",0.52,{"$f":"'9g'!W10","v":0},{"$f":"'9g'!E117","v":0},"n/a","n/a",0.48,{"$f":"'9g'!X10","v":0},{"$f":"'9g'!F117","v":0}]
[null,null,null,null,{"$f":"'9g'!D11","v":"Victim of war, terrorism, vigilantism, state-based violence …"},"n/a",0.17,0.25,{"$f":"'9g'!W11","v":1},{"$f":"'9g'!E118","v":5},"n/a",{"$f":"1-G10","v":0.83},0.75,{"$f":"'9g'!X11","v":0},{"$f":"'9g'!F118","v":0}]
[null,null,null,null,{"$f":"'9g'!D12","v":"Victim of discrimination based on gender, race, ethnicity, age, religion, ability …"},"n/a","n/a",0.42,{"$f":"'9g'!W12","v":0},{"$f":"'9g'!E119","v":0},"n/a","n/a",0.58000000000000007,{"$f":"'9g'!X12","v":0},{"$f":"'9g'!F119","v":0}]
[null,null,null,null,{"$f":"'9g'!D13","v":"Other victim: describe in 'Comments' section of coding sheet …"},"n/a","n/a",1.42,{"$f":"'9g'!W13","v":0.33333333333333293},{"$f":"'9g'!E120","v":1},"n/a","n/a",{"$f":"1-H12","v":-0.41999999999999993},{"$f":"'9g'!X13","v":0.66666666666666718},{"$f":"'9g'!F120","v":2}]
[]
[]
[null,null,null,null,"Total",null,null,null,{"$f":"'9g'!$W$50","v":0.49217993866242182},{"$f":"SUM(J5:J12)","v":15},null,null,null,{"$f":"1-I15","v":0.50782006133757818},{"$f":"SUM(O5:O12)","v":16}]

{"sheet":"9h","index":18,"n_rows":154,"n_cols":38,"rows_kept":154,"cut":false,"hidden":true,"merged":[]}
["News subjects who are identified by family status, by sex"]
[]
[null,null,null,null,"Female","Male",null,null,null,null,null,null,null,null,null,null,null,null,null,null,null,null,{"$f":"E3","v":"Female"},"Male",0,0,0,0,0,0,0,0,0,0,0,0,0]
[null,null,null,null,null,null,null,null,null,null,null,null,null,null,null,null,null,null,null,null,null,"TOTAL",0,0,0,0,0,0,0,0,0,0,0,0,0,0,0,{"$f":"T4","v":0}]
[null,null,0,"No",0.46047149877995303,1.3550089853815701,null,null,null,null,null,null,null,null,null,null,null,null,null,null,null,{"$f":"SUM(E5:O5)","v":1.8154804841615231},{"$f":"IF((E5+F5)>0,E5/(E5+F5),0)","v":0.25363616012243784},{"$f":"IF((E5+F5)>0,F5/(E5+F5),0)","v":0.74636383987756216},{"$f":"IF((G5+H5)>0,G5/(G5+H5),0)","v":0},{"$f":"IF((G5+H5)>0,H5/(G5+H5),0)","v":0},{"$f":"IF((I5+J5)>0,I5/(I5+J5),0)","v":0},{"$f":"IF((I5+J5)>0,J5/(I5+J5),0)","v":0},{"$f":"IF((K5+L5)>0,K5/(K5+L5),0)","v":0},{"$f":"IF((K5+L5)>0,L5/(K5+L5),0)","v":0},{"$f":"IF((M5+N5)>0,M5/(M5+N5),0)","v":0},{"$f":"IF((M5+N5)>0,N5/(M5+N5),0)","v":0},{"$f":"IF((O5+P5)>0,O5/(O5+P5),0)","v":0},{"$f":"IF((O5+P5)>0,P5/(O5+P5),0)","v":0},{"$f":"IF((Q5+R5)>0,Q5/(Q5+R5),0)","v":0},{"$f":"IF((Q5+R5)>0,R5/(Q5+R5),0)","v":0},{"$f":"IF((S5+T5)>0,S5/(S5+T5),0)","v":0},{"$f":"IF((S5+T5)>0,T5/(S5+T5),0)","v":0}]
[null,null,1,"Yes. Code ‘yes only if the word ‘wife’, ‘husband’ is actually used to describe the person.",0.108135499525815,0.11843550018966199,null,null,null,null,null,null,null,null,null,null,null,null,null,null,null,0.22657099971547701,0.47726981679742436,0.52273018320257558,0,0,0,0,0,0,0,0,0,0,0,0,0,0]
[null,null,2,"NA – Use this where you are coding a secondary source only",null,null,null,null,null,null,null,null,null,null,null,null,null,null,null,null,null,0,0,0,0,0,0,0,0,0,0,0,0,0,0,0,0,0]
[null,null,null,null,null,null,null,null,null,null,null,null,null,null,null,null,null,null,null,null,null,0,0,0,0,0,0,0,0,0,0,0,0,0,0,0,0,0]
[null,null,null,null,null,null,null,null,null,null,null,null,null,null,null,null,null,null,null,null,null,0,0,0,0,0,0,0,0,0,0,0,0,0,0,0,0,0]
[null,null,null,null,null,null,null,null,null,null,null,null,null,null,null,null,null,null,null,null,null,0,0,0,0,0,0,0,0,0,0,0,0,0,0,0,0,0]
[null,null,null,null,null,null,null,null,null,null,null,null,null,null,null,null,null,null,null,null,null,0,0,0,0,0,0,0,0,0,0,0,0,0,0,0,0,0]
[null,null,null,null,null,null,null,null,null,null,null,null,null,null,null,null,null,null,null,null,null,0,0,0,0,0,0,0,0,0,0,0,0,0,0,0,0,0]
[]
[]
[]
[]
[]
[]
[]
[]
[]
[]
[]
[]
[]
[]
[]
[]
[]
[]
[]
[]
[]
[]
[]
[]
[]
[]
[]
[]
[]
[]
[]
[]
[]
[]
[]
[]
[]
[null,null,null,"TOTAL",{"$f":"SUM(E5:E49)","v":0.568606998305768},1.4734444855712321,0,0,0,0,0,0,0,0,0,0,0,0,0,0,null,{"$f":"SUM(E50:O50)","v":2.0420514838770001},{"$f":"IF((E50+F50)>0,E50/(E50+F50),0)","v":0.27844890434702535},{"$f":"IF((E50+F50)>0,F50/(E50+F50),0)","v":0.72155109565297459},{"$f":"IF((G50+H50)>0,G50/(G50+H50),0)","v":0},{"$f":"IF((G50+H50)>0,H50/(G50+H50),0)","v":0},{"$f":"IF((I50+J50)>0,I50/(I50+J50),0)","v":0},{"$f":"IF((I50+J50)>0,J50/(I50+J50),0)","v":0},{"$f":"IF((K50+L50)>0,K50/(K50+L50),0)","v":0},{"$f":"IF((K50+L50)>0,L50/(K50+L50),0)","v":0},{"$f":"IF((M50+N50)>0,M50/(M50+N50),0)","v":0},{"$f":"IF((M50+N50)>0,N50/(M50+N50),0)","v":0},{"$f":"IF((O50+P50)>0,O50/(O50+P50),0)","v":0},{"$f":"IF((O50+P50)>0,P50/(O50+P50),0)","v":0},{"$f":"IF((Q50+R50)>0,Q50/(Q50+R50),0)","v":0},{"$f":"IF((Q50+R50)>0,R50/(Q50+R50),0)","v":0},{"$f":"IF((S50+T50)>0,S50/(S50+T50),0)","v":0},{"$f":"IF((S50+T50)>0,T50/(S50+T50),0)","v":0}]
[]
[null,null,{"$f":"C5","v":0},"No",{"$f":"IF(E$50>0,E5/E$50,0)","v":0.80982383289685578},0.91961997798393724,0,0,0,0,0,0,0,0,0,0,0,0,0,0]
[null,null,1,"Yes. Code ‘yes only if the word ‘wife’, ‘husband’ is actually used to describe the person.",{"$f":"IF(E$50>0,E6/E$50,0)","v":0.19017616710314425},8.0380022016062827E-2,0,0,0,0,0,0,0,0,0,0,0,0,0,0]
[null,null,2,"NA – Use this where you are coding a secondary source only",{"$f":"IF(E$50>0,E7/E$50,0)","v":0},0,0,0,0,0,0,0,0,0,0,0,0,0,0,0]
[null,null,0,0,{"$f":"IF(E$50>0,E8/E$50,0)","v":0},0,0,0,0,0,0,0,0,0,0,0,0,0,0,0]
[null,null,0,0,{"$f":"IF(E$50>0,E9/E$50,0)","v":0},0,0,0,0,0,0,0,0,0,0,0,0,0,0,0]
[null,null,0,0,{"$f":"IF(E$50>0,E10/E$50,0)","v":0},0,0,0,0,0,0,0,0,0,0,0,0,0,0,0]
[null,null,0,0,{"$f":"IF(E$50>0,E11/E$50,0)","v":0},0,0,0,0,0,0,0,0,0,0,0,0,0,0,0]
[null,null,0,0,{"$f":"IF(E$50>0,E12/E$50,0)","v":0},0,0,0,0,0,0,0,0,0,0,0,0,0,0,0]
[null,null,0,0,{"$f":"IF(E$50>0,E13/E$50,0)","v":0},0,0,0,0,0,0,0,0,0,0,0,0,0,0,0]
[null,null,0,0,{"$f":"IF(E$50>0,E14/E$50,0)","v":0},0,0,0,0,0,0,0,0,0,0,0,0,0,0,0]
[null,null,0,0,{"$f":"IF(E$50>0,E15/E$50,0)","v":0},0,0,0,0,0,0,0,0,0,0,0,0,0,0,0]
[null,null,0,0,{"$f":"IF(E$50>0,E16/E$50,0)","v":0},0,0,0,0,0,0,0,0,0,0,0,0,0,0,0]
[null,null,0,0,{"$f":"IF(E$50>0,E17/E$50,0)","v":0},0,0,0,0,0,0,0,0,0,0,0,0,0,0,0]
[null,null,0,0,{"$f":"IF(E$50>0,E18/E$50,0)","v":0},0,0,0,0,0,0,0,0,0,0,0,0,0,0,0]
[null,null,0,0,{"$f":"IF(E$50>0,E19/E$50,0)","v":0},0,0,0,0,0,0,0,0,0,0,0,0,0,0,0]
[null,null,0,0,{"$f":"IF(E$50>0,E20/E$50,0)","v":0},0,0,0,0,0,0,0,0,0,0,0,0,0,0,0]
[null,null,0,0,{"$f":"IF(E$50>0,E21/E$50,0)","v":0},0,0,0,0,0,0,0,0,0,0,0,0,0,0,0]
[null,null,0,0,{"$f":"IF(E$50>0,E22/E$50,0)","v":0},0,0,0,0,0,0,0,0,0,0,0,0,0,0,0]
[null,null,0,0,{"$f":"IF(E$50>0,E23/E$50,0)","v":0},0,0,0,0,0,0,0,0,0,0,0,0,0,0,0]
[null,null,0,0,{"$f":"IF(E$50>0,E24/E$50,0)","v":0},0,0,0,0,0,0,0,0,0,0,0,0,0,0,0]
[null,null,{"$f":"C25","v":0},0,{"$f":"IF(E$50>0,E25/E$50,0)","v":0},0,0,0,0,0,0,0,0,0,0,0,0,0,0,0]
[null,null,0,0,{"$f":"IF(E$50>0,E26/E$50,0)","v":0},0,0,0,0,0,0,0,0,0,0,0,0,0,0,0]
[null,null,0,0,{"$f":"IF(E$50>0,E27/E$50,0)","v":0},0,0,0,0,0,0,0,0,0,0,0,0,0,0,0]
[null,null,0,0,{"$f":"IF(E$50>0,E28/E$50,0)","v":0},0,0,0,0,0,0,0,0,0,0,0,0,0,0,0]
[null,null,0,0,{"$f":"IF(E$50>0,E29/E$50,0)","v":0},0,0,0,0,0,0,0,0,0,0,0,0,0,0,0]
[null,null,0,0,{"$f":"IF(E$50>0,E30/E$50,0)","v":0},0,0,0,0,0,0,0,0,0,0,0,0,0,0,0]
[null,null,0,0,{"$f":"IF(E$50>0,E31/E$50,0)","v":0},0,0,0,0,0,0,0,0,0,0,0,0,0,0,0]
[null,null,0,0,{"$f":"IF(E$50>0,E32/E$50,0)","v":0},0,0,0,0,0,0,0,0,0,0,0,0,0,0,0]
[null,null,0,0,{"$f":"IF(E$50>0,E33/E$50,0)","v":0},0,0,0,0,0,0,0,0,0,0,0,0,0,0,0]
[null,null,0,0,{"$f":"IF(E$50>0,E34/E$50,0)","v":0},0,0,0,0,0,0,0,0,0,0,0,0,0,0,0]
[null,null,0,0,{"$f":"IF(E$50>0,E35/E$50,0)","v":0},0,0,0,0,0,0,0,0,0,0,0,0,0,0,0]
[null,null,0,0,{"$f":"IF(E$50>0,E36/E$50,0)","v":0},0,0,0,0,0,0,0,0,0,0,0,0,0,0,0]
[null,null,0,0,{"$f":"IF(E$50>0,E37/E$50,0)","v":0},0,0,0,0,0,0,0,0,0,0,0,0,0,0,0]
[null,null,0,0,{"$f":"IF(E$50>0,E38/E$50,0)","v":0},0,0,0,0,0,0,0,0,0,0,0,0,0,0,0]
[null,null,0,0,{"$f":"IF(E$50>0,E39/E$50,0)","v":0},0,0,0,0,0,0,0,0,0,0,0,0,0,0,0]
[null,null,0,0,{"$f":"IF(E$50>0,E40/E$50,0)","v":0},0,0,0,0,0,0,0,0,0,0,0,0,0,0,0]
[null,null,0,0,{"$f":"IF(E$50>0,E41/E$50,0)","v":0},0,0,0,0,0,0,0,0,0,0,0,0,0,0,0]
[null,null,0,0,{"$f":"IF(E$50>0,E42/E$50,0)","v":0},0,0,0,0,0,0,0,0,0,0,0,0,0,0,0]
[null,null,0,0,{"$f":"IF(E$50>0,E43/E$50,0)","v":0},0,0,0,0,0,0,0,0,0,0,0,0,0,0,0]
[null,null,0,0,{"$f":"IF(E$50>0,E44/E$50,0)","v":0},0,0,0,0,0,0,0,0,0,0,0,0,0,0,0]
[null,null,{"$f":"C45","v":0},0,{"$f":"IF(E$50>0,E45/E$50,0)","v":0},0,0,0,0,0,0,0,0,0,0,0,0,0,0,0]
[null,null,0,0,{"$f":"IF(E$50>0,E46/E$50,0)","v":0},0,0,0,0,0,0,0,0,0,0,0,0,0,0,0]
[null,null,0,0,{"$f":"IF(E$50>0,E47/E$50,0)","v":0},0,0,0,0,0,0,0,0,0,0,0,0,0,0,0]
[null,null,0,0,{"$f":"IF(E$50>0,E48/E$50,0)","v":0},0,0,0,0,0,0,0,0,0,0,0,0,0,0,0]
[null,null,0,0,{"$f":"IF(E$50>0,E49/E$50,0)","v":0},0,0,0,0,0,0,0,0,0,0,0,0,0,0,0]
[]
[]
[]
[]
[]
[]
[]
[]
[]
[]
[]
[]
["COUNT"]
[null,null,null,null,{"$f":"E3","v":"Female"},"Male",0,0,0,0,0,0,0,0,0,0,0,0,0,0]
[null,null,null,null,{"$f":"E4","v":0},0,0,0,0,0,0,0,0,0,0,0,0,0,0,0]
[null,null,{"$f":"C5","v":0},"No",76,217]
[null,null,1,"Yes. Code ‘yes only if the word ‘wife’, ‘husband’ is actually used to describe the person.",18,20]
[null,null,2,"NA – Use this where you are coding a secondary source only",0,0]
[null,null,0,0,0,0]
[null,null,0,0,0,0]
[null,null,0,0]
[null,null,0,0]
[null,null,0,0]
[null,null,0,0]
[null,null,0,0]
[null,null,0,0]
[null,null,0,0]
[null,null,0,0]
[null,null,0,0]
[null,null,0,0]
[null,null,0,0]
[null,null,0,0]
[null,null,0,0]
[null,null,0,0]
[null,null,0,0]
[null,null,{"$f":"C25","v":0},0]
[null,null,0,0]
[null,null,0,0]
[null,null,0,0]
[null,null,0,0]
[null,null,0,0]
[null,null,0,0]
[null,null,0,0]
[null,null,0,0]
[null,null,0,0]
[null,null,0,0]
[null,null,0,0]
[null,null,0,0]
[null,null,0,0]
[null,null,0,0]
[null,null,0,0]
[null,null,0,0]
[null,null,0,0]
[null,null,0,0]
[null,null,0,0]
[null,null,{"$f":"C45","v":0},0]
[null,null,0,0]
[null,null,0,0]

{"sheet":"9hF - Family status, by sex","index":19,"n_rows":8,"n_cols":13,"rows_kept":8,"cut":false,"hidden":false,"merged":[[1,5,1,9],[1,10,1,12]]}
[{"$f":"'9h'!$A$1","v":"News subjects who are identified by family status, by sex"}]
[null,null,null,null,null,"% Female",null,null,null,null,"% Male"]
[null,null,null,null,"Whether identified by family status",1995,2000,2005,2010,"N",2005,2010,"N"]
[null,null,null,null,"No",0,0,{"$f":"1-H5","v":0.83},{"$f":"'9h'!E52","v":0.80982383289685578},{"$f":"'9h'!E112","v":76},"XXX",{"$f":"'9h'!F52","v":0.91961997798393724},{"$f":"'9h'!F112","v":217}]
[null,null,null,null,"Yes",0,0,0.17,{"$f":"'9h'!E53","v":0.19017616710314425},{"$f":"'9h'!E113","v":18},"XXX",{"$f":"'9h'!F53","v":8.0380022016062827E-2},{"$f":"'9h'!F113","v":20}]
[null,null,null,null,"NA",0,0,"n/a",{"$f":"'9h'!E54","v":0},{"$f":"'9h'!E114","v":0},"n/a",{"$f":"'9h'!H54","v":0},{"$f":"'9h'!H114","v":0}]
[]
[null,null,null,null,null,0,0]

{"sheet":"9j","index":20,"n_rows":154,"n_cols":38,"rows_kept":154,"cut":false,"hidden":true,"merged":[]}
["Sex of news subjects in photographs & overall"]
[]
[null,null,null,null,"Female","Male",null,null,null,null,null,null,null,null,null,null,null,null,null,null,null,null,{"$f":"E3","v":"Female"},{"$f":"F3","v":"Male"}]
[null,null,null,null,null,null,null,null,null,null,null,null,null,null,null,null,null,null,null,null,null,"TOTAL",{"$f":"E4","v":0},{"$f":"F4","v":0}]
[null,null,0,"No",0.20934199355542699,0.60559648135677002,null,null,null,null,null,null,null,null,null,null,null,null,null,null,null,{"$f":"SUM(E5:O5)","v":0.81493847491219706},{"$f":"+E5/E$50","v":0.77777777777777812},{"$f":"+F5/F$50","v":0.75700934579439283}]
[null,null,1,"Yes",5.98119981586933E-2,0.19438899401575299,null,null,null,null,null,null,null,null,null,null,null,null,null,null,null,{"$f":"SUM(E6:O6)","v":0.25420099217444631},{"$f":"+E6/E$50","v":0.22222222222222185},{"$f":"+F6/F$50","v":0.24299065420560714}]
[null,null,2,"Don't know (e.g. there is a photo, but you are not sure if this person appears in it)",1.4952999539673301E-2,4.4858998619019999E-2,null,null,null,null,null,null,null,null,null,null,null,null,null,null,null,{"$f":"SUM(E7:O7)","v":5.98119981586933E-2}]
[null,null,3,"NA – Use this where you are coding a secondary source only"]
[]
[]
[]
[]
[]
[]
[]
[]
[]
[]
[]
[]
[]
[]
[]
[]
[]
[]
[]
[]
[]
[]
[]
[]
[]
[]
[]
[]
[]
[]
[]
[]
[]
[]
[]
[]
[]
[]
[]
[]
[]
[null,null,null,"TOTAL",{"$f":"SUM(E5:E6)","v":0.2691539917141203},{"$f":"SUM(F5:F6)","v":0.79998547537252307},{"$f":"SUM(G5:G49)","v":0},0,0,0,0,0,0,0,0,0,0,0,0,0,null,{"$f":"SUM(E50:O50)","v":1.0691394670866434},{"$f":"IF((E50+F50)>0,E50/(E50+F50),0)","v":0.25174825174825199},{"$f":"IF((E50+F50)>0,F50/(E50+F50),0)","v":0.74825174825174789},{"$f":"IF((G50+H50)>0,G50/(G50+H50),0)","v":0},{"$f":"IF((G50+H50)>0,H50/(G50+H50),0)","v":0},{"$f":"IF((I50+J50)>0,I50/(I50+J50),0)","v":0},{"$f":"IF((I50+J50)>0,J50/(I50+J50),0)","v":0},{"$f":"IF((K50+L50)>0,K50/(K50+L50),0)","v":0},{"$f":"IF((K50+L50)>0,L50/(K50+L50),0)","v":0},{"$f":"IF((M50+N50)>0,M50/(M50+N50),0)","v":0},{"$f":"IF((M50+N50)>0,N50/(M50+N50),0)","v":0},{"$f":"IF((O50+P50)>0,O50/(O50+P50),0)","v":0},{"$f":"IF((O50+P50)>0,P50/(O50+P50),0)","v":0},{"$f":"IF((Q50+R50)>0,Q50/(Q50+R50),0)","v":0},{"$f":"IF((Q50+R50)>0,R50/(Q50+R50),0)","v":0},{"$f":"IF((S50+T50)>0,S50/(S50+T50),0)","v":0},{"$f":"IF((S50+T50)>0,T50/(S50+T50),0)","v":0}]
[]
[null,null,{"$f":"C5","v":0},"No",{"$f":"IF(E$50>0,E5/E$50,0)","v":0.77777777777777812},0.75700934579439283,0,0,0,0,0,0,0,0,0,0,0,0,0,0]
[null,null,1,"Yes",{"$f":"IF(E$50>0,E6/E$50,0)","v":0.22222222222222185},0.24299065420560714,0,0,0,0,0,0,0,0,0,0,0,0,0,0]
[null,null,2,"Don't know (e.g. there is a photo, but you are not sure if this person appears in it)",{"$f":"IF(E$50>0,E7/E$50,0)","v":5.5555555555555372E-2},5.6074766355140207E-2,0,0,0,0,0,0,0,0,0,0,0,0,0,0]
[null,null,3,"NA – Use this where you are coding a secondary source only",{"$f":"IF(E$50>0,E8/E$50,0)","v":0},0,0,0,0,0,0,0,0,0,0,0,0,0,0,0]
[null,null,0,0,{"$f":"IF(E$50>0,E9/E$50,0)","v":0},0,0,0,0,0,0,0,0,0,0,0,0,0,0,0]
[null,null,0,0,{"$f":"IF(E$50>0,E10/E$50,0)","v":0},0,0,0,0,0,0,0,0,0,0,0,0,0,0,0]
[null,null,0,0,{"$f":"IF(E$50>0,E11/E$50,0)","v":0},0,0,0,0,0,0,0,0,0,0,0,0,0,0,0]
[null,null,0,0,{"$f":"IF(E$50>0,E12/E$50,0)","v":0},0,0,0,0,0,0,0,0,0,0,0,0,0,0,0]
[null,null,0,0,{"$f":"IF(E$50>0,E13/E$50,0)","v":0},0,0,0,0,0,0,0,0,0,0,0,0,0,0,0]
[null,null,0,0,{"$f":"IF(E$50>0,E14/E$50,0)","v":0},0,0,0,0,0,0,0,0,0,0,0,0,0,0,0]
[null,null,0,0,{"$f":"IF(E$50>0,E15/E$50,0)","v":0},0,0,0,0,0,0,0,0,0,0,0,0,0,0,0]
[null,null,0,0,{"$f":"IF(E$50>0,E16/E$50,0)","v":0},0,0,0,0,0,0,0,0,0,0,0,0,0,0,0]
[null,null,0,0,{"$f":"IF(E$50>0,E17/E$50,0)","v":0},0,0,0,0,0,0,0,0,0,0,0,0,0,0,0]
[null,null,0,0,{"$f":"IF(E$50>0,E18/E$50,0)","v":0},0,0,0,0,0,0,0,0,0,0,0,0,0,0,0]
[null,null,0,0,{"$f":"IF(E$50>0,E19/E$50,0)","v":0},0,0,0,0,0,0,0,0,0,0,0,0,0,0,0]
[null,null,0,0,{"$f":"IF(E$50>0,E20/E$50,0)","v":0},0,0,0,0,0,0,0,0,0,0,0,0,0,0,0]
[null,null,0,0,{"$f":"IF(E$50>0,E21/E$50,0)","v":0},0,0,0,0,0,0,0,0,0,0,0,0,0,0,0]
[null,null,0,0,{"$f":"IF(E$50>0,E22/E$50,0)","v":0},0,0,0,0,0,0,0,0,0,0,0,0,0,0,0]
[null,null,0,0,{"$f":"IF(E$50>0,E23/E$50,0)","v":0},0,0,0,0,0,0,0,0,0,0,0,0,0,0,0]
[null,null,0,0,{"$f":"IF(E$50>0,E24/E$50,0)","v":0},0,0,0,0,0,0,0,0,0,0,0,0,0,0,0]
[null,null,{"$f":"C25","v":0},0,{"$f":"IF(E$50>0,E25/E$50,0)","v":0},0,0,0,0,0,0,0,0,0,0,0,0,0,0,0]
[null,null,0,0,{"$f":"IF(E$50>0,E26/E$50,0)","v":0},0,0,0,0,0,0,0,0,0,0,0,0,0,0,0]
[null,null,0,0,{"$f":"IF(E$50>0,E27/E$50,0)","v":0},0,0,0,0,0,0,0,0,0,0,0,0,0,0,0]
[null,null,0,0,{"$f":"IF(E$50>0,E28/E$50,0)","v":0},0,0,0,0,0,0,0,0,0,0,0,0,0,0,0]
[null,null,0,0,{"$f":"IF(E$50>0,E29/E$50,0)","v":0},0,0,0,0,0,0,0,0,0,0,0,0,0,0,0]
[null,null,0,0,{"$f":"IF(E$50>0,E30/E$50,0)","v":0},0,0,0,0,0,0,0,0,0,0,0,0,0,0,0]
[null,null,0,0,{"$f":"IF(E$50>0,E31/E$50,0)","v":0},0,0,0,0,0,0,0,0,0,0,0,0,0,0,0]
[null,null,0,0,{"$f":"IF(E$50>0,E32/E$50,0)","v":0},0,0,0,0,0,0,0,0,0,0,0,0,0,0,0]
[null,null,0,0,{"$f":"IF(E$50>0,E33/E$50,0)","v":0},0,0,0,0,0,0,0,0,0,0,0,0,0,0,0]
[null,null,0,0,{"$f":"IF(E$50>0,E34/E$50,0)","v":0},0,0,0,0,0,0,0,0,0,0,0,0,0,0,0]
[null,null,0,0,{"$f":"IF(E$50>0,E35/E$50,0)","v":0},0,0,0,0,0,0,0,0,0,0,0,0,0,0,0]
[null,null,0,0,{"$f":"IF(E$50>0,E36/E$50,0)","v":0},0,0,0,0,0,0,0,0,0,0,0,0,0,0,0]
[null,null,0,0,{"$f":"IF(E$50>0,E37/E$50,0)","v":0},0,0,0,0,0,0,0,0,0,0,0,0,0,0,0]
[null,null,0,0,{"$f":"IF(E$50>0,E38/E$50,0)","v":0},0,0,0,0,0,0,0,0,0,0,0,0,0,0,0]
[null,null,0,0,{"$f":"IF(E$50>0,E39/E$50,0)","v":0},0,0,0,0,0,0,0,0,0,0,0,0,0,0,0]
[null,null,0,0,{"$f":"IF(E$50>0,E40/E$50,0)","v":0},0,0,0,0,0,0,0,0,0,0,0,0,0,0,0]
[null,null,0,0,{"$f":"IF(E$50>0,E41/E$50,0)","v":0},0,0,0,0,0,0,0,0,0,0,0,0,0,0,0]
[null,null,0,0,{"$f":"IF(E$50>0,E42/E$50,0)","v":0},0,0,0,0,0,0,0,0,0,0,0,0,0,0,0]
[null,null,0,0,{"$f":"IF(E$50>0,E43/E$50,0)","v":0},0,0,0,0,0,0,0,0,0,0,0,0,0,0,0]
[null,null,0,0,{"$f":"IF(E$50>0,E44/E$50,0)","v":0},0,0,0,0,0,0,0,0,0,0,0,0,0,0,0]
[null,null,{"$f":"C45","v":0},0,{"$f":"IF(E$50>0,E45/E$50,0)","v":0},0,0,0,0,0,0,0,0,0,0,0,0,0,0,0]
[null,null,0,0,{"$f":"IF(E$50>0,E46/E$50,0)","v":0},0,0,0,0,0,0,0,0,0,0,0,0,0,0,0]
[null,null,0,0,{"$f":"IF(E$50>0,E47/E$50,0)","v":0},0,0,0,0,0,0,0,0,0,0,0,0,0,0,0]
[null,null,0,0,{"$f":"IF(E$50>0,E48/E$50,0)","v":0},0,0,0,0,0,0,0,0,0,0,0,0,0,0,0]
[null,null,0,0,{"$f":"IF(E$50>0,E49/E$50,0)","v":0},0,0,0,0,0,0,0,0,0,0,0,0,0,0,0]
[]
[]
[]
[]
[]
[]
[]
[]
[]
[]
[]
[]
["COUNT"]
[null,null,null,null,{"$f":"E3","v":"Female"},"Male",0,0,0,0,0,0,0,0,0,0,0,0,0,0]
[null,null,null,null,{"$f":"E4","v":0},0,0,0,0,0,0,0,0,0,0,0,0,0,0,0]
[null,null,{"$f":"C5","v":0},"No",28,81]
[null,null,1,"Yes",8,26]
[null,null,2,"Don't know (e.g. there is a photo, but you are not sure if this person appears in it)",2,6]
[null,null,3,"NA – Use this where you are coding a secondary source only",0,0]
[null,null,0,0,0,0]
[null,null,0,0]
[null,null,0,0]
[null,null,0,0]
[null,null,0,0]
[null,null,0,0]
[null,null,0,0]
[null,null,0,0]
[null,null,0,0]
[null,null,0,0]
[null,null,0,0]
[null,null,0,0]
[null,null,0,0]
[null,null,0,0]
[null,null,0,0]
[null,null,0,0]
[null,null,{"$f":"C25","v":0},0]
[null,null,0,0]
[null,null,0,0]
[null,null,0,0]
[null,null,0,0]
[null,null,0,0]
[null,null,0,0]
[null,null,0,0]
[null,null,0,0]
[null,null,0,0]
[null,null,0,0]
[null,null,0,0]
[null,null,0,0]
[null,null,0,0]
[null,null,0,0]
[null,null,0,0]
[null,null,0,0]
[null,null,0,0]
[null,null,0,0]
[null,null,0,0]
[null,null,{"$f":"C45","v":0},0]
[null,null,0,0]
[null,null,0,0]

{"sheet":"9jF - Photographs","index":21,"n_rows":12,"n_cols":15,"rows_kept":12,"cut":false,"hidden":false,"merged":[[1,5,1,9],[1,10,1,14]]}
["News subjects appearing in photographs"]
[null,null,null,null,null,"% Female",null,null,null,null,"% Male"]
[null,null,null,null,"Whether photographed",1995,2000,2005,2010,"N",1995,2000,2005,2010,"N"]
[]
[null,null,null,null,"No",0,0.75,{"$f":"1-H6","v":0.77},{"$f":"'9j'!W5","v":0.77777777777777812},{"$f":"'9j'!E112","v":28},0,0.89,{"$f":"1-M6","v":0.84},{"$f":"'9j'!X5","v":0.75700934579439283},{"$f":"'9j'!F112","v":81}]
[null,null,null,null,"Yes",0,0.25,0.23,{"$f":"'9j'!W6","v":0.22222222222222185},{"$f":"'9j'!E113","v":8},0,0.11,0.16,{"$f":"'9j'!X6","v":0.24299065420560714},{"$f":"'9j'!F113","v":26}]
[null,null,null,null,"Don't know ",0,"n/a","n/a",{"$f":"'9j'!W7","v":0},{"$f":"'9j'!E114","v":2},0,"n/a","n/a",{"$f":"'9j'!X7","v":0},{"$f":"'9j'!F114","v":6}]
[]
[]
[]
[]
[null,null,null,null,null,null,"Data from 1995 not the same query"]

{"sheet":"9k","index":22,"n_rows":154,"n_cols":38,"rows_kept":154,"cut":false,"hidden":true,"merged":[[2,4,2,5],[2,6,2,7]]}
["News subjects who are identified by family status, by sex by sex of reporter"]
[]
[null,null,null,"JA Sex","Female",null,"Male",null,null,null,null,null,null,null,null,null,null,null,null,null,null,null,{"$f":"E3","v":"Female"},0,"Male",0,0,0,0,0,0,0,0,0,0,0,0]
[null,null,null,"Subject Sex","Female","Male","Female","Male",null,null,null,null,null,null,null,null,null,null,null,null,null,"TOTAL","Female","Male","Female","Male",0,0,0,0,0,0,0,0,0,0,0,{"$f":"T4","v":0}]
[null,null,0,"No",4.4858998619019999E-2,0.18691249424591699,0.12710049608722301,0.50840198434889305,null,null,null,null,null,null,null,null,null,null,null,null,null,{"$f":"SUM(E5:O5)","v":0.86727397330105305},{"$f":"IF((E5+F5)>0,E5/(E5+F5),0)","v":0.19354838709677394},{"$f":"IF((E5+F5)>0,F5/(E5+F5),0)","v":0.80645161290322609},{"$f":"IF((G5+H5)>0,G5/(G5+H5),0)","v":0.19999999999999971},{"$f":"IF((G5+H5)>0,H5/(G5+H5),0)","v":0.80000000000000038},{"$f":"IF((I5+J5)>0,I5/(I5+J5),0)","v":0},{"$f":"IF((I5+J5)>0,J5/(I5+J5),0)","v":0},{"$f":"IF((K5+L5)>0,K5/(K5+L5),0)","v":0},{"$f":"IF((K5+L5)>0,L5/(K5+L5),0)","v":0},{"$f":"IF((M5+N5)>0,M5/(M5+N5),0)","v":0},{"$f":"IF((M5+N5)>0,N5/(M5+N5),0)","v":0},{"$f":"IF((O5+P5)>0,O5/(O5+P5),0)","v":0},{"$f":"IF((O5+P5)>0,P5/(O5+P5),0)","v":0},{"$f":"IF((Q5+R5)>0,Q5/(Q5+R5),0)","v":0},{"$f":"IF((Q5+R5)>0,R5/(Q5+R5),0)","v":0},{"$f":"IF((S5+T5)>0,S5/(S5+T5),0)","v":0},{"$f":"IF((S5+T5)>0,T5/(S5+T5),0)","v":0}]
[null,null,1,"Yes. Code ‘yes only if the word ‘wife’, ‘husband’ is actually used to describe the person.",7.4764997698366599E-3,null,2.9905999079346698E-2,5.2335498388856601E-2,null,null,null,null,null,null,null,null,null,null,null,null,null,8.9717997238039957E-2,1,0,0.36363636363636415,0.6363636363636358,0,0,0,0,0,0,0,0,0,0,0,0]
[null,null,2,"NA – Use this where you are coding a secondary source only",null,null,null,null,null,null,null,null,null,null,null,null,null,null,null,null,null,0,0,0,0,0,0,0,0,0,0,0,0,0,0,0,0,0]
[null,null,null,null,null,null,null,null,null,null,null,null,null,null,null,null,null,null,null,null,null,0,0,0,0,0,0,0,0,0,0,0,0,0,0,0,0,0]
[null,null,null,null,null,null,null,null,null,null,null,null,null,null,null,null,null,null,null,null,null,0,0,0,0,0,0,0,0,0,0,0,0,0,0,0,0,0]
[null,null,null,null,null,null,null,null,null,null,null,null,null,null,null,null,null,null,null,null,null,0,0,0,0,0,0,0,0,0,0,0,0,0,0,0,0,0]
[null,null,null,null,null,null,null,null,null,null,null,null,null,null,null,null,null,null,null,null,null,0,0,0,0,0,0,0,0,0,0,0,0,0,0,0,0,0]
[null,null,null,null,null,null,null,null,null,null,null,null,null,null,null,null,null,null,null,null,null,0,0,0,0,0,0,0,0,0,0,0,0,0,0,0,0,0]
[]
[]
[]
[]
[]
[]
[]
[]
[]
[]
[]
[]
[]
[]
[]
[]
[]
[]
[]
[]
[]
[]
[]
[]
[]
[]
[]
[]
[]
[]
[]
[]
[]
[]
[]
[]
[]
[null,null,null,"TOTAL",{"$f":"SUM(E5:E6)","v":5.2335498388856656E-2},{"$f":"SUM(F5:F6)","v":0.18691249424591699},{"$f":"SUM(G5:G6)","v":0.15700649516656973},0.5607374827377497,0,0,0,0,0,0,0,0,0,0,0,{"$f":"SUM(T5:T49)","v":0},null,{"$f":"SUM(E50:O50)","v":0.95699197053909302},{"$f":"IF((E50+F50)>0,E50/(E50+F50),0)","v":0.21874999999999967},{"$f":"IF((E50+F50)>0,F50/(E50+F50),0)","v":0.78125000000000033},{"$f":"IF((G50+H50)>0,G50/(G50+H50),0)","v":0.21874999999999981},{"$f":"IF((G50+H50)>0,H50/(G50+H50),0)","v":0.78125000000000022},{"$f":"IF((I50+J50)>0,I50/(I50+J50),0)","v":0},{"$f":"IF((I50+J50)>0,J50/(I50+J50),0)","v":0},{"$f":"IF((K50+L50)>0,K50/(K50+L50),0)","v":0},{"$f":"IF((K50+L50)>0,L50/(K50+L50),0)","v":0},{"$f":"IF((M50+N50)>0,M50/(M50+N50),0)","v":0},{"$f":"IF((M50+N50)>0,N50/(M50+N50),0)","v":0},{"$f":"IF((O50+P50)>0,O50/(O50+P50),0)","v":0},{"$f":"IF((O50+P50)>0,P50/(O50+P50),0)","v":0},{"$f":"IF((Q50+R50)>0,Q50/(Q50+R50),0)","v":0},{"$f":"IF((Q50+R50)>0,R50/(Q50+R50),0)","v":0},{"$f":"IF((S50+T50)>0,S50/(S50+T50),0)","v":0},{"$f":"IF((S50+T50)>0,T50/(S50+T50),0)","v":0}]
[]
[null,null,{"$f":"C5","v":0},"No",{"$f":"IF(E$50>0,E5/E$50,0)","v":0.85714285714285732},1,0.80952380952380887,0.90666666666666662,0,0,0,0,0,0,0,0,0,0,0,0]
[null,null,1,"Yes. Code ‘yes only if the word ‘wife’, ‘husband’ is actually used to describe the person.",{"$f":"IF(E$50>0,E6/E$50,0)","v":0.14285714285714277},0,0.19047619047619102,9.3333333333333268E-2,0,0,0,0,0,0,0,0,0,0,0,0]
[null,null,2,"NA – Use this where you are coding a secondary source only",{"$f":"IF(E$50>0,E7/E$50,0)","v":0},0,0,0,0,0,0,0,0,0,0,0,0,0,0,0]
[null,null,0,0,{"$f":"IF(E$50>0,E8/E$50,0)","v":0},0,0,0,0,0,0,0,0,0,0,0,0,0,0,0]
[null,null,0,0,{"$f":"IF(E$50>0,E9/E$50,0)","v":0},0,0,0,0,0,0,0,0,0,0,0,0,0,0,0]
[null,null,0,0,{"$f":"IF(E$50>0,E10/E$50,0)","v":0},0,0,0,0,0,0,0,0,0,0,0,0,0,0,0]
[null,null,0,0,{"$f":"IF(E$50>0,E11/E$50,0)","v":0},0,0,0,0,0,0,0,0,0,0,0,0,0,0,0]
[null,null,0,0,{"$f":"IF(E$50>0,E12/E$50,0)","v":0},0,0,0,0,0,0,0,0,0,0,0,0,0,0,0]
[null,null,0,0,{"$f":"IF(E$50>0,E13/E$50,0)","v":0},0,0,0,0,0,0,0,0,0,0,0,0,0,0,0]
[null,null,0,0,{"$f":"IF(E$50>0,E14/E$50,0)","v":0},0,0,0,0,0,0,0,0,0,0,0,0,0,0,0]
[null,null,0,0,{"$f":"IF(E$50>0,E15/E$50,0)","v":0},0,0,0,0,0,0,0,0,0,0,0,0,0,0,0]
[null,null,0,0,{"$f":"IF(E$50>0,E16/E$50,0)","v":0},0,0,0,0,0,0,0,0,0,0,0,0,0,0,0]
[null,null,0,0,{"$f":"IF(E$50>0,E17/E$50,0)","v":0},0,0,0,0,0,0,0,0,0,0,0,0,0,0,0]
[null,null,0,0,{"$f":"IF(E$50>0,E18/E$50,0)","v":0},0,0,0,0,0,0,0,0,0,0,0,0,0,0,0]
[null,null,0,0,{"$f":"IF(E$50>0,E19/E$50,0)","v":0},0,0,0,0,0,0,0,0,0,0,0,0,0,0,0]
[null,null,0,0,{"$f":"IF(E$50>0,E20/E$50,0)","v":0},0,0,0,0,0,0,0,0,0,0,0,0,0,0,0]
[null,null,0,0,{"$f":"IF(E$50>0,E21/E$50,0)","v":0},0,0,0,0,0,0,0,0,0,0,0,0,0,0,0]
[null,null,0,0,{"$f":"IF(E$50>0,E22/E$50,0)","v":0},0,0,0,0,0,0,0,0,0,0,0,0,0,0,0]
[null,null,0,0,{"$f":"IF(E$50>0,E23/E$50,0)","v":0},0,0,0,0,0,0,0,0,0,0,0,0,0,0,0]
[null,null,0,0,{"$f":"IF(E$50>0,E24/E$50,0)","v":0},0,0,0,0,0,0,0,0,0,0,0,0,0,0,0]
[null,null,{"$f":"C25","v":0},0,{"$f":"IF(E$50>0,E25/E$50,0)","v":0},0,0,0,0,0,0,0,0,0,0,0,0,0,0,0]
[null,null,0,0,{"$f":"IF(E$50>0,E26/E$50,0)","v":0},0,0,0,0,0,0,0,0,0,0,0,0,0,0,0]
[null,null,0,0,{"$f":"IF(E$50>0,E27/E$50,0)","v":0},0,0,0,0,0,0,0,0,0,0,0,0,0,0,0]
[null,null,0,0,{"$f":"IF(E$50>0,E28/E$50,0)","v":0},0,0,0,0,0,0,0,0,0,0,0,0,0,0,0]
[null,null,0,0,{"$f":"IF(E$50>0,E29/E$50,0)","v":0},0,0,0,0,0,0,0,0,0,0,0,0,0,0,0]
[null,null,0,0,{"$f":"IF(E$50>0,E30/E$50,0)","v":0},0,0,0,0,0,0,0,0,0,0,0,0,0,0,0]
[null,null,0,0,{"$f":"IF(E$50>0,E31/E$50,0)","v":0},0,0,0,0,0,0,0,0,0,0,0,0,0,0,0]
[null,null,0,0,{"$f":"IF(E$50>0,E32/E$50,0)","v":0},0,0,0,0,0,0,0,0,0,0,0,0,0,0,0]
[null,null,0,0,{"$f":"IF(E$50>0,E33/E$50,0)","v":0},0,0,0,0,0,0,0,0,0,0,0,0,0,0,0]
[null,null,0,0,{"$f":"IF(E$50>0,E34/E$50,0)","v":0},0,0,0,0,0,0,0,0,0,0,0,0,0,0,0]
[null,null,0,0,{"$f":"IF(E$50>0,E35/E$50,0)","v":0},0,0,0,0,0,0,0,0,0,0,0,0,0,0,0]
[null,null,0,0,{"$f":"IF(E$50>0,E36/E$50,0)","v":0},0,0,0,0,0,0,0,0,0,0,0,0,0,0,0]
[null,null,0,0,{"$f":"IF(E$50>0,E37/E$50,0)","v":0},0,0,0,0,0,0,0,0,0,0,0,0,0,0,0]
[null,null,0,0,{"$f":"IF(E$50>0,E38/E$50,0)","v":0},0,0,0,0,0,0,0,0,0,0,0,0,0,0,0]
[null,null,0,0,{"$f":"IF(E$50>0,E39/E$50,0)","v":0},0,0,0,0,0,0,0,0,0,0,0,0,0,0,0]
[null,null,0,0,{"$f":"IF(E$50>0,E40/E$50,0)","v":0},0,0,0,0,0,0,0,0,0,0,0,0,0,0,0]
[null,null,0,0,{"$f":"IF(E$50>0,E41/E$50,0)","v":0},0,0,0,0,0,0,0,0,0,0,0,0,0,0,0]
[null,null,0,0,{"$f":"IF(E$50>0,E42/E$50,0)","v":0},0,0,0,0,0,0,0,0,0,0,0,0,0,0,0]
[null,null,0,0,{"$f":"IF(E$50>0,E43/E$50,0)","v":0},0,0,0,0,0,0,0,0,0,0,0,0,0,0,0]
[null,null,0,0,{"$f":"IF(E$50>0,E44/E$50,0)","v":0},0,0,0,0,0,0,0,0,0,0,0,0,0,0,0]
[null,null,{"$f":"C45","v":0},0,{"$f":"IF(E$50>0,E45/E$50,0)","v":0},0,0,0,0,0,0,0,0,0,0,0,0,0,0,0]
[null,null,0,0,{"$f":"IF(E$50>0,E46/E$50,0)","v":0},0,0,0,0,0,0,0,0,0,0,0,0,0,0,0]
[null,null,0,0,{"$f":"IF(E$50>0,E47/E$50,0)","v":0},0,0,0,0,0,0,0,0,0,0,0,0,0,0,0]
[null,null,0,0,{"$f":"IF(E$50>0,E48/E$50,0)","v":0},0,0,0,0,0,0,0,0,0,0,0,0,0,0,0]
[null,null,0,0,{"$f":"IF(E$50>0,E49/E$50,0)","v":0},0,0,0,0,0,0,0,0,0,0,0,0,0,0,0]
[]
[]
[]
[]
[]
[]
[]
[]
[]
[]
[]
[]
["COUNT"]
[null,null,null,null,{"$f":"E3","v":"Female"},0,"Male",0,0,0,0,0,0,0,0,0,0,0,0,0]
[null,null,null,null,{"$f":"E4","v":"Female"},"Male","Female","Male",0,0,0,0,0,0,0,0,0,0,0,0]
[null,null,{"$f":"C5","v":0},"No",6,25,17,68,0,0,0,0,0,0,0,0,0,0,0,0]
[null,null,1,"Yes. Code ‘yes only if the word ‘wife’, ‘husband’ is actually used to describe the person.",1,0,4,7,0,0,0,0,0,0,0,0,0,0,0,0]
[null,null,2,"NA – Use this where you are coding a secondary source only",0,0,0,0,0,0,0,0,0,0,0,0,0,0,0,0]
[null,null,0,0,0,0,0,0,0,0,0,0,0,0,0,0,0,0,0,0]
[null,null,0,0,0,0,0,0,0,0,0,0,0,0,0,0,0,0,0,0]
[null,null,0,0,0,0,0,0,0,0,0,0,0,0,0,0,0,0,0,0]
[null,null,0,0,0,0,0,0,0,0,0,0,0,0,0,0,0,0,0,0]
[null,null,0,0,0,0,0,0,0,0,0,0,0,0,0,0,0,0,0,0]
[null,null,0,0]
[null,null,0,0]
[null,null,0,0]
[null,null,0,0]
[null,null,0,0]
[null,null,0,0]
[null,null,0,0]
[null,null,0,0]
[null,null,0,0]
[null,null,0,0]
[null,null,0,0]
[null,null,0,0]
[null,null,{"$f":"C25","v":0},0]
[null,null,0,0]
[null,null,0,0]
[null,null,0,0]
[null,null,0,0]
[null,null,0,0]
[null,null,0,0]
[null,null,0,0]
[null,null,0,0]
[null,null,0,0]
[null,null,0,0]
[null,null,0,0]
[null,null,0,0]
[null,null,0,0]
[null,null,0,0]
[null,null,0,0]
[null,null,0,0]
[null,null,0,0]
[null,null,0,0]
[null,null,0,0]
[null,null,{"$f":"C45","v":0},0]
[null,null,0,0]
[null,null,0,0]

{"sheet":"9kF - Family status, by sex","index":23,"n_rows":7,"n_cols":22,"rows_kept":7,"cut":false,"hidden":false,"merged":[[2,4,2,7],[3,4,3,5],[3,6,3,7],[3,19,3,20],[2,8,2,11],[3,8,3,9],[3,10,3,11],[2,12,2,15],[3,12,3,13],[3,14,3,15],[2,16,2,21],[3,16,3,17]]}
[{"$f":"'9k'!A1","v":"News subjects who are identified by family status, by sex by sex of reporter"}]
[]
[null,null,null,"Year",1995,null,null,null,2000,null,null,null,2005,null,null,null,2010]
[null,null,null,"Sex of reporter/announcer","Female",null,"Male",null,"Female",null,"Male",null,"Female",null,"Male",null,"Female",null,null,"Male"]
[null,null,null,"Sex of news subject","Female","Male","Female","Male","Female","Male","Female","Male","Female","Male","Female","Male","Female","Male","N","Female","Male","N"]
[null,null,null,"No",0,0,0,0,0,0,0,0,0,0,0,0,{"$f":"'9k'!E52","v":0.85714285714285732},{"$f":"'9k'!F52","v":1},{"$f":"'9k'!E112+'9k'!F112","v":31},{"$f":"'9k'!G52","v":0.80952380952380887},{"$f":"'9k'!H52","v":0.90666666666666662},{"$f":"'9k'!G112+'9k'!H112","v":85}]
[null,null,null,"Yes",0,0,0,0,0,0,0,0,0,0,0,0,{"$f":"'9k'!E53","v":0.14285714285714277},{"$f":"'9k'!F53","v":0},{"$f":"'9k'!E113+'9k'!F113","v":1},{"$f":"'9k'!G53","v":0.19047619047619102},{"$f":"'9k'!H53","v":9.3333333333333268E-2},{"$f":"'9k'!G113+'9k'!H113","v":11}]

{"sheet":"10a","index":24,"n_rows":154,"n_cols":38,"rows_kept":154,"cut":false,"hidden":true,"merged":[]}
["Presenters in broadcasting, by sex"]
[]
[null,null,null,null,"Female","Male",null,null,null,null,null,null,null,null,null,null,null,null,null,null,null,null,{"$f":"E3","v":"Female"},"Male",0,0,0,0,0,0,0,0,0,0,0,0,0]
[null,null,null,null,null,null,null,null,null,null,null,null,null,null,null,null,null,null,null,null,null,"TOTAL",0,0,0,0,0,0,0,0,0,0,0,0,0,0,0,{"$f":"T4","v":0}]
[null,null,1,"Africa",null,null,null,null,null,null,null,null,null,null,null,null,null,null,null,null,null,{"$f":"SUM(E5:O5)","v":0},{"$f":"IF((E5+F5)>0,E5/(E5+F5),0)","v":0},{"$f":"IF((E5+F5)>0,F5/(E5+F5),0)","v":0},{"$f":"IF((G5+H5)>0,G5/(G5+H5),0)","v":0},{"$f":"IF((G5+H5)>0,H5/(G5+H5),0)","v":0},{"$f":"IF((I5+J5)>0,I5/(I5+J5),0)","v":0},{"$f":"IF((I5+J5)>0,J5/(I5+J5),0)","v":0},{"$f":"IF((K5+L5)>0,K5/(K5+L5),0)","v":0},{"$f":"IF((K5+L5)>0,L5/(K5+L5),0)","v":0},{"$f":"IF((M5+N5)>0,M5/(M5+N5),0)","v":0},{"$f":"IF((M5+N5)>0,N5/(M5+N5),0)","v":0},{"$f":"IF((O5+P5)>0,O5/(O5+P5),0)","v":0},{"$f":"IF((O5+P5)>0,P5/(O5+P5),0)","v":0},{"$f":"IF((Q5+R5)>0,Q5/(Q5+R5),0)","v":0},{"$f":"IF((Q5+R5)>0,R5/(Q5+R5),0)","v":0},{"$f":"IF((S5+T5)>0,S5/(S5+T5),0)","v":0},{"$f":"IF((S5+T5)>0,T5/(S5+T5),0)","v":0}]
[null,null,2,"Asia",null,null,null,null,null,null,null,null,null,null,null,null,null,null,null,null,null,0,0,0,0,0,0,0,0,0,0,0,0,0,0,0,0,0]
[null,null,3,"Caribbean",null,null,null,null,null,null,null,null,null,null,null,null,null,null,null,null,null,0,0,0,0,0,0,0,0,0,0,0,0,0,0,0,0,0]
[null,null,4,"Europe",0.31430000578984602,0.51560000516474203,null,null,null,null,null,null,null,null,null,null,null,null,null,null,null,0.82990001095458799,0.37872032972782366,0.62127967027217645,0,0,0,0,0,0,0,0,0,0,0,0,0,0]
[null,null,5,"Latin America",null,null,null,null,null,null,null,null,null,null,null,null,null,null,null,null,null,0,0,0,0,0,0,0,0,0,0,0,0,0,0,0,0,0]
[null,null,6,"Middle East",null,null,null,null,null,null,null,null,null,null,null,null,null,null,null,null,null,0,0,0,0,0,0,0,0,0,0,0,0,0,0,0,0,0]
[null,null,7,"North America",null,null,null,null,null,null,null,null,null,null,null,null,null,null,null,null,null,0,0,0,0,0,0,0,0,0,0,0,0,0,0,0,0,0]
[null,null,8,"Pacific",null,null,null,null,null,null,null,null,null,null,null,null,null,null,null,null,null,0,0,0,0,0,0,0,0,0,0,0,0,0,0,0,0,0]
[]
[]
[]
[]
[]
[]
[]
[]
[]
[]
[]
[]
[]
[]
[]
[]
[]
[]
[]
[]
[]
[]
[]
[]
[]
[]
[]
[]
[]
[]
[]
[]
[]
[]
[]
[]
[]
[null,null,null,"TOTAL",{"$f":"SUM(E5:E49)","v":0.31430000578984602},0.51560000516474203,0,0,0,0,0,0,0,0,0,0,0,0,0,0,null,{"$f":"SUM(E50:O50)","v":0.82990001095458799},{"$f":"IF((E50+F50)>0,E50/(E50+F50),0)","v":0.37872032972782366},{"$f":"IF((E50+F50)>0,F50/(E50+F50),0)","v":0.62127967027217645},{"$f":"IF((G50+H50)>0,G50/(G50+H50),0)","v":0},{"$f":"IF((G50+H50)>0,H50/(G50+H50),0)","v":0},{"$f":"IF((I50+J50)>0,I50/(I50+J50),0)","v":0},{"$f":"IF((I50+J50)>0,J50/(I50+J50),0)","v":0},{"$f":"IF((K50+L50)>0,K50/(K50+L50),0)","v":0},{"$f":"IF((K50+L50)>0,L50/(K50+L50),0)","v":0},{"$f":"IF((M50+N50)>0,M50/(M50+N50),0)","v":0},{"$f":"IF((M50+N50)>0,N50/(M50+N50),0)","v":0},{"$f":"IF((O50+P50)>0,O50/(O50+P50),0)","v":0},{"$f":"IF((O50+P50)>0,P50/(O50+P50),0)","v":0},{"$f":"IF((Q50+R50)>0,Q50/(Q50+R50),0)","v":0},{"$f":"IF((Q50+R50)>0,R50/(Q50+R50),0)","v":0},{"$f":"IF((S50+T50)>0,S50/(S50+T50),0)","v":0},{"$f":"IF((S50+T50)>0,T50/(S50+T50),0)","v":0}]
[]
[null,null,{"$f":"C5","v":1},"Africa",{"$f":"IF(E$50>0,E5/E$50,0)","v":0},0,0,0,0,0,0,0,0,0,0,0,0,0,0,0]
[null,null,2,"Asia",{"$f":"IF(E$50>0,E6/E$50,0)","v":0},0,0,0,0,0,0,0,0,0,0,0,0,0,0,0]
[null,null,3,"Caribbean",{"$f":"IF(E$50>0,E7/E$50,0)","v":0},0,0,0,0,0,0,0,0,0,0,0,0,0,0,0]
[null,null,4,"Europe",{"$f":"IF(E$50>0,E8/E$50,0)","v":1},1,0,0,0,0,0,0,0,0,0,0,0,0,0,0]
[null,null,5,"Latin America",{"$f":"IF(E$50>0,E9/E$50,0)","v":0},0,0,0,0,0,0,0,0,0,0,0,0,0,0,0]
[null,null,6,"Middle East",{"$f":"IF(E$50>0,E10/E$50,0)","v":0},0,0,0,0,0,0,0,0,0,0,0,0,0,0,0]
[null,null,7,"North America",{"$f":"IF(E$50>0,E11/E$50,0)","v":0},0,0,0,0,0,0,0,0,0,0,0,0,0,0,0]
[null,null,8,"Pacific",{"$f":"IF(E$50>0,E12/E$50,0)","v":0},0,0,0,0,0,0,0,0,0,0,0,0,0,0,0]
[null,null,0,0,{"$f":"IF(E$50>0,E13/E$50,0)","v":0},0,0,0,0,0,0,0,0,0,0,0,0,0,0,0]
[null,null,0,0,{"$f":"IF(E$50>0,E14/E$50,0)","v":0},0,0,0,0,0,0,0,0,0,0,0,0,0,0,0]
[null,null,0,0,{"$f":"IF(E$50>0,E15/E$50,0)","v":0},0,0,0,0,0,0,0,0,0,0,0,0,0,0,0]
[null,null,0,0,{"$f":"IF(E$50>0,E16/E$50,0)","v":0},0,0,0,0,0,0,0,0,0,0,0,0,0,0,0]
[null,null,0,0,{"$f":"IF(E$50>0,E17/E$50,0)","v":0},0,0,0,0,0,0,0,0,0,0,0,0,0,0,0]
[null,null,0,0,{"$f":"IF(E$50>0,E18/E$50,0)","v":0},0,0,0,0,0,0,0,0,0,0,0,0,0,0,0]
[null,null,0,0,{"$f":"IF(E$50>0,E19/E$50,0)","v":0},0,0,0,0,0,0,0,0,0,0,0,0,0,0,0]
[null,null,0,0,{"$f":"IF(E$50>0,E20/E$50,0)","v":0},0,0,0,0,0,0,0,0,0,0,0,0,0,0,0]
[null,null,0,0,{"$f":"IF(E$50>0,E21/E$50,0)","v":0},0,0,0,0,0,0,0,0,0,0,0,0,0,0,0]
[null,null,0,0,{"$f":"IF(E$50>0,E22/E$50,0)","v":0},0,0,0,0,0,0,0,0,0,0,0,0,0,0,0]
[null,null,0,0,{"$f":"IF(E$50>0,E23/E$50,0)","v":0},0,0,0,0,0,0,0,0,0,0,0,0,0,0,0]
[null,null,0,0,{"$f":"IF(E$50>0,E24/E$50,0)","v":0},0,0,0,0,0,0,0,0,0,0,0,0,0,0,0]
[null,null,{"$f":"C25","v":0},0,{"$f":"IF(E$50>0,E25/E$50,0)","v":0},0,0,0,0,0,0,0,0,0,0,0,0,0,0,0]
[null,null,0,0,{"$f":"IF(E$50>0,E26/E$50,0)","v":0},0,0,0,0,0,0,0,0,0,0,0,0,0,0,0]
[null,null,0,0,{"$f":"IF(E$50>0,E27/E$50,0)","v":0},0,0,0,0,0,0,0,0,0,0,0,0,0,0,0]
[null,null,0,0,{"$f":"IF(E$50>0,E28/E$50,0)","v":0},0,0,0,0,0,0,0,0,0,0,0,0,0,0,0]
[null,null,0,0,{"$f":"IF(E$50>0,E29/E$50,0)","v":0},0,0,0,0,0,0,0,0,0,0,0,0,0,0,0]
[null,null,0,0,{"$f":"IF(E$50>0,E30/E$50,0)","v":0},0,0,0,0,0,0,0,0,0,0,0,0,0,0,0]
[null,null,0,0,{"$f":"IF(E$50>0,E31/E$50,0)","v":0},0,0,0,0,0,0,0,0,0,0,0,0,0,0,0]
[null,null,0,0,{"$f":"IF(E$50>0,E32/E$50,0)","v":0},0,0,0,0,0,0,0,0,0,0,0,0,0,0,0]
[null,null,0,0,{"$f":"IF(E$50>0,E33/E$50,0)","v":0},0,0,0,0,0,0,0,0,0,0,0,0,0,0,0]
[null,null,0,0,{"$f":"IF(E$50>0,E34/E$50,0)","v":0},0,0,0,0,0,0,0,0,0,0,0,0,0,0,0]
[null,null,0,0,{"$f":"IF(E$50>0,E35/E$50,0)","v":0},0,0,0,0,0,0,0,0,0,0,0,0,0,0,0]
[null,null,0,0,{"$f":"IF(E$50>0,E36/E$50,0)","v":0},0,0,0,0,0,0,0,0,0,0,0,0,0,0,0]
[null,null,0,0,{"$f":"IF(E$50>0,E37/E$50,0)","v":0},0,0,0,0,0,0,0,0,0,0,0,0,0,0,0]
[null,null,0,0,{"$f":"IF(E$50>0,E38/E$50,0)","v":0},0,0,0,0,0,0,0,0,0,0,0,0,0,0,0]
[null,null,0,0,{"$f":"IF(E$50>0,E39/E$50,0)","v":0},0,0,0,0,0,0,0,0,0,0,0,0,0,0,0]
[null,null,0,0,{"$f":"IF(E$50>0,E40/E$50,0)","v":0},0,0,0,0,0,0,0,0,0,0,0,0,0,0,0]
[null,null,0,0,{"$f":"IF(E$50>0,E41/E$50,0)","v":0},0,0,0,0,0,0,0,0,0,0,0,0,0,0,0]
[null,null,0,0,{"$f":"IF(E$50>0,E42/E$50,0)","v":0},0,0,0,0,0,0,0,0,0,0,0,0,0,0,0]
[null,null,0,0,{"$f":"IF(E$50>0,E43/E$50,0)","v":0},0,0,0,0,0,0,0,0,0,0,0,0,0,0,0]
[null,null,0,0,{"$f":"IF(E$50>0,E44/E$50,0)","v":0},0,0,0,0,0,0,0,0,0,0,0,0,0,0,0]
[null,null,{"$f":"C45","v":0},0,{"$f":"IF(E$50>0,E45/E$50,0)","v":0},0,0,0,0,0,0,0,0,0,0,0,0,0,0,0]
[null,null,0,0,{"$f":"IF(E$50>0,E46/E$50,0)","v":0},0,0,0,0,0,0,0,0,0,0,0,0,0,0,0]
[null,null,0,0,{"$f":"IF(E$50>0,E47/E$50,0)","v":0},0,0,0,0,0,0,0,0,0,0,0,0,0,0,0]
[null,null,0,0,{"$f":"IF(E$50>0,E48/E$50,0)","v":0},0,0,0,0,0,0,0,0,0,0,0,0,0,0,0]
[null,null,0,0,{"$f":"IF(E$50>0,E49/E$50,0)","v":0},0,0,0,0,0,0,0,0,0,0,0,0,0,0,0]
[]
[]
[]
[]
[]
[]
[]
[]
[]
[]
[]
[]
["COUNT"]
[null,null,null,null,{"$f":"E3","v":"Female"},"Male",0,0,0,0,0,0,0,0,0,0,0,0,0,0]
[null,null,null,null,{"$f":"E4","v":0},0,0,0,0,0,0,0,0,0,0,0,0,0,0,0]
[null,null,{"$f":"C5","v":1},"Africa",0,0]
[null,null,2,"Asia",0,0]
[null,null,3,"Caribbean",0,0]
[null,null,4,"Europe",62,102]
[null,null,5,"Latin America",0,0]
[null,null,6,"Middle East",0,0]
[null,null,7,"North America",0,0]
[null,null,8,"Pacific",0,0]
[null,null,0,0]
[null,null,0,0]
[null,null,0,0]
[null,null,0,0]
[null,null,0,0]
[null,null,0,0]
[null,null,0,0]
[null,null,0,0]
[null,null,0,0]
[null,null,0,0]
[null,null,0,0]
[null,null,0,0]
[null,null,{"$f":"C25","v":0},0]
[null,null,0,0]
[null,null,0,0]
[null,null,0,0]
[null,null,0,0]
[null,null,0,0]
[null,null,0,0]
[null,null,0,0]
[null,null,0,0]
[null,null,0,0]
[null,null,0,0]
[null,null,0,0]
[null,null,0,0]
[null,null,0,0]
[null,null,0,0]
[null,null,0,0]
[null,null,0,0]
[null,null,0,0]
[null,null,0,0]
[null,null,0,0]
[null,null,{"$f":"C45","v":0},0]
[null,null,0,0]
[null,null,0,0]

{"sheet":"10aF - Presenters","index":25,"n_rows":6,"n_cols":7,"rows_kept":6,"cut":false,"hidden":false,"merged":[]}
["Presenters in broadcasting, by sex"]
[]
[]
[null,null,1995,2000,2005,2010,"N"]
[null,"Female",0.51,0.49,0.53,{"$f":"'10a'!$W$50","v":0.37872032972782366},{"$f":"SUM('10a'!E112:E119)","v":62}]
[null,"Male",0.49,0.51,0.47,{"$f":"'10a'!$X$50","v":0.62127967027217645},{"$f":"SUM('10a'!F112:F119)","v":102}]

{"sheet":"10a2","index":26,"n_rows":154,"n_cols":38,"rows_kept":154,"cut":false,"hidden":true,"merged":[]}
["Presenters in broadcasting, by sex"]
[null,null,null,null,"Radio",null,"Television"]
[null,null,null,null,"Female","Male","Female","Male",null,null,null,null,null,null,null,null,null,null,null,null,null,null,{"$f":"E3","v":"Female"},"Male","Female","Male",0,0,0,0,0,0,0,0,0,0,0]
[null,null,null,null,null,null,null,null,null,null,null,null,null,null,null,null,null,null,null,null,null,"TOTAL",0,0,0,0,0,0,0,0,0,0,0,0,0,0,0,{"$f":"T4","v":0}]
[null,null,1,"Africa",null,null,null,null,null,null,null,null,null,null,null,null,null,null,null,null,null,{"$f":"SUM(E5:O5)","v":0},{"$f":"IF((E5+F5)>0,E5/(E5+F5),0)","v":0},{"$f":"IF((E5+F5)>0,F5/(E5+F5),0)","v":0},{"$f":"IF((G5+H5)>0,G5/(G5+H5),0)","v":0},{"$f":"IF((G5+H5)>0,H5/(G5+H5),0)","v":0},{"$f":"IF((I5+J5)>0,I5/(I5+J5),0)","v":0},{"$f":"IF((I5+J5)>0,J5/(I5+J5),0)","v":0},{"$f":"IF((K5+L5)>0,K5/(K5+L5),0)","v":0},{"$f":"IF((K5+L5)>0,L5/(K5+L5),0)","v":0},{"$f":"IF((M5+N5)>0,M5/(M5+N5),0)","v":0},{"$f":"IF((M5+N5)>0,N5/(M5+N5),0)","v":0},{"$f":"IF((O5+P5)>0,O5/(O5+P5),0)","v":0},{"$f":"IF((O5+P5)>0,P5/(O5+P5),0)","v":0},{"$f":"IF((Q5+R5)>0,Q5/(Q5+R5),0)","v":0},{"$f":"IF((Q5+R5)>0,R5/(Q5+R5),0)","v":0},{"$f":"IF((S5+T5)>0,S5/(S5+T5),0)","v":0},{"$f":"IF((S5+T5)>0,T5/(S5+T5),0)","v":0}]
[null,null,2,"Asia",null,null,null,null,null,null,null,null,null,null,null,null,null,null,null,null,null,0,0,0,0,0,0,0,0,0,0,0,0,0,0,0,0,0]
[null,null,3,"Caribbean",null,null,null,null,null,null,null,null,null,null,null,null,null,null,null,null,null,0,0,0,0,0,0,0,0,0,0,0,0,0,0,0,0,0]
[null,null,4,"Europe",9.4999997876584502E-2,0.229999994859099,0.21930000791326201,0.28560001030564303,null,null,null,null,null,null,null,null,null,null,null,null,null,0.82990001095458843,0.2923076923076926,0.70769230769230751,0.43434343434343475,0.56565656565656519,0,0,0,0,0,0,0,0,0,0,0,0]
[null,null,5,"Latin America",null,null,null,null,null,null,null,null,null,null,null,null,null,null,null,null,null,0,0,0,0,0,0,0,0,0,0,0,0,0,0,0,0,0]
[null,null,6,"Middle East",null,null,null,null,null,null,null,null,null,null,null,null,null,null,null,null,null,0,0,0,0,0,0,0,0,0,0,0,0,0,0,0,0,0]
[null,null,7,"North America",null,null,null,null,null,null,null,null,null,null,null,null,null,null,null,null,null,0,0,0,0,0,0,0,0,0,0,0,0,0,0,0,0,0]
[null,null,8,"Pacific",null,null,null,null,null,null,null,null,null,null,null,null,null,null,null,null,null,0,0,0,0,0,0,0,0,0,0,0,0,0,0,0,0,0]
[]
[]
[]
[]
[]
[]
[]
[]
[]
[]
[]
[]
[]
[]
[]
[]
[]
[]
[]
[]
[]
[]
[]
[]
[]
[]
[]
[]
[]
[]
[]
[]
[]
[]
[]
[]
[]
[null,null,null,"TOTAL",{"$f":"SUM(E5:E49)","v":9.4999997876584502E-2},0.229999994859099,0.21930000791326201,0.28560001030564303,0,0,0,0,0,0,0,0,0,0,0,0,null,{"$f":"SUM(E50:O50)","v":0.82990001095458843},{"$f":"IF((E50+F50)>0,E50/(E50+F50),0)","v":0.2923076923076926},{"$f":"IF((E50+F50)>0,F50/(E50+F50),0)","v":0.70769230769230751},{"$f":"IF((G50+H50)>0,G50/(G50+H50),0)","v":0.43434343434343475},{"$f":"IF((G50+H50)>0,H50/(G50+H50),0)","v":0.56565656565656519},{"$f":"IF((I50+J50)>0,I50/(I50+J50),0)","v":0},{"$f":"IF((I50+J50)>0,J50/(I50+J50),0)","v":0},{"$f":"IF((K50+L50)>0,K50/(K50+L50),0)","v":0},{"$f":"IF((K50+L50)>0,L50/(K50+L50),0)","v":0},{"$f":"IF((M50+N50)>0,M50/(M50+N50),0)","v":0},{"$f":"IF((M50+N50)>0,N50/(M50+N50),0)","v":0},{"$f":"IF((O50+P50)>0,O50/(O50+P50),0)","v":0},{"$f":"IF((O50+P50)>0,P50/(O50+P50),0)","v":0},{"$f":"IF((Q50+R50)>0,Q50/(Q50+R50),0)","v":0},{"$f":"IF((Q50+R50)>0,R50/(Q50+R50),0)","v":0},{"$f":"IF((S50+T50)>0,S50/(S50+T50),0)","v":0},{"$f":"IF((S50+T50)>0,T50/(S50+T50),0)","v":0}]
[]
[null,null,{"$f":"C5","v":1},"Africa",{"$f":"IF(E$50>0,E5/E$50,0)","v":0},0,0,0,0,0,0,0,0,0,0,0,0,0,0,0]
[null,null,2,"Asia",{"$f":"IF(E$50>0,E6/E$50,0)","v":0},0,0,0,0,0,0,0,0,0,0,0,0,0,0,0]
[null,null,3,"Caribbean",{"$f":"IF(E$50>0,E7/E$50,0)","v":0},0,0,0,0,0,0,0,0,0,0,0,0,0,0,0]
[null,null,4,"Europe",{"$f":"IF(E$50>0,E8/E$50,0)","v":1},1,1,1,0,0,0,0,0,0,0,0,0,0,0,0]
[null,null,5,"Latin America",{"$f":"IF(E$50>0,E9/E$50,0)","v":0},0,0,0,0,0,0,0,0,0,0,0,0,0,0,0]
[null,null,6,"Middle East",{"$f":"IF(E$50>0,E10/E$50,0)","v":0},0,0,0,0,0,0,0,0,0,0,0,0,0,0,0]
[null,null,7,"North America",{"$f":"IF(E$50>0,E11/E$50,0)","v":0},0,0,0,0,0,0,0,0,0,0,0,0,0,0,0]
[null,null,8,"Pacific",{"$f":"IF(E$50>0,E12/E$50,0)","v":0},0,0,0,0,0,0,0,0,0,0,0,0,0,0,0]
[null,null,0,0,{"$f":"IF(E$50>0,E13/E$50,0)","v":0},0,0,0,0,0,0,0,0,0,0,0,0,0,0,0]
[null,null,0,0,{"$f":"IF(E$50>0,E14/E$50,0)","v":0},0,0,0,0,0,0,0,0,0,0,0,0,0,0,0]
[null,null,0,0,{"$f":"IF(E$50>0,E15/E$50,0)","v":0},0,0,0,0,0,0,0,0,0,0,0,0,0,0,0]
[null,null,0,0,{"$f":"IF(E$50>0,E16/E$50,0)","v":0},0,0,0,0,0,0,0,0,0,0,0,0,0,0,0]
[null,null,0,0,{"$f":"IF(E$50>0,E17/E$50,0)","v":0},0,0,0,0,0,0,0,0,0,0,0,0,0,0,0]
[null,null,0,0,{"$f":"IF(E$50>0,E18/E$50,0)","v":0},0,0,0,0,0,0,0,0,0,0,0,0,0,0,0]
[null,null,0,0,{"$f":"IF(E$50>0,E19/E$50,0)","v":0},0,0,0,0,0,0,0,0,0,0,0,0,0,0,0]
[null,null,0,0,{"$f":"IF(E$50>0,E20/E$50,0)","v":0},0,0,0,0,0,0,0,0,0,0,0,0,0,0,0]
[null,null,0,0,{"$f":"IF(E$50>0,E21/E$50,0)","v":0},0,0,0,0,0,0,0,0,0,0,0,0,0,0,0]
[null,null,0,0,{"$f":"IF(E$50>0,E22/E$50,0)","v":0},0,0,0,0,0,0,0,0,0,0,0,0,0,0,0]
[null,null,0,0,{"$f":"IF(E$50>0,E23/E$50,0)","v":0},0,0,0,0,0,0,0,0,0,0,0,0,0,0,0]
[null,null,0,0,{"$f":"IF(E$50>0,E24/E$50,0)","v":0},0,0,0,0,0,0,0,0,0,0,0,0,0,0,0]
[null,null,{"$f":"C25","v":0},0,{"$f":"IF(E$50>0,E25/E$50,0)","v":0},0,0,0,0,0,0,0,0,0,0,0,0,0,0,0]
[null,null,0,0,{"$f":"IF(E$50>0,E26/E$50,0)","v":0},0,0,0,0,0,0,0,0,0,0,0,0,0,0,0]
[null,null,0,0,{"$f":"IF(E$50>0,E27/E$50,0)","v":0},0,0,0,0,0,0,0,0,0,0,0,0,0,0,0]
[null,null,0,0,{"$f":"IF(E$50>0,E28/E$50,0)","v":0},0,0,0,0,0,0,0,0,0,0,0,0,0,0,0]
[null,null,0,0,{"$f":"IF(E$50>0,E29/E$50,0)","v":0},0,0,0,0,0,0,0,0,0,0,0,0,0,0,0]
[null,null,0,0,{"$f":"IF(E$50>0,E30/E$50,0)","v":0},0,0,0,0,0,0,0,0,0,0,0,0,0,0,0]
[null,null,0,0,{"$f":"IF(E$50>0,E31/E$50,0)","v":0},0,0,0,0,0,0,0,0,0,0,0,0,0,0,0]
[null,null,0,0,{"$f":"IF(E$50>0,E32/E$50,0)","v":0},0,0,0,0,0,0,0,0,0,0,0,0,0,0,0]
[null,null,0,0,{"$f":"IF(E$50>0,E33/E$50,0)","v":0},0,0,0,0,0,0,0,0,0,0,0,0,0,0,0]
[null,null,0,0,{"$f":"IF(E$50>0,E34/E$50,0)","v":0},0,0,0,0,0,0,0,0,0,0,0,0,0,0,0]
[null,null,0,0,{"$f":"IF(E$50>0,E35/E$50,0)","v":0},0,0,0,0,0,0,0,0,0,0,0,0,0,0,0]
[null,null,0,0,{"$f":"IF(E$50>0,E36/E$50,0)","v":0},0,0,0,0,0,0,0,0,0,0,0,0,0,0,0]
[null,null,0,0,{"$f":"IF(E$50>0,E37/E$50,0)","v":0},0,0,0,0,0,0,0,0,0,0,0,0,0,0,0]
[null,null,0,0,{"$f":"IF(E$50>0,E38/E$50,0)","v":0},0,0,0,0,0,0,0,0,0,0,0,0,0,0,0]
[null,null,0,0,{"$f":"IF(E$50>0,E39/E$50,0)","v":0},0,0,0,0,0,0,0,0,0,0,0,0,0,0,0]
[null,null,0,0,{"$f":"IF(E$50>0,E40/E$50,0)","v":0},0,0,0,0,0,0,0,0,0,0,0,0,0,0,0]
[null,null,0,0,{"$f":"IF(E$50>0,E41/E$50,0)","v":0},0,0,0,0,0,0,0,0,0,0,0,0,0,0,0]
[null,null,0,0,{"$f":"IF(E$50>0,E42/E$50,0)","v":0},0,0,0,0,0,0,0,0,0,0,0,0,0,0,0]
[null,null,0,0,{"$f":"IF(E$50>0,E43/E$50,0)","v":0},0,0,0,0,0,0,0,0,0,0,0,0,0,0,0]
[null,null,0,0,{"$f":"IF(E$50>0,E44/E$50,0)","v":0},0,0,0,0,0,0,0,0,0,0,0,0,0,0,0]
[null,null,{"$f":"C45","v":0},0,{"$f":"IF(E$50>0,E45/E$50,0)","v":0},0,0,0,0,0,0,0,0,0,0,0,0,0,0,0]
[null,null,0,0,{"$f":"IF(E$50>0,E46/E$50,0)","v":0},0,0,0,0,0,0,0,0,0,0,0,0,0,0,0]
[null,null,0,0,{"$f":"IF(E$50>0,E47/E$50,0)","v":0},0,0,0,0,0,0,0,0,0,0,0,0,0,0,0]
[null,null,0,0,{"$f":"IF(E$50>0,E48/E$50,0)","v":0},0,0,0,0,0,0,0,0,0,0,0,0,0,0,0]
[null,null,0,0,{"$f":"IF(E$50>0,E49/E$50,0)","v":0},0,0,0,0,0,0,0,0,0,0,0,0,0,0,0]
[]
[]
[]
[]
[]
[]
[]
[]
[]
[]
[]
[]
["COUNT"]
[null,null,null,null,{"$f":"E3","v":"Female"},"Male","Female","Male",0,0,0,0,0,0,0,0,0,0,0,0]
[null,null,null,null,{"$f":"E4","v":0},0,0,0,0,0,0,0,0,0,0,0,0,0,0,0]
[null,null,{"$f":"C5","v":1},"Africa",0,0,0,0]
[null,null,2,"Asia",0,0,0,0]
[null,null,3,"Caribbean",0,0,0,0]
[null,null,4,"Europe",19,46,43,56]
[null,null,5,"Latin America",0,0,0,0]
[null,null,6,"Middle East",0,0,0,0]
[null,null,7,"North America",0,0,0,0]
[null,null,8,"Pacific",0,0,0,0]
[null,null,0,0]
[null,null,0,0]
[null,null,0,0]
[null,null,0,0]
[null,null,0,0]
[null,null,0,0]
[null,null,0,0]
[null,null,0,0]
[null,null,0,0]
[null,null,0,0]
[null,null,0,0]
[null,null,0,0]
[null,null,{"$f":"C25","v":0},0]
[null,null,0,0]
[null,null,0,0]
[null,null,0,0]
[null,null,0,0]
[null,null,0,0]
[null,null,0,0]
[null,null,0,0]
[null,null,0,0]
[null,null,0,0]
[null,null,0,0]
[null,null,0,0]
[null,null,0,0]
[null,null,0,0]
[null,null,0,0]
[null,null,0,0]
[null,null,0,0]
[null,null,0,0]
[null,null,0,0]
[null,null,0,0]
[null,null,{"$f":"C45","v":0},0]
[null,null,0,0]
[null,null,0,0]

{"sheet":"10b","index":27,"n_rows":154,"n_cols":38,"rows_kept":154,"cut":false,"hidden":true,"merged":[]}
["Reporters and presenters all media, by sex"]
[]
[null,null,null,null,"Female","Male",null,null,null,null,null,null,null,null,null,null,null,null,null,null,null,null,{"$f":"E3","v":"Female"},"Male",0,0,0,0,0,0,0,0,0,0,0,0,0]
[null,null,null,null,null,null,null,null,null,null,null,null,null,null,null,null,null,null,null,null,null,"TOTAL",0,0,0,0,0,0,0,0,0,0,0,0,0,0,0,{"$f":"T4","v":0}]
[null,null,1,"Africa",null,null,null,null,null,null,null,null,null,null,null,null,null,null,null,null,null,{"$f":"SUM(E5:O5)","v":0},{"$f":"IF((E5+F5)>0,E5/(E5+F5),0)","v":0},{"$f":"IF((E5+F5)>0,F5/(E5+F5),0)","v":0},{"$f":"IF((G5+H5)>0,G5/(G5+H5),0)","v":0},{"$f":"IF((G5+H5)>0,H5/(G5+H5),0)","v":0},{"$f":"IF((I5+J5)>0,I5/(I5+J5),0)","v":0},{"$f":"IF((I5+J5)>0,J5/(I5+J5),0)","v":0},{"$f":"IF((K5+L5)>0,K5/(K5+L5),0)","v":0},{"$f":"IF((K5+L5)>0,L5/(K5+L5),0)","v":0},{"$f":"IF((M5+N5)>0,M5/(M5+N5),0)","v":0},{"$f":"IF((M5+N5)>0,N5/(M5+N5),0)","v":0},{"$f":"IF((O5+P5)>0,O5/(O5+P5),0)","v":0},{"$f":"IF((O5+P5)>0,P5/(O5+P5),0)","v":0},{"$f":"IF((Q5+R5)>0,Q5/(Q5+R5),0)","v":0},{"$f":"IF((Q5+R5)>0,R5/(Q5+R5),0)","v":0},{"$f":"IF((S5+T5)>0,S5/(S5+T5),0)","v":0},{"$f":"IF((S5+T5)>0,T5/(S5+T5),0)","v":0}]
[null,null,2,"Asia",null,null,null,null,null,null,null,null,null,null,null,null,null,null,null,null,null,0,0,0,0,0,0,0,0,0,0,0,0,0,0,0,0,0]
[null,null,3,"Caribbean",null,null,null,null,null,null,null,null,null,null,null,null,null,null,null,null,null,0,0,0,0,0,0,0,0,0,0,0,0,0,0,0,0,0]
[null,null,4,"Europe",0.37411200394854,0.68755949987098597,null,null,null,null,null,null,null,null,null,null,null,null,null,null,null,1.0616715038195259,0.35238018784776154,0.64761981215223852,0,0,0,0,0,0,0,0,0,0,0,0,0,0]
[null,null,5,"Latin America",null,null,null,null,null,null,null,null,null,null,null,null,null,null,null,null,null,0,0,0,0,0,0,0,0,0,0,0,0,0,0,0,0,0]
[null,null,6,"Middle East",null,null,null,null,null,null,null,null,null,null,null,null,null,null,null,null,null,0,0,0,0,0,0,0,0,0,0,0,0,0,0,0,0,0]
[null,null,7,"North America",null,null,null,null,null,null,null,null,null,null,null,null,null,null,null,null,null,0,0,0,0,0,0,0,0,0,0,0,0,0,0,0,0,0]
[null,null,8,"Pacific",null,null,null,null,null,null,null,null,null,null,null,null,null,null,null,null,null,0,0,0,0,0,0,0,0,0,0,0,0,0,0,0,0,0]
[]
[]
[]
[]
[]
[]
[]
[]
[]
[]
[]
[]
[]
[]
[]
[]
[]
[]
[]
[]
[]
[]
[]
[]
[]
[]
[]
[]
[]
[]
[]
[]
[]
[]
[]
[]
[]
[null,null,null,"TOTAL",{"$f":"SUM(E5:E49)","v":0.37411200394854},0.68755949987098597,0,0,0,0,0,0,0,0,0,0,0,0,0,0,null,{"$f":"SUM(E50:O50)","v":1.0616715038195259},{"$f":"IF((E50+F50)>0,E50/(E50+F50),0)","v":0.35238018784776154},{"$f":"IF((E50+F50)>0,F50/(E50+F50),0)","v":0.64761981215223852},{"$f":"IF((G50+H50)>0,G50/(G50+H50),0)","v":0},{"$f":"IF((G50+H50)>0,H50/(G50+H50),0)","v":0},{"$f":"IF((I50+J50)>0,I50/(I50+J50),0)","v":0},{"$f":"IF((I50+J50)>0,J50/(I50+J50),0)","v":0},{"$f":"IF((K50+L50)>0,K50/(K50+L50),0)","v":0},{"$f":"IF((K50+L50)>0,L50/(K50+L50),0)","v":0},{"$f":"IF((M50+N50)>0,M50/(M50+N50),0)","v":0},{"$f":"IF((M50+N50)>0,N50/(M50+N50),0)","v":0},{"$f":"IF((O50+P50)>0,O50/(O50+P50),0)","v":0},{"$f":"IF((O50+P50)>0,P50/(O50+P50),0)","v":0},{"$f":"IF((Q50+R50)>0,Q50/(Q50+R50),0)","v":0},{"$f":"IF((Q50+R50)>0,R50/(Q50+R50),0)","v":0},{"$f":"IF((S50+T50)>0,S50/(S50+T50),0)","v":0},{"$f":"IF((S50+T50)>0,T50/(S50+T50),0)","v":0}]
[]
[null,null,{"$f":"C5","v":1},"Africa",{"$f":"IF(E$50>0,E5/E$50,0)","v":0},0,0,0,0,0,0,0,0,0,0,0,0,0,0,0]
[null,null,2,"Asia",{"$f":"IF(E$50>0,E6/E$50,0)","v":0},0,0,0,0,0,0,0,0,0,0,0,0,0,0,0]
[null,null,3,"Caribbean",{"$f":"IF(E$50>0,E7/E$50,0)","v":0},0,0,0,0,0,0,0,0,0,0,0,0,0,0,0]
[null,null,4,"Europe",{"$f":"IF(E$50>0,E8/E$50,0)","v":1},1,0,0,0,0,0,0,0,0,0,0,0,0,0,0]
[null,null,5,"Latin America",{"$f":"IF(E$50>0,E9/E$50,0)","v":0},0,0,0,0,0,0,0,0,0,0,0,0,0,0,0]
[null,null,6,"Middle East",{"$f":"IF(E$50>0,E10/E$50,0)","v":0},0,0,0,0,0,0,0,0,0,0,0,0,0,0,0]
[null,null,7,"North America",{"$f":"IF(E$50>0,E11/E$50,0)","v":0},0,0,0,0,0,0,0,0,0,0,0,0,0,0,0]
[null,null,8,"Pacific",{"$f":"IF(E$50>0,E12/E$50,0)","v":0},0,0,0,0,0,0,0,0,0,0,0,0,0,0,0]
[null,null,0,0,{"$f":"IF(E$50>0,E13/E$50,0)","v":0},0,0,0,0,0,0,0,0,0,0,0,0,0,0,0]
[null,null,0,0,{"$f":"IF(E$50>0,E14/E$50,0)","v":0},0,0,0,0,0,0,0,0,0,0,0,0,0,0,0]
[null,null,0,0,{"$f":"IF(E$50>0,E15/E$50,0)","v":0},0,0,0,0,0,0,0,0,0,0,0,0,0,0,0]
[null,null,0,0,{"$f":"IF(E$50>0,E16/E$50,0)","v":0},0,0,0,0,0,0,0,0,0,0,0,0,0,0,0]
[null,null,0,0,{"$f":"IF(E$50>0,E17/E$50,0)","v":0},0,0,0,0,0,0,0,0,0,0,0,0,0,0,0]
[null,null,0,0,{"$f":"IF(E$50>0,E18/E$50,0)","v":0},0,0,0,0,0,0,0,0,0,0,0,0,0,0,0]
[null,null,0,0,{"$f":"IF(E$50>0,E19/E$50,0)","v":0},0,0,0,0,0,0,0,0,0,0,0,0,0,0,0]
[null,null,0,0,{"$f":"IF(E$50>0,E20/E$50,0)","v":0},0,0,0,0,0,0,0,0,0,0,0,0,0,0,0]
[null,null,0,0,{"$f":"IF(E$50>0,E21/E$50,0)","v":0},0,0,0,0,0,0,0,0,0,0,0,0,0,0,0]
[null,null,0,0,{"$f":"IF(E$50>0,E22/E$50,0)","v":0},0,0,0,0,0,0,0,0,0,0,0,0,0,0,0]
[null,null,0,0,{"$f":"IF(E$50>0,E23/E$50,0)","v":0},0,0,0,0,0,0,0,0,0,0,0,0,0,0,0]
[null,null,0,0,{"$f":"IF(E$50>0,E24/E$50,0)","v":0},0,0,0,0,0,0,0,0,0,0,0,0,0,0,0]
[null,null,{"$f":"C25","v":0},0,{"$f":"IF(E$50>0,E25/E$50,0)","v":0},0,0,0,0,0,0,0,0,0,0,0,0,0,0,0]
[null,null,0,0,{"$f":"IF(E$50>0,E26/E$50,0)","v":0},0,0,0,0,0,0,0,0,0,0,0,0,0,0,0]
[null,null,0,0,{"$f":"IF(E$50>0,E27/E$50,0)","v":0},0,0,0,0,0,0,0,0,0,0,0,0,0,0,0]
[null,null,0,0,{"$f":"IF(E$50>0,E28/E$50,0)","v":0},0,0,0,0,0,0,0,0,0,0,0,0,0,0,0]
[null,null,0,0,{"$f":"IF(E$50>0,E29/E$50,0)","v":0},0,0,0,0,0,0,0,0,0,0,0,0,0,0,0]
[null,null,0,0,{"$f":"IF(E$50>0,E30/E$50,0)","v":0},0,0,0,0,0,0,0,0,0,0,0,0,0,0,0]
[null,null,0,0,{"$f":"IF(E$50>0,E31/E$50,0)","v":0},0,0,0,0,0,0,0,0,0,0,0,0,0,0,0]
[null,null,0,0,{"$f":"IF(E$50>0,E32/E$50,0)","v":0},0,0,0,0,0,0,0,0,0,0,0,0,0,0,0]
[null,null,0,0,{"$f":"IF(E$50>0,E33/E$50,0)","v":0},0,0,0,0,0,0,0,0,0,0,0,0,0,0,0]
[null,null,0,0,{"$f":"IF(E$50>0,E34/E$50,0)","v":0},0,0,0,0,0,0,0,0,0,0,0,0,0,0,0]
[null,null,0,0,{"$f":"IF(E$50>0,E35/E$50,0)","v":0},0,0,0,0,0,0,0,0,0,0,0,0,0,0,0]
[null,null,0,0,{"$f":"IF(E$50>0,E36/E$50,0)","v":0},0,0,0,0,0,0,0,0,0,0,0,0,0,0,0]
[null,null,0,0,{"$f":"IF(E$50>0,E37/E$50,0)","v":0},0,0,0,0,0,0,0,0,0,0,0,0,0,0,0]
[null,null,0,0,{"$f":"IF(E$50>0,E38/E$50,0)","v":0},0,0,0,0,0,0,0,0,0,0,0,0,0,0,0]
[null,null,0,0,{"$f":"IF(E$50>0,E39/E$50,0)","v":0},0,0,0,0,0,0,0,0,0,0,0,0,0,0,0]
[null,null,0,0,{"$f":"IF(E$50>0,E40/E$50,0)","v":0},0,0,0,0,0,0,0,0,0,0,0,0,0,0,0]
[null,null,0,0,{"$f":"IF(E$50>0,E41/E$50,0)","v":0},0,0,0,0,0,0,0,0,0,0,0,0,0,0,0]
[null,null,0,0,{"$f":"IF(E$50>0,E42/E$50,0)","v":0},0,0,0,0,0,0,0,0,0,0,0,0,0,0,0]
[null,null,0,0,{"$f":"IF(E$50>0,E43/E$50,0)","v":0},0,0,0,0,0,0,0,0,0,0,0,0,0,0,0]
[null,null,0,0,{"$f":"IF(E$50>0,E44/E$50,0)","v":0},0,0,0,0,0,0,0,0,0,0,0,0,0,0,0]
[null,null,{"$f":"C45","v":0},0,{"$f":"IF(E$50>0,E45/E$50,0)","v":0},0,0,0,0,0,0,0,0,0,0,0,0,0,0,0]
[null,null,0,0,{"$f":"IF(E$50>0,E46/E$50,0)","v":0},0,0,0,0,0,0,0,0,0,0,0,0,0,0,0]
[null,null,0,0,{"$f":"IF(E$50>0,E47/E$50,0)","v":0},0,0,0,0,0,0,0,0,0,0,0,0,0,0,0]
[null,null,0,0,{"$f":"IF(E$50>0,E48/E$50,0)","v":0},0,0,0,0,0,0,0,0,0,0,0,0,0,0,0]
[null,null,0,0,{"$f":"IF(E$50>0,E49/E$50,0)","v":0},0,0,0,0,0,0,0,0,0,0,0,0,0,0,0]
[]
[]
[]
[]
[]
[]
[]
[]
[]
[]
[]
[]
["COUNT"]
[null,null,null,null,{"$f":"E3","v":"Female"},"Male",0,0,0,0,0,0,0,0,0,0,0,0,0,0]
[null,null,null,null,{"$f":"E4","v":0},0,0,0,0,0,0,0,0,0,0,0,0,0,0,0]
[null,null,{"$f":"C5","v":1},"Africa",0,0]
[null,null,2,"Asia",0,0]
[null,null,3,"Caribbean",0,0]
[null,null,4,"Europe",70,125]
[null,null,5,"Latin America",0,0]
[null,null,6,"Middle East",0,0]
[null,null,7,"North America",0,0]
[null,null,8,"Pacific",0,0]
[null,null,0,0]
[null,null,0,0]
[null,null,0,0]
[null,null,0,0]
[null,null,0,0]
[null,null,0,0]
[null,null,0,0]
[null,null,0,0]
[null,null,0,0]
[null,null,0,0]
[null,null,0,0]
[null,null,0,0]
[null,null,{"$f":"C25","v":0},0]
[null,null,0,0]
[null,null,0,0]
[null,null,0,0]
[null,null,0,0]
[null,null,0,0]
[null,null,0,0]
[null,null,0,0]
[null,null,0,0]
[null,null,0,0]
[null,null,0,0]
[null,null,0,0]
[null,null,0,0]
[null,null,0,0]
[null,null,0,0]
[null,null,0,0]
[null,null,0,0]
[null,null,0,0]
[null,null,0,0]
[null,null,0,0]
[null,null,{"$f":"C45","v":0},0]
[null,null,0,0]
[null,null,0,0]

{"sheet":"10c","index":28,"n_rows":154,"n_cols":38,"rows_kept":154,"cut":false,"hidden":true,"merged":[]}
["Announcers & Reporters by medium type, by sex"]
[]
[null,null,null,null,"Female","Male",null,null,null,null,null,null,null,null,null,null,null,null,null,null,null,null,{"$f":"E3","v":"Female"},"Male",0,0,0,0,0,0,0,0,0,0,0,0,0]
[null,null,null,null,null,null,null,null,null,null,null,null,null,null,null,null,null,null,null,null,null,"TOTAL",0,0,0,0,0,0,0,0,0,0,0,0,0,0,0,{"$f":"T4","v":0}]
[null,null,1,"PRINT",5.98119981586933E-2,0.171959494706243,null,null,null,null,null,null,null,null,null,null,null,null,null,null,null,{"$f":"SUM(E5:O5)","v":0.23177149286493631},{"$f":"IF((E5+F5)>0,E5/(E5+F5),0)","v":0.25806451612903253},{"$f":"IF((E5+F5)>0,F5/(E5+F5),0)","v":0.74193548387096742},{"$f":"IF((G5+H5)>0,G5/(G5+H5),0)","v":0},{"$f":"IF((G5+H5)>0,H5/(G5+H5),0)","v":0},{"$f":"IF((I5+J5)>0,I5/(I5+J5),0)","v":0},{"$f":"IF((I5+J5)>0,J5/(I5+J5),0)","v":0},{"$f":"IF((K5+L5)>0,K5/(K5+L5),0)","v":0},{"$f":"IF((K5+L5)>0,L5/(K5+L5),0)","v":0},{"$f":"IF((M5+N5)>0,M5/(M5+N5),0)","v":0},{"$f":"IF((M5+N5)>0,N5/(M5+N5),0)","v":0},{"$f":"IF((O5+P5)>0,O5/(O5+P5),0)","v":0},{"$f":"IF((O5+P5)>0,P5/(O5+P5),0)","v":0},{"$f":"IF((Q5+R5)>0,Q5/(Q5+R5),0)","v":0},{"$f":"IF((Q5+R5)>0,R5/(Q5+R5),0)","v":0},{"$f":"IF((S5+T5)>0,S5/(S5+T5),0)","v":0},{"$f":"IF((S5+T5)>0,T5/(S5+T5),0)","v":0}]
[null,null,2,"RADIO",9.4999997876584502E-2,0.229999994859099,null,null,null,null,null,null,null,null,null,null,null,null,null,null,null,0.32499999273568347,0.2923076923076926,0.70769230769230751,0,0,0,0,0,0,0,0,0,0,0,0,0,0]
[null,null,3,"TELEVISION",0.21930000791326201,0.28560001030564303,null,null,null,null,null,null,null,null,null,null,null,null,null,null,null,0.50490001821890507,0.43434343434343475,0.56565656565656519,0,0,0,0,0,0,0,0,0,0,0,0,0,0]
[null,null,null,null,null,null,null,null,null,null,null,null,null,null,null,null,null,null,null,null,null,0,0,0,0,0,0,0,0,0,0,0,0,0,0,0,0,0]
[null,null,null,null,null,null,null,null,null,null,null,null,null,null,null,null,null,null,null,null,null,0,0,0,0,0,0,0,0,0,0,0,0,0,0,0,0,0]
[null,null,null,null,null,null,null,null,null,null,null,null,null,null,null,null,null,null,null,null,null,0,0,0,0,0,0,0,0,0,0,0,0,0,0,0,0,0]
[null,null,null,null,null,null,null,null,null,null,null,null,null,null,null,null,null,null,null,null,null,0,0,0,0,0,0,0,0,0,0,0,0,0,0,0,0,0]
[null,null,null,null,null,null,null,null,null,null,null,null,null,null,null,null,null,null,null,null,null,0,0,0,0,0,0,0,0,0,0,0,0,0,0,0,0,0]
[]
[]
[]
[]
[]
[]
[]
[]
[]
[]
[]
[]
[]
[]
[]
[]
[]
[]
[]
[]
[]
[]
[]
[]
[]
[]
[]
[]
[]
[]
[]
[]
[]
[]
[]
[]
[]
[null,null,null,"TOTAL",{"$f":"SUM(E5:E49)","v":0.37411200394853983},0.68755949987098508,0,0,0,0,0,0,0,0,0,0,0,0,0,0,null,{"$f":"SUM(E50:O50)","v":1.0616715038195248},{"$f":"IF((E50+F50)>0,E50/(E50+F50),0)","v":0.35238018784776171},{"$f":"IF((E50+F50)>0,F50/(E50+F50),0)","v":0.64761981215223841},{"$f":"IF((G50+H50)>0,G50/(G50+H50),0)","v":0},{"$f":"IF((G50+H50)>0,H50/(G50+H50),0)","v":0},{"$f":"IF((I50+J50)>0,I50/(I50+J50),0)","v":0},{"$f":"IF((I50+J50)>0,J50/(I50+J50),0)","v":0},{"$f":"IF((K50+L50)>0,K50/(K50+L50),0)","v":0},{"$f":"IF((K50+L50)>0,L50/(K50+L50),0)","v":0},{"$f":"IF((M50+N50)>0,M50/(M50+N50),0)","v":0},{"$f":"IF((M50+N50)>0,N50/(M50+N50),0)","v":0},{"$f":"IF((O50+P50)>0,O50/(O50+P50),0)","v":0},{"$f":"IF((O50+P50)>0,P50/(O50+P50),0)","v":0},{"$f":"IF((Q50+R50)>0,Q50/(Q50+R50),0)","v":0},{"$f":"IF((Q50+R50)>0,R50/(Q50+R50),0)","v":0},{"$f":"IF((S50+T50)>0,S50/(S50+T50),0)","v":0},{"$f":"IF((S50+T50)>0,T50/(S50+T50),0)","v":0}]
[]
[null,null,{"$f":"C5","v":1},"PRINT",{"$f":"IF(E$50>0,E5/E$50,0)","v":0.15987724939967607},0.25010125631092262,0,0,0,0,0,0,0,0,0,0,0,0,0,0]
[null,null,2,"RADIO",{"$f":"IF(E$50>0,E6/E$50,0)","v":0.25393464222990297},0.33451649624833429,0,0,0,0,0,0,0,0,0,0,0,0,0,0]
[null,null,3,"TELEVISION",{"$f":"IF(E$50>0,E7/E$50,0)","v":0.5861881083704209},0.41538224744074298,0,0,0,0,0,0,0,0,0,0,0,0,0,0]
[null,null,0,0,{"$f":"IF(E$50>0,E8/E$50,0)","v":0},0,0,0,0,0,0,0,0,0,0,0,0,0,0,0]
[null,null,0,0,{"$f":"IF(E$50>0,E9/E$50,0)","v":0},0,0,0,0,0,0,0,0,0,0,0,0,0,0,0]
[null,null,0,0,{"$f":"IF(E$50>0,E10/E$50,0)","v":0},0,0,0,0,0,0,0,0,0,0,0,0,0,0,0]
[null,null,0,0,{"$f":"IF(E$50>0,E11/E$50,0)","v":0},0,0,0,0,0,0,0,0,0,0,0,0,0,0,0]
[null,null,0,0,{"$f":"IF(E$50>0,E12/E$50,0)","v":0},0,0,0,0,0,0,0,0,0,0,0,0,0,0,0]
[null,null,0,0,{"$f":"IF(E$50>0,E13/E$50,0)","v":0},0,0,0,0,0,0,0,0,0,0,0,0,0,0,0]
[null,null,0,0,{"$f":"IF(E$50>0,E14/E$50,0)","v":0},0,0,0,0,0,0,0,0,0,0,0,0,0,0,0]
[null,null,0,0,{"$f":"IF(E$50>0,E15/E$50,0)","v":0},0,0,0,0,0,0,0,0,0,0,0,0,0,0,0]
[null,null,0,0,{"$f":"IF(E$50>0,E16/E$50,0)","v":0},0,0,0,0,0,0,0,0,0,0,0,0,0,0,0]
[null,null,0,0,{"$f":"IF(E$50>0,E17/E$50,0)","v":0},0,0,0,0,0,0,0,0,0,0,0,0,0,0,0]
[null,null,0,0,{"$f":"IF(E$50>0,E18/E$50,0)","v":0},0,0,0,0,0,0,0,0,0,0,0,0,0,0,0]
[null,null,0,0,{"$f":"IF(E$50>0,E19/E$50,0)","v":0},0,0,0,0,0,0,0,0,0,0,0,0,0,0,0]
[null,null,0,0,{"$f":"IF(E$50>0,E20/E$50,0)","v":0},0,0,0,0,0,0,0,0,0,0,0,0,0,0,0]
[null,null,0,0,{"$f":"IF(E$50>0,E21/E$50,0)","v":0},0,0,0,0,0,0,0,0,0,0,0,0,0,0,0]
[null,null,0,0,{"$f":"IF(E$50>0,E22/E$50,0)","v":0},0,0,0,0,0,0,0,0,0,0,0,0,0,0,0]
[null,null,0,0,{"$f":"IF(E$50>0,E23/E$50,0)","v":0},0,0,0,0,0,0,0,0,0,0,0,0,0,0,0]
[null,null,0,0,{"$f":"IF(E$50>0,E24/E$50,0)","v":0},0,0,0,0,0,0,0,0,0,0,0,0,0,0,0]
[null,null,{"$f":"C25","v":0},0,{"$f":"IF(E$50>0,E25/E$50,0)","v":0},0,0,0,0,0,0,0,0,0,0,0,0,0,0,0]
[null,null,0,0,{"$f":"IF(E$50>0,E26/E$50,0)","v":0},0,0,0,0,0,0,0,0,0,0,0,0,0,0,0]
[null,null,0,0,{"$f":"IF(E$50>0,E27/E$50,0)","v":0},0,0,0,0,0,0,0,0,0,0,0,0,0,0,0]
[null,null,0,0,{"$f":"IF(E$50>0,E28/E$50,0)","v":0},0,0,0,0,0,0,0,0,0,0,0,0,0,0,0]
[null,null,0,0,{"$f":"IF(E$50>0,E29/E$50,0)","v":0},0,0,0,0,0,0,0,0,0,0,0,0,0,0,0]
[null,null,0,0,{"$f":"IF(E$50>0,E30/E$50,0)","v":0},0,0,0,0,0,0,0,0,0,0,0,0,0,0,0]
[null,null,0,0,{"$f":"IF(E$50>0,E31/E$50,0)","v":0},0,0,0,0,0,0,0,0,0,0,0,0,0,0,0]
[null,null,0,0,{"$f":"IF(E$50>0,E32/E$50,0)","v":0},0,0,0,0,0,0,0,0,0,0,0,0,0,0,0]
[null,null,0,0,{"$f":"IF(E$50>0,E33/E$50,0)","v":0},0,0,0,0,0,0,0,0,0,0,0,0,0,0,0]
[null,null,0,0,{"$f":"IF(E$50>0,E34/E$50,0)","v":0},0,0,0,0,0,0,0,0,0,0,0,0,0,0,0]
[null,null,0,0,{"$f":"IF(E$50>0,E35/E$50,0)","v":0},0,0,0,0,0,0,0,0,0,0,0,0,0,0,0]
[null,null,0,0,{"$f":"IF(E$50>0,E36/E$50,0)","v":0},0,0,0,0,0,0,0,0,0,0,0,0,0,0,0]
[null,null,0,0,{"$f":"IF(E$50>0,E37/E$50,0)","v":0},0,0,0,0,0,0,0,0,0,0,0,0,0,0,0]
[null,null,0,0,{"$f":"IF(E$50>0,E38/E$50,0)","v":0},0,0,0,0,0,0,0,0,0,0,0,0,0,0,0]
[null,null,0,0,{"$f":"IF(E$50>0,E39/E$50,0)","v":0},0,0,0,0,0,0,0,0,0,0,0,0,0,0,0]
[null,null,0,0,{"$f":"IF(E$50>0,E40/E$50,0)","v":0},0,0,0,0,0,0,0,0,0,0,0,0,0,0,0]
[null,null,0,0,{"$f":"IF(E$50>0,E41/E$50,0)","v":0},0,0,0,0,0,0,0,0,0,0,0,0,0,0,0]
[null,null,0,0,{"$f":"IF(E$50>0,E42/E$50,0)","v":0},0,0,0,0,0,0,0,0,0,0,0,0,0,0,0]
[null,null,0,0,{"$f":"IF(E$50>0,E43/E$50,0)","v":0},0,0,0,0,0,0,0,0,0,0,0,0,0,0,0]
[null,null,0,0,{"$f":"IF(E$50>0,E44/E$50,0)","v":0},0,0,0,0,0,0,0,0,0,0,0,0,0,0,0]
[null,null,{"$f":"C45","v":0},0,{"$f":"IF(E$50>0,E45/E$50,0)","v":0},0,0,0,0,0,0,0,0,0,0,0,0,0,0,0]
[null,null,0,0,{"$f":"IF(E$50>0,E46/E$50,0)","v":0},0,0,0,0,0,0,0,0,0,0,0,0,0,0,0]
[null,null,0,0,{"$f":"IF(E$50>0,E47/E$50,0)","v":0},0,0,0,0,0,0,0,0,0,0,0,0,0,0,0]
[null,null,0,0,{"$f":"IF(E$50>0,E48/E$50,0)","v":0},0,0,0,0,0,0,0,0,0,0,0,0,0,0,0]
[null,null,0,0,{"$f":"IF(E$50>0,E49/E$50,0)","v":0},0,0,0,0,0,0,0,0,0,0,0,0,0,0,0]
[]
[]
[]
[]
[]
[]
[]
[]
[]
[]
[]
[]
["COUNT"]
[null,null,null,null,{"$f":"E3","v":"Female"},"Male",0,0,0,0,0,0,0,0,0,0,0,0,0,0]
[null,null,null,null,{"$f":"E4","v":0},0,0,0,0,0,0,0,0,0,0,0,0,0,0,0]
[null,null,{"$f":"C5","v":1},"PRINT",8,23]
[null,null,2,"RADIO",19,46]
[null,null,3,"TELEVISION",43,56]
[null,null,0,0,0,0]
[null,null,0,0,0,0]
[null,null,0,0,0,0]
[null,null,0,0,0,0]
[null,null,0,0,0,0]
[null,null,0,0,0,0]
[null,null,0,0,0,0]
[null,null,0,0,0,0]
[null,null,0,0]
[null,null,0,0]
[null,null,0,0]
[null,null,0,0]
[null,null,0,0]
[null,null,0,0]
[null,null,0,0]
[null,null,0,0]
[null,null,0,0]
[null,null,{"$f":"C25","v":0},0]
[null,null,0,0]
[null,null,0,0]
[null,null,0,0]
[null,null,0,0]
[null,null,0,0]
[null,null,0,0]
[null,null,0,0]
[null,null,0,0]
[null,null,0,0]
[null,null,0,0]
[null,null,0,0]
[null,null,0,0]
[null,null,0,0]
[null,null,0,0]
[null,null,0,0]
[null,null,0,0]
[null,null,0,0]
[null,null,0,0]
[null,null,0,0]
[null,null,{"$f":"C45","v":0},0]
[null,null,0,0]
[null,null,0,0]

{"sheet":"10a2F - Presenters","index":29,"n_rows":13,"n_cols":9,"rows_kept":13,"cut":false,"hidden":false,"merged":[[3,3,3,4],[3,6,3,7]]}
[]
[]
[]
[null,null,null,"RADIO",null,null,"TELEVSION"]
[null,null,null,"Female","Male","N","Female","Male","N"]
[null,null,{"$f":"'10a2'!D112","v":"Africa"},{"$f":"'10a2'!W5","v":0},{"$f":"'10a2'!X5","v":0},{"$f":"+'10a2'!E112+'10a2'!F112","v":0},{"$f":"'10a2'!Y5","v":0},{"$f":"'10a2'!Z5","v":0},{"$f":"'10a2'!G112+'10a2'!H112","v":0}]
[null,null,{"$f":"'10a2'!D113","v":"Asia"},{"$f":"'10a2'!W6","v":0},{"$f":"'10a2'!X6","v":0},{"$f":"+'10a2'!E113+'10a2'!F113","v":0},{"$f":"'10a2'!Y6","v":0},{"$f":"'10a2'!Z6","v":0},{"$f":"'10a2'!G113+'10a2'!H113","v":0}]
[null,null,{"$f":"'10a2'!D114","v":"Caribbean"},{"$f":"'10a2'!W7","v":0},{"$f":"'10a2'!X7","v":0},{"$f":"+'10a2'!E114+'10a2'!F114","v":0},{"$f":"'10a2'!Y7","v":0},{"$f":"'10a2'!Z7","v":0},{"$f":"'10a2'!G114+'10a2'!H114","v":0}]
[null,null,{"$f":"'10a2'!D115","v":"Europe"},{"$f":"'10a2'!W8","v":0.2923076923076926},{"$f":"'10a2'!X8","v":0.70769230769230751},{"$f":"+'10a2'!E115+'10a2'!F115","v":65},{"$f":"'10a2'!Y8","v":0.43434343434343475},{"$f":"'10a2'!Z8","v":0.56565656565656519},{"$f":"'10a2'!G115+'10a2'!H115","v":99}]
[null,null,{"$f":"'10a2'!D116","v":"Latin America"},{"$f":"'10a2'!W9","v":0},{"$f":"'10a2'!X9","v":0},{"$f":"+'10a2'!E116+'10a2'!F116","v":0},{"$f":"'10a2'!Y9","v":0},{"$f":"'10a2'!Z9","v":0},{"$f":"'10a2'!G116+'10a2'!H116","v":0}]
[null,null,{"$f":"'10a2'!D117","v":"Middle East"},{"$f":"'10a2'!W10","v":0},{"$f":"'10a2'!X10","v":0},{"$f":"+'10a2'!E117+'10a2'!F117","v":0},{"$f":"'10a2'!Y10","v":0},{"$f":"'10a2'!Z10","v":0},{"$f":"'10a2'!G117+'10a2'!H117","v":0}]
[null,null,{"$f":"'10a2'!D118","v":"North America"},{"$f":"'10a2'!W11","v":0},{"$f":"'10a2'!X11","v":0},{"$f":"+'10a2'!E118+'10a2'!F118","v":0},{"$f":"'10a2'!Y11","v":0},{"$f":"'10a2'!Z11","v":0},{"$f":"'10a2'!G118+'10a2'!H118","v":0}]
[null,null,{"$f":"'10a2'!D119","v":"Pacific"},{"$f":"'10a2'!W12","v":0},{"$f":"'10a2'!X12","v":0},{"$f":"+'10a2'!E119+'10a2'!F119","v":0},{"$f":"'10a2'!Y12","v":0},{"$f":"'10a2'!Z12","v":0},{"$f":"'10a2'!G119+'10a2'!H119","v":0}]

{"sheet":"10cF - Announcers & Reporters ","index":30,"n_rows":10,"n_cols":12,"rows_kept":10,"cut":false,"hidden":false,"merged":[[1,5,1,9],[1,10,1,11]]}
["Announcers & Reporters by medium type, by sex"]
[null,null,null,null,null,"% Female",null,null,null,null,"% Male"]
[null,null,null,null,"Media Type",1995,2000,2005,"%","N","%","N"]
[]
[null,null,null,null,"Print",0.25,0.26,0.28999999999999998,{"$f":"'10c'!W5","v":0.25806451612903253},{"$f":"'10c'!E112","v":8},{"$f":"'10c'!X5","v":0.74193548387096742},{"$f":"'10c'!F112","v":23}]
[null,null,null,null,"Radio",0.48,{"$f":"SUM((28+41)/200)","v":0.34499999999999997},{"$f":"SUM((45+49)/200)","v":0.47},{"$f":"'10c'!W6","v":0.2923076923076926},{"$f":"'10c'!E113","v":19},{"$f":"'10c'!X6","v":0.70769230769230751},{"$f":"'10c'!F113","v":46}]
[null,null,null,null,"Television",0.43,{"$f":"SUM((36+56)/200)","v":0.46},{"$f":"SUM((42+57)/200)","v":0.495},{"$f":"'10c'!W7","v":0.43434343434343475},{"$f":"'10c'!E114","v":43},{"$f":"'10c'!X7","v":0.56565656565656519},{"$f":"'10c'!F114","v":56}]
[]
[]
[null,null,null,null,"Total",null,null,null,{"$f":"'10c'!$W$50","v":0.35238018784776171},{"$f":"SUM(J5:J8)","v":70},{"$f":"'10c'!$X$50","v":0.64761981215223841},{"$f":"SUM(L5:L8)","v":125}]

{"sheet":"10d","index":31,"n_rows":154,"n_cols":38,"rows_kept":154,"cut":false,"hidden":true,"merged":[]}
["Announcers by medium type, by sex"]
[]
[null,null,null,null,"Female","Male",null,null,null,null,null,null,null,null,null,null,null,null,null,null,null,null,{"$f":"E3","v":"Female"},"Male",0,0,0,0,0,0,0,0,0,0,0,0,0]
[null,null,null,null,null,null,null,null,null,null,null,null,null,null,null,null,null,null,null,null,null,"TOTAL",0,0,0,0,0,0,0,0,0,0,0,0,0,0,0,{"$f":"T4","v":0}]
[null,null,1,"PRINT",null,null,null,null,null,null,null,null,null,null,null,null,null,null,null,null,null,{"$f":"SUM(E5:O5)","v":0},{"$f":"IF((E5+F5)>0,E5/(E5+F5),0)","v":0},{"$f":"IF((E5+F5)>0,F5/(E5+F5),0)","v":0},{"$f":"IF((G5+H5)>0,G5/(G5+H5),0)","v":0},{"$f":"IF((G5+H5)>0,H5/(G5+H5),0)","v":0},{"$f":"IF((I5+J5)>0,I5/(I5+J5),0)","v":0},{"$f":"IF((I5+J5)>0,J5/(I5+J5),0)","v":0},{"$f":"IF((K5+L5)>0,K5/(K5+L5),0)","v":0},{"$f":"IF((K5+L5)>0,L5/(K5+L5),0)","v":0},{"$f":"IF((M5+N5)>0,M5/(M5+N5),0)","v":0},{"$f":"IF((M5+N5)>0,N5/(M5+N5),0)","v":0},{"$f":"IF((O5+P5)>0,O5/(O5+P5),0)","v":0},{"$f":"IF((O5+P5)>0,P5/(O5+P5),0)","v":0},{"$f":"IF((Q5+R5)>0,Q5/(Q5+R5),0)","v":0},{"$f":"IF((Q5+R5)>0,R5/(Q5+R5),0)","v":0},{"$f":"IF((S5+T5)>0,S5/(S5+T5),0)","v":0},{"$f":"IF((S5+T5)>0,T5/(S5+T5),0)","v":0}]
[null,null,2,"RADIO",4.4999998994171599E-2,0.17999999597668601,null,null,null,null,null,null,null,null,null,null,null,null,null,null,null,0.2249999949708576,0.20000000000000034,0.79999999999999971,0,0,0,0,0,0,0,0,0,0,0,0,0,0]
[null,null,3,"TELEVISION",0.173400006256998,0.132600004784763,null,null,null,null,null,null,null,null,null,null,null,null,null,null,null,0.306000011041761,0.56666666666666698,0.43333333333333302,0,0,0,0,0,0,0,0,0,0,0,0,0,0]
[null,null,null,null,null,null,null,null,null,null,null,null,null,null,null,null,null,null,null,null,null,0,0,0,0,0,0,0,0,0,0,0,0,0,0,0,0,0]
[null,null,null,null,null,null,null,null,null,null,null,null,null,null,null,null,null,null,null,null,null,0,0,0,0,0,0,0,0,0,0,0,0,0,0,0,0,0]
[null,null,null,null,null,null,null,null,null,null,null,null,null,null,null,null,null,null,null,null,null,0,0,0,0,0,0,0,0,0,0,0,0,0,0,0,0,0]
[null,null,null,null,null,null,null,null,null,null,null,null,null,null,null,null,null,null,null,null,null,0,0,0,0,0,0,0,0,0,0,0,0,0,0,0,0,0]
[null,null,null,null,null,null,null,null,null,null,null,null,null,null,null,null,null,null,null,null,null,0,0,0,0,0,0,0,0,0,0,0,0,0,0,0,0,0]
[]
[]
[]
[]
[]
[]
[]
[]
[]
[]
[]
[]
[]
[]
[]
[]
[]
[]
[]
[]
[]
[]
[]
[]
[]
[]
[]
[]
[]
[]
[]
[]
[]
[]
[]
[]
[]
[null,null,null,"TOTAL",{"$f":"SUM(E5:E49)","v":0.21840000525116959},0.312600000761449,0,0,0,0,0,0,0,0,0,0,0,0,0,0,null,{"$f":"SUM(E50:O50)","v":0.53100000601261854},{"$f":"IF((E50+F50)>0,E50/(E50+F50),0)","v":0.41129944026023157},{"$f":"IF((E50+F50)>0,F50/(E50+F50),0)","v":0.58870055973976854},{"$f":"IF((G50+H50)>0,G50/(G50+H50),0)","v":0},{"$f":"IF((G50+H50)>0,H50/(G50+H50),0)","v":0},{"$f":"IF((I50+J50)>0,I50/(I50+J50),0)","v":0},{"$f":"IF((I50+J50)>0,J50/(I50+J50),0)","v":0},{"$f":"IF((K50+L50)>0,K50/(K50+L50),0)","v":0},{"$f":"IF((K50+L50)>0,L50/(K50+L50),0)","v":0},{"$f":"IF((M50+N50)>0,M50/(M50+N50),0)","v":0},{"$f":"IF((M50+N50)>0,N50/(M50+N50),0)","v":0},{"$f":"IF((O50+P50)>0,O50/(O50+P50),0)","v":0},{"$f":"IF((O50+P50)>0,P50/(O50+P50),0)","v":0},{"$f":"IF((Q50+R50)>0,Q50/(Q50+R50),0)","v":0},{"$f":"IF((Q50+R50)>0,R50/(Q50+R50),0)","v":0},{"$f":"IF((S50+T50)>0,S50/(S50+T50),0)","v":0},{"$f":"IF((S50+T50)>0,T50/(S50+T50),0)","v":0}]
[]
[null,null,{"$f":"C5","v":1},"PRINT",{"$f":"IF(E$50>0,E5/E$50,0)","v":0},0,0,0,0,0,0,0,0,0,0,0,0,0,0,0]
[null,null,2,"RADIO",{"$f":"IF(E$50>0,E6/E$50,0)","v":0.20604394648443175},0.57581572469044051,0,0,0,0,0,0,0,0,0,0,0,0,0,0]
[null,null,3,"TELEVISION",{"$f":"IF(E$50>0,E7/E$50,0)","v":0.79395605351556831},0.42418427530955949,0,0,0,0,0,0,0,0,0,0,0,0,0,0]
[null,null,0,0,{"$f":"IF(E$50>0,E8/E$50,0)","v":0},0,0,0,0,0,0,0,0,0,0,0,0,0,0,0]
[null,null,0,0,{"$f":"IF(E$50>0,E9/E$50,0)","v":0},0,0,0,0,0,0,0,0,0,0,0,0,0,0,0]
[null,null,0,0,{"$f":"IF(E$50>0,E10/E$50,0)","v":0},0,0,0,0,0,0,0,0,0,0,0,0,0,0,0]
[null,null,0,0,{"$f":"IF(E$50>0,E11/E$50,0)","v":0},0,0,0,0,0,0,0,0,0,0,0,0,0,0,0]
[null,null,0,0,{"$f":"IF(E$50>0,E12/E$50,0)","v":0},0,0,0,0,0,0,0,0,0,0,0,0,0,0,0]
[null,null,0,0,{"$f":"IF(E$50>0,E13/E$50,0)","v":0},0,0,0,0,0,0,0,0,0,0,0,0,0,0,0]
[null,null,0,0,{"$f":"IF(E$50>0,E14/E$50,0)","v":0},0,0,0,0,0,0,0,0,0,0,0,0,0,0,0]
[null,null,0,0,{"$f":"IF(E$50>0,E15/E$50,0)","v":0},0,0,0,0,0,0,0,0,0,0,0,0,0,0,0]
[null,null,0,0,{"$f":"IF(E$50>0,E16/E$50,0)","v":0},0,0,0,0,0,0,0,0,0,0,0,0,0,0,0]
[null,null,0,0,{"$f":"IF(E$50>0,E17/E$50,0)","v":0},0,0,0,0,0,0,0,0,0,0,0,0,0,0,0]
[null,null,0,0,{"$f":"IF(E$50>0,E18/E$50,0)","v":0},0,0,0,0,0,0,0,0,0,0,0,0,0,0,0]
[null,null,0,0,{"$f":"IF(E$50>0,E19/E$50,0)","v":0},0,0,0,0,0,0,0,0,0,0,0,0,0,0,0]
[null,null,0,0,{"$f":"IF(E$50>0,E20/E$50,0)","v":0},0,0,0,0,0,0,0,0,0,0,0,0,0,0,0]
[null,null,0,0,{"$f":"IF(E$50>0,E21/E$50,0)","v":0},0,0,0,0,0,0,0,0,0,0,0,0,0,0,0]
[null,null,0,0,{"$f":"IF(E$50>0,E22/E$50,0)","v":0},0,0,0,0,0,0,0,0,0,0,0,0,0,0,0]
[null,null,0,0,{"$f":"IF(E$50>0,E23/E$50,0)","v":0},0,0,0,0,0,0,0,0,0,0,0,0,0,0,0]
[null,null,0,0,{"$f":"IF(E$50>0,E24/E$50,0)","v":0},0,0,0,0,0,0,0,0,0,0,0,0,0,0,0]
[null,null,{"$f":"C25","v":0},0,{"$f":"IF(E$50>0,E25/E$50,0)","v":0},0,0,0,0,0,0,0,0,0,0,0,0,0,0,0]
[null,null,0,0,{"$f":"IF(E$50>0,E26/E$50,0)","v":0},0,0,0,0,0,0,0,0,0,0,0,0,0,0,0]
[null,null,0,0,{"$f":"IF(E$50>0,E27/E$50,0)","v":0},0,0,0,0,0,0,0,0,0,0,0,0,0,0,0]
[null,null,0,0,{"$f":"IF(E$50>0,E28/E$50,0)","v":0},0,0,0,0,0,0,0,0,0,0,0,0,0,0,0]
[null,null,0,0,{"$f":"IF(E$50>0,E29/E$50,0)","v":0},0,0,0,0,0,0,0,0,0,0,0,0,0,0,0]
[null,null,0,0,{"$f":"IF(E$50>0,E30/E$50,0)","v":0},0,0,0,0,0,0,0,0,0,0,0,0,0,0,0]
[null,null,0,0,{"$f":"IF(E$50>0,E31/E$50,0)","v":0},0,0,0,0,0,0,0,0,0,0,0,0,0,0,0]
[null,null,0,0,{"$f":"IF(E$50>0,E32/E$50,0)","v":0},0,0,0,0,0,0,0,0,0,0,0,0,0,0,0]
[null,null,0,0,{"$f":"IF(E$50>0,E33/E$50,0)","v":0},0,0,0,0,0,0,0,0,0,0,0,0,0,0,0]
[null,null,0,0,{"$f":"IF(E$50>0,E34/E$50,0)","v":0},0,0,0,0,0,0,0,0,0,0,0,0,0,0,0]
[null,null,0,0,{"$f":"IF(E$50>0,E35/E$50,0)","v":0},0,0,0,0,0,0,0,0,0,0,0,0,0,0,0]
[null,null,0,0,{"$f":"IF(E$50>0,E36/E$50,0)","v":0},0,0,0,0,0,0,0,0,0,0,0,0,0,0,0]
[null,null,0,0,{"$f":"IF(E$50>0,E37/E$50,0)","v":0},0,0,0,0,0,0,0,0,0,0,0,0,0,0,0]
[null,null,0,0,{"$f":"IF(E$50>0,E38/E$50,0)","v":0},0,0,0,0,0,0,0,0,0,0,0,0,0,0,0]
[null,null,0,0,{"$f":"IF(E$50>0,E39/E$50,0)","v":0},0,0,0,0,0,0,0,0,0,0,0,0,0,0,0]
[null,null,0,0,{"$f":"IF(E$50>0,E40/E$50,0)","v":0},0,0,0,0,0,0,0,0,0,0,0,0,0,0,0]
[null,null,0,0,{"$f":"IF(E$50>0,E41/E$50,0)","v":0},0,0,0,0,0,0,0,0,0,0,0,0,0,0,0]
[null,null,0,0,{"$f":"IF(E$50>0,E42/E$50,0)","v":0},0,0,0,0,0,0,0,0,0,0,0,0,0,0,0]
[null,null,0,0,{"$f":"IF(E$50>0,E43/E$50,0)","v":0},0,0,0,0,0,0,0,0,0,0,0,0,0,0,0]
[null,null,0,0,{"$f":"IF(E$50>0,E44/E$50,0)","v":0},0,0,0,0,0,0,0,0,0,0,0,0,0,0,0]
[null,null,{"$f":"C45","v":0},0,{"$f":"IF(E$50>0,E45/E$50,0)","v":0},0,0,0,0,0,0,0,0,0,0,0,0,0,0,0]
[null,null,0,0,{"$f":"IF(E$50>0,E46/E$50,0)","v":0},0,0,0,0,0,0,0,0,0,0,0,0,0,0,0]
[null,null,0,0,{"$f":"IF(E$50>0,E47/E$50,0)","v":0},0,0,0,0,0,0,0,0,0,0,0,0,0,0,0]
[null,null,0,0,{"$f":"IF(E$50>0,E48/E$50,0)","v":0},0,0,0,0,0,0,0,0,0,0,0,0,0,0,0]
[null,null,0,0,{"$f":"IF(E$50>0,E49/E$50,0)","v":0},0,0,0,0,0,0,0,0,0,0,0,0,0,0,0]
[]
[]
[]
[]
[]
[]
[]
[]
[]
[]
[]
[]
["COUNT"]
[null,null,null,null,{"$f":"E3","v":"Female"},"Male",0,0,0,0,0,0,0,0,0,0,0,0,0,0]
[null,null,null,null,{"$f":"SUM(E112:E114)","v":43},{"$f":"SUM(F112:F114)","v":62},{"$f":"G4","v":0},0,0,0,0,0,0,0,0,0,0,0,0,0]
[null,null,{"$f":"C5","v":1},"PRINT",0,0]
[null,null,2,"RADIO",9,36]
[null,null,3,"TELEVISION",34,26]
[null,null,0,0,0,0]
[null,null,0,0,0,0]
[null,null,0,0,0,0]
[null,null,0,0,0,0]
[null,null,0,0,0,0]
[null,null,0,0,0,0]
[null,null,0,0,0,0]
[null,null,0,0,0,0]
[null,null,0,0]
[null,null,0,0]
[null,null,0,0]
[null,null,0,0]
[null,null,0,0]
[null,null,0,0]
[null,null,0,0]
[null,null,0,0]
[null,null,0,0]
[null,null,{"$f":"C25","v":0},0]
[null,null,0,0]
[null,null,0,0]
[null,null,0,0]
[null,null,0,0]
[null,null,0,0]
[null,null,0,0]
[null,null,0,0]
[null,null,0,0]
[null,null,0,0]
[null,null,0,0]
[null,null,0,0]
[null,null,0,0]
[null,null,0,0]
[null,null,0,0]
[null,null,0,0]
[null,null,0,0]
[null,null,0,0]
[null,null,0,0]
[null,null,0,0]
[null,null,{"$f":"C45","v":0},0]
[null,null,0,0]
[null,null,0,0]

{"sheet":"10dF - Announcers","index":32,"n_rows":11,"n_cols":14,"rows_kept":11,"cut":false,"hidden":false,"merged":[[1,5,1,13],[2,5,2,6],[2,7,2,8],[2,9,2,10],[2,11,2,12]]}
["Announcers by medium type, by sex"]
[]
[null,null,null,null,"Media Type",1995,null,2000,null,2005,null,2010,null,"N"]
[null,null,null,null,null,"%F","%M","%F","%M","%F","%M","%F","%M"]
[]
[null,null,null,null,"Print",0.25,0.75,0.26,0.74,0.28999999999999998,0.71,{"$f":"'10d'!W5","v":0},{"$f":"'10d'!X5","v":0},{"$f":"'10d'!E112+'10d'!F112","v":0}]
[null,null,null,null,"Radio","n/a","n/a",0.41,0.59,0.49,0.51,{"$f":"'10d'!W6","v":0.20000000000000034},{"$f":"'10d'!X6","v":0.79999999999999971},{"$f":"'10d'!F113+'10d'!E113","v":45}]
[null,null,null,null,"Television","n/a","n/a",0.56000000000000005,0.44,0.56999999999999995,0.43,{"$f":"'10d'!W7","v":0.56666666666666698},{"$f":"'10d'!X7","v":0.43333333333333302},{"$f":"'10d'!F114+'10d'!E114","v":60}]
[]
[]
[null,null,null,null,"Total",null,null,null,null,null,null,{"$f":"'10d'!$W$50","v":0.41129944026023157},{"$f":"'10d'!$X$50","v":0.58870055973976854},{"$f":"SUM(N7:N8)","v":105}]

{"sheet":"10e","index":33,"n_rows":154,"n_cols":38,"rows_kept":154,"cut":false,"hidden":true,"merged":[]}
["Announcers across all stories, by sex"]
[]
[null,null,null,null,"Female","Male",null,null,null,null,null,null,null,null,null,null,null,null,null,null,null,null,{"$f":"E3","v":"Female"},"Male",0,0,0,0,0,0,0,0,0,0,0,0,0]
[null,null,null,null,null,null,null,null,null,null,null,null,null,null,null,null,null,null,null,null,null,"TOTAL",0,0,0,0,0,0,0,0,0,0,0,0,0,0,0,{"$f":"T4","v":0}]
[null,null,1,"PRINT",null,null,null,null,null,null,null,null,null,null,null,null,null,null,null,null,null,{"$f":"SUM(E5:O5)","v":0},{"$f":"IF((E5+F5)>0,E5/(E5+F5),0)","v":0},{"$f":"IF((E5+F5)>0,F5/(E5+F5),0)","v":0},{"$f":"IF((G5+H5)>0,G5/(G5+H5),0)","v":0},{"$f":"IF((G5+H5)>0,H5/(G5+H5),0)","v":0},{"$f":"IF((I5+J5)>0,I5/(I5+J5),0)","v":0},{"$f":"IF((I5+J5)>0,J5/(I5+J5),0)","v":0},{"$f":"IF((K5+L5)>0,K5/(K5+L5),0)","v":0},{"$f":"IF((K5+L5)>0,L5/(K5+L5),0)","v":0},{"$f":"IF((M5+N5)>0,M5/(M5+N5),0)","v":0},{"$f":"IF((M5+N5)>0,N5/(M5+N5),0)","v":0},{"$f":"IF((O5+P5)>0,O5/(O5+P5),0)","v":0},{"$f":"IF((O5+P5)>0,P5/(O5+P5),0)","v":0},{"$f":"IF((Q5+R5)>0,Q5/(Q5+R5),0)","v":0},{"$f":"IF((Q5+R5)>0,R5/(Q5+R5),0)","v":0},{"$f":"IF((S5+T5)>0,S5/(S5+T5),0)","v":0},{"$f":"IF((S5+T5)>0,T5/(S5+T5),0)","v":0}]
[null,null,2,"RADIO",4.4999998994171599E-2,0.17999999597668601,null,null,null,null,null,null,null,null,null,null,null,null,null,null,null,0.2249999949708576,0.20000000000000034,0.79999999999999971,0,0,0,0,0,0,0,0,0,0,0,0,0,0]
[null,null,3,"TELEVISION",0.173400006256998,0.132600004784763,null,null,null,null,null,null,null,null,null,null,null,null,null,null,null,0.306000011041761,0.56666666666666698,0.43333333333333302,0,0,0,0,0,0,0,0,0,0,0,0,0,0]
[null,null,null,null,null,null,null,null,null,null,null,null,null,null,null,null,null,null,null,null,null,0,0,0,0,0,0,0,0,0,0,0,0,0,0,0,0,0]
[null,null,null,null,null,null,null,null,null,null,null,null,null,null,null,null,null,null,null,null,null,0,0,0,0,0,0,0,0,0,0,0,0,0,0,0,0,0]
[null,null,null,null,null,null,null,null,null,null,null,null,null,null,null,null,null,null,null,null,null,0,0,0,0,0,0,0,0,0,0,0,0,0,0,0,0,0]
[null,null,null,null,null,null,null,null,null,null,null,null,null,null,null,null,null,null,null,null,null,0,0,0,0,0,0,0,0,0,0,0,0,0,0,0,0,0]
[null,null,null,null,null,null,null,null,null,null,null,null,null,null,null,null,null,null,null,null,null,0,0,0,0,0,0,0,0,0,0,0,0,0,0,0,0,0]
[]
[]
[]
[]
[]
[]
[]
[]
[]
[]
[]
[]
[]
[]
[]
[]
[]
[]
[]
[]
[]
[]
[]
[]
[]
[]
[]
[]
[]
[]
[]
[]
[]
[]
[]
[]
[]
[null,null,null,"TOTAL",{"$f":"SUM(E5:E49)","v":0.21840000525116959},0.312600000761449,0,0,0,0,0,0,0,0,0,0,0,0,0,0,null,{"$f":"SUM(E50:O50)","v":0.53100000601261854},{"$f":"IF((E50+F50)>0,E50/(E50+F50),0)","v":0.41129944026023157},{"$f":"IF((E50+F50)>0,F50/(E50+F50),0)","v":0.58870055973976854},{"$f":"IF((G50+H50)>0,G50/(G50+H50),0)","v":0},{"$f":"IF((G50+H50)>0,H50/(G50+H50),0)","v":0},{"$f":"IF((I50+J50)>0,I50/(I50+J50),0)","v":0},{"$f":"IF((I50+J50)>0,J50/(I50+J50),0)","v":0},{"$f":"IF((K50+L50)>0,K50/(K50+L50),0)","v":0},{"$f":"IF((K50+L50)>0,L50/(K50+L50),0)","v":0},{"$f":"IF((M50+N50)>0,M50/(M50+N50),0)","v":0},{"$f":"IF((M50+N50)>0,N50/(M50+N50),0)","v":0},{"$f":"IF((O50+P50)>0,O50/(O50+P50),0)","v":0},{"$f":"IF((O50+P50)>0,P50/(O50+P50),0)","v":0},{"$f":"IF((Q50+R50)>0,Q50/(Q50+R50),0)","v":0},{"$f":"IF((Q50+R50)>0,R50/(Q50+R50),0)","v":0},{"$f":"IF((S50+T50)>0,S50/(S50+T50),0)","v":0},{"$f":"IF((S50+T50)>0,T50/(S50+T50),0)","v":0}]
[]
[null,null,{"$f":"C5","v":1},"PRINT",{"$f":"IF(E$50>0,E5/E$50,0)","v":0},0,0,0,0,0,0,0,0,0,0,0,0,0,0,0]
[null,null,2,"RADIO",{"$f":"IF(E$50>0,E6/E$50,0)","v":0.20604394648443175},0.57581572469044051,0,0,0,0,0,0,0,0,0,0,0,0,0,0]
[null,null,3,"TELEVISION",{"$f":"IF(E$50>0,E7/E$50,0)","v":0.79395605351556831},0.42418427530955949,0,0,0,0,0,0,0,0,0,0,0,0,0,0]
[null,null,0,0,{"$f":"IF(E$50>0,E8/E$50,0)","v":0},0,0,0,0,0,0,0,0,0,0,0,0,0,0,0]
[null,null,0,0,{"$f":"IF(E$50>0,E9/E$50,0)","v":0},0,0,0,0,0,0,0,0,0,0,0,0,0,0,0]
[null,null,0,0,{"$f":"IF(E$50>0,E10/E$50,0)","v":0},0,0,0,0,0,0,0,0,0,0,0,0,0,0,0]
[null,null,0,0,{"$f":"IF(E$50>0,E11/E$50,0)","v":0},0,0,0,0,0,0,0,0,0,0,0,0,0,0,0]
[null,null,0,0,{"$f":"IF(E$50>0,E12/E$50,0)","v":0},0,0,0,0,0,0,0,0,0,0,0,0,0,0,0]
[null,null,0,0,{"$f":"IF(E$50>0,E13/E$50,0)","v":0},0,0,0,0,0,0,0,0,0,0,0,0,0,0,0]
[null,null,0,0,{"$f":"IF(E$50>0,E14/E$50,0)","v":0},0,0,0,0,0,0,0,0,0,0,0,0,0,0,0]
[null,null,0,0,{"$f":"IF(E$50>0,E15/E$50,0)","v":0},0,0,0,0,0,0,0,0,0,0,0,0,0,0,0]
[null,null,0,0,{"$f":"IF(E$50>0,E16/E$50,0)","v":0},0,0,0,0,0,0,0,0,0,0,0,0,0,0,0]
[null,null,0,0,{"$f":"IF(E$50>0,E17/E$50,0)","v":0},0,0,0,0,0,0,0,0,0,0,0,0,0,0,0]
[null,null,0,0,{"$f":"IF(E$50>0,E18/E$50,0)","v":0},0,0,0,0,0,0,0,0,0,0,0,0,0,0,0]
[null,null,0,0,{"$f":"IF(E$50>0,E19/E$50,0)","v":0},0,0,0,0,0,0,0,0,0,0,0,0,0,0,0]
[null,null,0,0,{"$f":"IF(E$50>0,E20/E$50,0)","v":0},0,0,0,0,0,0,0,0,0,0,0,0,0,0,0]
[null,null,0,0,{"$f":"IF(E$50>0,E21/E$50,0)","v":0},0,0,0,0,0,0,0,0,0,0,0,0,0,0,0]
[null,null,0,0,{"$f":"IF(E$50>0,E22/E$50,0)","v":0},0,0,0,0,0,0,0,0,0,0,0,0,0,0,0]
[null,null,0,0,{"$f":"IF(E$50>0,E23/E$50,0)","v":0},0,0,0,0,0,0,0,0,0,0,0,0,0,0,0]
[null,null,0,0,{"$f":"IF(E$50>0,E24/E$50,0)","v":0},0,0,0,0,0,0,0,0,0,0,0,0,0,0,0]
[null,null,{"$f":"C25","v":0},0,{"$f":"IF(E$50>0,E25/E$50,0)","v":0},0,0,0,0,0,0,0,0,0,0,0,0,0,0,0]
[null,null,0,0,{"$f":"IF(E$50>0,E26/E$50,0)","v":0},0,0,0,0,0,0,0,0,0,0,0,0,0,0,0]
[null,null,0,0,{"$f":"IF(E$50>0,E27/E$50,0)","v":0},0,0,0,0,0,0,0,0,0,0,0,0,0,0,0]
[null,null,0,0,{"$f":"IF(E$50>0,E28/E$50,0)","v":0},0,0,0,0,0,0,0,0,0,0,0,0,0,0,0]
[null,null,0,0,{"$f":"IF(E$50>0,E29/E$50,0)","v":0},0,0,0,0,0,0,0,0,0,0,0,0,0,0,0]
[null,null,0,0,{"$f":"IF(E$50>0,E30/E$50,0)","v":0},0,0,0,0,0,0,0,0,0,0,0,0,0,0,0]
[null,null,0,0,{"$f":"IF(E$50>0,E31/E$50,0)","v":0},0,0,0,0,0,0,0,0,0,0,0,0,0,0,0]
[null,null,0,0,{"$f":"IF(E$50>0,E32/E$50,0)","v":0},0,0,0,0,0,0,0,0,0,0,0,0,0,0,0]
[null,null,0,0,{"$f":"IF(E$50>0,E33/E$50,0)","v":0},0,0,0,0,0,0,0,0,0,0,0,0,0,0,0]
[null,null,0,0,{"$f":"IF(E$50>0,E34/E$50,0)","v":0},0,0,0,0,0,0,0,0,0,0,0,0,0,0,0]
[null,null,0,0,{"$f":"IF(E$50>0,E35/E$50,0)","v":0},0,0,0,0,0,0,0,0,0,0,0,0,0,0,0]
[null,null,0,0,{"$f":"IF(E$50>0,E36/E$50,0)","v":0},0,0,0,0,0,0,0,0,0,0,0,0,0,0,0]
[null,null,0,0,{"$f":"IF(E$50>0,E37/E$50,0)","v":0},0,0,0,0,0,0,0,0,0,0,0,0,0,0,0]
[null,null,0,0,{"$f":"IF(E$50>0,E38/E$50,0)","v":0},0,0,0,0,0,0,0,0,0,0,0,0,0,0,0]
[null,null,0,0,{"$f":"IF(E$50>0,E39/E$50,0)","v":0},0,0,0,0,0,0,0,0,0,0,0,0,0,0,0]
[null,null,0,0,{"$f":"IF(E$50>0,E40/E$50,0)","v":0},0,0,0,0,0,0,0,0,0,0,0,0,0,0,0]
[null,null,0,0,{"$f":"IF(E$50>0,E41/E$50,0)","v":0},0,0,0,0,0,0,0,0,0,0,0,0,0,0,0]
[null,null,0,0,{"$f":"IF(E$50>0,E42/E$50,0)","v":0},0,0,0,0,0,0,0,0,0,0,0,0,0,0,0]
[null,null,0,0,{"$f":"IF(E$50>0,E43/E$50,0)","v":0},0,0,0,0,0,0,0,0,0,0,0,0,0,0,0]
[null,null,0,0,{"$f":"IF(E$50>0,E44/E$50,0)","v":0},0,0,0,0,0,0,0,0,0,0,0,0,0,0,0]
[null,null,{"$f":"C45","v":0},0,{"$f":"IF(E$50>0,E45/E$50,0)","v":0},0,0,0,0,0,0,0,0,0,0,0,0,0,0,0]
[null,null,0,0,{"$f":"IF(E$50>0,E46/E$50,0)","v":0},0,0,0,0,0,0,0,0,0,0,0,0,0,0,0]
[null,null,0,0,{"$f":"IF(E$50>0,E47/E$50,0)","v":0},0,0,0,0,0,0,0,0,0,0,0,0,0,0,0]
[null,null,0,0,{"$f":"IF(E$50>0,E48/E$50,0)","v":0},0,0,0,0,0,0,0,0,0,0,0,0,0,0,0]
[null,null,0,0,{"$f":"IF(E$50>0,E49/E$50,0)","v":0},0,0,0,0,0,0,0,0,0,0,0,0,0,0,0]
[]
[]
[]
[]
[]
[]
[]
[]
[]
[]
[]
[]
["COUNT"]
[null,null,null,null,{"$f":"E3","v":"Female"},"Male",0,0,0,0,0,0,0,0,0,0,0,0,0,0]
[null,null,null,null,{"$f":"E4","v":0},0,0,0,0,0,0,0,0,0,0,0,0,0,0,0]
[null,null,{"$f":"C5","v":1},"PRINT",0,0]
[null,null,2,"RADIO",9,36]
[null,null,3,"TELEVISION",34,26]
[null,null,0,0,0,0]
[null,null,0,0,0,0]
[null,null,0,0,0,0]
[null,null,0,0,0,0]
[null,null,0,0,0,0]
[null,null,0,0,0,0]
[null,null,0,0,0,0]
[null,null,0,0,0,0]
[null,null,0,0]
[null,null,0,0]
[null,null,0,0]
[null,null,0,0]
[null,null,0,0]
[null,null,0,0]
[null,null,0,0]
[null,null,0,0]
[null,null,0,0]
[null,null,{"$f":"C25","v":0},0]
[null,null,0,0]
[null,null,0,0]
[null,null,0,0]
[null,null,0,0]
[null,null,0,0]
[null,null,0,0]
[null,null,0,0]
[null,null,0,0]
[null,null,0,0]
[null,null,0,0]
[null,null,0,0]
[null,null,0,0]
[null,null,0,0]
[null,null,0,0]
[null,null,0,0]
[null,null,0,0]
[null,null,0,0]
[null,null,0,0]
[null,null,0,0]
[null,null,{"$f":"C45","v":0},0]
[null,null,0,0]
[null,null,0,0]

{"sheet":"10eF - Announcers","index":34,"n_rows":10,"n_cols":12,"rows_kept":10,"cut":false,"hidden":false,"merged":[[1,5,1,9],[1,10,1,11]]}
["Announcers across all stories, by sex"]
[null,null,null,null,null,"% Female",null,null,null,null,"% Male"]
[null,null,null,null,"Media Type",1995,2000,2005,2010,"N",2010,"N"]
[]
[]
[null,null,null,null,"Radio","NA",0.41,0.49,{"$f":"'10e'!W6","v":0.20000000000000034},{"$f":"'10e'!E113","v":9},{"$f":"'10e'!X6","v":0.79999999999999971},{"$f":"'10e'!F113","v":36}]
[null,null,null,null,"Television","NA",0.56000000000000005,0.56999999999999995,{"$f":"'10e'!W7","v":0.56666666666666698},{"$f":"'10e'!E114","v":34},{"$f":"'10e'!X7","v":0.43333333333333302},{"$f":"'10e'!F114","v":26}]
[]
[]
[null,null,null,null,null,0,0,0,{"$f":"'10e'!$W$50","v":0.41129944026023157},{"$f":"SUM(J5:J8)","v":43}]

{"sheet":"10f","index":35,"n_rows":154,"n_cols":38,"rows_kept":154,"cut":false,"hidden":true,"merged":[]}
["Television, Radio & Newspapers Reporters, by sex"]
[]
[null,null,null,null,"Female","Male",null,null,null,null,null,null,null,null,null,null,null,null,null,null,null,null,{"$f":"E3","v":"Female"},"Male",0,0,0,0,0,0,0,0,0,0,0,0,0]
[null,null,null,null,null,null,null,null,null,null,null,null,null,null,null,null,null,null,null,null,null,"TOTAL",0,0,0,0,0,0,0,0,0,0,0,0,0,0,0,{"$f":"T4","v":0}]
[null,null,1,"PRINT",5.98119981586933E-2,0.171959494706243,null,null,null,null,null,null,null,null,null,null,null,null,null,null,null,{"$f":"SUM(E5:O5)","v":0.23177149286493631},{"$f":"IF((E5+F5)>0,E5/(E5+F5),0)","v":0.25806451612903253},{"$f":"IF((E5+F5)>0,F5/(E5+F5),0)","v":0.74193548387096742},{"$f":"IF((G5+H5)>0,G5/(G5+H5),0)","v":0},{"$f":"IF((G5+H5)>0,H5/(G5+H5),0)","v":0},{"$f":"IF((I5+J5)>0,I5/(I5+J5),0)","v":0},{"$f":"IF((I5+J5)>0,J5/(I5+J5),0)","v":0},{"$f":"IF((K5+L5)>0,K5/(K5+L5),0)","v":0},{"$f":"IF((K5+L5)>0,L5/(K5+L5),0)","v":0},{"$f":"IF((M5+N5)>0,M5/(M5+N5),0)","v":0},{"$f":"IF((M5+N5)>0,N5/(M5+N5),0)","v":0},{"$f":"IF((O5+P5)>0,O5/(O5+P5),0)","v":0},{"$f":"IF((O5+P5)>0,P5/(O5+P5),0)","v":0},{"$f":"IF((Q5+R5)>0,Q5/(Q5+R5),0)","v":0},{"$f":"IF((Q5+R5)>0,R5/(Q5+R5),0)","v":0},{"$f":"IF((S5+T5)>0,S5/(S5+T5),0)","v":0},{"$f":"IF((S5+T5)>0,T5/(S5+T5),0)","v":0}]
[null,null,2,"RADIO",3.4999999217689003E-2,3.4999999217689003E-2,null,null,null,null,null,null,null,null,null,null,null,null,null,null,null,6.9999998435378005E-2,0.5,0.5,0,0,0,0,0,0,0,0,0,0,0,0,0,0]
[null,null,3,"TELEVISION",4.5900001656264101E-2,0.15300000552088,null,null,null,null,null,null,null,null,null,null,null,null,null,null,null,0.19890000717714409,0.23076923076923117,0.76923076923076883,0,0,0,0,0,0,0,0,0,0,0,0,0,0]
[null,null,null,null,null,null,null,null,null,null,null,null,null,null,null,null,null,null,null,null,null,0,0,0,0,0,0,0,0,0,0,0,0,0,0,0,0,0]
[null,null,null,null,null,null,null,null,null,null,null,null,null,null,null,null,null,null,null,null,null,0,0,0,0,0,0,0,0,0,0,0,0,0,0,0,0,0]
[null,null,null,null,null,null,null,null,null,null,null,null,null,null,null,null,null,null,null,null,null,0,0,0,0,0,0,0,0,0,0,0,0,0,0,0,0,0]
[null,null,null,null,null,null,null,null,null,null,null,null,null,null,null,null,null,null,null,null,null,0,0,0,0,0,0,0,0,0,0,0,0,0,0,0,0,0]
[null,null,null,null,null,null,null,null,null,null,null,null,null,null,null,null,null,null,null,null,null,0,0,0,0,0,0,0,0,0,0,0,0,0,0,0,0,0]
[]
[]
[]
[]
[]
[]
[]
[]
[]
[]
[]
[]
[]
[]
[]
[]
[]
[]
[]
[]
[]
[]
[]
[]
[]
[]
[]
[]
[]
[]
[]
[]
[]
[]
[]
[]
[]
[null,null,null,"TOTAL",{"$f":"SUM(E5:E49)","v":0.14071199903264639},0.35995949944481198,0,0,0,0,0,0,0,0,0,0,0,0,0,0,null,{"$f":"SUM(E50:O50)","v":0.5006714984774584},{"$f":"IF((E50+F50)>0,E50/(E50+F50),0)","v":0.28104655339988688},{"$f":"IF((E50+F50)>0,F50/(E50+F50),0)","v":0.71895344660011307},{"$f":"IF((G50+H50)>0,G50/(G50+H50),0)","v":0},{"$f":"IF((G50+H50)>0,H50/(G50+H50),0)","v":0},{"$f":"IF((I50+J50)>0,I50/(I50+J50),0)","v":0},{"$f":"IF((I50+J50)>0,J50/(I50+J50),0)","v":0},{"$f":"IF((K50+L50)>0,K50/(K50+L50),0)","v":0},{"$f":"IF((K50+L50)>0,L50/(K50+L50),0)","v":0},{"$f":"IF((M50+N50)>0,M50/(M50+N50),0)","v":0},{"$f":"IF((M50+N50)>0,N50/(M50+N50),0)","v":0},{"$f":"IF((O50+P50)>0,O50/(O50+P50),0)","v":0},{"$f":"IF((O50+P50)>0,P50/(O50+P50),0)","v":0},{"$f":"IF((Q50+R50)>0,Q50/(Q50+R50),0)","v":0},{"$f":"IF((Q50+R50)>0,R50/(Q50+R50),0)","v":0},{"$f":"IF((S50+T50)>0,S50/(S50+T50),0)","v":0},{"$f":"IF((S50+T50)>0,T50/(S50+T50),0)","v":0}]
[]
[null,null,{"$f":"C5","v":1},"PRINT",{"$f":"IF(E$50>0,E5/E$50,0)","v":0.42506679295215188},0.47771900719793997,0,0,0,0,0,0,0,0,0,0,0,0,0,0]
[null,null,2,"RADIO",{"$f":"IF(E$50>0,E6/E$50,0)","v":0.24873500098288492},9.7233158929467586E-2,0,0,0,0,0,0,0,0,0,0,0,0,0,0]
[null,null,3,"TELEVISION",{"$f":"IF(E$50>0,E7/E$50,0)","v":0.3261982060649633},0.42504783387259254,0,0,0,0,0,0,0,0,0,0,0,0,0,0]
[null,null,0,0,{"$f":"IF(E$50>0,E8/E$50,0)","v":0},0,0,0,0,0,0,0,0,0,0,0,0,0,0,0]
[null,null,0,0,{"$f":"IF(E$50>0,E9/E$50,0)","v":0},0,0,0,0,0,0,0,0,0,0,0,0,0,0,0]
[null,null,0,0,{"$f":"IF(E$50>0,E10/E$50,0)","v":0},0,0,0,0,0,0,0,0,0,0,0,0,0,0,0]
[null,null,0,0,{"$f":"IF(E$50>0,E11/E$50,0)","v":0},0,0,0,0,0,0,0,0,0,0,0,0,0,0,0]
[null,null,0,0,{"$f":"IF(E$50>0,E12/E$50,0)","v":0},0,0,0,0,0,0,0,0,0,0,0,0,0,0,0]
[null,null,0,0,{"$f":"IF(E$50>0,E13/E$50,0)","v":0},0,0,0,0,0,0,0,0,0,0,0,0,0,0,0]
[null,null,0,0,{"$f":"IF(E$50>0,E14/E$50,0)","v":0},0,0,0,0,0,0,0,0,0,0,0,0,0,0,0]
[null,null,0,0,{"$f":"IF(E$50>0,E15/E$50,0)","v":0},0,0,0,0,0,0,0,0,0,0,0,0,0,0,0]
[null,null,0,0,{"$f":"IF(E$50>0,E16/E$50,0)","v":0},0,0,0,0,0,0,0,0,0,0,0,0,0,0,0]
[null,null,0,0,{"$f":"IF(E$50>0,E17/E$50,0)","v":0},0,0,0,0,0,0,0,0,0,0,0,0,0,0,0]
[null,null,0,0,{"$f":"IF(E$50>0,E18/E$50,0)","v":0},0,0,0,0,0,0,0,0,0,0,0,0,0,0,0]
[null,null,0,0,{"$f":"IF(E$50>0,E19/E$50,0)","v":0},0,0,0,0,0,0,0,0,0,0,0,0,0,0,0]
[null,null,0,0,{"$f":"IF(E$50>0,E20/E$50,0)","v":0},0,0,0,0,0,0,0,0,0,0,0,0,0,0,0]
[null,null,0,0,{"$f":"IF(E$50>0,E21/E$50,0)","v":0},0,0,0,0,0,0,0,0,0,0,0,0,0,0,0]
[null,null,0,0,{"$f":"IF(E$50>0,E22/E$50,0)","v":0},0,0,0,0,0,0,0,0,0,0,0,0,0,0,0]
[null,null,0,0,{"$f":"IF(E$50>0,E23/E$50,0)","v":0},0,0,0,0,0,0,0,0,0,0,0,0,0,0,0]
[null,null,0,0,{"$f":"IF(E$50>0,E24/E$50,0)","v":0},0,0,0,0,0,0,0,0,0,0,0,0,0,0,0]
[null,null,{"$f":"C25","v":0},0,{"$f":"IF(E$50>0,E25/E$50,0)","v":0},0,0,0,0,0,0,0,0,0,0,0,0,0,0,0]
[null,null,0,0,{"$f":"IF(E$50>0,E26/E$50,0)","v":0},0,0,0,0,0,0,0,0,0,0,0,0,0,0,0]
[null,null,0,0,{"$f":"IF(E$50>0,E27/E$50,0)","v":0},0,0,0,0,0,0,0,0,0,0,0,0,0,0,0]
[null,null,0,0,{"$f":"IF(E$50>0,E28/E$50,0)","v":0},0,0,0,0,0,0,0,0,0,0,0,0,0,0,0]
[null,null,0,0,{"$f":"IF(E$50>0,E29/E$50,0)","v":0},0,0,0,0,0,0,0,0,0,0,0,0,0,0,0]
[null,null,0,0,{"$f":"IF(E$50>0,E30/E$50,0)","v":0},0,0,0,0,0,0,0,0,0,0,0,0,0,0,0]
[null,null,0,0,{"$f":"IF(E$50>0,E31/E$50,0)","v":0},0,0,0,0,0,0,0,0,0,0,0,0,0,0,0]
[null,null,0,0,{"$f":"IF(E$50>0,E32/E$50,0)","v":0},0,0,0,0,0,0,0,0,0,0,0,0,0,0,0]
[null,null,0,0,{"$f":"IF(E$50>0,E33/E$50,0)","v":0},0,0,0,0,0,0,0,0,0,0,0,0,0,0,0]
[null,null,0,0,{"$f":"IF(E$50>0,E34/E$50,0)","v":0},0,0,0,0,0,0,0,0,0,0,0,0,0,0,0]
[null,null,0,0,{"$f":"IF(E$50>0,E35/E$50,0)","v":0},0,0,0,0,0,0,0,0,0,0,0,0,0,0,0]
[null,null,0,0,{"$f":"IF(E$50>0,E36/E$50,0)","v":0},0,0,0,0,0,0,0,0,0,0,0,0,0,0,0]
[null,null,0,0,{"$f":"IF(E$50>0,E37/E$50,0)","v":0},0,0,0,0,0,0,0,0,0,0,0,0,0,0,0]
[null,null,0,0,{"$f":"IF(E$50>0,E38/E$50,0)","v":0},0,0,0,0,0,0,0,0,0,0,0,0,0,0,0]
[null,null,0,0,{"$f":"IF(E$50>0,E39/E$50,0)","v":0},0,0,0,0,0,0,0,0,0,0,0,0,0,0,0]
[null,null,0,0,{"$f":"IF(E$50>0,E40/E$50,0)","v":0},0,0,0,0,0,0,0,0,0,0,0,0,0,0,0]
[null,null,0,0,{"$f":"IF(E$50>0,E41/E$50,0)","v":0},0,0,0,0,0,0,0,0,0,0,0,0,0,0,0]
[null,null,0,0,{"$f":"IF(E$50>0,E42/E$50,0)","v":0},0,0,0,0,0,0,0,0,0,0,0,0,0,0,0]
[null,null,0,0,{"$f":"IF(E$50>0,E43/E$50,0)","v":0},0,0,0,0,0,0,0,0,0,0,0,0,0,0,0]
[null,null,0,0,{"$f":"IF(E$50>0,E44/E$50,0)","v":0},0,0,0,0,0,0,0,0,0,0,0,0,0,0,0]
[null,null,{"$f":"C45","v":0},0,{"$f":"IF(E$50>0,E45/E$50,0)","v":0},0,0,0,0,0,0,0,0,0,0,0,0,0,0,0]
[null,null,0,0,{"$f":"IF(E$50>0,E46/E$50,0)","v":0},0,0,0,0,0,0,0,0,0,0,0,0,0,0,0]
[null,null,0,0,{"$f":"IF(E$50>0,E47/E$50,0)","v":0},0,0,0,0,0,0,0,0,0,0,0,0,0,0,0]
[null,null,0,0,{"$f":"IF(E$50>0,E48/E$50,0)","v":0},0,0,0,0,0,0,0,0,0,0,0,0,0,0,0]
[null,null,0,0,{"$f":"IF(E$50>0,E49/E$50,0)","v":0},0,0,0,0,0,0,0,0,0,0,0,0,0,0,0]
[]
[]
[]
[]
[]
[]
[]
[]
[]
[]
[]
[]
["COUNT"]
[null,null,null,null,{"$f":"E3","v":"Female"},"Male",0,0,0,0,0,0,0,0,0,0,0,0,0,0]
[null,null,null,null,{"$f":"E4","v":0},0,0,0,0,0,0,0,0,0,0,0,0,0,0,0]
[null,null,{"$f":"C5","v":1},"PRINT",8,23]
[null,null,2,"RADIO",7,7]
[null,null,3,"TELEVISION",9,30]
[null,null,0,0,0,0]
[null,null,0,0,0,0]
[null,null,0,0,0,0]
[null,null,0,0,0,0]
[null,null,0,0,0,0]
[null,null,0,0,0,0]
[null,null,0,0,0,0]
[null,null,0,0,0,0]
[null,null,0,0]
[null,null,0,0]
[null,null,0,0]
[null,null,0,0]
[null,null,0,0]
[null,null,0,0]
[null,null,0,0]
[null,null,0,0]
[null,null,0,0]
[null,null,{"$f":"C25","v":0},0]
[null,null,0,0]
[null,null,0,0]
[null,null,0,0]
[null,null,0,0]
[null,null,0,0]
[null,null,0,0]
[null,null,0,0]
[null,null,0,0]
[null,null,0,0]
[null,null,0,0]
[null,null,0,0]
[null,null,0,0]
[null,null,0,0]
[null,null,0,0]
[null,null,0,0]
[null,null,0,0]
[null,null,0,0]
[null,null,0,0]
[null,null,0,0]
[null,null,{"$f":"C45","v":0},0]
[null,null,0,0]
[null,null,0,0]

{"sheet":"10fF - Reporters, by sex","index":36,"n_rows":10,"n_cols":12,"rows_kept":10,"cut":false,"hidden":false,"merged":[[1,5,1,9],[1,10,1,11]]}
[{"$f":"'10f'!$A$1","v":"Television, Radio & Newspapers Reporters, by sex"}]
[null,null,null,null,null,"% Female",null,null,null,null,"% Male"]
[null,null,null,null,"Media Type",1995,2000,2005,2010,"N",2010,"N"]
[]
[null,null,null,null,"Print",0.25,0.26,0.28999999999999998,{"$f":"'10f'!W5","v":0.25806451612903253},{"$f":"'10f'!E112","v":8},{"$f":"'10f'!X5","v":0.74193548387096742},{"$f":"'10f'!F112","v":23}]
[null,null,null,null,"Radio","n/a",0.28000000000000003,0.45,{"$f":"'10f'!W6","v":0.5},{"$f":"'10f'!E113","v":7},{"$f":"'10f'!X6","v":0.5},{"$f":"'10f'!F113","v":7}]
[null,null,null,null,"Television","n/a",0.36,0.42,{"$f":"'10f'!W7","v":0.23076923076923117},{"$f":"'10f'!E114","v":9},{"$f":"'10f'!X7","v":0.76923076923076883},{"$f":"'10f'!F114","v":30}]
[]
[]
[null,null,null,null,"Total",0,0,0,{"$f":"'10f'!$W$50","v":0.28104655339988688},{"$f":"SUM(J5:J8)","v":24},{"$f":"'10f'!$X$50","v":0.71895344660011307},{"$f":"SUM(L5:L8)","v":60}]

{"sheet":"11a","index":37,"n_rows":154,"n_cols":38,"rows_kept":154,"cut":false,"hidden":true,"merged":[]}
["Television & Radio Announcers in domestic & foreign stories, by sex"]
[]
[null,null,null,null,"Female","Male",null,null,null,null,null,null,null,null,null,null,null,null,null,null,null,null,{"$f":"E3","v":"Female"},"Male",0,0,0,0,0,0,0,0,0,0,0,0,0]
[null,null,null,null,null,null,null,null,null,null,null,null,null,null,null,null,null,null,null,null,null,"TOTAL",0,0,0,0,0,0,0,0,0,0,0,0,0,0,0,{"$f":"T4","v":0}]
[null,null,0,"Do not know",null,null,null,null,null,null,null,null,null,null,null,null,null,null,null,null,null,{"$f":"SUM(E5:O5)","v":0},{"$f":"IF((E5+F5)>0,E5/(E5+F5),0)","v":0},{"$f":"IF((E5+F5)>0,F5/(E5+F5),0)","v":0},{"$f":"IF((G5+H5)>0,G5/(G5+H5),0)","v":0},{"$f":"IF((G5+H5)>0,H5/(G5+H5),0)","v":0},{"$f":"IF((I5+J5)>0,I5/(I5+J5),0)","v":0},{"$f":"IF((I5+J5)>0,J5/(I5+J5),0)","v":0},{"$f":"IF((K5+L5)>0,K5/(K5+L5),0)","v":0},{"$f":"IF((K5+L5)>0,L5/(K5+L5),0)","v":0},{"$f":"IF((M5+N5)>0,M5/(M5+N5),0)","v":0},{"$f":"IF((M5+N5)>0,N5/(M5+N5),0)","v":0},{"$f":"IF((O5+P5)>0,O5/(O5+P5),0)","v":0},{"$f":"IF((O5+P5)>0,P5/(O5+P5),0)","v":0},{"$f":"IF((Q5+R5)>0,Q5/(Q5+R5),0)","v":0},{"$f":"IF((Q5+R5)>0,R5/(Q5+R5),0)","v":0},{"$f":"IF((S5+T5)>0,S5/(S5+T5),0)","v":0},{"$f":"IF((S5+T5)>0,T5/(S5+T5),0)","v":0}]
[null,null,1,"Local: Has importance within your city, community, area",7.1300002280622707E-2,8.5900000762194395E-2,null,null,null,null,null,null,null,null,null,null,null,null,null,null,null,0.15720000304281712,0.45356234669539081,0.54643765330460914,0,0,0,0,0,0,0,0,0,0,0,0,0,0]
[null,null,2,"National: Has importance within your own country",7.1000001393258599E-2,0.12079999968409499,null,null,null,null,null,null,null,null,null,null,null,null,null,null,null,0.19180000107735359,0.37017727317229815,0.62982272682770191,0,0,0,0,0,0,0,0,0,0,0,0,0,0]
[null,null,3,"National and other: Involves your country and other countries",3.55000006966293E-2,3.0300000216811899E-2,null,null,null,null,null,null,null,null,null,null,null,null,null,null,null,6.5800000913441195E-2,0.53951368090904683,0.46048631909095328,0,0,0,0,0,0,0,0,0,0,0,0,0,0]
[null,null,4,"Foreign, international: involves other countries or the world in general (e.g., global warming)",4.0600000880658599E-2,7.5600000098347706E-2,null,null,null,null,null,null,null,null,null,null,null,null,null,null,null,0.1162000009790063,0.34939759499652451,0.65060240500347544,0,0,0,0,0,0,0,0,0,0,0,0,0,0]
[null,null,null,null,null,null,null,null,null,null,null,null,null,null,null,null,null,null,null,null,null,0,0,0,0,0,0,0,0,0,0,0,0,0,0,0,0,0]
[null,null,null,null,null,null,null,null,null,null,null,null,null,null,null,null,null,null,null,null,null,0,0,0,0,0,0,0,0,0,0,0,0,0,0,0,0,0]
[null,null,null,null,null,null,null,null,null,null,null,null,null,null,null,null,null,null,null,null,null,0,0,0,0,0,0,0,0,0,0,0,0,0,0,0,0,0]
[]
[]
[]
[]
[]
[]
[]
[]
[]
[]
[]
[]
[]
[]
[]
[]
[]
[]
[]
[]
[]
[]
[]
[]
[]
[]
[]
[]
[]
[]
[]
[]
[]
[]
[]
[]
[]
[null,null,null,"TOTAL",{"$f":"SUM(E5:E49)","v":0.21840000525116918},0.312600000761449,0,0,0,0,0,0,0,0,0,0,0,0,0,0,null,{"$f":"SUM(E50:O50)","v":0.53100000601261821},{"$f":"IF((E50+F50)>0,E50/(E50+F50),0)","v":0.41129944026023102},{"$f":"IF((E50+F50)>0,F50/(E50+F50),0)","v":0.58870055973976887},{"$f":"IF((G50+H50)>0,G50/(G50+H50),0)","v":0},{"$f":"IF((G50+H50)>0,H50/(G50+H50),0)","v":0},{"$f":"IF((I50+J50)>0,I50/(I50+J50),0)","v":0},{"$f":"IF((I50+J50)>0,J50/(I50+J50),0)","v":0},{"$f":"IF((K50+L50)>0,K50/(K50+L50),0)","v":0},{"$f":"IF((K50+L50)>0,L50/(K50+L50),0)","v":0},{"$f":"IF((M50+N50)>0,M50/(M50+N50),0)","v":0},{"$f":"IF((M50+N50)>0,N50/(M50+N50),0)","v":0},{"$f":"IF((O50+P50)>0,O50/(O50+P50),0)","v":0},{"$f":"IF((O50+P50)>0,P50/(O50+P50),0)","v":0},{"$f":"IF((Q50+R50)>0,Q50/(Q50+R50),0)","v":0},{"$f":"IF((Q50+R50)>0,R50/(Q50+R50),0)","v":0},{"$f":"IF((S50+T50)>0,S50/(S50+T50),0)","v":0},{"$f":"IF((S50+T50)>0,T50/(S50+T50),0)","v":0}]
[]
[null,null,{"$f":"C5","v":0},"Do not know",{"$f":"IF(E$50>0,E5/E$50,0)","v":0},0,0,0,0,0,0,0,0,0,0,0,0,0,0,0]
[null,null,1,"Local: Has importance within your city, community, area",{"$f":"IF(E$50>0,E6/E$50,0)","v":0.32646520405814416},0.27479206830759517,0,0,0,0,0,0,0,0,0,0,0,0,0,0]
[null,null,2,"National: Has importance within your own country",{"$f":"IF(E$50>0,E7/E$50,0)","v":0.32509157365452268},0.38643633841920483,0,0,0,0,0,0,0,0,0,0,0,0,0,0]
[null,null,3,"National and other: Involves your country and other countries",{"$f":"IF(E$50>0,E8/E$50,0)","v":0.16254578682726134},9.6928983182998793E-2,0,0,0,0,0,0,0,0,0,0,0,0,0,0]
[null,null,4,"Foreign, international: involves other countries or the world in general (e.g., global warming)",{"$f":"IF(E$50>0,E9/E$50,0)","v":0.18589743546007195},0.24184261009020119,0,0,0,0,0,0,0,0,0,0,0,0,0,0]
[null,null,0,0,{"$f":"IF(E$50>0,E10/E$50,0)","v":0},0,0,0,0,0,0,0,0,0,0,0,0,0,0,0]
[null,null,0,0,{"$f":"IF(E$50>0,E11/E$50,0)","v":0},0,0,0,0,0,0,0,0,0,0,0,0,0,0,0]
[null,null,0,0,{"$f":"IF(E$50>0,E12/E$50,0)","v":0},0,0,0,0,0,0,0,0,0,0,0,0,0,0,0]
[null,null,0,0,{"$f":"IF(E$50>0,E13/E$50,0)","v":0},0,0,0,0,0,0,0,0,0,0,0,0,0,0,0]
[null,null,0,0,{"$f":"IF(E$50>0,E14/E$50,0)","v":0},0,0,0,0,0,0,0,0,0,0,0,0,0,0,0]
[null,null,0,0,{"$f":"IF(E$50>0,E15/E$50,0)","v":0},0,0,0,0,0,0,0,0,0,0,0,0,0,0,0]
[null,null,0,0,{"$f":"IF(E$50>0,E16/E$50,0)","v":0},0,0,0,0,0,0,0,0,0,0,0,0,0,0,0]
[null,null,0,0,{"$f":"IF(E$50>0,E17/E$50,0)","v":0},0,0,0,0,0,0,0,0,0,0,0,0,0,0,0]
[null,null,0,0,{"$f":"IF(E$50>0,E18/E$50,0)","v":0},0,0,0,0,0,0,0,0,0,0,0,0,0,0,0]
[null,null,0,0,{"$f":"IF(E$50>0,E19/E$50,0)","v":0},0,0,0,0,0,0,0,0,0,0,0,0,0,0,0]
[null,null,0,0,{"$f":"IF(E$50>0,E20/E$50,0)","v":0},0,0,0,0,0,0,0,0,0,0,0,0,0,0,0]
[null,null,0,0,{"$f":"IF(E$50>0,E21/E$50,0)","v":0},0,0,0,0,0,0,0,0,0,0,0,0,0,0,0]
[null,null,0,0,{"$f":"IF(E$50>0,E22/E$50,0)","v":0},0,0,0,0,0,0,0,0,0,0,0,0,0,0,0]
[null,null,0,0,{"$f":"IF(E$50>0,E23/E$50,0)","v":0},0,0,0,0,0,0,0,0,0,0,0,0,0,0,0]
[null,null,0,0,{"$f":"IF(E$50>0,E24/E$50,0)","v":0},0,0,0,0,0,0,0,0,0,0,0,0,0,0,0]
[null,null,{"$f":"C25","v":0},0,{"$f":"IF(E$50>0,E25/E$50,0)","v":0},0,0,0,0,0,0,0,0,0,0,0,0,0,0,0]
[null,null,0,0,{"$f":"IF(E$50>0,E26/E$50,0)","v":0},0,0,0,0,0,0,0,0,0,0,0,0,0,0,0]
[null,null,0,0,{"$f":"IF(E$50>0,E27/E$50,0)","v":0},0,0,0,0,0,0,0,0,0,0,0,0,0,0,0]
[null,null,0,0,{"$f":"IF(E$50>0,E28/E$50,0)","v":0},0,0,0,0,0,0,0,0,0,0,0,0,0,0,0]
[null,null,0,0,{"$f":"IF(E$50>0,E29/E$50,0)","v":0},0,0,0,0,0,0,0,0,0,0,0,0,0,0,0]
[null,null,0,0,{"$f":"IF(E$50>0,E30/E$50,0)","v":0},0,0,0,0,0,0,0,0,0,0,0,0,0,0,0]
[null,null,0,0,{"$f":"IF(E$50>0,E31/E$50,0)","v":0},0,0,0,0,0,0,0,0,0,0,0,0,0,0,0]
[null,null,0,0,{"$f":"IF(E$50>0,E32/E$50,0)","v":0},0,0,0,0,0,0,0,0,0,0,0,0,0,0,0]
[null,null,0,0,{"$f":"IF(E$50>0,E33/E$50,0)","v":0},0,0,0,0,0,0,0,0,0,0,0,0,0,0,0]
[null,null,0,0,{"$f":"IF(E$50>0,E34/E$50,0)","v":0},0,0,0,0,0,0,0,0,0,0,0,0,0,0,0]
[null,null,0,0,{"$f":"IF(E$50>0,E35/E$50,0)","v":0},0,0,0,0,0,0,0,0,0,0,0,0,0,0,0]
[null,null,0,0,{"$f":"IF(E$50>0,E36/E$50,0)","v":0},0,0,0,0,0,0,0,0,0,0,0,0,0,0,0]
[null,null,0,0,{"$f":"IF(E$50>0,E37/E$50,0)","v":0},0,0,0,0,0,0,0,0,0,0,0,0,0,0,0]
[null,null,0,0,{"$f":"IF(E$50>0,E38/E$50,0)","v":0},0,0,0,0,0,0,0,0,0,0,0,0,0,0,0]
[null,null,0,0,{"$f":"IF(E$50>0,E39/E$50,0)","v":0},0,0,0,0,0,0,0,0,0,0,0,0,0,0,0]
[null,null,0,0,{"$f":"IF(E$50>0,E40/E$50,0)","v":0},0,0,0,0,0,0,0,0,0,0,0,0,0,0,0]
[null,null,0,0,{"$f":"IF(E$50>0,E41/E$50,0)","v":0},0,0,0,0,0,0,0,0,0,0,0,0,0,0,0]
[null,null,0,0,{"$f":"IF(E$50>0,E42/E$50,0)","v":0},0,0,0,0,0,0,0,0,0,0,0,0,0,0,0]
[null,null,0,0,{"$f":"IF(E$50>0,E43/E$50,0)","v":0},0,0,0,0,0,0,0,0,0,0,0,0,0,0,0]
[null,null,0,0,{"$f":"IF(E$50>0,E44/E$50,0)","v":0},0,0,0,0,0,0,0,0,0,0,0,0,0,0,0]
[null,null,{"$f":"C45","v":0},0,{"$f":"IF(E$50>0,E45/E$50,0)","v":0},0,0,0,0,0,0,0,0,0,0,0,0,0,0,0]
[null,null,0,0,{"$f":"IF(E$50>0,E46/E$50,0)","v":0},0,0,0,0,0,0,0,0,0,0,0,0,0,0,0]
[null,null,0,0,{"$f":"IF(E$50>0,E47/E$50,0)","v":0},0,0,0,0,0,0,0,0,0,0,0,0,0,0,0]
[null,null,0,0,{"$f":"IF(E$50>0,E48/E$50,0)","v":0},0,0,0,0,0,0,0,0,0,0,0,0,0,0,0]
[null,null,0,0,{"$f":"IF(E$50>0,E49/E$50,0)","v":0},0,0,0,0,0,0,0,0,0,0,0,0,0,0,0]
[]
[]
[]
[]
[]
[]
[]
[]
[]
[]
[]
[]
["COUNT"]
[null,null,null,null,{"$f":"E3","v":"Female"},"Male",0,0,0,0,0,0,0,0,0,0,0,0,0,0]
[null,null,null,null,{"$f":"E4","v":0},0,0,0,0,0,0,0,0,0,0,0,0,0,0,0]
[null,null,{"$f":"C5","v":0},"Do not know",0,0]
[null,null,1,"Local: Has importance within your city, community, area",14,17]
[null,null,2,"National: Has importance within your own country",14,24]
[null,null,3,"National and other: Involves your country and other countries",7,6]
[null,null,4,"Foreign, international: involves other countries or the world in general (e.g., global warming)",8,15]
[null,null,0,0,0,0]
[null,null,0,0,0,0]
[null,null,0,0,0,0]
[null,null,0,0,0,0]
[null,null,0,0,0,0]
[null,null,0,0,0,0]
[null,null,0,0]
[null,null,0,0]
[null,null,0,0]
[null,null,0,0]
[null,null,0,0]
[null,null,0,0]
[null,null,0,0]
[null,null,0,0]
[null,null,0,0]
[null,null,{"$f":"C25","v":0},0]
[null,null,0,0]
[null,null,0,0]
[null,null,0,0]
[null,null,0,0]
[null,null,0,0]
[null,null,0,0]
[null,null,0,0]
[null,null,0,0]
[null,null,0,0]
[null,null,0,0]
[null,null,0,0]
[null,null,0,0]
[null,null,0,0]
[null,null,0,0]
[null,null,0,0]
[null,null,0,0]
[null,null,0,0]
[null,null,0,0]
[null,null,0,0]
[null,null,{"$f":"C45","v":0},0]
[null,null,0,0]
[null,null,0,0]

{"sheet":"11aF - Announcers","index":38,"n_rows":14,"n_cols":12,"rows_kept":14,"cut":false,"hidden":false,"merged":[[1,5,1,9],[1,10,1,11]]}
[{"$f":"'11a'!$A$1","v":"Television & Radio Announcers in domestic & foreign stories, by sex"}]
[null,null,null,null,null,"% Female",null,null,null,null,"% Male"]
[null,null,null,null,"Media Type",1995,2000,2005,2010,"N",2010,"N"]
[]
[]
[null,null,null,null,"Local",0.5,0.47,"n/a",{"$f":"'11a'!W6","v":0.45356234669539081},{"$f":"'11a'!E113","v":14},{"$f":"'11a'!X6","v":0.54643765330460914},{"$f":"'11a'!F113","v":17}]
[null,null,null,null,"National",0.52,0.49,"n/a",{"$f":"'11a'!W7","v":0.37017727317229815},{"$f":"'11a'!E114","v":14},{"$f":"'11a'!X7","v":0.62982272682770191},{"$f":"'11a'!F114","v":24}]
[null,null,null,null,"National and other",0.5,0.51,"n/a",{"$f":"'11a'!W8","v":0.53951368090904683},{"$f":"'11a'!E115","v":7},{"$f":"'11a'!X8","v":0.46048631909095328},{"$f":"'11a'!F115","v":6}]
[null,null,null,null,"Foreign/International",0.48,0.51,"n/a",{"$f":"'11a'!W9","v":0.34939759499652451},{"$f":"'11a'!E116","v":8},{"$f":"'11a'!X9","v":0.65060240500347544},{"$f":"'11a'!F116","v":15}]
[]
[null,null,null,null,null,null,null,null,{"$f":"'11a'!$W$50","v":0.41129944026023102},{"$f":"SUM(J5:J9)","v":43},{"$f":"'11a'!$X$50","v":0.58870055973976887},{"$f":"SUM(L5:L9)","v":62}]
[]
[]
[null,null,null,null,null,"Data from 2005 not the same query"]

{"sheet":"11b","index":39,"n_rows":154,"n_cols":38,"rows_kept":154,"cut":false,"hidden":true,"merged":[]}
["Reporters in domestic & foreign stories, by sex"]
[]
[null,null,null,null,"Female","Male",null,null,null,null,null,null,null,null,null,null,null,null,null,null,null,null,{"$f":"E3","v":"Female"},"Male",0,0,0,0,0,0,0,0,0,0,0,0,0]
[null,null,null,null,null,null,null,null,null,null,null,null,null,null,null,null,null,null,null,null,null,"TOTAL",0,0,0,0,0,0,0,0,0,0,0,0,0,0,0,{"$f":"T4","v":0}]
[null,null,0,"Do not know",7.4764997698366599E-3,null,null,null,null,null,null,null,null,null,null,null,null,null,null,null,null,{"$f":"SUM(E5:O5)","v":7.4764997698366599E-3},{"$f":"IF((E5+F5)>0,E5/(E5+F5),0)","v":1},{"$f":"IF((E5+F5)>0,F5/(E5+F5),0)","v":0},{"$f":"IF((G5+H5)>0,G5/(G5+H5),0)","v":0},{"$f":"IF((G5+H5)>0,H5/(G5+H5),0)","v":0},{"$f":"IF((I5+J5)>0,I5/(I5+J5),0)","v":0},{"$f":"IF((I5+J5)>0,J5/(I5+J5),0)","v":0},{"$f":"IF((K5+L5)>0,K5/(K5+L5),0)","v":0},{"$f":"IF((K5+L5)>0,L5/(K5+L5),0)","v":0},{"$f":"IF((M5+N5)>0,M5/(M5+N5),0)","v":0},{"$f":"IF((M5+N5)>0,N5/(M5+N5),0)","v":0},{"$f":"IF((O5+P5)>0,O5/(O5+P5),0)","v":0},{"$f":"IF((O5+P5)>0,P5/(O5+P5),0)","v":0},{"$f":"IF((Q5+R5)>0,Q5/(Q5+R5),0)","v":0},{"$f":"IF((Q5+R5)>0,R5/(Q5+R5),0)","v":0},{"$f":"IF((S5+T5)>0,S5/(S5+T5),0)","v":0},{"$f":"IF((S5+T5)>0,T5/(S5+T5),0)","v":0}]
[null,null,1,"Local: Has importance within your city, community, area",3.5600000992417301E-2,0.100859000347555,null,null,null,null,null,null,null,null,null,null,null,null,null,null,null,0.1364590013399723,0.26088422634520014,0.73911577365479997,0,0,0,0,0,0,0,0,0,0,0,0,0,0]
[null,null,2,"National: Has importance within your own country",5.5205999407917303E-2,0.108035499230027,null,null,null,null,null,null,null,null,null,null,null,null,null,null,null,0.16324149863794429,0.33818606094985376,0.66181393905014629,0,0,0,0,0,0,0,0,0,0,0,0,0,0]
[null,null,3,"National and other: Involves your country and other countries",1.9952999427914599E-2,8.0558999907225398E-2,null,null,null,null,null,null,null,null,null,null,null,null,null,null,null,0.10051199933513999,0.19851360593658823,0.80148639406341182,0,0,0,0,0,0,0,0,0,0,0,0,0,0]
[null,null,4,"Foreign, international: involves other countries or the world in general (e.g., global warming)",2.2476499434560499E-2,7.0505999960005297E-2,null,null,null,null,null,null,null,null,null,null,null,null,null,null,null,9.2982499394565793E-2,0.24172827769645974,0.75827172230354034,0,0,0,0,0,0,0,0,0,0,0,0,0,0]
[null,null,null,null,null,null,null,null,null,null,null,null,null,null,null,null,null,null,null,null,null,0,0,0,0,0,0,0,0,0,0,0,0,0,0,0,0,0]
[null,null,null,null,null,null,null,null,null,null,null,null,null,null,null,null,null,null,null,null,null,0,0,0,0,0,0,0,0,0,0,0,0,0,0,0,0,0]
[null,null,null,null,null,null,null,null,null,null,null,null,null,null,null,null,null,null,null,null,null,0,0,0,0,0,0,0,0,0,0,0,0,0,0,0,0,0]
[]
[]
[]
[]
[]
[]
[]
[]
[]
[]
[]
[]
[]
[]
[]
[]
[]
[]
[]
[]
[]
[]
[]
[]
[]
[]
[]
[]
[]
[]
[]
[]
[]
[]
[]
[]
[]
[null,null,null,"TOTAL",{"$f":"SUM(E5:E49)","v":0.14071199903264636},0.35995949944481265,0,0,0,0,0,0,0,0,0,0,0,0,0,0,null,{"$f":"SUM(E50:O50)","v":0.50067149847745895},{"$f":"IF((E50+F50)>0,E50/(E50+F50),0)","v":0.28104655339988649},{"$f":"IF((E50+F50)>0,F50/(E50+F50),0)","v":0.71895344660011362},{"$f":"IF((G50+H50)>0,G50/(G50+H50),0)","v":0},{"$f":"IF((G50+H50)>0,H50/(G50+H50),0)","v":0},{"$f":"IF((I50+J50)>0,I50/(I50+J50),0)","v":0},{"$f":"IF((I50+J50)>0,J50/(I50+J50),0)","v":0},{"$f":"IF((K50+L50)>0,K50/(K50+L50),0)","v":0},{"$f":"IF((K50+L50)>0,L50/(K50+L50),0)","v":0},{"$f":"IF((M50+N50)>0,M50/(M50+N50),0)","v":0},{"$f":"IF((M50+N50)>0,N50/(M50+N50),0)","v":0},{"$f":"IF((O50+P50)>0,O50/(O50+P50),0)","v":0},{"$f":"IF((O50+P50)>0,P50/(O50+P50),0)","v":0},{"$f":"IF((Q50+R50)>0,Q50/(Q50+R50),0)","v":0},{"$f":"IF((Q50+R50)>0,R50/(Q50+R50),0)","v":0},{"$f":"IF((S50+T50)>0,S50/(S50+T50),0)","v":0},{"$f":"IF((S50+T50)>0,T50/(S50+T50),0)","v":0}]
[]
[null,null,{"$f":"C5","v":0},"Do not know",{"$f":"IF(E$50>0,E5/E$50,0)","v":5.3133349119018979E-2},0,0,0,0,0,0,0,0,0,0,0,0,0,0,0]
[null,null,1,"Local: Has importance within your city, community, area",{"$f":"IF(E$50>0,E6/E$50,0)","v":0.25299904227895875},0.28019541227031364,0,0,0,0,0,0,0,0,0,0,0,0,0,0]
[null,null,2,"National: Has importance within your own country",{"$f":"IF(E$50>0,E7/E$50,0)","v":0.39233327496903125},0.3001323743272693,0,0,0,0,0,0,0,0,0,0,0,0,0,0]
[null,null,3,"National and other: Involves your country and other countries",{"$f":"IF(E$50>0,E8/E$50,0)","v":0.14180026980702148},0.22380017760741536,0,0,0,0,0,0,0,0,0,0,0,0,0,0]
[null,null,4,"Foreign, international: involves other countries or the world in general (e.g., global warming)",{"$f":"IF(E$50>0,E9/E$50,0)","v":0.15973406382596955},0.19587203579500187,0,0,0,0,0,0,0,0,0,0,0,0,0,0]
[null,null,0,0,{"$f":"IF(E$50>0,E10/E$50,0)","v":0},0,0,0,0,0,0,0,0,0,0,0,0,0,0,0]
[null,null,0,0,{"$f":"IF(E$50>0,E11/E$50,0)","v":0},0,0,0,0,0,0,0,0,0,0,0,0,0,0,0]
[null,null,0,0,{"$f":"IF(E$50>0,E12/E$50,0)","v":0},0,0,0,0,0,0,0,0,0,0,0,0,0,0,0]
[null,null,0,0,{"$f":"IF(E$50>0,E13/E$50,0)","v":0},0,0,0,0,0,0,0,0,0,0,0,0,0,0,0]
[null,null,0,0,{"$f":"IF(E$50>0,E14/E$50,0)","v":0},0,0,0,0,0,0,0,0,0,0,0,0,0,0,0]
[null,null,0,0,{"$f":"IF(E$50>0,E15/E$50,0)","v":0},0,0,0,0,0,0,0,0,0,0,0,0,0,0,0]
[null,null,0,0,{"$f":"IF(E$50>0,E16/E$50,0)","v":0},0,0,0,0,0,0,0,0,0,0,0,0,0,0,0]
[null,null,0,0,{"$f":"IF(E$50>0,E17/E$50,0)","v":0},0,0,0,0,0,0,0,0,0,0,0,0,0,0,0]
[null,null,0,0,{"$f":"IF(E$50>0,E18/E$50,0)","v":0},0,0,0,0,0,0,0,0,0,0,0,0,0,0,0]
[null,null,0,0,{"$f":"IF(E$50>0,E19/E$50,0)","v":0},0,0,0,0,0,0,0,0,0,0,0,0,0,0,0]
[null,null,0,0,{"$f":"IF(E$50>0,E20/E$50,0)","v":0},0,0,0,0,0,0,0,0,0,0,0,0,0,0,0]
[null,null,0,0,{"$f":"IF(E$50>0,E21/E$50,0)","v":0},0,0,0,0,0,0,0,0,0,0,0,0,0,0,0]
[null,null,0,0,{"$f":"IF(E$50>0,E22/E$50,0)","v":0},0,0,0,0,0,0,0,0,0,0,0,0,0,0,0]
[null,null,0,0,{"$f":"IF(E$50>0,E23/E$50,0)","v":0},0,0,0,0,0,0,0,0,0,0,0,0,0,0,0]
[null,null,0,0,{"$f":"IF(E$50>0,E24/E$50,0)","v":0},0,0,0,0,0,0,0,0,0,0,0,0,0,0,0]
[null,null,{"$f":"C25","v":0},0,{"$f":"IF(E$50>0,E25/E$50,0)","v":0},0,0,0,0,0,0,0,0,0,0,0,0,0,0,0]
[null,null,0,0,{"$f":"IF(E$50>0,E26/E$50,0)","v":0},0,0,0,0,0,0,0,0,0,0,0,0,0,0,0]
[null,null,0,0,{"$f":"IF(E$50>0,E27/E$50,0)","v":0},0,0,0,0,0,0,0,0,0,0,0,0,0,0,0]
[null,null,0,0,{"$f":"IF(E$50>0,E28/E$50,0)","v":0},0,0,0,0,0,0,0,0,0,0,0,0,0,0,0]
[null,null,0,0,{"$f":"IF(E$50>0,E29/E$50,0)","v":0},0,0,0,0,0,0,0,0,0,0,0,0,0,0,0]
[null,null,0,0,{"$f":"IF(E$50>0,E30/E$50,0)","v":0},0,0,0,0,0,0,0,0,0,0,0,0,0,0,0]
[null,null,0,0,{"$f":"IF(E$50>0,E31/E$50,0)","v":0},0,0,0,0,0,0,0,0,0,0,0,0,0,0,0]
[null,null,0,0,{"$f":"IF(E$50>0,E32/E$50,0)","v":0},0,0,0,0,0,0,0,0,0,0,0,0,0,0,0]
[null,null,0,0,{"$f":"IF(E$50>0,E33/E$50,0)","v":0},0,0,0,0,0,0,0,0,0,0,0,0,0,0,0]
[null,null,0,0,{"$f":"IF(E$50>0,E34/E$50,0)","v":0},0,0,0,0,0,0,0,0,0,0,0,0,0,0,0]
[null,null,0,0,{"$f":"IF(E$50>0,E35/E$50,0)","v":0},0,0,0,0,0,0,0,0,0,0,0,0,0,0,0]
[null,null,0,0,{"$f":"IF(E$50>0,E36/E$50,0)","v":0},0,0,0,0,0,0,0,0,0,0,0,0,0,0,0]
[null,null,0,0,{"$f":"IF(E$50>0,E37/E$50,0)","v":0},0,0,0,0,0,0,0,0,0,0,0,0,0,0,0]
[null,null,0,0,{"$f":"IF(E$50>0,E38/E$50,0)","v":0},0,0,0,0,0,0,0,0,0,0,0,0,0,0,0]
[null,null,0,0,{"$f":"IF(E$50>0,E39/E$50,0)","v":0},0,0,0,0,0,0,0,0,0,0,0,0,0,0,0]
[null,null,0,0,{"$f":"IF(E$50>0,E40/E$50,0)","v":0},0,0,0,0,0,0,0,0,0,0,0,0,0,0,0]
[null,null,0,0,{"$f":"IF(E$50>0,E41/E$50,0)","v":0},0,0,0,0,0,0,0,0,0,0,0,0,0,0,0]
[null,null,0,0,{"$f":"IF(E$50>0,E42/E$50,0)","v":0},0,0,0,0,0,0,0,0,0,0,0,0,0,0,0]
[null,null,0,0,{"$f":"IF(E$50>0,E43/E$50,0)","v":0},0,0,0,0,0,0,0,0,0,0,0,0,0,0,0]
[null,null,0,0,{"$f":"IF(E$50>0,E44/E$50,0)","v":0},0,0,0,0,0,0,0,0,0,0,0,0,0,0,0]
[null,null,{"$f":"C45","v":0},0,{"$f":"IF(E$50>0,E45/E$50,0)","v":0},0,0,0,0,0,0,0,0,0,0,0,0,0,0,0]
[null,null,0,0,{"$f":"IF(E$50>0,E46/E$50,0)","v":0},0,0,0,0,0,0,0,0,0,0,0,0,0,0,0]
[null,null,0,0,{"$f":"IF(E$50>0,E47/E$50,0)","v":0},0,0,0,0,0,0,0,0,0,0,0,0,0,0,0]
[null,null,0,0,{"$f":"IF(E$50>0,E48/E$50,0)","v":0},0,0,0,0,0,0,0,0,0,0,0,0,0,0,0]
[null,null,0,0,{"$f":"IF(E$50>0,E49/E$50,0)","v":0},0,0,0,0,0,0,0,0,0,0,0,0,0,0,0]
[]
[]
[]
[]
[]
[]
[]
[]
[]
[]
[]
[]
["COUNT"]
[null,null,null,null,{"$f":"E3","v":"Female"},"Male",0,0,0,0,0,0,0,0,0,0,0,0,0,0]
[null,null,null,null,{"$f":"E4","v":0},0,0,0,0,0,0,0,0,0,0,0,0,0,0,0]
[null,null,{"$f":"C5","v":0},"Do not know",1,0]
[null,null,1,"Local: Has importance within your city, community, area",7,17]
[null,null,2,"National: Has importance within your own country",9,18]
[null,null,3,"National and other: Involves your country and other countries",3,13]
[null,null,4,"Foreign, international: involves other countries or the world in general (e.g., global warming)",4,12]
[null,null,0,0,0,0]
[null,null,0,0,0,0]
[null,null,0,0,0,0]
[null,null,0,0,0,0]
[null,null,0,0,0,0]
[null,null,0,0,0,0]
[null,null,0,0]
[null,null,0,0]
[null,null,0,0]
[null,null,0,0]
[null,null,0,0]
[null,null,0,0]
[null,null,0,0]
[null,null,0,0]
[null,null,0,0]
[null,null,{"$f":"C25","v":0},0]
[null,null,0,0]
[null,null,0,0]
[null,null,0,0]
[null,null,0,0]
[null,null,0,0]
[null,null,0,0]
[null,null,0,0]
[null,null,0,0]
[null,null,0,0]
[null,null,0,0]
[null,null,0,0]
[null,null,0,0]
[null,null,0,0]
[null,null,0,0]
[null,null,0,0]
[null,null,0,0]
[null,null,0,0]
[null,null,0,0]
[null,null,0,0]
[null,null,{"$f":"C45","v":0},0]
[null,null,0,0]
[null,null,0,0]

{"sheet":"11bF - Reporters","index":40,"n_rows":11,"n_cols":12,"rows_kept":11,"cut":false,"hidden":false,"merged":[[1,5,1,9],[1,10,1,11]]}
[{"$f":"'11b'!$A$1","v":"Reporters in domestic & foreign stories, by sex"}]
[null,null,null,null,null,"% Female",null,null,null,null,"% Male"]
[null,null,null,null,"Scope of Story",1995,2000,2005,2010,"N",2010,"N"]
[]
[]
[null,null,null,null,"Local",0.33,0.34,0.44,{"$f":"'11b'!W6","v":0.26088422634520014},{"$f":"'11b'!E113","v":7},{"$f":"'11b'!X6","v":0.73911577365479997},{"$f":"'11b'!F113","v":17}]
[null,null,null,null,"National",0.24,0.3,0.34,{"$f":"'11b'!W7","v":0.33818606094985376},{"$f":"'11b'!E114","v":9},{"$f":"'11b'!X7","v":0.66181393905014629},{"$f":"'11b'!F114","v":18}]
[null,null,null,null,"National and other",0.28000000000000003,0.33,0.32,{"$f":"'11b'!W8","v":0.19851360593658823},{"$f":"'11b'!E115","v":3},{"$f":"'11b'!X8","v":0.80148639406341182},{"$f":"'11b'!F115","v":13}]
[null,null,null,null,"Foreign/International",0.28000000000000003,0.28999999999999998,0.36,{"$f":"'11b'!W9","v":0.24172827769645974},{"$f":"'11b'!E116","v":4},{"$f":"'11b'!X9","v":0.75827172230354034},{"$f":"'11b'!F116","v":12}]
[]
[null,null,null,null,"Total",null,null,null,{"$f":"'11b'!$W$50","v":0.28104655339988649},{"$f":"SUM(J5:J10)","v":23}]

{"sheet":"12a","index":41,"n_rows":154,"n_cols":38,"rows_kept":154,"cut":false,"hidden":true,"merged":[]}
[" Television & Radio Announcers in major story topics, by sex"]
[]
[null,null,null,null,"Female","Male",null,null,null,null,null,null,null,null,null,null,null,null,null,null,null,null,{"$f":"E3","v":"Female"},"Male",0,0,0,0,0,0,0,0,0,0,0,0,0]
[null,null,null,null,null,null,null,null,null,null,null,null,null,null,null,null,null,null,null,null,null,"TOTAL",0,0,0,0,0,0,0,0,0,0,0,0,0,0,0,{"$f":"T4","v":0}]
[null,null,1,"Politics and Government",4.5600000768899897E-2,8.0599999986588997E-2,null,null,null,null,null,null,null,null,null,null,null,null,null,null,null,{"$f":"SUM(E5:O5)","v":0.1262000007554889},{"$f":"IF((E5+F5)>0,E5/(E5+F5),0)","v":0.36133122421488245},{"$f":"IF((E5+F5)>0,F5/(E5+F5),0)","v":0.63866877578511749},{"$f":"IF((G5+H5)>0,G5/(G5+H5),0)","v":0},{"$f":"IF((G5+H5)>0,H5/(G5+H5),0)","v":0},{"$f":"IF((I5+J5)>0,I5/(I5+J5),0)","v":0},{"$f":"IF((I5+J5)>0,J5/(I5+J5),0)","v":0},{"$f":"IF((K5+L5)>0,K5/(K5+L5),0)","v":0},{"$f":"IF((K5+L5)>0,L5/(K5+L5),0)","v":0},{"$f":"IF((M5+N5)>0,M5/(M5+N5),0)","v":0},{"$f":"IF((M5+N5)>0,N5/(M5+N5),0)","v":0},{"$f":"IF((O5+P5)>0,O5/(O5+P5),0)","v":0},{"$f":"IF((O5+P5)>0,P5/(O5+P5),0)","v":0},{"$f":"IF((Q5+R5)>0,Q5/(Q5+R5),0)","v":0},{"$f":"IF((Q5+R5)>0,R5/(Q5+R5),0)","v":0},{"$f":"IF((S5+T5)>0,S5/(S5+T5),0)","v":0},{"$f":"IF((S5+T5)>0,T5/(S5+T5),0)","v":0}]
[null,null,2,"Economy",2.0300000440329299E-2,4.0299999993294498E-2,null,null,null,null,null,null,null,null,null,null,null,null,null,null,null,6.0600000433623798E-2,0.33498350321901782,0.66501649678098218,0,0,0,0,0,0,0,0,0,0,0,0,0,0]
[null,null,3,"Science and Health",3.0500000808388002E-2,2.5400000624358699E-2,null,null,null,null,null,null,null,null,null,null,null,null,null,null,null,5.5900001432746704E-2,0.54561717400101595,0.45438282599898394,0,0,0,0,0,0,0,0,0,0,0,0,0,0]
[null,null,4,"Social and Legal",4.5800001360476003E-2,7.0399999618530301E-2,null,null,null,null,null,null,null,null,null,null,null,null,null,null,null,0.1162000009790063,0.39414802904133045,0.60585197095866961,0,0,0,0,0,0,0,0,0,0,0,0,0,0]
[null,null,5,"Crime and Violence",5.59000014327466E-2,7.0600000210106401E-2,null,null,null,null,null,null,null,null,null,null,null,null,null,null,null,0.12650000164285299,0.44189723878873044,0.55810276121126967,0,0,0,0,0,0,0,0,0,0,0,0,0,0]
[null,null,6,"Celebrity, Arts and Media, Sports",1.52000002563E-2,2.5300000328570601E-2,null,null,null,null,null,null,null,null,null,null,null,null,null,null,null,4.0500000584870605E-2,0.37530864288377797,0.62469135711622192,0,0,0,0,0,0,0,0,0,0,0,0,0,0]
[null,null,7,"The Girl-child",null,null,null,null,null,null,null,null,null,null,null,null,null,null,null,null,null,0,0,0,0,0,0,0,0,0,0,0,0,0,0,0,0,0]
[null,null,8,"Other",5.1000001840293399E-3,null,null,null,null,null,null,null,null,null,null,null,null,null,null,null,null,5.1000001840293399E-3,1,0,0,0,0,0,0,0,0,0,0,0,0,0,0,0]
[]
[]
[]
[]
[]
[]
[]
[]
[]
[]
[]
[]
[]
[]
[]
[]
[]
[]
[]
[]
[]
[]
[]
[]
[]
[]
[]
[]
[]
[]
[]
[]
[]
[]
[]
[]
[]
[null,null,null,"TOTAL",{"$f":"SUM(E5:E49)","v":0.21840000525116912},0.3126000007614495,0,0,0,0,0,0,0,0,0,0,0,0,0,0,null,{"$f":"SUM(E50:O50)","v":0.53100000601261865},{"$f":"IF((E50+F50)>0,E50/(E50+F50),0)","v":0.41129944026023058},{"$f":"IF((E50+F50)>0,F50/(E50+F50),0)","v":0.58870055973976942},{"$f":"IF((G50+H50)>0,G50/(G50+H50),0)","v":0},{"$f":"IF((G50+H50)>0,H50/(G50+H50),0)","v":0},{"$f":"IF((I50+J50)>0,I50/(I50+J50),0)","v":0},{"$f":"IF((I50+J50)>0,J50/(I50+J50),0)","v":0},{"$f":"IF((K50+L50)>0,K50/(K50+L50),0)","v":0},{"$f":"IF((K50+L50)>0,L50/(K50+L50),0)","v":0},{"$f":"IF((M50+N50)>0,M50/(M50+N50),0)","v":0},{"$f":"IF((M50+N50)>0,N50/(M50+N50),0)","v":0},{"$f":"IF((O50+P50)>0,O50/(O50+P50),0)","v":0},{"$f":"IF((O50+P50)>0,P50/(O50+P50),0)","v":0},{"$f":"IF((Q50+R50)>0,Q50/(Q50+R50),0)","v":0},{"$f":"IF((Q50+R50)>0,R50/(Q50+R50),0)","v":0},{"$f":"IF((S50+T50)>0,S50/(S50+T50),0)","v":0},{"$f":"IF((S50+T50)>0,T50/(S50+T50),0)","v":0}]
[]
[null,null,{"$f":"C5","v":1},"Politics and Government",{"$f":"IF(E$50>0,E5/E$50,0)","v":0.20879120729167563},0.25783749133160194,0,0,0,0,0,0,0,0,0,0,0,0,0,0]
[null,null,2,"Economy",{"$f":"IF(E$50>0,E6/E$50,0)","v":9.2948717730036004E-2},0.12891874566580097,0,0,0,0,0,0,0,0,0,0,0,0,0,0]
[null,null,3,"Science and Health",{"$f":"IF(E$50>0,E7/E$50,0)","v":0.13965201499565774},8.1254000519794881E-2,0,0,0,0,0,0,0,0,0,0,0,0,0,0]
[null,null,4,"Social and Legal",{"$f":"IF(E$50>0,E8/E$50,0)","v":0.20970696089409013},0.22520793169240511,0,0,0,0,0,0,0,0,0,0,0,0,0,0]
[null,null,5,"Crime and Violence",{"$f":"IF(E$50>0,E9/E$50,0)","v":0.2559523813585044},0.22584772884879961,0,0,0,0,0,0,0,0,0,0,0,0,0,0]
[null,null,6,"Celebrity, Arts and Media, Sports",{"$f":"IF(E$50>0,E10/E$50,0)","v":6.9597069097225364E-2},8.0934101941597475E-2,0,0,0,0,0,0,0,0,0,0,0,0,0,0]
[null,null,7,"The Girl-child",{"$f":"IF(E$50>0,E11/E$50,0)","v":0},0,0,0,0,0,0,0,0,0,0,0,0,0,0,0]
[null,null,8,"Other",{"$f":"IF(E$50>0,E12/E$50,0)","v":2.3351648632810824E-2},0,0,0,0,0,0,0,0,0,0,0,0,0,0,0]
[null,null,0,0,{"$f":"IF(E$50>0,E13/E$50,0)","v":0},0,0,0,0,0,0,0,0,0,0,0,0,0,0,0]
[null,null,0,0,{"$f":"IF(E$50>0,E14/E$50,0)","v":0},0,0,0,0,0,0,0,0,0,0,0,0,0,0,0]
[null,null,0,0,{"$f":"IF(E$50>0,E15/E$50,0)","v":0},0,0,0,0,0,0,0,0,0,0,0,0,0,0,0]
[null,null,0,0,{"$f":"IF(E$50>0,E16/E$50,0)","v":0},0,0,0,0,0,0,0,0,0,0,0,0,0,0,0]
[null,null,0,0,{"$f":"IF(E$50>0,E17/E$50,0)","v":0},0,0,0,0,0,0,0,0,0,0,0,0,0,0,0]
[null,null,0,0,{"$f":"IF(E$50>0,E18/E$50,0)","v":0},0,0,0,0,0,0,0,0,0,0,0,0,0,0,0]
[null,null,0,0,{"$f":"IF(E$50>0,E19/E$50,0)","v":0},0,0,0,0,0,0,0,0,0,0,0,0,0,0,0]
[null,null,0,0,{"$f":"IF(E$50>0,E20/E$50,0)","v":0},0,0,0,0,0,0,0,0,0,0,0,0,0,0,0]
[null,null,0,0,{"$f":"IF(E$50>0,E21/E$50,0)","v":0},0,0,0,0,0,0,0,0,0,0,0,0,0,0,0]
[null,null,0,0,{"$f":"IF(E$50>0,E22/E$50,0)","v":0},0,0,0,0,0,0,0,0,0,0,0,0,0,0,0]
[null,null,0,0,{"$f":"IF(E$50>0,E23/E$50,0)","v":0},0,0,0,0,0,0,0,0,0,0,0,0,0,0,0]
[null,null,0,0,{"$f":"IF(E$50>0,E24/E$50,0)","v":0},0,0,0,0,0,0,0,0,0,0,0,0,0,0,0]
[null,null,{"$f":"C25","v":0},0,{"$f":"IF(E$50>0,E25/E$50,0)","v":0},0,0,0,0,0,0,0,0,0,0,0,0,0,0,0]
[null,null,0,0,{"$f":"IF(E$50>0,E26/E$50,0)","v":0},0,0,0,0,0,0,0,0,0,0,0,0,0,0,0]
[null,null,0,0,{"$f":"IF(E$50>0,E27/E$50,0)","v":0},0,0,0,0,0,0,0,0,0,0,0,0,0,0,0]
[null,null,0,0,{"$f":"IF(E$50>0,E28/E$50,0)","v":0},0,0,0,0,0,0,0,0,0,0,0,0,0,0,0]
[null,null,0,0,{"$f":"IF(E$50>0,E29/E$50,0)","v":0},0,0,0,0,0,0,0,0,0,0,0,0,0,0,0]
[null,null,0,0,{"$f":"IF(E$50>0,E30/E$50,0)","v":0},0,0,0,0,0,0,0,0,0,0,0,0,0,0,0]
[null,null,0,0,{"$f":"IF(E$50>0,E31/E$50,0)","v":0},0,0,0,0,0,0,0,0,0,0,0,0,0,0,0]
[null,null,0,0,{"$f":"IF(E$50>0,E32/E$50,0)","v":0},0,0,0,0,0,0,0,0,0,0,0,0,0,0,0]
[null,null,0,0,{"$f":"IF(E$50>0,E33/E$50,0)","v":0},0,0,0,0,0,0,0,0,0,0,0,0,0,0,0]
[null,null,0,0,{"$f":"IF(E$50>0,E34/E$50,0)","v":0},0,0,0,0,0,0,0,0,0,0,0,0,0,0,0]
[null,null,0,0,{"$f":"IF(E$50>0,E35/E$50,0)","v":0},0,0,0,0,0,0,0,0,0,0,0,0,0,0,0]
[null,null,0,0,{"$f":"IF(E$50>0,E36/E$50,0)","v":0},0,0,0,0,0,0,0,0,0,0,0,0,0,0,0]
[null,null,0,0,{"$f":"IF(E$50>0,E37/E$50,0)","v":0},0,0,0,0,0,0,0,0,0,0,0,0,0,0,0]
[null,null,0,0,{"$f":"IF(E$50>0,E38/E$50,0)","v":0},0,0,0,0,0,0,0,0,0,0,0,0,0,0,0]
[null,null,0,0,{"$f":"IF(E$50>0,E39/E$50,0)","v":0},0,0,0,0,0,0,0,0,0,0,0,0,0,0,0]
[null,null,0,0,{"$f":"IF(E$50>0,E40/E$50,0)","v":0},0,0,0,0,0,0,0,0,0,0,0,0,0,0,0]
[null,null,0,0,{"$f":"IF(E$50>0,E41/E$50,0)","v":0},0,0,0,0,0,0,0,0,0,0,0,0,0,0,0]
[null,null,0,0,{"$f":"IF(E$50>0,E42/E$50,0)","v":0},0,0,0,0,0,0,0,0,0,0,0,0,0,0,0]
[null,null,0,0,{"$f":"IF(E$50>0,E43/E$50,0)","v":0},0,0,0,0,0,0,0,0,0,0,0,0,0,0,0]
[null,null,0,0,{"$f":"IF(E$50>0,E44/E$50,0)","v":0},0,0,0,0,0,0,0,0,0,0,0,0,0,0,0]
[null,null,{"$f":"C45","v":0},0,{"$f":"IF(E$50>0,E45/E$50,0)","v":0},0,0,0,0,0,0,0,0,0,0,0,0,0,0,0]
[null,null,0,0,{"$f":"IF(E$50>0,E46/E$50,0)","v":0},0,0,0,0,0,0,0,0,0,0,0,0,0,0,0]
[null,null,0,0,{"$f":"IF(E$50>0,E47/E$50,0)","v":0},0,0,0,0,0,0,0,0,0,0,0,0,0,0,0]
[null,null,0,0,{"$f":"IF(E$50>0,E48/E$50,0)","v":0},0,0,0,0,0,0,0,0,0,0,0,0,0,0,0]
[null,null,0,0,{"$f":"IF(E$50>0,E49/E$50,0)","v":0},0,0,0,0,0,0,0,0,0,0,0,0,0,0,0]
[]
[]
[]
[]
[]
[]
[]
[]
[]
[]
[]
[]
["COUNT"]
[null,null,null,null,{"$f":"E3","v":"Female"},"Male",0,0,0,0,0,0,0,0,0,0,0,0,0,0]
[null,null,null,null,{"$f":"E4","v":0},0,0,0,0,0,0,0,0,0,0,0,0,0,0,0]
[null,null,{"$f":"C5","v":1},"Politics and Government",9,16]
[null,null,2,"Economy",4,8]
[null,null,3,"Science and Health",6,5]
[null,null,4,"Social and Legal",9,14]
[null,null,5,"Crime and Violence",11,14]
[null,null,6,"Celebrity, Arts and Media, Sports",3,5]
[null,null,7,"The Girl-child",0,0]
[null,null,8,"Other",1,0]
[null,null,0,0,0,0]
[null,null,0,0,0,0]
[null,null,0,0,0,0]
[null,null,0,0]
[null,null,0,0]
[null,null,0,0]
[null,null,0,0]
[null,null,0,0]
[null,null,0,0]
[null,null,0,0]
[null,null,0,0]
[null,null,0,0]
[null,null,{"$f":"C25","v":0},0]
[null,null,0,0]
[null,null,0,0]
[null,null,0,0]
[null,null,0,0]
[null,null,0,0]
[null,null,0,0]
[null,null,0,0]
[null,null,0,0]
[null,null,0,0]
[null,null,0,0]
[null,null,0,0]
[null,null,0,0]
[null,null,0,0]
[null,null,0,0]
[null,null,0,0]
[null,null,0,0]
[null,null,0,0]
[null,null,0,0]
[null,null,0,0]
[null,null,{"$f":"C45","v":0},0]
[null,null,0,0]
[null,null,0,0]

{"sheet":"12aF - major story topics","index":42,"n_rows":13,"n_cols":12,"rows_kept":13,"cut":false,"hidden":false,"merged":[[1,5,1,9],[1,10,1,11]]}
[{"$f":"'12a'!A1","v":" Television & Radio Announcers in major story topics, by sex"}]
[null,null,null,null,null,"% Female",null,null,null,null,"% Male"]
[null,null,null,null,"Story Topic",1995,2000,2005,2010,"N",2010,"N"]
[]
[null,null,null,null,{"$f":"'12a'!D5","v":"Politics and Government"},0,"n/a","n/a",{"$f":"'12a'!W5","v":0.36133122421488245},{"$f":"'12a'!E112","v":9},{"$f":"'12a'!X5","v":0.63866877578511749},{"$f":"'12a'!F112","v":16}]
[null,null,null,null,{"$f":"'12a'!D6","v":"Economy"},0,"n/a","n/a",{"$f":"'12a'!W6","v":0.33498350321901782},{"$f":"'12a'!E113","v":4},{"$f":"'12a'!X6","v":0.66501649678098218},{"$f":"'12a'!F113","v":8}]
[null,null,null,null,{"$f":"'12a'!D7","v":"Science and Health"},0,"n/a","n/a",{"$f":"'12a'!W7","v":0.54561717400101595},{"$f":"'12a'!E114","v":6},{"$f":"'12a'!X7","v":0.45438282599898394},{"$f":"'12a'!F114","v":5}]
[null,null,null,null,{"$f":"'12a'!D8","v":"Social and Legal"},0,"n/a","n/a",{"$f":"'12a'!W8","v":0.39414802904133045},{"$f":"'12a'!E115","v":9},{"$f":"'12a'!X8","v":0.60585197095866961},{"$f":"'12a'!F115","v":14}]
[null,null,null,null,{"$f":"'12a'!D9","v":"Crime and Violence"},0,"n/a","n/a",{"$f":"'12a'!W9","v":0.44189723878873044},{"$f":"'12a'!E116","v":11},{"$f":"'12a'!X9","v":0.55810276121126967},{"$f":"'12a'!F116","v":14}]
[null,null,null,null,{"$f":"'12a'!D10","v":"Celebrity, Arts and Media, Sports"},0,"n/a","n/a",{"$f":"'12a'!W10","v":0.37530864288377797},{"$f":"'12a'!E117","v":3},{"$f":"'12a'!X10","v":0.62469135711622192},{"$f":"'12a'!F117","v":5}]
[null,null,null,null,{"$f":"'12a'!D11","v":"The Girl-child"},0,"n/a","n/a",{"$f":"'12a'!W11","v":0},{"$f":"'12a'!E118","v":0},{"$f":"'12a'!X11","v":0},{"$f":"'12a'!F118","v":0}]
[]
[null,null,null,null,"Total",0,0,0,{"$f":"'12a'!$W$50","v":0.41129944026023058},{"$f":"SUM(J5:J12)","v":42},{"$f":"'12a'!$X$50","v":0.58870055973976942},{"$f":"SUM(L5:L12)","v":62}]

{"sheet":"12b","index":43,"n_rows":205,"n_cols":38,"rows_kept":205,"cut":false,"hidden":true,"merged":[]}
["Television & Radio Announcers in different story topics, by sex-Details"]
[]
[null,null,null,null,"Female","Male",null,null,null,null,null,null,null,null,null,null,null,null,null,null,null,null,{"$f":"E3","v":"Female"},"Male",0,0,0,0,0,0,0,0,0,0,0,0,0]
[null,null,null,null,null,null,null,null,null,null,null,null,null,null,null,null,null,null,null,null,null,"TOTAL",0,0,0,0,0,0,0,0,0,0,0,0,0,0,0,{"$f":"T4","v":0}]
[null,null,1,"Women in political power and decision-making (local, regional, national),",null,null,null,null,null,null,null,null,null,null,null,null,null,null,null,null,null,{"$f":"SUM(E5:O5)","v":0},{"$f":"IF((E5+F5)>0,E5/(E5+F5),0)","v":0},{"$f":"IF((E5+F5)>0,F5/(E5+F5),0)","v":0},{"$f":"IF((G5+H5)>0,G5/(G5+H5),0)","v":0},{"$f":"IF((G5+H5)>0,H5/(G5+H5),0)","v":0},{"$f":"IF((I5+J5)>0,I5/(I5+J5),0)","v":0},{"$f":"IF((I5+J5)>0,J5/(I5+J5),0)","v":0},{"$f":"IF((K5+L5)>0,K5/(K5+L5),0)","v":0},{"$f":"IF((K5+L5)>0,L5/(K5+L5),0)","v":0},{"$f":"IF((M5+N5)>0,M5/(M5+N5),0)","v":0},{"$f":"IF((M5+N5)>0,N5/(M5+N5),0)","v":0},{"$f":"IF((O5+P5)>0,O5/(O5+P5),0)","v":0},{"$f":"IF((O5+P5)>0,P5/(O5+P5),0)","v":0},{"$f":"IF((Q5+R5)>0,Q5/(Q5+R5),0)","v":0},{"$f":"IF((Q5+R5)>0,R5/(Q5+R5),0)","v":0},{"$f":"IF((S5+T5)>0,S5/(S5+T5),0)","v":0},{"$f":"IF((S5+T5)>0,T5/(S5+T5),0)","v":0}]
[null,null,2,"Women electoral candidates (local, regional, national),",5.1000001840293399E-3,null,null,null,null,null,null,null,null,null,null,null,null,null,null,null,null,5.1000001840293399E-3,1,0,0,0,0,0,0,0,0,0,0,0,0,0,0,0]
[null,null,3,"Peace, negotiations, treaties…(local, regional, national),",null,null,null,null,null,null,null,null,null,null,null,null,null,null,null,null,null,0,0,0,0,0,0,0,0,0,0,0,0,0,0,0,0,0]
[null,null,4,"Other domestic politics/government (local, regional, national), elections, speeches, the political process …",1.0200000368058701E-2,2.0200000144541298E-2,null,null,null,null,null,null,null,null,null,null,null,null,null,null,null,3.0400000512600001E-2,0.33552632223907591,0.66447367776092403,0,0,0,0,0,0,0,0,0,0,0,0,0,0]
[null,null,5,"Global partnerships (international trade and finance systems, e.g. WTO, IMF, World Bank, debt) …",null,null,null,null,null,null,null,null,null,null,null,null,null,null,null,null,null,0,0,0,0,0,0,0,0,0,0,0,0,0,0,0,0,0]
[null,null,6,"Foreign/international politics, relations with other countries, negotiations, treaties, UN peacekeeping …",2.0200000144541298E-2,4.01999996975064E-2,null,null,null,null,null,null,null,null,null,null,null,null,null,null,null,6.0399999842047698E-2,0.33443708936037098,0.66556291063962902,0,0,0,0,0,0,0,0,0,0,0,0,0,0]
[null,null,7,"National defence, military spending, military training, military parades, internal security …",null,1.0100000072270601E-2,null,null,null,null,null,null,null,null,null,null,null,null,null,null,null,1.0100000072270601E-2,0,1,0,0,0,0,0,0,0,0,0,0,0,0,0,0]
[null,null,8,"Other stories on politics and government (specify the subject in 'Comments' section of coding sheet)",1.0100000072270601E-2,1.0100000072270601E-2,null,null,null,null,null,null,null,null,null,null,null,null,null,null,null,2.0200000144541201E-2,0.5,0.5,0,0,0,0,0,0,0,0,0,0,0,0,0,0]
[null,null,9,"Economic policies, strategies, models (national, international) …",null,1.0100000072270601E-2,null,null,null,null,null,null,null,null,null,null,null,null,null,null,null,{"$f":"SUM(E13:O13)","v":1.0100000072270601E-2},{"$f":"IF((E13+F13)>0,E13/(E13+F13),0)","v":0},{"$f":"IF((E13+F13)>0,F13/(E13+F13),0)","v":1},{"$f":"IF((G13+H13)>0,G13/(G13+H13),0)","v":0},{"$f":"IF((G13+H13)>0,H13/(G13+H13),0)","v":0},{"$f":"IF((I13+J13)>0,I13/(I13+J13),0)","v":0},{"$f":"IF((I13+J13)>0,J13/(I13+J13),0)","v":0},{"$f":"IF((K13+L13)>0,K13/(K13+L13),0)","v":0},{"$f":"IF((K13+L13)>0,L13/(K13+L13),0)","v":0},{"$f":"IF((M13+N13)>0,M13/(M13+N13),0)","v":0},{"$f":"IF((M13+N13)>0,N13/(M13+N13),0)","v":0},{"$f":"IF((O13+P13)>0,O13/(O13+P13),0)","v":0},{"$f":"IF((O13+P13)>0,P13/(O13+P13),0)","v":0},{"$f":"IF((Q13+R13)>0,Q13/(Q13+R13),0)","v":0},{"$f":"IF((Q13+R13)>0,R13/(Q13+R13),0)","v":0},{"$f":"IF((S13+T13)>0,S13/(S13+T13),0)","v":0},{"$f":"IF((S13+T13)>0,T13/(S13+T13),0)","v":0}]
[null,null,10,"Economic indicators, statistics, business, trade, stock markets …",null,5.1000001840293399E-3,null,null,null,null,null,null,null,null,null,null,null,null,null,null,null,5.1000001840293399E-3,0,1,0,0,0,0,0,0,0,0,0,0,0,0,0,0]
[null,null,11,"Economic crisis, state bailouts of companies, company takeovers and mergers …",null,4.9999998882412902E-3,null,null,null,null,null,null,null,null,null,null,null,null,null,null,null,4.9999998882412902E-3,0,1,0,0,0,0,0,0,0,0,0,0,0,0,0,0]
[null,null,12,"Poverty, housing, social welfare, aid to those in need …",null,5.1000001840293399E-3,null,null,null,null,null,null,null,null,null,null,null,null,null,null,null,5.1000001840293399E-3,0,1,0,0,0,0,0,0,0,0,0,0,0,0,0,0]
[null,null,13,"Women's participation in economic processes (informal work, paid employment, unemployment, unpaid labour)",null,null,null,null,null,null,null,null,null,null,null,null,null,null,null,null,null,0,0,0,0,0,0,0,0,0,0,0,0,0,0,0,0,0]
[null,null,14,"Other labour issues, strikes, trade unions, negotiations, other employment and unemployment …",4.9999998882412902E-3,9.9999997764825804E-3,null,null,null,null,null,null,null,null,null,null,null,null,null,null,null,1.499999966472387E-2,0.33333333333333337,0.66666666666666674,0,0,0,0,0,0,0,0,0,0,0,0,0,0]
[null,null,15,"Rural economy, agriculture, farming practices, agricultural policy, land rights …",null,null,null,null,null,null,null,null,null,null,null,null,null,null,null,null,null,0,0,0,0,0,0,0,0,0,0,0,0,0,0,0,0,0]
[null,null,16,"Consumer issues, consumer protection, regulation, prices, consumer fraud …",5.1000001840293399E-3,4.9999998882412902E-3,null,null,null,null,null,null,null,null,null,null,null,null,null,null,null,1.010000007227063E-2,0.50495050965705435,0.49504949034294571,0,0,0,0,0,0,0,0,0,0,0,0,0,0]
[null,null,17,"Transport, traffic, roads ……",5.1000001840293399E-3,null,null,null,null,null,null,null,null,null,null,null,null,null,null,null,null,5.1000001840293399E-3,1,0,0,0,0,0,0,0,0,0,0,0,0,0,0,0]
[null,null,18,"Other stories on the economy (specify the subject in 'Comments' section of coding sheet)",5.1000001840293399E-3,null,null,null,null,null,null,null,null,null,null,null,null,null,null,null,null,5.1000001840293399E-3,1,0,0,0,0,0,0,0,0,0,0,0,0,0,0,0]
[null,null,19,"Science, technology, research, funding, discoveries, developments …",null,5.1000001840293399E-3,null,null,null,null,null,null,null,null,null,null,null,null,null,null,null,5.1000001840293399E-3,0,1,0,0,0,0,0,0,0,0,0,0,0,0,0,0]
[null,null,20,"Medicine, health, hygiene, safety, disability, medical research, funding (apart from HIV-AIDS)…",5.1000001840293399E-3,null,null,null,null,null,null,null,null,null,null,null,null,null,null,null,null,5.1000001840293399E-3,1,0,0,0,0,0,0,0,0,0,0,0,0,0,0,0]
[null,null,21,"HIV and AIDS, incidence, policy, treatment, people affected …",null,null,null,null,null,null,null,null,null,null,null,null,null,null,null,null,null,0,0,0,0,0,0,0,0,0,0,0,0,0,0,0,0,0]
[null,null,22,"Other epidemics, viruses, contagions, Influenza, BSE, SARS …",1.0100000072270601E-2,2.0300000440329299E-2,null,null,null,null,null,null,null,null,null,null,null,null,null,null,null,3.04000005125999E-2,0.33223683888046152,0.66776316111953848,0,0,0,0,0,0,0,0,0,0,0,0,0,0]
[null,null,23,"Birth control, fertility, sterilisation, amniocentesis, termination of pregnancy …",null,null,null,null,null,null,null,null,null,null,null,null,null,null,null,null,null,0,0,0,0,0,0,0,0,0,0,0,0,0,0,0,0,0]
[null,null,24,"Environment, nature,   pollution, global warming, ecology, tourism …",5.1000001840293399E-3,null,null,null,null,null,null,null,null,null,null,null,null,null,null,null,null,5.1000001840293399E-3,1,0,0,0,0,0,0,0,0,0,0,0,0,0,0,0]
[null,null,25,"Other stories on science or health (specify the subject in 'Comments' section of coding sheet)",1.0200000368058701E-2,null,null,null,null,null,null,null,null,null,null,null,null,null,null,null,null,1.0200000368058701E-2,1,0,0,0,0,0,0,0,0,0,0,0,0,0,0,0]
[null,null,26,"Development issues, sustainability, community development …",null,null,null,null,null,null,null,null,null,null,null,null,null,null,null,null,null,0,0,0,0,0,0,0,0,0,0,0,0,0,0,0,0,0]
[null,null,27,"Education, child care, nurseries, pre-school to university, adult education, literacy …",1.5300000552088E-2,1.50999999605119E-2,null,null,null,null,null,null,null,null,null,null,null,null,null,null,null,3.04000005125999E-2,0.5032894833586139,0.49671051664138616,0,0,0,0,0,0,0,0,0,0,0,0,0,0]
[null,null,28,"Family relations, inter-generational conflict, single parents …",null,null,null,null,null,null,null,null,null,null,null,null,null,null,null,null,null,0,0,0,0,0,0,0,0,0,0,0,0,0,0,0,0,0]
[null,null,29,"Human rights, women's rights, children's rights, gay & lesbian rights, rights of minorities ..",null,4.9999998882412902E-3,null,null,null,null,null,null,null,null,null,null,null,null,null,null,null,4.9999998882412902E-3,0,1,0,0,0,0,0,0,0,0,0,0,0,0,0,0]
[null,null,30,"Religion, culture, tradition, controversies, teachings, celebrations, practices …",null,null,null,null,null,null,null,null,null,null,null,null,null,null,null,null,null,0,0,0,0,0,0,0,0,0,0,0,0,0,0,0,0,0]
[null,null,31,"Migration, refugees, asylum seekers, ethnic conflict, integration, racism, xenophobia …",null,null,null,null,null,null,null,null,null,null,null,null,null,null,null,null,null,0,0,0,0,0,0,0,0,0,0,0,0,0,0,0,0,0]
[null,null,32,"Women's movement, activism, events, demonstrations, gender equality advocacy …",null,null,null,null,null,null,null,null,null,null,null,null,null,null,null,null,null,0,0,0,0,0,0,0,0,0,0,0,0,0,0,0,0,0]
[null,null,33,"Changing gender relations, roles and relationships of women and men inside and outside the home …",null,null,null,null,null,null,null,null,null,null,null,null,null,null,null,null,null,0,0,0,0,0,0,0,0,0,0,0,0,0,0,0,0,0]
[null,null,34,"Family law, family codes, property law, inheritance law and rights …",null,null,null,null,null,null,null,null,null,null,null,null,null,null,null,null,null,0,0,0,0,0,0,0,0,0,0,0,0,0,0,0,0,0]
[null,null,35,"Legal system, judicial system, legislation (apart from family, property & inheritance law) …",1.0200000368058701E-2,1.9999999552965199E-2,null,null,null,null,null,null,null,null,null,null,null,null,null,null,null,3.0199999921023901E-2,0.33774835744148174,0.66225164255851821,0,0,0,0,0,0,0,0,0,0,0,0,0,0]
[null,null,36,"Other stories on social or legal issues (specify the subject in 'Comments' section of coding sheet)",2.0300000440329299E-2,3.0300000216811899E-2,null,null,null,null,null,null,null,null,null,null,null,null,null,null,null,5.0600000657141195E-2,0.40118577424295654,0.59881422575704357,0,0,0,0,0,0,0,0,0,0,0,0,0,0]
[null,null,37,"Non-violent crime, bribery, theft, drug-dealing, corruption, (including political corruption/malpractice) …",5.1000001840293399E-3,4.9999998882412902E-3,null,null,null,null,null,null,null,null,null,null,null,null,null,null,null,1.010000007227063E-2,0.50495050965705435,0.49504949034294571,0,0,0,0,0,0,0,0,0,0,0,0,0,0]
[null,null,38,"Violent crime, murder, abduction, kidnapping, assault, drug-related violence …",4.9999998882412902E-3,1.9999999552965199E-2,null,null,null,null,null,null,null,null,null,null,null,null,null,null,null,2.499999944120649E-2,0.19999999999999968,0.80000000000000027,0,0,0,0,0,0,0,0,0,0,0,0,0,0]
[null,null,39,"Gender-based violence, feminicide, harassment, domestic violence, rape, trafficking, genital mutilation …",1.0200000368058701E-2,null,null,null,null,null,null,null,null,null,null,null,null,null,null,null,null,1.0200000368058701E-2,1,0,0,0,0,0,0,0,0,0,0,0,0,0,0,0]
[null,null,40,"Child abuse, sexual violence against children, trafficking, neglect.",1.0200000368058701E-2,1.0200000368058701E-2,null,null,null,null,null,null,null,null,null,null,null,null,null,null,null,2.0400000736117401E-2,0.5,0.5,0,0,0,0,0,0,0,0,0,0,0,0,0,0]
[null,null,41,"War, civil war, terrorism, state-based violence …",1.52000002563E-2,1.52000002563E-2,null,null,null,null,null,null,null,null,null,null,null,null,null,null,null,3.0400000512600001E-2,0.5,0.5,0,0,0,0,0,0,0,0,0,0,0,0,0,0]
[null,null,42,"Riots, demonstrations, public disorder …",null,null,null,null,null,null,null,null,null,null,null,null,null,null,null,null,null,0,0,0,0,0,0,0,0,0,0,0,0,0,0,0,0,0]
[null,null,43,"Disaster, accident, famine, earthquake, flood, hurricane, plane crash, car crash …",1.0200000368058701E-2,1.52000002563E-2,null,null,null,null,null,null,null,null,null,null,null,null,null,null,null,2.5400000624358703E-2,0.40157480776897536,0.59842519223102453,0,0,0,0,0,0,0,0,0,0,0,0,0,0]
[null,null,44,"Other stories on crime and violence (specify the subject in 'Comments' section of coding sheet)",null,4.9999998882412902E-3,null,null,null,null,null,null,null,null,null,null,null,null,null,null,null,4.9999998882412902E-3,0,1,0,0,0,0,0,0,0,0,0,0,0,0,0,0]
[null,null,45,"Celebrity news, births, marriages, deaths, obituaries, famous people, royalty …",null,null,null,null,null,null,null,null,null,null,null,null,null,null,null,null,null,0,0,0,0,0,0,0,0,0,0,0,0,0,0,0,0,0]
[null,null,46,"Arts, entertainment, leisure, cinema, theatre, books, dance …",1.0200000368058701E-2,1.50999999605119E-2,null,null,null,null,null,null,null,null,null,null,null,null,null,null,null,2.5300000328570601E-2,0.40316206464788534,0.59683793535211471,0,0,0,0,0,0,0,0,0,0,0,0,0,0]
[null,null,47,"Media, including new media (computers, internet), portrayal of women and/or men, pornography …",null,null,null,null,null,null,null,null,null,null,null,null,null,null,null,null,null,0,0,0,0,0,0,0,0,0,0,0,0,0,0,0,0,0]
[null,null,48,"Beauty contests, models, fashion, beauty aids, cosmetic surgery …",null,null,null,null,null,null,null,null,null,null,null,null,null,null,null,null,null,0,0,0,0,0,0,0,0,0,0,0,0,0,0,0,0,0]
[null,null,49,"Sports, events, players, facilities, training, policies, funding …",4.9999998882412902E-3,5.1000001840293399E-3,null,null,null,null,null,null,null,null,null,null,null,null,null,null,null,1.010000007227063E-2,0.49504949034294571,0.50495050965705435,0,0,0,0,0,0,0,0,0,0,0,0,0,0]
[null,null,50,"Other stories on celebrities, arts, media (specify the subject in 'Comments' section of coding sheet)",null,5.1000001840293399E-3,null,null,null,null,null,null,null,null,null,null,null,null,null,null,null,5.1000001840293399E-3,0,1,0,0,0,0,0,0,0,0,0,0,0,0,0,0]
[null,null,51,"News about the girl child, including, cultural attitudes and practices impinging on girls, education, health, economic exploitation, violence (ONLY WHERE EMPHASIS IS ON THE GIRL CHILD)…",null,null,null,null,null,null,null,null,null,null,null,null,null,null,null,null,null,0,0,0,0,0,0,0,0,0,0,0,0,0,0,0,0,0]
[null,null,52,"Other subject: use only if none of the above subject codes is suitable (specify the subject in 'Comments' section of coding sheet)",5.1000001840293399E-3,null,null,null,null,null,null,null,null,null,null,null,null,null,null,null,null,5.1000001840293399E-3,1,0,0,0,0,0,0,0,0,0,0,0,0,0,0,0]
[]
[]
[]
[]
[]
[]
[]
[]
[]
[]
[]
[null,null,null,"TOTAL",{"$f":"SUM(E5:E67)","v":0.21840000525116934},0.31260000076144934,0,0,0,0,0,0,0,0,0,0,0,0,0,0,null,{"$f":"SUM(E68:O68)","v":0.53100000601261865},{"$f":"IF((E68+F68)>0,E68/(E68+F68),0)","v":0.41129944026023102},{"$f":"IF((E68+F68)>0,F68/(E68+F68),0)","v":0.58870055973976909},{"$f":"IF((G68+H68)>0,G68/(G68+H68),0)","v":0},{"$f":"IF((G68+H68)>0,H68/(G68+H68),0)","v":0},{"$f":"IF((I68+J68)>0,I68/(I68+J68),0)","v":0},{"$f":"IF((I68+J68)>0,J68/(I68+J68),0)","v":0},{"$f":"IF((K68+L68)>0,K68/(K68+L68),0)","v":0},{"$f":"IF((K68+L68)>0,L68/(K68+L68),0)","v":0},{"$f":"IF((M68+N68)>0,M68/(M68+N68),0)","v":0},{"$f":"IF((M68+N68)>0,N68/(M68+N68),0)","v":0},{"$f":"IF((O68+P68)>0,O68/(O68+P68),0)","v":0},{"$f":"IF((O68+P68)>0,P68/(O68+P68),0)","v":0},{"$f":"IF((Q68+R68)>0,Q68/(Q68+R68),0)","v":0},{"$f":"IF((Q68+R68)>0,R68/(Q68+R68),0)","v":0},{"$f":"IF((S68+T68)>0,S68/(S68+T68),0)","v":0},{"$f":"IF((S68+T68)>0,T68/(S68+T68),0)","v":0}]
[]
[null,null,{"$f":"C5","v":1},"Women in political power and decision-making (local, regional, national),",{"$f":"IF(E$68>0,E5/E$68,0)","v":0},0,0,0,0,0,0,0,0,0,0,0,0,0,0,0]
[null,null,2,"Women electoral candidates (local, regional, national),",{"$f":"IF(E$68>0,E6/E$68,0)","v":2.3351648632810799E-2},0,0,0,0,0,0,0,0,0,0,0,0,0,0,0]
[null,null,3,"Peace, negotiations, treaties…(local, regional, national),",{"$f":"IF(E$68>0,E7/E$68,0)","v":0},0,0,0,0,0,0,0,0,0,0,0,0,0,0,0]
[null,null,4,"Other domestic politics/government (local, regional, national), elections, speeches, the political process …",{"$f":"IF(E$68>0,E8/E$68,0)","v":4.6703297265621696E-2},6.4619322121999223E-2,0,0,0,0,0,0,0,0,0,0,0,0,0,0]
[null,null,5,"Global partnerships (international trade and finance systems, e.g. WTO, IMF, World Bank, debt) …",{"$f":"IF(E$68>0,E9/E$68,0)","v":0},0,0,0,0,0,0,0,0,0,0,0,0,0,0,0]
[null,null,6,"Foreign/international politics, relations with other countries, negotiations, treaties, UN peacekeeping …",{"$f":"IF(E$68>0,E10/E$68,0)","v":9.2490840928828894E-2},0.12859884708760363,0,0,0,0,0,0,0,0,0,0,0,0,0,0]
[null,null,7,"National defence, military spending, military training, military parades, internal security …",{"$f":"IF(E$68>0,E11/E$68,0)","v":0},3.2309661060999459E-2,0,0,0,0,0,0,0,0,0,0,0,0,0,0]
[null,null,8,"Other stories on politics and government (specify the subject in 'Comments' section of coding sheet)",{"$f":"IF(E$68>0,E12/E$68,0)","v":4.6245420464414225E-2},3.2309661060999459E-2,0,0,0,0,0,0,0,0,0,0,0,0,0,0]
[null,null,9,"Economic policies, strategies, models (national, international) …",{"$f":"IF(E$68>0,E13/E$68,0)","v":0},3.2309661060999459E-2,0,0,0,0,0,0,0,0,0,0,0,0,0,0]
[null,null,10,"Economic indicators, statistics, business, trade, stock markets …",{"$f":"IF(E$68>0,E14/E$68,0)","v":0},1.6314779819598405E-2,0,0,0,0,0,0,0,0,0,0,0,0,0,0]
[null,null,11,"Economic crisis, state bailouts of companies, company takeovers and mergers …",{"$f":"IF(E$68>0,E15/E$68,0)","v":0},1.5994881241401148E-2,0,0,0,0,0,0,0,0,0,0,0,0,0,0]
[null,null,12,"Poverty, housing, social welfare, aid to those in need …",{"$f":"IF(E$68>0,E16/E$68,0)","v":0},1.6314779819598405E-2,0,0,0,0,0,0,0,0,0,0,0,0,0,0]
[null,null,13,"Women's participation in economic processes (informal work, paid employment, unemployment, unpaid labour)",{"$f":"IF(E$68>0,E17/E$68,0)","v":0},0,0,0,0,0,0,0,0,0,0,0,0,0,0,0]
[null,null,14,"Other labour issues, strikes, trade unions, negotiations, other employment and unemployment …",{"$f":"IF(E$68>0,E18/E$68,0)","v":2.2893771831603561E-2},3.1989762482802296E-2,0,0,0,0,0,0,0,0,0,0,0,0,0,0]
[null,null,15,"Rural economy, agriculture, farming practices, agricultural policy, land rights …",{"$f":"IF(E$68>0,E19/E$68,0)","v":0},0,0,0,0,0,0,0,0,0,0,0,0,0,0,0]
[null,null,16,"Consumer issues, consumer protection, regulation, prices, consumer fraud …",{"$f":"IF(E$68>0,E20/E$68,0)","v":2.3351648632810799E-2},1.5994881241401148E-2,0,0,0,0,0,0,0,0,0,0,0,0,0,0]
[null,null,17,"Transport, traffic, roads ……",{"$f":"IF(E$68>0,E21/E$68,0)","v":2.3351648632810799E-2},0,0,0,0,0,0,0,0,0,0,0,0,0,0,0]
[null,null,18,"Other stories on the economy (specify the subject in 'Comments' section of coding sheet)",{"$f":"IF(E$68>0,E22/E$68,0)","v":2.3351648632810799E-2},0,0,0,0,0,0,0,0,0,0,0,0,0,0,0]
[null,null,19,"Science, technology, research, funding, discoveries, developments …",{"$f":"IF(E$68>0,E23/E$68,0)","v":0},1.6314779819598405E-2,0,0,0,0,0,0,0,0,0,0,0,0,0,0]
[null,null,20,"Medicine, health, hygiene, safety, disability, medical research, funding (apart from HIV-AIDS)…",{"$f":"IF(E$68>0,E24/E$68,0)","v":2.3351648632810799E-2},0,0,0,0,0,0,0,0,0,0,0,0,0,0,0]
[null,null,{"$f":"C25","v":21},"HIV and AIDS, incidence, policy, treatment, people affected …",{"$f":"IF(E$68>0,E25/E$68,0)","v":0},0,0,0,0,0,0,0,0,0,0,0,0,0,0,0]
[null,null,22,"Other epidemics, viruses, contagions, Influenza, BSE, SARS …",{"$f":"IF(E$68>0,E26/E$68,0)","v":4.6245420464414225E-2},6.4939220700196323E-2,0,0,0,0,0,0,0,0,0,0,0,0,0,0]
[null,null,23,"Birth control, fertility, sterilisation, amniocentesis, termination of pregnancy …",{"$f":"IF(E$68>0,E27/E$68,0)","v":0},0,0,0,0,0,0,0,0,0,0,0,0,0,0,0]
[null,null,24,"Environment, nature,   pollution, global warming, ecology, tourism …",{"$f":"IF(E$68>0,E28/E$68,0)","v":2.3351648632810799E-2},0,0,0,0,0,0,0,0,0,0,0,0,0,0,0]
[null,null,25,"Other stories on science or health (specify the subject in 'Comments' section of coding sheet)",{"$f":"IF(E$68>0,E29/E$68,0)","v":4.6703297265621696E-2},0,0,0,0,0,0,0,0,0,0,0,0,0,0,0]
[null,null,26,"Development issues, sustainability, community development …",{"$f":"IF(E$68>0,E30/E$68,0)","v":0},0,0,0,0,0,0,0,0,0,0,0,0,0,0,0]
[null,null,27,"Education, child care, nurseries, pre-school to university, adult education, literacy …",{"$f":"IF(E$68>0,E31/E$68,0)","v":7.0054945898432308E-2},4.8304542302400638E-2,0,0,0,0,0,0,0,0,0,0,0,0,0,0]
[null,null,28,"Family relations, inter-generational conflict, single parents …",{"$f":"IF(E$68>0,E32/E$68,0)","v":0},0,0,0,0,0,0,0,0,0,0,0,0,0,0,0]
[null,null,29,"Human rights, women's rights, children's rights, gay & lesbian rights, rights of minorities ..",{"$f":"IF(E$68>0,E33/E$68,0)","v":0},1.5994881241401148E-2,0,0,0,0,0,0,0,0,0,0,0,0,0,0]
[null,null,30,"Religion, culture, tradition, controversies, teachings, celebrations, practices …",{"$f":"IF(E$68>0,E34/E$68,0)","v":0},0,0,0,0,0,0,0,0,0,0,0,0,0,0,0]
[null,null,31,"Migration, refugees, asylum seekers, ethnic conflict, integration, racism, xenophobia …",{"$f":"IF(E$68>0,E35/E$68,0)","v":0},0,0,0,0,0,0,0,0,0,0,0,0,0,0,0]
[null,null,32,"Women's movement, activism, events, demonstrations, gender equality advocacy …",{"$f":"IF(E$68>0,E36/E$68,0)","v":0},0,0,0,0,0,0,0,0,0,0,0,0,0,0,0]
[null,null,33,"Changing gender relations, roles and relationships of women and men inside and outside the home …",{"$f":"IF(E$68>0,E37/E$68,0)","v":0},0,0,0,0,0,0,0,0,0,0,0,0,0,0,0]
[null,null,34,"Family law, family codes, property law, inheritance law and rights …",{"$f":"IF(E$68>0,E38/E$68,0)","v":0},0,0,0,0,0,0,0,0,0,0,0,0,0,0,0]
[null,null,35,"Legal system, judicial system, legislation (apart from family, property & inheritance law) …",{"$f":"IF(E$68>0,E39/E$68,0)","v":4.6703297265621696E-2},6.3979524965604703E-2,0,0,0,0,0,0,0,0,0,0,0,0,0,0]
[null,null,36,"Other stories on social or legal issues (specify the subject in 'Comments' section of coding sheet)",{"$f":"IF(E$68>0,E40/E$68,0)","v":9.2948717730035907E-2},9.6928983182998682E-2,0,0,0,0,0,0,0,0,0,0,0,0,0,0]
[null,null,37,"Non-violent crime, bribery, theft, drug-dealing, corruption, (including political corruption/malpractice) …",{"$f":"IF(E$68>0,E41/E$68,0)","v":2.3351648632810799E-2},1.5994881241401148E-2,0,0,0,0,0,0,0,0,0,0,0,0,0,0]
[null,null,38,"Violent crime, murder, abduction, kidnapping, assault, drug-related violence …",{"$f":"IF(E$68>0,E42/E$68,0)","v":2.2893771831603561E-2},6.3979524965604703E-2,0,0,0,0,0,0,0,0,0,0,0,0,0,0]
[null,null,39,"Gender-based violence, feminicide, harassment, domestic violence, rape, trafficking, genital mutilation …",{"$f":"IF(E$68>0,E43/E$68,0)","v":4.6703297265621696E-2},0,0,0,0,0,0,0,0,0,0,0,0,0,0,0]
[null,null,40,"Child abuse, sexual violence against children, trafficking, neglect.",{"$f":"IF(E$68>0,E44/E$68,0)","v":4.6703297265621696E-2},3.2629559639196878E-2,0,0,0,0,0,0,0,0,0,0,0,0,0,0]
[null,null,{"$f":"C45","v":41},"War, civil war, terrorism, state-based violence …",{"$f":"IF(E$68>0,E45/E$68,0)","v":6.9597069097225295E-2},4.8624440880598058E-2,0,0,0,0,0,0,0,0,0,0,0,0,0,0]
[null,null,42,"Riots, demonstrations, public disorder …",{"$f":"IF(E$68>0,E46/E$68,0)","v":0},0,0,0,0,0,0,0,0,0,0,0,0,0,0,0]
[null,null,43,"Disaster, accident, famine, earthquake, flood, hurricane, plane crash, car crash …",0,0,{"$f":"IF(G$68>0,G47/G$68,0)","v":0},0,0,0,0,0,0,0,0,0,0,0,0,0]
[null,null,44,"Other stories on crime and violence (specify the subject in 'Comments' section of coding sheet)",1,0,{"$f":"IF(G$68>0,G48/G$68,0)","v":0},0,0,0,0,0,0,0,0,0,0,0,0,0]
[null,null,45,"Celebrity news, births, marriages, deaths, obituaries, famous people, royalty …",0,0,{"$f":"IF(G$68>0,G49/G$68,0)","v":0},0,0,0,0,0,0,0,0,0,0,0,0,0]
[null,null,46,"Arts, entertainment, leisure, cinema, theatre, books, dance …",0,0,{"$f":"IF(G$68>0,G50/G$68,0)","v":0},0,0,0,0,0,0,0,0,0,0,0,0,0]
[null,null,47,"Media, including new media (computers, internet), portrayal of women and/or men, pornography …",0,0,{"$f":"IF(G$68>0,G51/G$68,0)","v":0},0,0,0,0,0,0,0,0,0,0,0,0,0]
[null,null,48,"Beauty contests, models, fashion, beauty aids, cosmetic surgery …",0,0,{"$f":"IF(G$68>0,G52/G$68,0)","v":0},0,0,0,0,0,0,0,0,0,0,0,0,0]
[null,null,49,"Sports, events, players, facilities, training, policies, funding …",0,0,{"$f":"IF(G$68>0,G53/G$68,0)","v":0},0,0,0,0,0,0,0,0,0,0,0,0,0]
[null,null,50,"Other stories on celebrities, arts, media (specify the subject in 'Comments' section of coding sheet)",0,0,{"$f":"IF(G$68>0,G54/G$68,0)","v":0},0,0,0,0,0,0,0,0,0,0,0,0,0]
[null,null,51,"News about the girl child, including, cultural attitudes and practices impinging on girls, education, health, economic exploitation, violence (ONLY WHERE EMPHASIS IS ON THE GIRL CHILD)…",0,0,{"$f":"IF(G$68>0,G55/G$68,0)","v":0},0,0,0,0,0,0,0,0,0,0,0,0,0]
[null,null,52,"Other subject: use only if none of the above subject codes is suitable (specify the subject in 'Comments' section of coding sheet)",0,0,{"$f":"IF(G$68>0,G56/G$68,0)","v":0},0,0,0,0,0,0,0,0,0,0,0,0,0]
[null,null,0,0,0,0,{"$f":"IF(G$68>0,G57/G$68,0)","v":0},0,0,0,0,0,0,0,0,0,0,0,0,0]
[null,null,0,0,0,0,{"$f":"IF(G$68>0,G58/G$68,0)","v":0},0,0,0,0,0,0,0,0,0,0,0,0,0]
[null,null,0,0,0,0,{"$f":"IF(G$68>0,G59/G$68,0)","v":0},0,0,0,0,0,0,0,0,0,0,0,0,0]
[null,null,0,0,0,0,{"$f":"IF(G$68>0,G60/G$68,0)","v":0},0,0,0,0,0,0,0,0,0,0,0,0,0]
[null,null,0,0,0,0,{"$f":"IF(G$68>0,G61/G$68,0)","v":0},0,0,0,0,0,0,0,0,0,0,0,0,0]
[null,null,0,0,0,0,{"$f":"IF(G$68>0,G62/G$68,0)","v":0},0,0,0,0,0,0,0,0,0,0,0,0,0]
[]
[]
[]
[]
[]
[]
[]
[]
[]
[]
[]
[]
[]
[]
[]
[]
[]
[]
[]
[]
["COUNT"]
[null,null,null,null,{"$f":"E3","v":"Female"},"Male",0,{"$f":"H3","v":0},0,0,0,0,0,0,0,0,0,0,0,0]
[null,null,null,null,0,0,0,{"$f":"H4","v":0},0,0,0,0,0,0,0,0,0,0,0,0]
[null,null,{"$f":"C5","v":1},"Women in political power and decision-making (local, regional, national),",0,0]
[null,null,2,"Women electoral candidates (local, regional, national),",1,0]
[null,null,3,"Peace, negotiations, treaties…(local, regional, national),",0,0]
[null,null,4,"Other domestic politics/government (local, regional, national), elections, speeches, the political process …",2,4]
[null,null,5,"Global partnerships (international trade and finance systems, e.g. WTO, IMF, World Bank, debt) …",0,0]
[null,null,6,"Foreign/international politics, relations with other countries, negotiations, treaties, UN peacekeeping …",4,8]
[null,null,7,"National defence, military spending, military training, military parades, internal security …",0,2]
[null,null,8,"Other stories on politics and government (specify the subject in 'Comments' section of coding sheet)",2,2]
[null,null,9,"Economic policies, strategies, models (national, international) …",0,2]
[null,null,10,"Economic indicators, statistics, business, trade, stock markets …",0,1]
[null,null,11,"Economic crisis, state bailouts of companies, company takeovers and mergers …",0,1]
[null,null,12,"Poverty, housing, social welfare, aid to those in need …",0,1]
[null,null,13,"Women's participation in economic processes (informal work, paid employment, unemployment, unpaid labour)",0,0]
[null,null,14,"Other labour issues, strikes, trade unions, negotiations, other employment and unemployment …",1,2]
[null,null,15,"Rural economy, agriculture, farming practices, agricultural policy, land rights …",0,0]
[null,null,16,"Consumer issues, consumer protection, regulation, prices, consumer fraud …",1,1]
[null,null,17,"Transport, traffic, roads ……",1,0]
[null,null,18,"Other stories on the economy (specify the subject in 'Comments' section of coding sheet)",1,0]
[null,null,19,"Science, technology, research, funding, discoveries, developments …",0,1]
[null,null,20,"Medicine, health, hygiene, safety, disability, medical research, funding (apart from HIV-AIDS)…",1,0]
[null,null,{"$f":"C25","v":21},"HIV and AIDS, incidence, policy, treatment, people affected …",0,0]
[null,null,22,"Other epidemics, viruses, contagions, Influenza, BSE, SARS …",2,4]
[null,null,23,"Birth control, fertility, sterilisation, amniocentesis, termination of pregnancy …",0,0]
[null,null,24,"Environment, nature,   pollution, global warming, ecology, tourism …",1,0]
[null,null,25,"Other stories on science or health (specify the subject in 'Comments' section of coding sheet)",2,0]
[null,null,26,"Development issues, sustainability, community development …",0,0]
[null,null,27,"Education, child care, nurseries, pre-school to university, adult education, literacy …",3,3]
[null,null,28,"Family relations, inter-generational conflict, single parents …",0,0]
[null,null,29,"Human rights, women's rights, children's rights, gay & lesbian rights, rights of minorities ..",0,1]
[null,null,30,"Religion, culture, tradition, controversies, teachings, celebrations, practices …",0,0]
[null,null,31,"Migration, refugees, asylum seekers, ethnic conflict, integration, racism, xenophobia …",0,0]
[null,null,32,"Women's movement, activism, events, demonstrations, gender equality advocacy …",0,0]
[null,null,33,"Changing gender relations, roles and relationships of women and men inside and outside the home …",0,0]
[null,null,34,"Family law, family codes, property law, inheritance law and rights …",0,0]
[null,null,35,"Legal system, judicial system, legislation (apart from family, property & inheritance law) …",2,4]
[null,null,36,"Other stories on social or legal issues (specify the subject in 'Comments' section of coding sheet)",4,6]
[null,null,37,"Non-violent crime, bribery, theft, drug-dealing, corruption, (including political corruption/malpractice) …",1,1]
[null,null,38,"Violent crime, murder, abduction, kidnapping, assault, drug-related violence …",1,4]
[null,null,39,"Gender-based violence, feminicide, harassment, domestic violence, rape, trafficking, genital mutilation …",2,0]
[null,null,40,"Child abuse, sexual violence against children, trafficking, neglect.",2,2]
[null,null,{"$f":"C45","v":41},"War, civil war, terrorism, state-based violence …",3,3]
[null,null,42,"Riots, demonstrations, public disorder …",0,0]
[null,null,43,"Disaster, accident, famine, earthquake, flood, hurricane, plane crash, car crash …",2,3]
[null,null,44,"Other stories on crime and violence (specify the subject in 'Comments' section of coding sheet)",0,1]
[null,null,45,"Celebrity news, births, marriages, deaths, obituaries, famous people, royalty …",0,0]
[null,null,46,"Arts, entertainment, leisure, cinema, theatre, books, dance …",2,3]
[null,null,47,"Media, including new media (computers, internet), portrayal of women and/or men, pornography …",0,0]
[null,null,48,"Beauty contests, models, fashion, beauty aids, cosmetic surgery …",0,0]
[null,null,49,"Sports, events, players, facilities, training, policies, funding …",1,1]
[null,null,50,"Other stories on celebrities, arts, media (specify the subject in 'Comments' section of coding sheet)",0,1]
[null,null,51,"News about the girl child, including, cultural attitudes and practices impinging on girls, education, health, economic exploitation, violence (ONLY WHERE EMPHASIS IS ON THE GIRL CHILD)…",0,0]
[null,null,52,"Other subject: use only if none of the above subject codes is suitable (specify the subject in 'Comments' section of coding sheet)",1,0]
[null,null,0,0]
[null,null,0,0]
[null,null,0,0]

{"sheet":"12bF - different story topics","index":44,"n_rows":57,"n_cols":12,"rows_kept":57,"cut":false,"hidden":false,"merged":[[1,5,1,9],[1,10,1,11]]}
["Television and Radio Announcers in different story topics, details"]
[null,null,null,null,null,"% Female",null,null,null,null,"% Male"]
[null,null,null,null,"Story Topic",1995,2000,2005,2010,"N",2010,"N"]
[null,null,null,null,{"$f":"'12b'!D5","v":"Women in political power and decision-making (local, regional, national),"},0,0,0,{"$f":"'12b'!W5","v":0},{"$f":"'12b'!E151","v":0},{"$f":"'12b'!X5","v":0},{"$f":"'12b'!F151","v":0}]
[null,null,null,null,{"$f":"'12b'!D6","v":"Women electoral candidates (local, regional, national),"},0,0,0,{"$f":"'12b'!W6","v":1},{"$f":"'12b'!E152","v":1},{"$f":"'12b'!X6","v":0},{"$f":"'12b'!F152","v":0}]
[null,null,null,null,{"$f":"'12b'!D7","v":"Peace, negotiations, treaties…(local, regional, national),"},0,0,0,{"$f":"'12b'!W7","v":0},{"$f":"'12b'!E153","v":0},{"$f":"'12b'!X7","v":0},{"$f":"'12b'!F153","v":0}]
[null,null,null,null,{"$f":"'12b'!D8","v":"Other domestic politics/government (local, regional, national), elections, speeches, the political process …"},0,0,0,{"$f":"'12b'!W8","v":0.33552632223907591},{"$f":"'12b'!E154","v":2},{"$f":"'12b'!X8","v":0.66447367776092403},{"$f":"'12b'!F154","v":4}]
[null,null,null,null,{"$f":"'12b'!D9","v":"Global partnerships (international trade and finance systems, e.g. WTO, IMF, World Bank, debt) …"},0,0,0,{"$f":"'12b'!W9","v":0},{"$f":"'12b'!E155","v":0},{"$f":"'12b'!X9","v":0},{"$f":"'12b'!F155","v":0}]
[null,null,null,null,{"$f":"'12b'!D10","v":"Foreign/international politics, relations with other countries, negotiations, treaties, UN peacekeeping …"},0,0,0,{"$f":"'12b'!W10","v":0.33443708936037098},{"$f":"'12b'!E156","v":4},{"$f":"'12b'!X10","v":0.66556291063962902},{"$f":"'12b'!F156","v":8}]
[null,null,null,null,{"$f":"'12b'!D11","v":"National defence, military spending, military training, military parades, internal security …"},0,0,0,{"$f":"'12b'!W11","v":0},{"$f":"'12b'!E157","v":0},{"$f":"'12b'!X11","v":1},{"$f":"'12b'!F157","v":2}]
[null,null,null,null,{"$f":"'12b'!D12","v":"Other stories on politics and government (specify the subject in 'Comments' section of coding sheet)"},0,0,0,{"$f":"'12b'!W12","v":0.5},{"$f":"'12b'!E158","v":2},{"$f":"'12b'!X12","v":0.5},{"$f":"'12b'!F158","v":2}]
[null,null,null,null,{"$f":"'12b'!D13","v":"Economic policies, strategies, models (national, international) …"},0,0,0,{"$f":"'12b'!W13","v":0},{"$f":"'12b'!E159","v":0},{"$f":"'12b'!X13","v":1},{"$f":"'12b'!F159","v":2}]
[null,null,null,null,{"$f":"'12b'!D14","v":"Economic indicators, statistics, business, trade, stock markets …"},0,0,0,{"$f":"'12b'!W14","v":0},{"$f":"'12b'!E160","v":0},{"$f":"'12b'!X14","v":1},{"$f":"'12b'!F160","v":1}]
[null,null,null,null,{"$f":"'12b'!D15","v":"Economic crisis, state bailouts of companies, company takeovers and mergers …"},0,0,0,{"$f":"'12b'!W15","v":0},{"$f":"'12b'!E161","v":0},{"$f":"'12b'!X15","v":1},{"$f":"'12b'!F161","v":1}]
[null,null,null,null,{"$f":"'12b'!D16","v":"Poverty, housing, social welfare, aid to those in need …"},0,0,0,{"$f":"'12b'!W16","v":0},{"$f":"'12b'!E162","v":0},{"$f":"'12b'!X16","v":1},{"$f":"'12b'!F162","v":1}]
[null,null,null,null,{"$f":"'12b'!D17","v":"Women's participation in economic processes (informal work, paid employment, unemployment, unpaid labour)"},0,0,0,{"$f":"'12b'!W17","v":0},{"$f":"'12b'!E163","v":0},{"$f":"'12b'!X17","v":0},{"$f":"'12b'!F163","v":0}]
[null,null,null,null,{"$f":"'12b'!D18","v":"Other labour issues, strikes, trade unions, negotiations, other employment and unemployment …"},0,0,0,{"$f":"'12b'!W18","v":0.33333333333333337},{"$f":"'12b'!E164","v":1},{"$f":"'12b'!X18","v":0.66666666666666674},{"$f":"'12b'!F164","v":2}]
[null,null,null,null,{"$f":"'12b'!D19","v":"Rural economy, agriculture, farming practices, agricultural policy, land rights …"},0,0,0,{"$f":"'12b'!W19","v":0},{"$f":"'12b'!E165","v":0},{"$f":"'12b'!X19","v":0},{"$f":"'12b'!F165","v":0}]
[null,null,null,null,{"$f":"'12b'!D20","v":"Consumer issues, consumer protection, regulation, prices, consumer fraud …"},0,0,0,{"$f":"'12b'!W20","v":0.50495050965705435},{"$f":"'12b'!E166","v":1},{"$f":"'12b'!X20","v":0.49504949034294571},{"$f":"'12b'!F166","v":1}]
[null,null,null,null,{"$f":"'12b'!D21","v":"Transport, traffic, roads ……"},0,0,0,{"$f":"'12b'!W21","v":1},{"$f":"'12b'!E167","v":1},{"$f":"'12b'!X21","v":0},{"$f":"'12b'!F167","v":0}]
[null,null,null,null,{"$f":"'12b'!D22","v":"Other stories on the economy (specify the subject in 'Comments' section of coding sheet)"},0,0,0,{"$f":"'12b'!W22","v":1},{"$f":"'12b'!E168","v":1},{"$f":"'12b'!X22","v":0},{"$f":"'12b'!F168","v":0}]
[null,null,null,null,{"$f":"'12b'!D23","v":"Science, technology, research, funding, discoveries, developments …"},0,0,0,{"$f":"'12b'!W23","v":0},{"$f":"'12b'!E169","v":0},{"$f":"'12b'!X23","v":1},{"$f":"'12b'!F169","v":1}]
[null,null,null,null,{"$f":"'12b'!D24","v":"Medicine, health, hygiene, safety, disability, medical research, funding (apart from HIV-AIDS)…"},0,0,0,{"$f":"'12b'!W24","v":1},{"$f":"'12b'!E170","v":1},{"$f":"'12b'!X24","v":0},{"$f":"'12b'!F170","v":0}]
[null,null,null,null,{"$f":"'12b'!D25","v":"HIV and AIDS, incidence, policy, treatment, people affected …"},0,0,0,{"$f":"'12b'!W25","v":0},{"$f":"'12b'!E171","v":0},{"$f":"'12b'!X25","v":0},{"$f":"'12b'!F171","v":0}]
[null,null,null,null,{"$f":"'12b'!D26","v":"Other epidemics, viruses, contagions, Influenza, BSE, SARS …"},0,0,0,{"$f":"'12b'!W26","v":0.33223683888046152},{"$f":"'12b'!E172","v":2},{"$f":"'12b'!X26","v":0.66776316111953848},{"$f":"'12b'!F172","v":4}]
[null,null,null,null,{"$f":"'12b'!D27","v":"Birth control, fertility, sterilisation, amniocentesis, termination of pregnancy …"},0,0,0,{"$f":"'12b'!W27","v":0},{"$f":"'12b'!E173","v":0},{"$f":"'12b'!X27","v":0},{"$f":"'12b'!F173","v":0}]
[null,null,null,null,{"$f":"'12b'!D28","v":"Environment, nature,   pollution, global warming, ecology, tourism …"},0,0,0,{"$f":"'12b'!W28","v":1},{"$f":"'12b'!E174","v":1},{"$f":"'12b'!X28","v":0},{"$f":"'12b'!F174","v":0}]
[null,null,null,null,{"$f":"'12b'!D29","v":"Other stories on science or health (specify the subject in 'Comments' section of coding sheet)"},0,0,0,{"$f":"'12b'!W29","v":1},{"$f":"'12b'!E175","v":2},{"$f":"'12b'!X29","v":0},{"$f":"'12b'!F175","v":0}]
[null,null,null,null,{"$f":"'12b'!D30","v":"Development issues, sustainability, community development …"},0,0,0,{"$f":"'12b'!W30","v":0},{"$f":"'12b'!E176","v":0},{"$f":"'12b'!X30","v":0},{"$f":"'12b'!F176","v":0}]
[null,null,null,null,{"$f":"'12b'!D31","v":"Education, child care, nurseries, pre-school to university, adult education, literacy …"},0,0,0,{"$f":"'12b'!W31","v":0.5032894833586139},{"$f":"'12b'!E177","v":3},{"$f":"'12b'!X31","v":0.49671051664138616},{"$f":"'12b'!F177","v":3}]
[null,null,null,null,{"$f":"'12b'!D32","v":"Family relations, inter-generational conflict, single parents …"},0,0,0,{"$f":"'12b'!W32","v":0},{"$f":"'12b'!E178","v":0},{"$f":"'12b'!X32","v":0},{"$f":"'12b'!F178","v":0}]
[null,null,null,null,{"$f":"'12b'!D33","v":"Human rights, women's rights, children's rights, gay & lesbian rights, rights of minorities .."},0,0,0,{"$f":"'12b'!W33","v":0},{"$f":"'12b'!E179","v":0},{"$f":"'12b'!X33","v":1},{"$f":"'12b'!F179","v":1}]
[null,null,null,null,{"$f":"'12b'!D34","v":"Religion, culture, tradition, controversies, teachings, celebrations, practices …"},0,0,0,{"$f":"'12b'!W34","v":0},{"$f":"'12b'!E180","v":0},{"$f":"'12b'!X34","v":0},{"$f":"'12b'!F180","v":0}]
[null,null,null,null,{"$f":"'12b'!D35","v":"Migration, refugees, asylum seekers, ethnic conflict, integration, racism, xenophobia …"},0,0,0,{"$f":"'12b'!W35","v":0},{"$f":"'12b'!E181","v":0},{"$f":"'12b'!X35","v":0},{"$f":"'12b'!F181","v":0}]
[null,null,null,null,{"$f":"'12b'!D36","v":"Women's movement, activism, events, demonstrations, gender equality advocacy …"},0,0,0,{"$f":"'12b'!W36","v":0},{"$f":"'12b'!E182","v":0},{"$f":"'12b'!X36","v":0},{"$f":"'12b'!F182","v":0}]
[null,null,null,null,{"$f":"'12b'!D37","v":"Changing gender relations, roles and relationships of women and men inside and outside the home …"},0,0,0,{"$f":"'12b'!W37","v":0},{"$f":"'12b'!E183","v":0},{"$f":"'12b'!X37","v":0},{"$f":"'12b'!F183","v":0}]
[null,null,null,null,{"$f":"'12b'!D38","v":"Family law, family codes, property law, inheritance law and rights …"},0,0,0,{"$f":"'12b'!W38","v":0},{"$f":"'12b'!E184","v":0},{"$f":"'12b'!X38","v":0},{"$f":"'12b'!F184","v":0}]
[null,null,null,null,{"$f":"'12b'!D39","v":"Legal system, judicial system, legislation (apart from family, property & inheritance law) …"},0,0,0,{"$f":"'12b'!W39","v":0.33774835744148174},{"$f":"'12b'!E185","v":2},{"$f":"'12b'!X39","v":0.66225164255851821},{"$f":"'12b'!F185","v":4}]
[null,null,null,null,{"$f":"'12b'!D40","v":"Other stories on social or legal issues (specify the subject in 'Comments' section of coding sheet)"},0,0,0,{"$f":"'12b'!W40","v":0.40118577424295654},{"$f":"'12b'!E186","v":4},{"$f":"'12b'!X40","v":0.59881422575704357},{"$f":"'12b'!F186","v":6}]
[null,null,null,null,{"$f":"'12b'!D41","v":"Non-violent crime, bribery, theft, drug-dealing, corruption, (including political corruption/malpractice) …"},0,0,0,{"$f":"'12b'!W41","v":0.50495050965705435},{"$f":"'12b'!E187","v":1},{"$f":"'12b'!X41","v":0.49504949034294571},{"$f":"'12b'!F187","v":1}]
[null,null,null,null,{"$f":"'12b'!D42","v":"Violent crime, murder, abduction, kidnapping, assault, drug-related violence …"},0,0,0,{"$f":"'12b'!W42","v":0.19999999999999968},{"$f":"'12b'!E188","v":1},{"$f":"'12b'!X42","v":0.80000000000000027},{"$f":"'12b'!F188","v":4}]
[null,null,null,null,{"$f":"'12b'!D43","v":"Gender-based violence, feminicide, harassment, domestic violence, rape, trafficking, genital mutilation …"},0,0,0,{"$f":"'12b'!W43","v":1},{"$f":"'12b'!E189","v":2},{"$f":"'12b'!X43","v":0},{"$f":"'12b'!F189","v":0}]
[null,null,null,null,{"$f":"'12b'!D44","v":"Child abuse, sexual violence against children, trafficking, neglect."},0,0,0,{"$f":"'12b'!W44","v":0.5},{"$f":"'12b'!E190","v":2},{"$f":"'12b'!X44","v":0.5},{"$f":"'12b'!F190","v":2}]
[null,null,null,null,{"$f":"'12b'!D45","v":"War, civil war, terrorism, state-based violence …"},0,0,0,{"$f":"'12b'!W45","v":0.5},{"$f":"'12b'!E191","v":3},{"$f":"'12b'!X45","v":0.5},{"$f":"'12b'!F191","v":3}]
[null,null,null,null,{"$f":"'12b'!D46","v":"Riots, demonstrations, public disorder …"},0,0,0,{"$f":"'12b'!W46","v":0},{"$f":"'12b'!E192","v":0},{"$f":"'12b'!X46","v":0},{"$f":"'12b'!F192","v":0}]
[null,null,null,null,{"$f":"'12b'!D47","v":"Disaster, accident, famine, earthquake, flood, hurricane, plane crash, car crash …"},0,0,0,{"$f":"'12b'!W47","v":0.40157480776897536},{"$f":"'12b'!E193","v":2},{"$f":"'12b'!X47","v":0.59842519223102453},{"$f":"'12b'!F193","v":3}]
[null,null,null,null,{"$f":"'12b'!D48","v":"Other stories on crime and violence (specify the subject in 'Comments' section of coding sheet)"},0,0,0,{"$f":"'12b'!W48","v":0},{"$f":"'12b'!E194","v":0},{"$f":"'12b'!X48","v":1},{"$f":"'12b'!F194","v":1}]
[null,null,null,null,{"$f":"'12b'!D49","v":"Celebrity news, births, marriages, deaths, obituaries, famous people, royalty …"},0,0,0,{"$f":"'12b'!W49","v":0},{"$f":"'12b'!E195","v":0},{"$f":"'12b'!X49","v":0},{"$f":"'12b'!F195","v":0}]
[null,null,null,null,{"$f":"'12b'!D50","v":"Arts, entertainment, leisure, cinema, theatre, books, dance …"},0,0,0,{"$f":"'12b'!W50","v":0.40316206464788534},{"$f":"'12b'!E196","v":2},{"$f":"'12b'!X50","v":0.59683793535211471},{"$f":"'12b'!F196","v":3}]
[null,null,null,null,{"$f":"'12b'!D51","v":"Media, including new media (computers, internet), portrayal of women and/or men, pornography …"},0,0,0,{"$f":"'12b'!W51","v":0},{"$f":"'12b'!E197","v":0},{"$f":"'12b'!X51","v":0},{"$f":"'12b'!F197","v":0}]
[null,null,null,null,{"$f":"'12b'!D52","v":"Beauty contests, models, fashion, beauty aids, cosmetic surgery …"},0,0,0,{"$f":"'12b'!W52","v":0},{"$f":"'12b'!E198","v":0},{"$f":"'12b'!X52","v":0},{"$f":"'12b'!F198","v":0}]
[null,null,null,null,{"$f":"'12b'!D53","v":"Sports, events, players, facilities, training, policies, funding …"},0,0,0,{"$f":"'12b'!W53","v":0.49504949034294571},{"$f":"'12b'!E199","v":1},{"$f":"'12b'!X53","v":0.50495050965705435},{"$f":"'12b'!F199","v":1}]
[null,null,null,null,{"$f":"'12b'!D54","v":"Other stories on celebrities, arts, media (specify the subject in 'Comments' section of coding sheet)"},0,0,0,{"$f":"'12b'!W54","v":0},{"$f":"'12b'!E200","v":0},{"$f":"'12b'!X54","v":1},{"$f":"'12b'!F200","v":1}]
[null,null,null,null,{"$f":"'12b'!D55","v":"News about the girl child, including, cultural attitudes and practices impinging on girls, education, health, economic exploitation, violence (ONLY WHERE EMPHASIS IS ON THE GIRL CHILD)…"},0,0,0,{"$f":"'12b'!W55","v":0},{"$f":"'12b'!E201","v":0},{"$f":"'12b'!X55","v":0},{"$f":"'12b'!F201","v":0}]
[]
[]
[null,null,null,null,"Total",0,0,0,{"$f":"'12b'!$W$68","v":0.41129944026023102},{"$f":"SUM(J4:J54)","v":42},{"$f":"'12b'!$X$68","v":0.58870055973976909},{"$f":"SUM(L4:L54)","v":62}]

{"sheet":"12c","index":45,"n_rows":154,"n_cols":38,"rows_kept":154,"cut":false,"hidden":true,"merged":[]}
["Reporters, by sex on major topics"]
[]
[null,null,null,null,"Female","Male",null,null,null,null,null,null,null,null,null,null,null,null,null,null,null,null,{"$f":"E3","v":"Female"},"Male",0,0,0,0,0,0,0,0,0,0,0,0,0]
[null,null,null,null,null,null,null,null,null,null,null,null,null,null,null,null,null,null,null,null,null,"TOTAL",0,0,0,0,0,0,0,0,0,0,0,0,0,0,0,{"$f":"T4","v":0}]
[null,null,1,"Politics and Government",5.0005998928099898E-2,0.11571199959144,null,null,null,null,null,null,null,null,null,null,null,null,null,null,null,{"$f":"SUM(E5:O5)","v":0.16571799851953989},{"$f":"IF((E5+F5)>0,E5/(E5+F5),0)","v":0.3017535776127761},{"$f":"IF((E5+F5)>0,F5/(E5+F5),0)","v":0.69824642238722401},{"$f":"IF((G5+H5)>0,G5/(G5+H5),0)","v":0},{"$f":"IF((G5+H5)>0,H5/(G5+H5),0)","v":0},{"$f":"IF((I5+J5)>0,I5/(I5+J5),0)","v":0},{"$f":"IF((I5+J5)>0,J5/(I5+J5),0)","v":0},{"$f":"IF((K5+L5)>0,K5/(K5+L5),0)","v":0},{"$f":"IF((K5+L5)>0,L5/(K5+L5),0)","v":0},{"$f":"IF((M5+N5)>0,M5/(M5+N5),0)","v":0},{"$f":"IF((M5+N5)>0,N5/(M5+N5),0)","v":0},{"$f":"IF((O5+P5)>0,O5/(O5+P5),0)","v":0},{"$f":"IF((O5+P5)>0,P5/(O5+P5),0)","v":0},{"$f":"IF((Q5+R5)>0,Q5/(Q5+R5),0)","v":0},{"$f":"IF((Q5+R5)>0,R5/(Q5+R5),0)","v":0},{"$f":"IF((S5+T5)>0,S5/(S5+T5),0)","v":0},{"$f":"IF((S5+T5)>0,T5/(S5+T5),0)","v":0}]
[null,null,2,"Economy",1.0100000072270601E-2,5.0205999519675998E-2,null,null,null,null,null,null,null,null,null,null,null,null,null,null,null,6.0305999591946602E-2,0.16747919179867765,0.83252080820132235,0,0,0,0,0,0,0,0,0,0,0,0,0,0]
[null,null,3,"Science and Health",2.7776500210165998E-2,1.5300000552088E-2,null,null,null,null,null,null,null,null,null,null,null,null,null,null,null,4.3076500762254E-2,0.64481793364481677,0.35518206635518318,0,0,0,0,0,0,0,0,0,0,0,0,0,0]
[null,null,4,"Social and Legal",3.04000005125999E-2,3.7876500282436602E-2,null,null,null,null,null,null,null,null,null,null,null,null,null,null,null,6.8276500795036499E-2,0.44524836742673096,0.55475163257326909,0,0,0,0,0,0,0,0,0,0,0,0,0,0]
[null,null,5,"Crime and Violence",7.4764997698366599E-3,8.0706000328064006E-2,null,null,null,null,null,null,null,null,null,null,null,null,null,null,null,8.8182500097900671E-2,8.4784393292730534E-2,0.91521560670726942,0,0,0,0,0,0,0,0,0,0,0,0,0,0]
[null,null,6,"Celebrity, Arts and Media, Sports",1.4952999539673301E-2,6.0158999171108E-2,null,null,null,null,null,null,null,null,null,null,null,null,null,null,null,7.5111998710781308E-2,0.19907604372571436,0.80092395627428559,0,0,0,0,0,0,0,0,0,0,0,0,0,0]
[null,null,7,"The Girl-child",null,null,null,null,null,null,null,null,null,null,null,null,null,null,null,null,null,0,0,0,0,0,0,0,0,0,0,0,0,0,0,0,0,0]
[null,null,8,"Other",null,null,null,null,null,null,null,null,null,null,null,null,null,null,null,null,null,0,0,0,0,0,0,0,0,0,0,0,0,0,0,0,0,0]
[]
[]
[]
[]
[]
[]
[]
[]
[]
[]
[]
[]
[]
[]
[]
[]
[]
[]
[]
[]
[]
[]
[]
[]
[]
[]
[]
[]
[]
[]
[]
[]
[]
[]
[]
[]
[]
[null,null,null,"TOTAL",{"$f":"SUM(E5:E49)","v":0.14071199903264636},0.35995949944481259,0,0,0,0,0,0,0,0,0,0,0,0,0,0,null,{"$f":"SUM(E50:O50)","v":0.50067149847745895},{"$f":"IF((E50+F50)>0,E50/(E50+F50),0)","v":0.28104655339988649},{"$f":"IF((E50+F50)>0,F50/(E50+F50),0)","v":0.71895344660011351},{"$f":"IF((G50+H50)>0,G50/(G50+H50),0)","v":0},{"$f":"IF((G50+H50)>0,H50/(G50+H50),0)","v":0},{"$f":"IF((I50+J50)>0,I50/(I50+J50),0)","v":0},{"$f":"IF((I50+J50)>0,J50/(I50+J50),0)","v":0},{"$f":"IF((K50+L50)>0,K50/(K50+L50),0)","v":0},{"$f":"IF((K50+L50)>0,L50/(K50+L50),0)","v":0},{"$f":"IF((M50+N50)>0,M50/(M50+N50),0)","v":0},{"$f":"IF((M50+N50)>0,N50/(M50+N50),0)","v":0},{"$f":"IF((O50+P50)>0,O50/(O50+P50),0)","v":0},{"$f":"IF((O50+P50)>0,P50/(O50+P50),0)","v":0},{"$f":"IF((Q50+R50)>0,Q50/(Q50+R50),0)","v":0},{"$f":"IF((Q50+R50)>0,R50/(Q50+R50),0)","v":0},{"$f":"IF((S50+T50)>0,S50/(S50+T50),0)","v":0},{"$f":"IF((S50+T50)>0,T50/(S50+T50),0)","v":0}]
[]
[null,null,{"$f":"C5","v":1},"Politics and Government",{"$f":"IF(E$50>0,E5/E$50,0)","v":0.35537835630135628},0.32145838565146817,0,0,0,0,0,0,0,0,0,0,0,0,0,0]
[null,null,2,"Economy",{"$f":"IF(E$50>0,E6/E$50,0)","v":7.1777816687312618E-2},0.13947680113210448,0,0,0,0,0,0,0,0,0,0,0,0,0,0]
[null,null,3,"Science and Health",{"$f":"IF(E$50>0,E7/E$50,0)","v":0.19739965604299045},4.250478338725918E-2,0,0,0,0,0,0,0,0,0,0,0,0,0,0]
[null,null,4,"Social and Legal",{"$f":"IF(E$50>0,E8/E$50,0)","v":0.21604412361128383},0.1052243386849238,0,0,0,0,0,0,0,0,0,0,0,0,0,0]
[null,null,5,"Crime and Violence",{"$f":"IF(E$50>0,E9/E$50,0)","v":5.3133349119018979E-2},0.2242085580531748,0,0,0,0,0,0,0,0,0,0,0,0,0,0]
[null,null,6,"Celebrity, Arts and Media, Sports",{"$f":"IF(E$50>0,E10/E$50,0)","v":0.10626669823803782},0.16712713309106964,0,0,0,0,0,0,0,0,0,0,0,0,0,0]
[null,null,7,"The Girl-child",{"$f":"IF(E$50>0,E11/E$50,0)","v":0},0,0,0,0,0,0,0,0,0,0,0,0,0,0,0]
[null,null,8,"Other",{"$f":"IF(E$50>0,E12/E$50,0)","v":0},0,0,0,0,0,0,0,0,0,0,0,0,0,0,0]
[null,null,0,0,{"$f":"IF(E$50>0,E13/E$50,0)","v":0},0,0,0,0,0,0,0,0,0,0,0,0,0,0,0]
[null,null,0,0,{"$f":"IF(E$50>0,E14/E$50,0)","v":0},0,0,0,0,0,0,0,0,0,0,0,0,0,0,0]
[null,null,0,0,{"$f":"IF(E$50>0,E15/E$50,0)","v":0},0,0,0,0,0,0,0,0,0,0,0,0,0,0,0]
[null,null,0,0,{"$f":"IF(E$50>0,E16/E$50,0)","v":0},0,0,0,0,0,0,0,0,0,0,0,0,0,0,0]
[null,null,0,0,{"$f":"IF(E$50>0,E17/E$50,0)","v":0},0,0,0,0,0,0,0,0,0,0,0,0,0,0,0]
[null,null,0,0,{"$f":"IF(E$50>0,E18/E$50,0)","v":0},0,0,0,0,0,0,0,0,0,0,0,0,0,0,0]
[null,null,0,0,{"$f":"IF(E$50>0,E19/E$50,0)","v":0},0,0,0,0,0,0,0,0,0,0,0,0,0,0,0]
[null,null,0,0,{"$f":"IF(E$50>0,E20/E$50,0)","v":0},0,0,0,0,0,0,0,0,0,0,0,0,0,0,0]
[null,null,0,0,{"$f":"IF(E$50>0,E21/E$50,0)","v":0},0,0,0,0,0,0,0,0,0,0,0,0,0,0,0]
[null,null,0,0,{"$f":"IF(E$50>0,E22/E$50,0)","v":0},0,0,0,0,0,0,0,0,0,0,0,0,0,0,0]
[null,null,0,0,{"$f":"IF(E$50>0,E23/E$50,0)","v":0},0,0,0,0,0,0,0,0,0,0,0,0,0,0,0]
[null,null,0,0,{"$f":"IF(E$50>0,E24/E$50,0)","v":0},0,0,0,0,0,0,0,0,0,0,0,0,0,0,0]
[null,null,{"$f":"C25","v":0},0,{"$f":"IF(E$50>0,E25/E$50,0)","v":0},0,0,0,0,0,0,0,0,0,0,0,0,0,0,0]
[null,null,0,0,{"$f":"IF(E$50>0,E26/E$50,0)","v":0},0,0,0,0,0,0,0,0,0,0,0,0,0,0,0]
[null,null,0,0,{"$f":"IF(E$50>0,E27/E$50,0)","v":0},0,0,0,0,0,0,0,0,0,0,0,0,0,0,0]
[null,null,0,0,{"$f":"IF(E$50>0,E28/E$50,0)","v":0},0,0,0,0,0,0,0,0,0,0,0,0,0,0,0]
[null,null,0,0,{"$f":"IF(E$50>0,E29/E$50,0)","v":0},0,0,0,0,0,0,0,0,0,0,0,0,0,0,0]
[null,null,0,0,{"$f":"IF(E$50>0,E30/E$50,0)","v":0},0,0,0,0,0,0,0,0,0,0,0,0,0,0,0]
[null,null,0,0,{"$f":"IF(E$50>0,E31/E$50,0)","v":0},0,0,0,0,0,0,0,0,0,0,0,0,0,0,0]
[null,null,0,0,{"$f":"IF(E$50>0,E32/E$50,0)","v":0},0,0,0,0,0,0,0,0,0,0,0,0,0,0,0]
[null,null,0,0,{"$f":"IF(E$50>0,E33/E$50,0)","v":0},0,0,0,0,0,0,0,0,0,0,0,0,0,0,0]
[null,null,0,0,{"$f":"IF(E$50>0,E34/E$50,0)","v":0},0,0,0,0,0,0,0,0,0,0,0,0,0,0,0]
[null,null,0,0,{"$f":"IF(E$50>0,E35/E$50,0)","v":0},0,0,0,0,0,0,0,0,0,0,0,0,0,0,0]
[null,null,0,0,{"$f":"IF(E$50>0,E36/E$50,0)","v":0},0,0,0,0,0,0,0,0,0,0,0,0,0,0,0]
[null,null,0,0,{"$f":"IF(E$50>0,E37/E$50,0)","v":0},0,0,0,0,0,0,0,0,0,0,0,0,0,0,0]
[null,null,0,0,{"$f":"IF(E$50>0,E38/E$50,0)","v":0},0,0,0,0,0,0,0,0,0,0,0,0,0,0,0]
[null,null,0,0,{"$f":"IF(E$50>0,E39/E$50,0)","v":0},0,0,0,0,0,0,0,0,0,0,0,0,0,0,0]
[null,null,0,0,{"$f":"IF(E$50>0,E40/E$50,0)","v":0},0,0,0,0,0,0,0,0,0,0,0,0,0,0,0]
[null,null,0,0,{"$f":"IF(E$50>0,E41/E$50,0)","v":0},0,0,0,0,0,0,0,0,0,0,0,0,0,0,0]
[null,null,0,0,{"$f":"IF(E$50>0,E42/E$50,0)","v":0},0,0,0,0,0,0,0,0,0,0,0,0,0,0,0]
[null,null,0,0,{"$f":"IF(E$50>0,E43/E$50,0)","v":0},0,0,0,0,0,0,0,0,0,0,0,0,0,0,0]
[null,null,0,0,{"$f":"IF(E$50>0,E44/E$50,0)","v":0},0,0,0,0,0,0,0,0,0,0,0,0,0,0,0]
[null,null,{"$f":"C45","v":0},0,{"$f":"IF(E$50>0,E45/E$50,0)","v":0},0,0,0,0,0,0,0,0,0,0,0,0,0,0,0]
[null,null,0,0,{"$f":"IF(E$50>0,E46/E$50,0)","v":0},0,0,0,0,0,0,0,0,0,0,0,0,0,0,0]
[null,null,0,0,{"$f":"IF(E$50>0,E47/E$50,0)","v":0},0,0,0,0,0,0,0,0,0,0,0,0,0,0,0]
[null,null,0,0,{"$f":"IF(E$50>0,E48/E$50,0)","v":0},0,0,0,0,0,0,0,0,0,0,0,0,0,0,0]
[null,null,0,0,{"$f":"IF(E$50>0,E49/E$50,0)","v":0},0,0,0,0,0,0,0,0,0,0,0,0,0,0,0]
[]
[]
[]
[]
[]
[]
[]
[]
[]
[]
[]
[]
["COUNT"]
[null,null,null,null,{"$f":"E3","v":"Female"},"Male",0,0,0,0,0,0,0,0,0,0,0,0,0,0]
[null,null,null,null,{"$f":"E4","v":0},0,0,0,0,0,0,0,0,0,0,0,0,0,0,0]
[null,null,{"$f":"C5","v":1},"Politics and Government",8,19]
[null,null,2,"Economy",2,8]
[null,null,3,"Science and Health",5,3]
[null,null,4,"Social and Legal",6,7]
[null,null,5,"Crime and Violence",1,14]
[null,null,6,"Celebrity, Arts and Media, Sports",2,9]
[null,null,7,"The Girl-child",0,0]
[null,null,8,"Other",0,0]
[null,null,0,0,0,0]
[null,null,0,0,0,0]
[null,null,0,0,0,0]
[null,null,0,0]
[null,null,0,0]
[null,null,0,0]
[null,null,0,0]
[null,null,0,0]
[null,null,0,0]
[null,null,0,0]
[null,null,0,0]
[null,null,0,0]
[null,null,{"$f":"C25","v":0},0]
[null,null,0,0]
[null,null,0,0]
[null,null,0,0]
[null,null,0,0]
[null,null,0,0]
[null,null,0,0]
[null,null,0,0]
[null,null,0,0]
[null,null,0,0]
[null,null,0,0]
[null,null,0,0]
[null,null,0,0]
[null,null,0,0]
[null,null,0,0]
[null,null,0,0]
[null,null,0,0]
[null,null,0,0]
[null,null,0,0]
[null,null,0,0]
[null,null,{"$f":"C45","v":0},0]
[null,null,0,0]
[null,null,0,0]

{"sheet":"12cF - major topics","index":46,"n_rows":14,"n_cols":12,"rows_kept":14,"cut":false,"hidden":false,"merged":[[1,5,1,9],[1,10,1,11]]}
["Reporters, by sex on major topics"]
[null,null,null,null,"Reporters on major topics","% Female",null,null,null,null,"% Male"]
[null,null,null,null,null,1995,2000,2005,2010,"N",2010,"N"]
[]
[null,null,null,null,{"$f":"'12c'!D5","v":"Politics and Government"},0,0.26,0.32,{"$f":"'12c'!W5","v":0.3017535776127761},{"$f":"'12c'!E112","v":8},{"$f":"'12c'!X5","v":0.69824642238722401},{"$f":"'12c'!F112","v":19}]
[null,null,null,null,{"$f":"'12c'!D6","v":"Economy"},0,0.35,0.43,{"$f":"'12c'!W6","v":0.16747919179867765},{"$f":"'12c'!E113","v":2},{"$f":"'12c'!X6","v":0.83252080820132235},{"$f":"'12c'!F113","v":8}]
[null,null,null,null,{"$f":"'12c'!D7","v":"Science and Health"},0,0.46,0.38,{"$f":"'12c'!W7","v":0.64481793364481677},{"$f":"'12c'!E114","v":5},{"$f":"'12c'!X7","v":0.35518206635518318},{"$f":"'12c'!F114","v":3}]
[null,null,null,null,{"$f":"'12c'!D8","v":"Social and Legal"},0,0.39,0.4,{"$f":"'12c'!W8","v":0.44524836742673096},{"$f":"'12c'!E115","v":6},{"$f":"'12c'!X8","v":0.55475163257326909},{"$f":"'12c'!F115","v":7}]
[null,null,null,null,{"$f":"'12c'!D9","v":"Crime and Violence"},0,0.28999999999999998,0.33,{"$f":"'12c'!W9","v":8.4784393292730534E-2},{"$f":"'12c'!E116","v":1},{"$f":"'12c'!X9","v":0.91521560670726942},{"$f":"'12c'!F116","v":14}]
[null,null,null,null,{"$f":"'12c'!D10","v":"Celebrity, Arts and Media, Sports"},null,null,null,{"$f":"'12c'!W10","v":0.19907604372571436},{"$f":"'12c'!E117","v":2},{"$f":"'12c'!X10","v":0.80092395627428559},{"$f":"'12c'!F117","v":9}]
[null,null,null,null,{"$f":"'12c'!D11","v":"The Girl-child"},null,null,null,{"$f":"'12c'!W11","v":0},{"$f":"'12c'!E118","v":0},{"$f":"'12c'!X11","v":0},{"$f":"'12c'!F118","v":0}]
[null,null,null,null,{"$f":"'12c'!D12","v":"Other"},null,null,null,{"$f":"'12c'!W12","v":0},{"$f":"'12c'!E119","v":0},{"$f":"'12c'!X12","v":0},{"$f":"'12c'!F119","v":0}]
[]
[null,null,null,null,"Total",0,null,null,{"$f":"'12c'!$W$50","v":0.28104655339988649},{"$f":"SUM(J5:J13)","v":24},{"$f":"'12c'!$X$50","v":0.71895344660011351},{"$f":"SUM(L5:L13)","v":60}]

{"sheet":"12d","index":47,"n_rows":205,"n_cols":38,"rows_kept":205,"cut":false,"hidden":true,"merged":[]}
["Reporters, by sex on different topics - Detail"]
[]
[null,null,null,null,"Female","Male",null,null,null,null,null,null,null,null,null,null,null,null,null,null,null,null,{"$f":"E3","v":"Female"},"Male",0,0,0,0,0,0,0,0,0,0,0,0,0]
[null,null,null,null,null,null,null,null,null,null,null,null,null,null,null,null,null,null,null,null,null,"TOTAL",0,0,0,0,0,0,0,0,0,0,0,0,0,0,0,{"$f":"T4","v":0}]
[null,null,1,"Women in political power and decision-making (local, regional, national),",null,null,null,null,null,null,null,null,null,null,null,null,null,null,null,null,null,{"$f":"SUM(E5:O5)","v":0},{"$f":"IF((E5+F5)>0,E5/(E5+F5),0)","v":0},{"$f":"IF((E5+F5)>0,F5/(E5+F5),0)","v":0},{"$f":"IF((G5+H5)>0,G5/(G5+H5),0)","v":0},{"$f":"IF((G5+H5)>0,H5/(G5+H5),0)","v":0},{"$f":"IF((I5+J5)>0,I5/(I5+J5),0)","v":0},{"$f":"IF((I5+J5)>0,J5/(I5+J5),0)","v":0},{"$f":"IF((K5+L5)>0,K5/(K5+L5),0)","v":0},{"$f":"IF((K5+L5)>0,L5/(K5+L5),0)","v":0},{"$f":"IF((M5+N5)>0,M5/(M5+N5),0)","v":0},{"$f":"IF((M5+N5)>0,N5/(M5+N5),0)","v":0},{"$f":"IF((O5+P5)>0,O5/(O5+P5),0)","v":0},{"$f":"IF((O5+P5)>0,P5/(O5+P5),0)","v":0},{"$f":"IF((Q5+R5)>0,Q5/(Q5+R5),0)","v":0},{"$f":"IF((Q5+R5)>0,R5/(Q5+R5),0)","v":0},{"$f":"IF((S5+T5)>0,S5/(S5+T5),0)","v":0},{"$f":"IF((S5+T5)>0,T5/(S5+T5),0)","v":0}]
[null,null,2,"Women electoral candidates (local, regional, national),",null,5.1000001840293399E-3,null,null,null,null,null,null,null,null,null,null,null,null,null,null,null,5.1000001840293399E-3,0,1,0,0,0,0,0,0,0,0,0,0,0,0,0,0]
[null,null,3,"Peace, negotiations, treaties…(local, regional, national),",1.4952999539673301E-2,null,null,null,null,null,null,null,null,null,null,null,null,null,null,null,null,1.4952999539673301E-2,1,0,0,0,0,0,0,0,0,0,0,0,0,0,0,0]
[null,null,4,"Other domestic politics/government (local, regional, national), elections, speeches, the political process …",5.1000001840293399E-3,3.0152999795973301E-2,null,null,null,null,null,null,null,null,null,null,null,null,null,null,null,3.5252999980002642E-2,0.14466854415006747,0.85533145584993253,0,0,0,0,0,0,0,0,0,0,0,0,0,0]
[null,null,5,"Global partnerships (international trade and finance systems, e.g. WTO, IMF, World Bank, debt) …",null,null,null,null,null,null,null,null,null,null,null,null,null,null,null,null,null,0,0,0,0,0,0,0,0,0,0,0,0,0,0,0,0,0]
[null,null,6,"Foreign/international politics, relations with other countries, negotiations, treaties, UN peacekeeping …",1.7476499546319201E-2,3.5353000275790698E-2,null,null,null,null,null,null,null,null,null,null,null,null,null,null,null,5.2829499822109896E-2,0.33080948343571176,0.6691905165642883,0,0,0,0,0,0,0,0,0,0,0,0,0,0]
[null,null,7,"National defence, military spending, military training, military parades, internal security …",7.4764997698366599E-3,null,null,null,null,null,null,null,null,null,null,null,null,null,null,null,null,7.4764997698366599E-3,1,0,0,0,0,0,0,0,0,0,0,0,0,0,0,0]
[null,null,8,"Other stories on politics and government (specify the subject in 'Comments' section of coding sheet)",4.9999998882412902E-3,4.5105999335646602E-2,null,null,null,null,null,null,null,null,null,null,null,null,null,null,null,5.0105999223887893E-2,9.9788447804420879E-2,0.90021155219557913,0,0,0,0,0,0,0,0,0,0,0,0,0,0]
[null,null,9,"Economic policies, strategies, models (national, international) …",null,2.00529997237027E-2,null,null,null,null,null,null,null,null,null,null,null,null,null,null,null,{"$f":"SUM(E13:O13)","v":2.00529997237027E-2},{"$f":"IF((E13+F13)>0,E13/(E13+F13),0)","v":0},{"$f":"IF((E13+F13)>0,F13/(E13+F13),0)","v":1},{"$f":"IF((G13+H13)>0,G13/(G13+H13),0)","v":0},{"$f":"IF((G13+H13)>0,H13/(G13+H13),0)","v":0},{"$f":"IF((I13+J13)>0,I13/(I13+J13),0)","v":0},{"$f":"IF((I13+J13)>0,J13/(I13+J13),0)","v":0},{"$f":"IF((K13+L13)>0,K13/(K13+L13),0)","v":0},{"$f":"IF((K13+L13)>0,L13/(K13+L13),0)","v":0},{"$f":"IF((M13+N13)>0,M13/(M13+N13),0)","v":0},{"$f":"IF((M13+N13)>0,N13/(M13+N13),0)","v":0},{"$f":"IF((O13+P13)>0,O13/(O13+P13),0)","v":0},{"$f":"IF((O13+P13)>0,P13/(O13+P13),0)","v":0},{"$f":"IF((Q13+R13)>0,Q13/(Q13+R13),0)","v":0},{"$f":"IF((Q13+R13)>0,R13/(Q13+R13),0)","v":0},{"$f":"IF((S13+T13)>0,S13/(S13+T13),0)","v":0},{"$f":"IF((S13+T13)>0,T13/(S13+T13),0)","v":0}]
[null,null,10,"Economic indicators, statistics, business, trade, stock markets …",null,null,null,null,null,null,null,null,null,null,null,null,null,null,null,null,null,0,0,0,0,0,0,0,0,0,0,0,0,0,0,0,0,0]
[null,null,11,"Economic crisis, state bailouts of companies, company takeovers and mergers …",4.9999998882412902E-3,null,null,null,null,null,null,null,null,null,null,null,null,null,null,null,null,4.9999998882412902E-3,1,0,0,0,0,0,0,0,0,0,0,0,0,0,0,0]
[null,null,12,"Poverty, housing, social welfare, aid to those in need …",5.1000001840293399E-3,null,null,null,null,null,null,null,null,null,null,null,null,null,null,null,null,5.1000001840293399E-3,1,0,0,0,0,0,0,0,0,0,0,0,0,0,0,0]
[null,null,13,"Women's participation in economic processes (informal work, paid employment, unemployment, unpaid labour)",null,null,null,null,null,null,null,null,null,null,null,null,null,null,null,null,null,0,0,0,0,0,0,0,0,0,0,0,0,0,0,0,0,0]
[null,null,14,"Other labour issues, strikes, trade unions, negotiations, other employment and unemployment …",null,1.2476499658078E-2,null,null,null,null,null,null,null,null,null,null,null,null,null,null,null,1.2476499658078E-2,0,1,0,0,0,0,0,0,0,0,0,0,0,0,0,0]
[null,null,15,"Rural economy, agriculture, farming practices, agricultural policy, land rights …",null,null,null,null,null,null,null,null,null,null,null,null,null,null,null,null,null,0,0,0,0,0,0,0,0,0,0,0,0,0,0,0,0,0]
[null,null,16,"Consumer issues, consumer protection, regulation, prices, consumer fraud …",null,1.2576499953866E-2,null,null,null,null,null,null,null,null,null,null,null,null,null,null,null,1.2576499953866E-2,0,1,0,0,0,0,0,0,0,0,0,0,0,0,0,0]
[null,null,17,"Transport, traffic, roads ……",null,null,null,null,null,null,null,null,null,null,null,null,null,null,null,null,null,0,0,0,0,0,0,0,0,0,0,0,0,0,0,0,0,0]
[null,null,18,"Other stories on the economy (specify the subject in 'Comments' section of coding sheet)",null,5.1000001840293399E-3,null,null,null,null,null,null,null,null,null,null,null,null,null,null,null,5.1000001840293399E-3,0,1,0,0,0,0,0,0,0,0,0,0,0,0,0,0]
[null,null,19,"Science, technology, research, funding, discoveries, developments …",5.1000001840293399E-3,null,null,null,null,null,null,null,null,null,null,null,null,null,null,null,null,5.1000001840293399E-3,1,0,0,0,0,0,0,0,0,0,0,0,0,0,0,0]
[null,null,20,"Medicine, health, hygiene, safety, disability, medical research, funding (apart from HIV-AIDS)…",null,5.1000001840293399E-3,null,null,null,null,null,null,null,null,null,null,null,null,null,null,null,5.1000001840293399E-3,0,1,0,0,0,0,0,0,0,0,0,0,0,0,0,0]
[null,null,21,"HIV and AIDS, incidence, policy, treatment, people affected …",null,null,null,null,null,null,null,null,null,null,null,null,null,null,null,null,null,0,0,0,0,0,0,0,0,0,0,0,0,0,0,0,0,0]
[null,null,22,"Other epidemics, viruses, contagions, Influenza, BSE, SARS …",1.52000002563E-2,5.1000001840293399E-3,null,null,null,null,null,null,null,null,null,null,null,null,null,null,null,2.0300000440329341E-2,0.74876846929040752,0.25123153070959237,0,0,0,0,0,0,0,0,0,0,0,0,0,0]
[null,null,23,"Birth control, fertility, sterilisation, amniocentesis, termination of pregnancy …",null,null,null,null,null,null,null,null,null,null,null,null,null,null,null,null,null,0,0,0,0,0,0,0,0,0,0,0,0,0,0,0,0,0]
[null,null,24,"Environment, nature,   pollution, global warming, ecology, tourism …",7.4764997698366599E-3,5.1000001840293399E-3,null,null,null,null,null,null,null,null,null,null,null,null,null,null,null,1.2576499953866E-2,0.59448175543771964,0.40551824456228036,0,0,0,0,0,0,0,0,0,0,0,0,0,0]
[null,null,25,"Other stories on science or health (specify the subject in 'Comments' section of coding sheet)",null,null,null,null,null,null,null,null,null,null,null,null,null,null,null,null,null,0,0,0,0,0,0,0,0,0,0,0,0,0,0,0,0,0]
[null,null,26,"Development issues, sustainability, community development …",null,null,null,null,null,null,null,null,null,null,null,null,null,null,null,null,null,0,0,0,0,0,0,0,0,0,0,0,0,0,0,0,0,0]
[null,null,27,"Education, child care, nurseries, pre-school to university, adult education, literacy …",1.0100000072270601E-2,2.2676500026136599E-2,null,null,null,null,null,null,null,null,null,null,null,null,null,null,null,3.2776500098407199E-2,0.30814760703390104,0.69185239296609891,0,0,0,0,0,0,0,0,0,0,0,0,0,0]
[null,null,28,"Family relations, inter-generational conflict, single parents …",null,null,null,null,null,null,null,null,null,null,null,null,null,null,null,null,null,0,0,0,0,0,0,0,0,0,0,0,0,0,0,0,0,0]
[null,null,29,"Human rights, women's rights, children's rights, gay & lesbian rights, rights of minorities ..",null,4.9999998882412902E-3,null,null,null,null,null,null,null,null,null,null,null,null,null,null,null,4.9999998882412902E-3,0,1,0,0,0,0,0,0,0,0,0,0,0,0,0,0]
[null,null,30,"Religion, culture, tradition, controversies, teachings, celebrations, practices …",null,null,null,null,null,null,null,null,null,null,null,null,null,null,null,null,null,0,0,0,0,0,0,0,0,0,0,0,0,0,0,0,0,0]
[null,null,31,"Migration, refugees, asylum seekers, ethnic conflict, integration, racism, xenophobia …",null,null,null,null,null,null,null,null,null,null,null,null,null,null,null,null,null,0,0,0,0,0,0,0,0,0,0,0,0,0,0,0,0,0]
[null,null,32,"Women's movement, activism, events, demonstrations, gender equality advocacy …",null,null,null,null,null,null,null,null,null,null,null,null,null,null,null,null,null,0,0,0,0,0,0,0,0,0,0,0,0,0,0,0,0,0]
[null,null,33,"Changing gender relations, roles and relationships of women and men inside and outside the home …",null,null,null,null,null,null,null,null,null,null,null,null,null,null,null,null,null,0,0,0,0,0,0,0,0,0,0,0,0,0,0,0,0,0]
[null,null,34,"Family law, family codes, property law, inheritance law and rights …",null,null,null,null,null,null,null,null,null,null,null,null,null,null,null,null,null,0,0,0,0,0,0,0,0,0,0,0,0,0,0,0,0,0]
[null,null,35,"Legal system, judicial system, legislation (apart from family, property & inheritance law) …",null,null,null,null,null,null,null,null,null,null,null,null,null,null,null,null,null,0,0,0,0,0,0,0,0,0,0,0,0,0,0,0,0,0]
[null,null,36,"Other stories on social or legal issues (specify the subject in 'Comments' section of coding sheet)",2.0300000440329299E-2,1.0200000368058701E-2,null,null,null,null,null,null,null,null,null,null,null,null,null,null,null,3.0500000808388002E-2,0.66557376728811313,0.33442623271188676,0,0,0,0,0,0,0,0,0,0,0,0,0,0]
[null,null,37,"Non-violent crime, bribery, theft, drug-dealing, corruption, (including political corruption/malpractice) …",null,1.7576499842107299E-2,null,null,null,null,null,null,null,null,null,null,null,null,null,null,null,1.7576499842107299E-2,0,1,0,0,0,0,0,0,0,0,0,0,0,0,0,0]
[null,null,38,"Violent crime, murder, abduction, kidnapping, assault, drug-related violence …",null,4.9999998882412902E-3,null,null,null,null,null,null,null,null,null,null,null,null,null,null,null,4.9999998882412902E-3,0,1,0,0,0,0,0,0,0,0,0,0,0,0,0,0]
[null,null,39,"Gender-based violence, feminicide, harassment, domestic violence, rape, trafficking, genital mutilation …",null,2.5152999907731999E-2,null,null,null,null,null,null,null,null,null,null,null,null,null,null,null,2.5152999907731999E-2,0,1,0,0,0,0,0,0,0,0,0,0,0,0,0,0]
[null,null,40,"Child abuse, sexual violence against children, trafficking, neglect.",null,1.0200000368058701E-2,null,null,null,null,null,null,null,null,null,null,null,null,null,null,null,1.0200000368058701E-2,0,1,0,0,0,0,0,0,0,0,0,0,0,0,0,0]
[null,null,41,"War, civil war, terrorism, state-based violence …",7.4764997698366599E-3,1.0200000368058701E-2,null,null,null,null,null,null,null,null,null,null,null,null,null,null,null,1.767650013789536E-2,0.42296267425746442,0.57703732574253563,0,0,0,0,0,0,0,0,0,0,0,0,0,0]
[null,null,42,"Riots, demonstrations, public disorder …",null,null,null,null,null,null,null,null,null,null,null,null,null,null,null,null,null,0,0,0,0,0,0,0,0,0,0,0,0,0,0,0,0,0]
[null,null,43,"Disaster, accident, famine, earthquake, flood, hurricane, plane crash, car crash …",null,5.1000001840293399E-3,null,null,null,null,null,null,null,null,null,null,null,null,null,null,null,5.1000001840293399E-3,0,1,0,0,0,0,0,0,0,0,0,0,0,0,0,0]
[null,null,44,"Other stories on crime and violence (specify the subject in 'Comments' section of coding sheet)",null,7.4764997698366599E-3,null,null,null,null,null,null,null,null,null,null,null,null,null,null,null,7.4764997698366599E-3,0,1,0,0,0,0,0,0,0,0,0,0,0,0,0,0]
[null,null,45,"Celebrity news, births, marriages, deaths, obituaries, famous people, royalty …",null,null,null,null,null,null,null,null,null,null,null,null,null,null,null,null,null,0,0,0,0,0,0,0,0,0,0,0,0,0,0,0,0,0]
[null,null,46,"Arts, entertainment, leisure, cinema, theatre, books, dance …",7.4764997698366599E-3,4.0105999447405297E-2,null,null,null,null,null,null,null,null,null,null,null,null,null,null,null,4.7582499217241954E-2,0.157127092793131,0.84287290720686903,0,0,0,0,0,0,0,0,0,0,0,0,0,0]
[null,null,47,"Media, including new media (computers, internet), portrayal of women and/or men, pornography …",null,null,null,null,null,null,null,null,null,null,null,null,null,null,null,null,null,0,0,0,0,0,0,0,0,0,0,0,0,0,0,0,0,0]
[null,null,48,"Beauty contests, models, fashion, beauty aids, cosmetic surgery …",null,null,null,null,null,null,null,null,null,null,null,null,null,null,null,null,null,0,0,0,0,0,0,0,0,0,0,0,0,0,0,0,0,0]
[null,null,49,"Sports, events, players, facilities, training, policies, funding …",null,1.4952999539673301E-2,null,null,null,null,null,null,null,null,null,null,null,null,null,null,null,1.4952999539673301E-2,0,1,0,0,0,0,0,0,0,0,0,0,0,0,0,0]
[null,null,50,"Other stories on celebrities, arts, media (specify the subject in 'Comments' section of coding sheet)",7.4764997698366599E-3,5.1000001840293399E-3,null,null,null,null,null,null,null,null,null,null,null,null,null,null,null,1.2576499953866E-2,0.59448175543771964,0.40551824456228036,0,0,0,0,0,0,0,0,0,0,0,0,0,0]
[null,null,51,"News about the girl child, including, cultural attitudes and practices impinging on girls, education, health, economic exploitation, violence (ONLY WHERE EMPHASIS IS ON THE GIRL CHILD)…",null,null,null,null,null,null,null,null,null,null,null,null,null,null,null,null,null,0,0,0,0,0,0,0,0,0,0,0,0,0,0,0,0,0]
[null,null,52,"Other subject: use only if none of the above subject codes is suitable (specify the subject in 'Comments' section of coding sheet)",null,null,null,null,null,null,null,null,null,null,null,null,null,null,null,null,null,0,0,0,0,0,0,0,0,0,0,0,0,0,0,0,0,0]
[]
[]
[]
[]
[]
[]
[]
[]
[]
[]
[]
[null,null,null,"TOTAL",{"$f":"SUM(E5:E67)","v":0.14071199903264631},0.35995949944481254,0,0,0,0,0,0,0,0,0,0,0,0,0,0,null,{"$f":"SUM(E68:O68)","v":0.50067149847745884},{"$f":"IF((E68+F68)>0,E68/(E68+F68),0)","v":0.28104655339988643},{"$f":"IF((E68+F68)>0,F68/(E68+F68),0)","v":0.71895344660011351},{"$f":"IF((G68+H68)>0,G68/(G68+H68),0)","v":0},{"$f":"IF((G68+H68)>0,H68/(G68+H68),0)","v":0},{"$f":"IF((I68+J68)>0,I68/(I68+J68),0)","v":0},{"$f":"IF((I68+J68)>0,J68/(I68+J68),0)","v":0},{"$f":"IF((K68+L68)>0,K68/(K68+L68),0)","v":0},{"$f":"IF((K68+L68)>0,L68/(K68+L68),0)","v":0},{"$f":"IF((M68+N68)>0,M68/(M68+N68),0)","v":0},{"$f":"IF((M68+N68)>0,N68/(M68+N68),0)","v":0},{"$f":"IF((O68+P68)>0,O68/(O68+P68),0)","v":0},{"$f":"IF((O68+P68)>0,P68/(O68+P68),0)","v":0},{"$f":"IF((Q68+R68)>0,Q68/(Q68+R68),0)","v":0},{"$f":"IF((Q68+R68)>0,R68/(Q68+R68),0)","v":0},{"$f":"IF((S68+T68)>0,S68/(S68+T68),0)","v":0},{"$f":"IF((S68+T68)>0,T68/(S68+T68),0)","v":0}]
[]
[null,null,{"$f":"C5","v":1},"Women in political power and decision-making (local, regional, national),",{"$f":"IF(E$68>0,E5/E$68,0)","v":0},0,0,0,0,0,0,0,0,0,0,0,0,0,0,0]
[null,null,2,"Women electoral candidates (local, regional, national),",{"$f":"IF(E$68>0,E6/E$68,0)","v":0},1.4168261129086413E-2,0,0,0,0,0,0,0,0,0,0,0,0,0,0]
[null,null,3,"Peace, negotiations, treaties…(local, regional, national),",{"$f":"IF(E$68>0,E7/E$68,0)","v":0.10626669823803786},0,0,0,0,0,0,0,0,0,0,0,0,0,0,0]
[null,null,4,"Other domestic politics/government (local, regional, national), elections, speeches, the political process …",{"$f":"IF(E$68>0,E8/E$68,0)","v":3.6244245118329244E-2},8.3767756768414525E-2,0,0,0,0,0,0,0,0,0,0,0,0,0,0]
[null,null,5,"Global partnerships (international trade and finance systems, e.g. WTO, IMF, World Bank, debt) …",{"$f":"IF(E$68>0,E9/E$68,0)","v":0},0,0,0,0,0,0,0,0,0,0,0,0,0,0,0]
[null,null,6,"Foreign/international politics, relations with other countries, negotiations, treaties, UN peacekeeping …",{"$f":"IF(E$68>0,E10/E$68,0)","v":0.12420049225698594},9.8213827750949154E-2,0,0,0,0,0,0,0,0,0,0,0,0,0,0]
[null,null,7,"National defence, military spending, military training, military parades, internal security …",{"$f":"IF(E$68>0,E11/E$68,0)","v":5.3133349119018999E-2},0,0,0,0,0,0,0,0,0,0,0,0,0,0,0]
[null,null,8,"Other stories on politics and government (specify the subject in 'Comments' section of coding sheet)",{"$f":"IF(E$68>0,E12/E$68,0)","v":3.553357156898361E-2},0.12530854000301792,0,0,0,0,0,0,0,0,0,0,0,0,0,0]
[null,null,9,"Economic policies, strategies, models (national, international) …",{"$f":"IF(E$68>0,E13/E$68,0)","v":0},5.570904436368998E-2,0,0,0,0,0,0,0,0,0,0,0,0,0,0]
[null,null,10,"Economic indicators, statistics, business, trade, stock markets …",{"$f":"IF(E$68>0,E14/E$68,0)","v":0},0,0,0,0,0,0,0,0,0,0,0,0,0,0,0]
[null,null,11,"Economic crisis, state bailouts of companies, company takeovers and mergers …",{"$f":"IF(E$68>0,E15/E$68,0)","v":3.553357156898361E-2},0,0,0,0,0,0,0,0,0,0,0,0,0,0,0]
[null,null,12,"Poverty, housing, social welfare, aid to those in need …",{"$f":"IF(E$68>0,E16/E$68,0)","v":3.6244245118329244E-2},0,0,0,0,0,0,0,0,0,0,0,0,0,0,0]
[null,null,13,"Women's participation in economic processes (informal work, paid employment, unemployment, unpaid labour)",{"$f":"IF(E$68>0,E17/E$68,0)","v":0},0,0,0,0,0,0,0,0,0,0,0,0,0,0,0]
[null,null,14,"Other labour issues, strikes, trade unions, negotiations, other employment and unemployment …",{"$f":"IF(E$68>0,E18/E$68,0)","v":0},3.466084289294008E-2,0,0,0,0,0,0,0,0,0,0,0,0,0,0]
[null,null,15,"Rural economy, agriculture, farming practices, agricultural policy, land rights …",{"$f":"IF(E$68>0,E19/E$68,0)","v":0},0,0,0,0,0,0,0,0,0,0,0,0,0,0,0]
[null,null,16,"Consumer issues, consumer protection, regulation, prices, consumer fraud …",{"$f":"IF(E$68>0,E20/E$68,0)","v":0},3.4938652746388139E-2,0,0,0,0,0,0,0,0,0,0,0,0,0,0]
[null,null,17,"Transport, traffic, roads ……",{"$f":"IF(E$68>0,E21/E$68,0)","v":0},0,0,0,0,0,0,0,0,0,0,0,0,0,0,0]
[null,null,18,"Other stories on the economy (specify the subject in 'Comments' section of coding sheet)",{"$f":"IF(E$68>0,E22/E$68,0)","v":0},1.4168261129086413E-2,0,0,0,0,0,0,0,0,0,0,0,0,0,0]
[null,null,19,"Science, technology, research, funding, discoveries, developments …",{"$f":"IF(E$68>0,E23/E$68,0)","v":3.6244245118329244E-2},0,0,0,0,0,0,0,0,0,0,0,0,0,0,0]
[null,null,20,"Medicine, health, hygiene, safety, disability, medical research, funding (apart from HIV-AIDS)…",{"$f":"IF(E$68>0,E24/E$68,0)","v":0},1.4168261129086413E-2,0,0,0,0,0,0,0,0,0,0,0,0,0,0]
[null,null,{"$f":"C25","v":21},"HIV and AIDS, incidence, policy, treatment, people affected …",{"$f":"IF(E$68>0,E25/E$68,0)","v":0},0,0,0,0,0,0,0,0,0,0,0,0,0,0,0]
[null,null,22,"Other epidemics, viruses, contagions, Influenza, BSE, SARS …",{"$f":"IF(E$68>0,E26/E$68,0)","v":0.10802206180564231},1.4168261129086413E-2,0,0,0,0,0,0,0,0,0,0,0,0,0,0]
[null,null,23,"Birth control, fertility, sterilisation, amniocentesis, termination of pregnancy …",{"$f":"IF(E$68>0,E27/E$68,0)","v":0},0,0,0,0,0,0,0,0,0,0,0,0,0,0,0]
[null,null,24,"Environment, nature,   pollution, global warming, ecology, tourism …",{"$f":"IF(E$68>0,E28/E$68,0)","v":5.3133349119018999E-2},1.4168261129086413E-2,0,0,0,0,0,0,0,0,0,0,0,0,0,0]
[null,null,25,"Other stories on science or health (specify the subject in 'Comments' section of coding sheet)",{"$f":"IF(E$68>0,E29/E$68,0)","v":0},0,0,0,0,0,0,0,0,0,0,0,0,0,0,0]
[null,null,26,"Development issues, sustainability, community development …",{"$f":"IF(E$68>0,E30/E$68,0)","v":0},0,0,0,0,0,0,0,0,0,0,0,0,0,0,0]
[null,null,27,"Education, child care, nurseries, pre-school to university, adult education, literacy …",{"$f":"IF(E$68>0,E31/E$68,0)","v":7.1777816687312646E-2},6.2997365151112678E-2,0,0,0,0,0,0,0,0,0,0,0,0,0,0]
[null,null,28,"Family relations, inter-generational conflict, single parents …",{"$f":"IF(E$68>0,E32/E$68,0)","v":0},0,0,0,0,0,0,0,0,0,0,0,0,0,0,0]
[null,null,29,"Human rights, women's rights, children's rights, gay & lesbian rights, rights of minorities ..",{"$f":"IF(E$68>0,E33/E$68,0)","v":0},1.3890451275638217E-2,0,0,0,0,0,0,0,0,0,0,0,0,0,0]
[null,null,30,"Religion, culture, tradition, controversies, teachings, celebrations, practices …",{"$f":"IF(E$68>0,E34/E$68,0)","v":0},0,0,0,0,0,0,0,0,0,0,0,0,0,0,0]
[null,null,31,"Migration, refugees, asylum seekers, ethnic conflict, integration, racism, xenophobia …",{"$f":"IF(E$68>0,E35/E$68,0)","v":0},0,0,0,0,0,0,0,0,0,0,0,0,0,0,0]
[null,null,32,"Women's movement, activism, events, demonstrations, gender equality advocacy …",{"$f":"IF(E$68>0,E36/E$68,0)","v":0},0,0,0,0,0,0,0,0,0,0,0,0,0,0,0]
[null,null,33,"Changing gender relations, roles and relationships of women and men inside and outside the home …",{"$f":"IF(E$68>0,E37/E$68,0)","v":0},0,0,0,0,0,0,0,0,0,0,0,0,0,0,0]
[null,null,34,"Family law, family codes, property law, inheritance law and rights …",{"$f":"IF(E$68>0,E38/E$68,0)","v":0},0,0,0,0,0,0,0,0,0,0,0,0,0,0,0]
[null,null,35,"Legal system, judicial system, legislation (apart from family, property & inheritance law) …",{"$f":"IF(E$68>0,E39/E$68,0)","v":0},0,0,0,0,0,0,0,0,0,0,0,0,0,0,0]
[null,null,36,"Other stories on social or legal issues (specify the subject in 'Comments' section of coding sheet)",{"$f":"IF(E$68>0,E40/E$68,0)","v":0.14426630692397127},2.8336522258172885E-2,0,0,0,0,0,0,0,0,0,0,0,0,0,0]
[null,null,37,"Non-violent crime, bribery, theft, drug-dealing, corruption, (including political corruption/malpractice) …",{"$f":"IF(E$68>0,E41/E$68,0)","v":0},4.8829104022026386E-2,0,0,0,0,0,0,0,0,0,0,0,0,0,0]
[null,null,38,"Violent crime, murder, abduction, kidnapping, assault, drug-related violence …",{"$f":"IF(E$68>0,E42/E$68,0)","v":0},1.3890451275638217E-2,0,0,0,0,0,0,0,0,0,0,0,0,0,0]
[null,null,39,"Gender-based violence, feminicide, harassment, domestic violence, rape, trafficking, genital mutilation …",{"$f":"IF(E$68>0,E43/E$68,0)","v":0},6.9877305492776279E-2,0,0,0,0,0,0,0,0,0,0,0,0,0,0]
[null,null,40,"Child abuse, sexual violence against children, trafficking, neglect.",{"$f":"IF(E$68>0,E44/E$68,0)","v":0},2.8336522258172885E-2,0,0,0,0,0,0,0,0,0,0,0,0,0,0]
[null,null,{"$f":"C45","v":41},"War, civil war, terrorism, state-based violence …",{"$f":"IF(E$68>0,E45/E$68,0)","v":5.3133349119018999E-2},2.8336522258172885E-2,0,0,0,0,0,0,0,0,0,0,0,0,0,0]
[null,null,42,"Riots, demonstrations, public disorder …",{"$f":"IF(E$68>0,E46/E$68,0)","v":0},0,0,0,0,0,0,0,0,0,0,0,0,0,0,0]
[null,null,43,"Disaster, accident, famine, earthquake, flood, hurricane, plane crash, car crash …",0,0,{"$f":"IF(G$68>0,G47/G$68,0)","v":0},0,0,0,0,0,0,0,0,0,0,0,0,0]
[null,null,44,"Other stories on crime and violence (specify the subject in 'Comments' section of coding sheet)",2,3,{"$f":"IF(G$68>0,G48/G$68,0)","v":0},0,0,0,0,0,0,0,0,0,0,0,0,0]
[null,null,45,"Celebrity news, births, marriages, deaths, obituaries, famous people, royalty …",0,0,{"$f":"IF(G$68>0,G49/G$68,0)","v":0},0,0,0,0,0,0,0,0,0,0,0,0,0]
[null,null,46,"Arts, entertainment, leisure, cinema, theatre, books, dance …",0,0,{"$f":"IF(G$68>0,G50/G$68,0)","v":0},0,0,0,0,0,0,0,0,0,0,0,0,0]
[null,null,47,"Media, including new media (computers, internet), portrayal of women and/or men, pornography …",0,0,{"$f":"IF(G$68>0,G51/G$68,0)","v":0},0,0,0,0,0,0,0,0,0,0,0,0,0]
[null,null,48,"Beauty contests, models, fashion, beauty aids, cosmetic surgery …",0,0,{"$f":"IF(G$68>0,G52/G$68,0)","v":0},0,0,0,0,0,0,0,0,0,0,0,0,0]
[null,null,49,"Sports, events, players, facilities, training, policies, funding …",0,0,{"$f":"IF(G$68>0,G53/G$68,0)","v":0},0,0,0,0,0,0,0,0,0,0,0,0,0]
[null,null,50,"Other stories on celebrities, arts, media (specify the subject in 'Comments' section of coding sheet)",0,0,{"$f":"IF(G$68>0,G54/G$68,0)","v":0},0,0,0,0,0,0,0,0,0,0,0,0,0]
[null,null,51,"News about the girl child, including, cultural attitudes and practices impinging on girls, education, health, economic exploitation, violence (ONLY WHERE EMPHASIS IS ON THE GIRL CHILD)…",0,0,{"$f":"IF(G$68>0,G55/G$68,0)","v":0},0,0,0,0,0,0,0,0,0,0,0,0,0]
[null,null,52,"Other subject: use only if none of the above subject codes is suitable (specify the subject in 'Comments' section of coding sheet)",0,0,{"$f":"IF(G$68>0,G56/G$68,0)","v":0},0,0,0,0,0,0,0,0,0,0,0,0,0]
[null,null,0,0,0,0,{"$f":"IF(G$68>0,G57/G$68,0)","v":0},0,0,0,0,0,0,0,0,0,0,0,0,0]
[null,null,0,0,0,0,{"$f":"IF(G$68>0,G58/G$68,0)","v":0},0,0,0,0,0,0,0,0,0,0,0,0,0]
[null,null,0,0,0,0,{"$f":"IF(G$68>0,G59/G$68,0)","v":0},0,0,0,0,0,0,0,0,0,0,0,0,0]
[null,null,0,0,0,0,{"$f":"IF(G$68>0,G60/G$68,0)","v":0},0,0,0,0,0,0,0,0,0,0,0,0,0]
[null,null,0,0,0,0,{"$f":"IF(G$68>0,G61/G$68,0)","v":0},0,0,0,0,0,0,0,0,0,0,0,0,0]
[null,null,0,0,0,0,{"$f":"IF(G$68>0,G62/G$68,0)","v":0},0,0,0,0,0,0,0,0,0,0,0,0,0]
[]
[]
[]
[]
[]
[]
[]
[]
[]
[]
[]
[]
[]
[]
[]
[]
[]
[]
[]
[]
["COUNT"]
[null,null,null,null,{"$f":"E3","v":"Female"},{"$f":"F3","v":"Male"},{"$f":"G3","v":0},0,0,0,0,0,0,0,0,0,0,0,0,0]
[null,null,null,null,{"$f":"E4","v":0},{"$f":"F4","v":0},{"$f":"G4","v":0},0,0,0,0,0,0,0,0,0,0,0,0,0]
[null,null,{"$f":"C5","v":1},"Women in political power and decision-making (local, regional, national),",0,0]
[null,null,2,"Women electoral candidates (local, regional, national),",0,1]
[null,null,3,"Peace, negotiations, treaties…(local, regional, national),",2,0]
[null,null,4,"Other domestic politics/government (local, regional, national), elections, speeches, the political process …",1,5]
[null,null,5,"Global partnerships (international trade and finance systems, e.g. WTO, IMF, World Bank, debt) …",0,0]
[null,null,6,"Foreign/international politics, relations with other countries, negotiations, treaties, UN peacekeeping …",3,6]
[null,null,7,"National defence, military spending, military training, military parades, internal security …",1,0]
[null,null,8,"Other stories on politics and government (specify the subject in 'Comments' section of coding sheet)",1,7]
[null,null,9,"Economic policies, strategies, models (national, international) …",0,3]
[null,null,10,"Economic indicators, statistics, business, trade, stock markets …",0,0]
[null,null,11,"Economic crisis, state bailouts of companies, company takeovers and mergers …",1,0]
[null,null,12,"Poverty, housing, social welfare, aid to those in need …",1,0]
[null,null,13,"Women's participation in economic processes (informal work, paid employment, unemployment, unpaid labour)",0,0]
[null,null,14,"Other labour issues, strikes, trade unions, negotiations, other employment and unemployment …",0,2]
[null,null,15,"Rural economy, agriculture, farming practices, agricultural policy, land rights …",0,0]
[null,null,16,"Consumer issues, consumer protection, regulation, prices, consumer fraud …",0,2]
[null,null,17,"Transport, traffic, roads ……",0,0]
[null,null,18,"Other stories on the economy (specify the subject in 'Comments' section of coding sheet)",0,1]
[null,null,19,"Science, technology, research, funding, discoveries, developments …",1,0]
[null,null,20,"Medicine, health, hygiene, safety, disability, medical research, funding (apart from HIV-AIDS)…",0,1]
[null,null,{"$f":"C25","v":21},"HIV and AIDS, incidence, policy, treatment, people affected …",0,0]
[null,null,22,"Other epidemics, viruses, contagions, Influenza, BSE, SARS …",3,1]
[null,null,23,"Birth control, fertility, sterilisation, amniocentesis, termination of pregnancy …",0,0]
[null,null,24,"Environment, nature,   pollution, global warming, ecology, tourism …",1,1]
[null,null,25,"Other stories on science or health (specify the subject in 'Comments' section of coding sheet)",0,0]
[null,null,26,"Development issues, sustainability, community development …",0,0]
[null,null,27,"Education, child care, nurseries, pre-school to university, adult education, literacy …",2,4]
[null,null,28,"Family relations, inter-generational conflict, single parents …",0,0]
[null,null,29,"Human rights, women's rights, children's rights, gay & lesbian rights, rights of minorities ..",0,1]
[null,null,30,"Religion, culture, tradition, controversies, teachings, celebrations, practices …",0,0]
[null,null,31,"Migration, refugees, asylum seekers, ethnic conflict, integration, racism, xenophobia …",0,0]
[null,null,32,"Women's movement, activism, events, demonstrations, gender equality advocacy …",0,0]
[null,null,33,"Changing gender relations, roles and relationships of women and men inside and outside the home …",0,0]
[null,null,34,"Family law, family codes, property law, inheritance law and rights …",0,0]
[null,null,35,"Legal system, judicial system, legislation (apart from family, property & inheritance law) …",0,0]
[null,null,36,"Other stories on social or legal issues (specify the subject in 'Comments' section of coding sheet)",4,2]
[null,null,37,"Non-violent crime, bribery, theft, drug-dealing, corruption, (including political corruption/malpractice) …",0,3]
[null,null,38,"Violent crime, murder, abduction, kidnapping, assault, drug-related violence …",0,1]
[null,null,39,"Gender-based violence, feminicide, harassment, domestic violence, rape, trafficking, genital mutilation …",0,4]
[null,null,40,"Child abuse, sexual violence against children, trafficking, neglect.",0,2]
[null,null,{"$f":"C45","v":41},"War, civil war, terrorism, state-based violence …",1,2]
[null,null,42,"Riots, demonstrations, public disorder …",0,0]
[null,null,43,"Disaster, accident, famine, earthquake, flood, hurricane, plane crash, car crash …",0,1]
[null,null,44,"Other stories on crime and violence (specify the subject in 'Comments' section of coding sheet)",0,1]
[null,null,45,"Celebrity news, births, marriages, deaths, obituaries, famous people, royalty …",0,0]
[null,null,46,"Arts, entertainment, leisure, cinema, theatre, books, dance …",1,6]
[null,null,47,"Media, including new media (computers, internet), portrayal of women and/or men, pornography …",0,0]
[null,null,48,"Beauty contests, models, fashion, beauty aids, cosmetic surgery …",0,0]
[null,null,49,"Sports, events, players, facilities, training, policies, funding …",0,2]
[null,null,50,"Other stories on celebrities, arts, media (specify the subject in 'Comments' section of coding sheet)",1,1]
[null,null,51,"News about the girl child, including, cultural attitudes and practices impinging on girls, education, health, economic exploitation, violence (ONLY WHERE EMPHASIS IS ON THE GIRL CHILD)…",0,0]
[null,null,52,"Other subject: use only if none of the above subject codes is suitable (specify the subject in 'Comments' section of coding sheet)",0,0]
[null,null,0,0]
[null,null,0,0]
[null,null,0,0]

{"sheet":"12dF - different topics","index":48,"n_rows":57,"n_cols":10,"rows_kept":57,"cut":false,"hidden":false,"merged":[[1,5,1,8]]}
["Reporters on major topics, details",null,null,null,null,null,null,null,null,"Subtopics too different to 2010 - Therefore Comparison not possible."]
[null,null,null,null,null,"% Female",null,null,null,"N"]
[null,null,null,null,"Topic",1995,2000,2005,2010]
[null,null,null,null,{"$f":"'12d'!D5","v":"Women in political power and decision-making (local, regional, national),"},0,0,0,{"$f":"'12d'!W5","v":0},{"$f":"'12d'!E151","v":0}]
[null,null,null,null,{"$f":"'12d'!D6","v":"Women electoral candidates (local, regional, national),"},0,0,0,{"$f":"'12d'!W6","v":0},{"$f":"'12d'!E152","v":0}]
[null,null,null,null,{"$f":"'12d'!D7","v":"Peace, negotiations, treaties…(local, regional, national),"},0,0,0,{"$f":"'12d'!W7","v":1},{"$f":"'12d'!E153","v":2}]
[null,null,null,null,{"$f":"'12d'!D8","v":"Other domestic politics/government (local, regional, national), elections, speeches, the political process …"},0,0,0,{"$f":"'12d'!W8","v":0.14466854415006747},{"$f":"'12d'!E154","v":1}]
[null,null,null,null,{"$f":"'12d'!D9","v":"Global partnerships (international trade and finance systems, e.g. WTO, IMF, World Bank, debt) …"},0,0,0,{"$f":"'12d'!W9","v":0},{"$f":"'12d'!E155","v":0}]
[null,null,null,null,{"$f":"'12d'!D10","v":"Foreign/international politics, relations with other countries, negotiations, treaties, UN peacekeeping …"},0,0,0,{"$f":"'12d'!W10","v":0.33080948343571176},{"$f":"'12d'!E156","v":3}]
[null,null,null,null,{"$f":"'12d'!D11","v":"National defence, military spending, military training, military parades, internal security …"},0,0,0,{"$f":"'12d'!W11","v":1},{"$f":"'12d'!E157","v":1}]
[null,null,null,null,{"$f":"'12d'!D12","v":"Other stories on politics and government (specify the subject in 'Comments' section of coding sheet)"},0,0,0,{"$f":"'12d'!W12","v":9.9788447804420879E-2},{"$f":"'12d'!E158","v":1}]
[null,null,null,null,{"$f":"'12d'!D13","v":"Economic policies, strategies, models (national, international) …"},0,0,0,{"$f":"'12d'!W13","v":0},{"$f":"'12d'!E159","v":0}]
[null,null,null,null,{"$f":"'12d'!D14","v":"Economic indicators, statistics, business, trade, stock markets …"},0,0,0,{"$f":"'12d'!W14","v":0},{"$f":"'12d'!E160","v":0}]
[null,null,null,null,{"$f":"'12d'!D15","v":"Economic crisis, state bailouts of companies, company takeovers and mergers …"},0,0,0,{"$f":"'12d'!W15","v":1},{"$f":"'12d'!E161","v":1}]
[null,null,null,null,{"$f":"'12d'!D16","v":"Poverty, housing, social welfare, aid to those in need …"},0,0,0,{"$f":"'12d'!W16","v":1},{"$f":"'12d'!E162","v":1}]
[null,null,null,null,{"$f":"'12d'!D17","v":"Women's participation in economic processes (informal work, paid employment, unemployment, unpaid labour)"},0,0,0,{"$f":"'12d'!W17","v":0},{"$f":"'12d'!E163","v":0}]
[null,null,null,null,{"$f":"'12d'!D18","v":"Other labour issues, strikes, trade unions, negotiations, other employment and unemployment …"},0,0,0,{"$f":"'12d'!W18","v":0},{"$f":"'12d'!E164","v":0}]
[null,null,null,null,{"$f":"'12d'!D19","v":"Rural economy, agriculture, farming practices, agricultural policy, land rights …"},0,0,0,{"$f":"'12d'!W19","v":0},{"$f":"'12d'!E165","v":0}]
[null,null,null,null,{"$f":"'12d'!D20","v":"Consumer issues, consumer protection, regulation, prices, consumer fraud …"},0,0,0,{"$f":"'12d'!W20","v":0},{"$f":"'12d'!E166","v":0}]
[null,null,null,null,{"$f":"'12d'!D21","v":"Transport, traffic, roads ……"},0,0,0,{"$f":"'12d'!W21","v":0},{"$f":"'12d'!E167","v":0}]
[null,null,null,null,{"$f":"'12d'!D22","v":"Other stories on the economy (specify the subject in 'Comments' section of coding sheet)"},0,0,0,{"$f":"'12d'!W22","v":0},{"$f":"'12d'!E168","v":0}]
[null,null,null,null,{"$f":"'12d'!D23","v":"Science, technology, research, funding, discoveries, developments …"},0,0,0,{"$f":"'12d'!W23","v":1},{"$f":"'12d'!E169","v":1}]
[null,null,null,null,{"$f":"'12d'!D24","v":"Medicine, health, hygiene, safety, disability, medical research, funding (apart from HIV-AIDS)…"},0,0,0,{"$f":"'12d'!W24","v":0},{"$f":"'12d'!E170","v":0}]
[null,null,null,null,{"$f":"'12d'!D25","v":"HIV and AIDS, incidence, policy, treatment, people affected …"},0,0,0,{"$f":"'12d'!W25","v":0},{"$f":"'12d'!E171","v":0}]
[null,null,null,null,{"$f":"'12d'!D26","v":"Other epidemics, viruses, contagions, Influenza, BSE, SARS …"},0,0,0,{"$f":"'12d'!W26","v":0.74876846929040752},{"$f":"'12d'!E172","v":3}]
[null,null,null,null,{"$f":"'12d'!D27","v":"Birth control, fertility, sterilisation, amniocentesis, termination of pregnancy …"},0,0,0,{"$f":"'12d'!W27","v":0},{"$f":"'12d'!E173","v":0}]
[null,null,null,null,{"$f":"'12d'!D28","v":"Environment, nature,   pollution, global warming, ecology, tourism …"},0,0,0,{"$f":"'12d'!W28","v":0.59448175543771964},{"$f":"'12d'!E174","v":1}]
[null,null,null,null,{"$f":"'12d'!D29","v":"Other stories on science or health (specify the subject in 'Comments' section of coding sheet)"},0,0,0,{"$f":"'12d'!W29","v":0},{"$f":"'12d'!E175","v":0}]
[null,null,null,null,{"$f":"'12d'!D30","v":"Development issues, sustainability, community development …"},0,0,0,{"$f":"'12d'!W30","v":0},{"$f":"'12d'!E176","v":0}]
[null,null,null,null,{"$f":"'12d'!D31","v":"Education, child care, nurseries, pre-school to university, adult education, literacy …"},0,0,0,{"$f":"'12d'!W31","v":0.30814760703390104},{"$f":"'12d'!E177","v":2}]
[null,null,null,null,{"$f":"'12d'!D32","v":"Family relations, inter-generational conflict, single parents …"},0,0,0,{"$f":"'12d'!W32","v":0},{"$f":"'12d'!E178","v":0}]
[null,null,null,null,{"$f":"'12d'!D33","v":"Human rights, women's rights, children's rights, gay & lesbian rights, rights of minorities .."},0,0,0,{"$f":"'12d'!W33","v":0},{"$f":"'12d'!E179","v":0}]
[null,null,null,null,{"$f":"'12d'!D34","v":"Religion, culture, tradition, controversies, teachings, celebrations, practices …"},0,0,0,{"$f":"'12d'!W34","v":0},{"$f":"'12d'!E180","v":0}]
[null,null,null,null,{"$f":"'12d'!D35","v":"Migration, refugees, asylum seekers, ethnic conflict, integration, racism, xenophobia …"},0,0,0,{"$f":"'12d'!W35","v":0},{"$f":"'12d'!E181","v":0}]
[null,null,null,null,{"$f":"'12d'!D36","v":"Women's movement, activism, events, demonstrations, gender equality advocacy …"},0,0,0,{"$f":"'12d'!W36","v":0},{"$f":"'12d'!E182","v":0}]
[null,null,null,null,{"$f":"'12d'!D37","v":"Changing gender relations, roles and relationships of women and men inside and outside the home …"},0,0,0,{"$f":"'12d'!W37","v":0},{"$f":"'12d'!E183","v":0}]
[null,null,null,null,{"$f":"'12d'!D38","v":"Family law, family codes, property law, inheritance law and rights …"},0,0,0,{"$f":"'12d'!W38","v":0},{"$f":"'12d'!E184","v":0}]
[null,null,null,null,{"$f":"'12d'!D39","v":"Legal system, judicial system, legislation (apart from family, property & inheritance law) …"},0,0,0,{"$f":"'12d'!W39","v":0},{"$f":"'12d'!E185","v":0}]
[null,null,null,null,{"$f":"'12d'!D40","v":"Other stories on social or legal issues (specify the subject in 'Comments' section of coding sheet)"},0,0,0,{"$f":"'12d'!W40","v":0.66557376728811313},{"$f":"'12d'!E186","v":4}]
[null,null,null,null,{"$f":"'12d'!D41","v":"Non-violent crime, bribery, theft, drug-dealing, corruption, (including political corruption/malpractice) …"},0,0,0,{"$f":"'12d'!W41","v":0},{"$f":"'12d'!E187","v":0}]
[null,null,null,null,{"$f":"'12d'!D42","v":"Violent crime, murder, abduction, kidnapping, assault, drug-related violence …"},0,0,0,{"$f":"'12d'!W42","v":0},{"$f":"'12d'!E188","v":0}]
[null,null,null,null,{"$f":"'12d'!D43","v":"Gender-based violence, feminicide, harassment, domestic violence, rape, trafficking, genital mutilation …"},0,0,0,{"$f":"'12d'!W43","v":0},{"$f":"'12d'!E189","v":0}]
[null,null,null,null,{"$f":"'12d'!D44","v":"Child abuse, sexual violence against children, trafficking, neglect."},0,0,0,{"$f":"'12d'!W44","v":0},{"$f":"'12d'!E190","v":0}]
[null,null,null,null,{"$f":"'12d'!D45","v":"War, civil war, terrorism, state-based violence …"},0,0,0,{"$f":"'12d'!W45","v":0.42296267425746442},{"$f":"'12d'!E191","v":1}]
[null,null,null,null,{"$f":"'12d'!D46","v":"Riots, demonstrations, public disorder …"},0,0,0,{"$f":"'12d'!W46","v":0},{"$f":"'12d'!E192","v":0}]
[null,null,null,null,{"$f":"'12d'!D47","v":"Disaster, accident, famine, earthquake, flood, hurricane, plane crash, car crash …"},0,0,0,{"$f":"'12d'!W47","v":0},{"$f":"'12d'!E193","v":0}]
[null,null,null,null,{"$f":"'12d'!D48","v":"Other stories on crime and violence (specify the subject in 'Comments' section of coding sheet)"},0,0,0,{"$f":"'12d'!W48","v":0},{"$f":"'12d'!E194","v":0}]
[null,null,null,null,{"$f":"'12d'!D49","v":"Celebrity news, births, marriages, deaths, obituaries, famous people, royalty …"},0,0,0,{"$f":"'12d'!W49","v":0},{"$f":"'12d'!E195","v":0}]
[null,null,null,null,{"$f":"'12d'!D50","v":"Arts, entertainment, leisure, cinema, theatre, books, dance …"},0,0,0,{"$f":"'12d'!W50","v":0.157127092793131},{"$f":"'12d'!E196","v":1}]
[null,null,null,null,{"$f":"'12d'!D51","v":"Media, including new media (computers, internet), portrayal of women and/or men, pornography …"},0,0,0,{"$f":"'12d'!W51","v":0},{"$f":"'12d'!E197","v":0}]
[null,null,null,null,{"$f":"'12d'!D52","v":"Beauty contests, models, fashion, beauty aids, cosmetic surgery …"},0,0,0,{"$f":"'12d'!W52","v":0},{"$f":"'12d'!E198","v":0}]
[null,null,null,null,{"$f":"'12d'!D53","v":"Sports, events, players, facilities, training, policies, funding …"},0,0,0,{"$f":"'12d'!W53","v":0},{"$f":"'12d'!E199","v":0}]
[null,null,null,null,{"$f":"'12d'!D54","v":"Other stories on celebrities, arts, media (specify the subject in 'Comments' section of coding sheet)"},0,0,0,{"$f":"'12d'!W54","v":0.59448175543771964},{"$f":"'12d'!E200","v":1}]
[null,null,null,null,{"$f":"'12d'!D55","v":"News about the girl child, including, cultural attitudes and practices impinging on girls, education, health, economic exploitation, violence (ONLY WHERE EMPHASIS IS ON THE GIRL CHILD)…"},0,0,0,{"$f":"'12d'!W55","v":0},{"$f":"'12d'!E201","v":0}]
[]
[]
[null,null,null,null,"Total",0,0,0,{"$f":"'12d'!$W$68","v":0.28104655339988643},{"$f":"SUM(J4:J54)","v":24}]

{"sheet":"13a","index":49,"n_rows":154,"n_cols":38,"rows_kept":154,"cut":false,"hidden":true,"merged":[]}
["Selection of News Subject(sex of source)  by female & male reporters"]
[]
[null,null,null,null,"Female","Male",null,null,null,null,null,null,null,null,null,null,null,null,null,null,null,null,{"$f":"E3","v":"Female"},"Male",0,0,0,0,0,0,0,0,0,0,0,0,0]
[null,null,null,null,null,null,null,null,null,null,null,null,null,null,null,null,null,null,null,null,null,"TOTAL",0,0,0,0,0,0,0,0,0,0,0,0,0,0,0,{"$f":"T4","v":0}]
[null,null,1,"Female",6.58530010841787E-2,0.10892950184643301,null,null,null,null,null,null,null,null,null,null,null,null,null,null,null,{"$f":"SUM(E5:O5)","v":0.17478250293061171},{"$f":"IF((E5+F5)>0,E5/(E5+F5),0)","v":0.3767711297184147},{"$f":"IF((E5+F5)>0,F5/(E5+F5),0)","v":0.62322887028158525},{"$f":"IF((G5+H5)>0,G5/(G5+H5),0)","v":0},{"$f":"IF((G5+H5)>0,H5/(G5+H5),0)","v":0},{"$f":"IF((I5+J5)>0,I5/(I5+J5),0)","v":0},{"$f":"IF((I5+J5)>0,J5/(I5+J5),0)","v":0},{"$f":"IF((K5+L5)>0,K5/(K5+L5),0)","v":0},{"$f":"IF((K5+L5)>0,L5/(K5+L5),0)","v":0},{"$f":"IF((M5+N5)>0,M5/(M5+N5),0)","v":0},{"$f":"IF((M5+N5)>0,N5/(M5+N5),0)","v":0},{"$f":"IF((O5+P5)>0,O5/(O5+P5),0)","v":0},{"$f":"IF((O5+P5)>0,P5/(O5+P5),0)","v":0},{"$f":"IF((Q5+R5)>0,Q5/(Q5+R5),0)","v":0},{"$f":"IF((Q5+R5)>0,R5/(Q5+R5),0)","v":0},{"$f":"IF((S5+T5)>0,S5/(S5+T5),0)","v":0},{"$f":"IF((S5+T5)>0,T5/(S5+T5),0)","v":0}]
[null,null,2,"Male",0.15873550018295601,0.243159004021436,null,null,null,null,null,null,null,null,null,null,null,null,null,null,null,0.40189450420439199,0.39496807874294221,0.60503192125705785,0,0,0,0,0,0,0,0,0,0,0,0,0,0]
[null,null,3,"Other: transgender, transsexual",null,null,null,null,null,null,null,null,null,null,null,null,null,null,null,null,null,0,0,0,0,0,0,0,0,0,0,0,0,0,0,0,0,0]
[null,null,4,"Do not know",null,null,null,null,null,null,null,null,null,null,null,null,null,null,null,null,null,0,0,0,0,0,0,0,0,0,0,0,0,0,0,0,0,0]
[null,null,5,"NA – Use this where you are coding a secondary source only",null,null,null,null,null,null,null,null,null,null,null,null,null,null,null,null,null,0,0,0,0,0,0,0,0,0,0,0,0,0,0,0,0,0]
[null,null,null,null,null,null,null,null,null,null,null,null,null,null,null,null,null,null,null,null,null,0,0,0,0,0,0,0,0,0,0,0,0,0,0,0,0,0]
[null,null,null,null,null,null,null,null,null,null,null,null,null,null,null,null,null,null,null,null,null,0,0,0,0,0,0,0,0,0,0,0,0,0,0,0,0,0]
[null,null,null,null,null,null,null,null,null,null,null,null,null,null,null,null,null,null,null,null,null,0,0,0,0,0,0,0,0,0,0,0,0,0,0,0,0,0]
[]
[]
[]
[]
[]
[]
[]
[]
[]
[]
[]
[]
[]
[]
[]
[]
[]
[]
[]
[]
[]
[]
[]
[]
[]
[]
[]
[]
[]
[]
[]
[]
[]
[]
[]
[]
[]
[null,null,null,"TOTAL",{"$f":"SUM(E5:E49)","v":0.2245885012671347},0.35208850586786899,0,0,0,0,0,0,0,0,0,0,0,0,0,0,null,{"$f":"SUM(E50:O50)","v":0.57667700713500369},{"$f":"IF((E50+F50)>0,E50/(E50+F50),0)","v":0.38945284533350072},{"$f":"IF((E50+F50)>0,F50/(E50+F50),0)","v":0.61054715466649923},{"$f":"IF((G50+H50)>0,G50/(G50+H50),0)","v":0},{"$f":"IF((G50+H50)>0,H50/(G50+H50),0)","v":0},{"$f":"IF((I50+J50)>0,I50/(I50+J50),0)","v":0},{"$f":"IF((I50+J50)>0,J50/(I50+J50),0)","v":0},{"$f":"IF((K50+L50)>0,K50/(K50+L50),0)","v":0},{"$f":"IF((K50+L50)>0,L50/(K50+L50),0)","v":0},{"$f":"IF((M50+N50)>0,M50/(M50+N50),0)","v":0},{"$f":"IF((M50+N50)>0,N50/(M50+N50),0)","v":0},{"$f":"IF((O50+P50)>0,O50/(O50+P50),0)","v":0},{"$f":"IF((O50+P50)>0,P50/(O50+P50),0)","v":0},{"$f":"IF((Q50+R50)>0,Q50/(Q50+R50),0)","v":0},{"$f":"IF((Q50+R50)>0,R50/(Q50+R50),0)","v":0},{"$f":"IF((S50+T50)>0,S50/(S50+T50),0)","v":0},{"$f":"IF((S50+T50)>0,T50/(S50+T50),0)","v":0}]
[]
[null,null,{"$f":"C5","v":1},"Female",{"$f":"IF(E$50>0,E5/E$50,0)","v":0.29321626313294846},0.30938102218909647,0,0,0,0,0,0,0,0,0,0,0,0,0,0]
[null,null,2,"Male",{"$f":"IF(E$50>0,E6/E$50,0)","v":0.70678373686705154},0.69061897781090353,0,0,0,0,0,0,0,0,0,0,0,0,0,0]
[null,null,3,"Other: transgender, transsexual",{"$f":"IF(E$50>0,E7/E$50,0)","v":0},0,0,0,0,0,0,0,0,0,0,0,0,0,0,0]
[null,null,4,"Do not know",{"$f":"IF(E$50>0,E8/E$50,0)","v":0},0,0,0,0,0,0,0,0,0,0,0,0,0,0,0]
[null,null,5,"NA – Use this where you are coding a secondary source only",{"$f":"IF(E$50>0,E9/E$50,0)","v":0},0,0,0,0,0,0,0,0,0,0,0,0,0,0,0]
[null,null,0,0,{"$f":"IF(E$50>0,E10/E$50,0)","v":0},0,0,0,0,0,0,0,0,0,0,0,0,0,0,0]
[null,null,0,0,{"$f":"IF(E$50>0,E11/E$50,0)","v":0},0,0,0,0,0,0,0,0,0,0,0,0,0,0,0]
[null,null,0,0,{"$f":"IF(E$50>0,E12/E$50,0)","v":0},0,0,0,0,0,0,0,0,0,0,0,0,0,0,0]
[null,null,0,0,{"$f":"IF(E$50>0,E13/E$50,0)","v":0},0,0,0,0,0,0,0,0,0,0,0,0,0,0,0]
[null,null,0,0,{"$f":"IF(E$50>0,E14/E$50,0)","v":0},0,0,0,0,0,0,0,0,0,0,0,0,0,0,0]
[null,null,0,0,{"$f":"IF(E$50>0,E15/E$50,0)","v":0},0,0,0,0,0,0,0,0,0,0,0,0,0,0,0]
[null,null,0,0,{"$f":"IF(E$50>0,E16/E$50,0)","v":0},0,0,0,0,0,0,0,0,0,0,0,0,0,0,0]
[null,null,0,0,{"$f":"IF(E$50>0,E17/E$50,0)","v":0},0,0,0,0,0,0,0,0,0,0,0,0,0,0,0]
[null,null,0,0,{"$f":"IF(E$50>0,E18/E$50,0)","v":0},0,0,0,0,0,0,0,0,0,0,0,0,0,0,0]
[null,null,0,0,{"$f":"IF(E$50>0,E19/E$50,0)","v":0},0,0,0,0,0,0,0,0,0,0,0,0,0,0,0]
[null,null,0,0,{"$f":"IF(E$50>0,E20/E$50,0)","v":0},0,0,0,0,0,0,0,0,0,0,0,0,0,0,0]
[null,null,0,0,{"$f":"IF(E$50>0,E21/E$50,0)","v":0},0,0,0,0,0,0,0,0,0,0,0,0,0,0,0]
[null,null,0,0,{"$f":"IF(E$50>0,E22/E$50,0)","v":0},0,0,0,0,0,0,0,0,0,0,0,0,0,0,0]
[null,null,0,0,{"$f":"IF(E$50>0,E23/E$50,0)","v":0},0,0,0,0,0,0,0,0,0,0,0,0,0,0,0]
[null,null,0,0,{"$f":"IF(E$50>0,E24/E$50,0)","v":0},0,0,0,0,0,0,0,0,0,0,0,0,0,0,0]
[null,null,{"$f":"C25","v":0},0,{"$f":"IF(E$50>0,E25/E$50,0)","v":0},0,0,0,0,0,0,0,0,0,0,0,0,0,0,0]
[null,null,0,0,{"$f":"IF(E$50>0,E26/E$50,0)","v":0},0,0,0,0,0,0,0,0,0,0,0,0,0,0,0]
[null,null,0,0,{"$f":"IF(E$50>0,E27/E$50,0)","v":0},0,0,0,0,0,0,0,0,0,0,0,0,0,0,0]
[null,null,0,0,{"$f":"IF(E$50>0,E28/E$50,0)","v":0},0,0,0,0,0,0,0,0,0,0,0,0,0,0,0]
[null,null,0,0,{"$f":"IF(E$50>0,E29/E$50,0)","v":0},0,0,0,0,0,0,0,0,0,0,0,0,0,0,0]
[null,null,0,0,{"$f":"IF(E$50>0,E30/E$50,0)","v":0},0,0,0,0,0,0,0,0,0,0,0,0,0,0,0]
[null,null,0,0,{"$f":"IF(E$50>0,E31/E$50,0)","v":0},0,0,0,0,0,0,0,0,0,0,0,0,0,0,0]
[null,null,0,0,{"$f":"IF(E$50>0,E32/E$50,0)","v":0},0,0,0,0,0,0,0,0,0,0,0,0,0,0,0]
[null,null,0,0,{"$f":"IF(E$50>0,E33/E$50,0)","v":0},0,0,0,0,0,0,0,0,0,0,0,0,0,0,0]
[null,null,0,0,{"$f":"IF(E$50>0,E34/E$50,0)","v":0},0,0,0,0,0,0,0,0,0,0,0,0,0,0,0]
[null,null,0,0,{"$f":"IF(E$50>0,E35/E$50,0)","v":0},0,0,0,0,0,0,0,0,0,0,0,0,0,0,0]
[null,null,0,0,{"$f":"IF(E$50>0,E36/E$50,0)","v":0},0,0,0,0,0,0,0,0,0,0,0,0,0,0,0]
[null,null,0,0,{"$f":"IF(E$50>0,E37/E$50,0)","v":0},0,0,0,0,0,0,0,0,0,0,0,0,0,0,0]
[null,null,0,0,{"$f":"IF(E$50>0,E38/E$50,0)","v":0},0,0,0,0,0,0,0,0,0,0,0,0,0,0,0]
[null,null,0,0,{"$f":"IF(E$50>0,E39/E$50,0)","v":0},0,0,0,0,0,0,0,0,0,0,0,0,0,0,0]
[null,null,0,0,{"$f":"IF(E$50>0,E40/E$50,0)","v":0},0,0,0,0,0,0,0,0,0,0,0,0,0,0,0]
[null,null,0,0,{"$f":"IF(E$50>0,E41/E$50,0)","v":0},0,0,0,0,0,0,0,0,0,0,0,0,0,0,0]
[null,null,0,0,{"$f":"IF(E$50>0,E42/E$50,0)","v":0},0,0,0,0,0,0,0,0,0,0,0,0,0,0,0]
[null,null,0,0,{"$f":"IF(E$50>0,E43/E$50,0)","v":0},0,0,0,0,0,0,0,0,0,0,0,0,0,0,0]
[null,null,0,0,{"$f":"IF(E$50>0,E44/E$50,0)","v":0},0,0,0,0,0,0,0,0,0,0,0,0,0,0,0]
[null,null,{"$f":"C45","v":0},0,{"$f":"IF(E$50>0,E45/E$50,0)","v":0},0,0,0,0,0,0,0,0,0,0,0,0,0,0,0]
[null,null,0,0,{"$f":"IF(E$50>0,E46/E$50,0)","v":0},0,0,0,0,0,0,0,0,0,0,0,0,0,0,0]
[null,null,0,0,{"$f":"IF(E$50>0,E47/E$50,0)","v":0},0,0,0,0,0,0,0,0,0,0,0,0,0,0,0]
[null,null,0,0,{"$f":"IF(E$50>0,E48/E$50,0)","v":0},0,0,0,0,0,0,0,0,0,0,0,0,0,0,0]
[null,null,0,0,{"$f":"IF(E$50>0,E49/E$50,0)","v":0},0,0,0,0,0,0,0,0,0,0,0,0,0,0,0]
[]
[]
[]
[]
[]
[]
[]
[]
[]
[]
[]
[]
["COUNT"]
[null,null,null,null,{"$f":"E3","v":"Female"},"Male",0,0,0,0,0,0,0,0,0,0,0,0,0,0]
[null,null,null,null,{"$f":"E4","v":0},0,0,0,0,0,0,0,0,0,0,0,0,0,0,0]
[null,null,{"$f":"C5","v":1},"Female",12,20]
[null,null,2,"Male",28,45]
[null,null,3,"Other: transgender, transsexual",0,0]
[null,null,4,"Do not know",0,0]
[null,null,5,"NA – Use this where you are coding a secondary source only",0,10]
[null,null,0,0,0,0]
[null,null,0,0,0,0]
[null,null,0,0,0,0]
[null,null,0,0,0,0]
[null,null,0,0,0,0]
[null,null,0,0,0,0]
[null,null,0,0]
[null,null,0,0]
[null,null,0,0]
[null,null,0,0]
[null,null,0,0]
[null,null,0,0]
[null,null,0,0]
[null,null,0,0]
[null,null,0,0]
[null,null,{"$f":"C25","v":0},0]
[null,null,0,0]
[null,null,0,0]
[null,null,0,0]
[null,null,0,0]
[null,null,0,0]
[null,null,0,0]
[null,null,0,0]
[null,null,0,0]
[null,null,0,0]
[null,null,0,0]
[null,null,0,0]
[null,null,0,0]
[null,null,0,0]
[null,null,0,0]
[null,null,0,0]
[null,null,0,0]
[null,null,0,0]
[null,null,0,0]
[null,null,0,0]
[null,null,{"$f":"C45","v":0},0]
[null,null,0,0]
[null,null,0,0]

{"sheet":"13aF - sex of source","index":50,"n_rows":11,"n_cols":12,"rows_kept":11,"cut":false,"hidden":false,"merged":[[1,5,1,9],[1,10,1,11]]}
[{"$f":"'13a'!A1","v":"Selection of News Subject(sex of source)  by female & male reporters"}]
[null,null,null,null,"Sex of Source","% Female",null,null,null,null,"% male"]
[null,null,null,null,null,1995,2000,2005,2010,"N",2010,"N"]
[]
[null,null,null,null,{"$f":"'13a'!D5","v":"Female"},"n/a",null,null,{"$f":"'13a'!W5","v":0.3767711297184147},{"$f":"'13a'!E112","v":12},{"$f":"'13a'!X5","v":0.62322887028158525},{"$f":"'13a'!F112","v":20}]
[null,null,null,null,{"$f":"'13a'!D6","v":"Male"},"n/a",null,null,{"$f":"'13a'!W6","v":0.39496807874294221},{"$f":"'13a'!E113","v":28},{"$f":"'13a'!X6","v":0.60503192125705785},{"$f":"'13a'!F113","v":45}]
[null,null,null,null,{"$f":"'13a'!D7","v":"Other: transgender, transsexual"},"n/a",null,null,{"$f":"'13a'!W7","v":0},{"$f":"'13a'!E114","v":0},{"$f":"'13a'!X7","v":0},{"$f":"'13a'!F114","v":0}]
[null,null,null,null,{"$f":"'13a'!D8","v":"Do not know"},"n/a",null,null,{"$f":"'13a'!W8","v":0},{"$f":"'13a'!E115","v":0},{"$f":"'13a'!X8","v":0},{"$f":"'13a'!F115","v":0}]
[null,null,null,null,{"$f":"'13a'!D9","v":"NA – Use this where you are coding a secondary source only"},"n/a",null,null,{"$f":"'13a'!W9","v":0},{"$f":"'13a'!E116","v":0},{"$f":"'13a'!X9","v":0},{"$f":"'13a'!F116","v":10}]
[]
[null,null,null,null,null,0,null,null,{"$f":"'13a'!$W$50","v":0.38945284533350072},{"$f":"SUM(J5:J10)","v":40},{"$f":"'13a'!$X$50","v":0.61054715466649923},{"$f":"SUM(L5:L10)","v":75}]

{"sheet":"13b","index":51,"n_rows":154,"n_cols":38,"rows_kept":154,"cut":false,"hidden":true,"merged":[]}
["Selection of News Subject(sex of source)  by female & male reporters"]
[]
[null,null,null,null,"Female","Male",null,null,null,null,null,null,null,null,null,null,null,null,null,null,null,null,{"$f":"E3","v":"Female"},"Male",0,0,0,0,0,0,0,0,0,0,0,0,0]
[null,null,null,null,null,null,null,null,null,null,null,null,null,null,null,null,null,null,null,null,null,"TOTAL",0,0,0,0,0,0,0,0,0,0,0,0,0,0,0,{"$f":"T4","v":0}]
[null,null,1,"Female",0.10323549993336199,0.33500650012865701,null,null,null,null,null,null,null,null,null,null,null,null,null,null,null,{"$f":"SUM(E5:O5)","v":0.43824200006201902},{"$f":"IF((E5+F5)>0,E5/(E5+F5),0)","v":0.23556733475739966},{"$f":"IF((E5+F5)>0,F5/(E5+F5),0)","v":0.76443266524260034},{"$f":"IF((G5+H5)>0,G5/(G5+H5),0)","v":0},{"$f":"IF((G5+H5)>0,H5/(G5+H5),0)","v":0},{"$f":"IF((I5+J5)>0,I5/(I5+J5),0)","v":0},{"$f":"IF((I5+J5)>0,J5/(I5+J5),0)","v":0},{"$f":"IF((K5+L5)>0,K5/(K5+L5),0)","v":0},{"$f":"IF((K5+L5)>0,L5/(K5+L5),0)","v":0},{"$f":"IF((M5+N5)>0,M5/(M5+N5),0)","v":0},{"$f":"IF((M5+N5)>0,N5/(M5+N5),0)","v":0},{"$f":"IF((O5+P5)>0,O5/(O5+P5),0)","v":0},{"$f":"IF((O5+P5)>0,P5/(O5+P5),0)","v":0},{"$f":"IF((Q5+R5)>0,Q5/(Q5+R5),0)","v":0},{"$f":"IF((Q5+R5)>0,R5/(Q5+R5),0)","v":0},{"$f":"IF((S5+T5)>0,S5/(S5+T5),0)","v":0},{"$f":"IF((S5+T5)>0,T5/(S5+T5),0)","v":0}]
[null,null,2,"Male",0.30831249570474001,0.92683749273419402,null,null,null,null,null,null,null,null,null,null,null,null,null,null,null,1.2351499884389341,0.24961543018302268,0.75038456981697732,0,0,0,0,0,0,0,0,0,0,0,0,0,0]
[null,null,3,"Other: transgender, transsexual",null,null,null,null,null,null,null,null,null,null,null,null,null,null,null,null,null,0,0,0,0,0,0,0,0,0,0,0,0,0,0,0,0,0]
[null,null,4,"Do not know",null,1.0200000368058701E-2,null,null,null,null,null,null,null,null,null,null,null,null,null,null,null,1.0200000368058701E-2,0,1,0,0,0,0,0,0,0,0,0,0,0,0,0,0]
[null,null,5,"NA – Use this where you are coding a secondary source only",null,7.47649976983666E-2,null,null,null,null,null,null,null,null,null,null,null,null,null,null,null,7.47649976983666E-2,0,1,0,0,0,0,0,0,0,0,0,0,0,0,0,0]
[null,null,null,null,null,null,null,null,null,null,null,null,null,null,null,null,null,null,null,null,null,0,0,0,0,0,0,0,0,0,0,0,0,0,0,0,0,0]
[null,null,null,null,null,null,null,null,null,null,null,null,null,null,null,null,null,null,null,null,null,0,0,0,0,0,0,0,0,0,0,0,0,0,0,0,0,0]
[null,null,null,null,null,null,null,null,null,null,null,null,null,null,null,null,null,null,null,null,null,0,0,0,0,0,0,0,0,0,0,0,0,0,0,0,0,0]
[]
[]
[]
[]
[]
[]
[]
[]
[]
[]
[]
[]
[]
[]
[]
[]
[]
[]
[]
[]
[]
[]
[]
[]
[]
[]
[]
[]
[]
[]
[]
[]
[]
[]
[]
[]
[]
[null,null,null,"TOTAL",{"$f":"SUM(E5:E49)","v":0.41154799563810202},1.3468089909292764,0,0,0,0,0,0,0,0,0,0,0,0,0,0,null,{"$f":"SUM(E50:O50)","v":1.7583569865673785},{"$f":"IF((E50+F50)>0,E50/(E50+F50),0)","v":0.2340525836232584},{"$f":"IF((E50+F50)>0,F50/(E50+F50),0)","v":0.76594741637674157},{"$f":"IF((G50+H50)>0,G50/(G50+H50),0)","v":0},{"$f":"IF((G50+H50)>0,H50/(G50+H50),0)","v":0},{"$f":"IF((I50+J50)>0,I50/(I50+J50),0)","v":0},{"$f":"IF((I50+J50)>0,J50/(I50+J50),0)","v":0},{"$f":"IF((K50+L50)>0,K50/(K50+L50),0)","v":0},{"$f":"IF((K50+L50)>0,L50/(K50+L50),0)","v":0},{"$f":"IF((M50+N50)>0,M50/(M50+N50),0)","v":0},{"$f":"IF((M50+N50)>0,N50/(M50+N50),0)","v":0},{"$f":"IF((O50+P50)>0,O50/(O50+P50),0)","v":0},{"$f":"IF((O50+P50)>0,P50/(O50+P50),0)","v":0},{"$f":"IF((Q50+R50)>0,Q50/(Q50+R50),0)","v":0},{"$f":"IF((Q50+R50)>0,R50/(Q50+R50),0)","v":0},{"$f":"IF((S50+T50)>0,S50/(S50+T50),0)","v":0},{"$f":"IF((S50+T50)>0,T50/(S50+T50),0)","v":0}]
[]
[null,null,{"$f":"C5","v":1},"Female",{"$f":"IF(E$50>0,E5/E$50,0)","v":0.25084680529981962},0.248740914550554,0,0,0,0,0,0,0,0,0,0,0,0,0,0]
[null,null,2,"Male",{"$f":"IF(E$50>0,E6/E$50,0)","v":0.74915319470018038},0.6881729324473036,0,0,0,0,0,0,0,0,0,0,0,0,0,0]
[null,null,3,"Other: transgender, transsexual",{"$f":"IF(E$50>0,E7/E$50,0)","v":0},0,0,0,0,0,0,0,0,0,0,0,0,0,0,0]
[null,null,4,"Do not know",{"$f":"IF(E$50>0,E8/E$50,0)","v":0},7.573457288119873E-3,0,0,0,0,0,0,0,0,0,0,0,0,0,0]
[null,null,5,"NA – Use this where you are coding a secondary source only",{"$f":"IF(E$50>0,E9/E$50,0)","v":0},5.5512695714022495E-2,0,0,0,0,0,0,0,0,0,0,0,0,0,0]
[null,null,0,0,{"$f":"IF(E$50>0,E10/E$50,0)","v":0},0,0,0,0,0,0,0,0,0,0,0,0,0,0,0]
[null,null,0,0,{"$f":"IF(E$50>0,E11/E$50,0)","v":0},0,0,0,0,0,0,0,0,0,0,0,0,0,0,0]
[null,null,0,0,{"$f":"IF(E$50>0,E12/E$50,0)","v":0},0,0,0,0,0,0,0,0,0,0,0,0,0,0,0]
[null,null,0,0,{"$f":"IF(E$50>0,E13/E$50,0)","v":0},0,0,0,0,0,0,0,0,0,0,0,0,0,0,0]
[null,null,0,0,{"$f":"IF(E$50>0,E14/E$50,0)","v":0},0,0,0,0,0,0,0,0,0,0,0,0,0,0,0]
[null,null,0,0,{"$f":"IF(E$50>0,E15/E$50,0)","v":0},0,0,0,0,0,0,0,0,0,0,0,0,0,0,0]
[null,null,0,0,{"$f":"IF(E$50>0,E16/E$50,0)","v":0},0,0,0,0,0,0,0,0,0,0,0,0,0,0,0]
[null,null,0,0,{"$f":"IF(E$50>0,E17/E$50,0)","v":0},0,0,0,0,0,0,0,0,0,0,0,0,0,0,0]
[null,null,0,0,{"$f":"IF(E$50>0,E18/E$50,0)","v":0},0,0,0,0,0,0,0,0,0,0,0,0,0,0,0]
[null,null,0,0,{"$f":"IF(E$50>0,E19/E$50,0)","v":0},0,0,0,0,0,0,0,0,0,0,0,0,0,0,0]
[null,null,0,0,{"$f":"IF(E$50>0,E20/E$50,0)","v":0},0,0,0,0,0,0,0,0,0,0,0,0,0,0,0]
[null,null,0,0,{"$f":"IF(E$50>0,E21/E$50,0)","v":0},0,0,0,0,0,0,0,0,0,0,0,0,0,0,0]
[null,null,0,0,{"$f":"IF(E$50>0,E22/E$50,0)","v":0},0,0,0,0,0,0,0,0,0,0,0,0,0,0,0]
[null,null,0,0,{"$f":"IF(E$50>0,E23/E$50,0)","v":0},0,0,0,0,0,0,0,0,0,0,0,0,0,0,0]
[null,null,0,0,{"$f":"IF(E$50>0,E24/E$50,0)","v":0},0,0,0,0,0,0,0,0,0,0,0,0,0,0,0]
[null,null,{"$f":"C25","v":0},0,{"$f":"IF(E$50>0,E25/E$50,0)","v":0},0,0,0,0,0,0,0,0,0,0,0,0,0,0,0]
[null,null,0,0,{"$f":"IF(E$50>0,E26/E$50,0)","v":0},0,0,0,0,0,0,0,0,0,0,0,0,0,0,0]
[null,null,0,0,{"$f":"IF(E$50>0,E27/E$50,0)","v":0},0,0,0,0,0,0,0,0,0,0,0,0,0,0,0]
[null,null,0,0,{"$f":"IF(E$50>0,E28/E$50,0)","v":0},0,0,0,0,0,0,0,0,0,0,0,0,0,0,0]
[null,null,0,0,{"$f":"IF(E$50>0,E29/E$50,0)","v":0},0,0,0,0,0,0,0,0,0,0,0,0,0,0,0]
[null,null,0,0,{"$f":"IF(E$50>0,E30/E$50,0)","v":0},0,0,0,0,0,0,0,0,0,0,0,0,0,0,0]
[null,null,0,0,{"$f":"IF(E$50>0,E31/E$50,0)","v":0},0,0,0,0,0,0,0,0,0,0,0,0,0,0,0]
[null,null,0,0,{"$f":"IF(E$50>0,E32/E$50,0)","v":0},0,0,0,0,0,0,0,0,0,0,0,0,0,0,0]
[null,null,0,0,{"$f":"IF(E$50>0,E33/E$50,0)","v":0},0,0,0,0,0,0,0,0,0,0,0,0,0,0,0]
[null,null,0,0,{"$f":"IF(E$50>0,E34/E$50,0)","v":0},0,0,0,0,0,0,0,0,0,0,0,0,0,0,0]
[null,null,0,0,{"$f":"IF(E$50>0,E35/E$50,0)","v":0},0,0,0,0,0,0,0,0,0,0,0,0,0,0,0]
[null,null,0,0,{"$f":"IF(E$50>0,E36/E$50,0)","v":0},0,0,0,0,0,0,0,0,0,0,0,0,0,0,0]
[null,null,0,0,{"$f":"IF(E$50>0,E37/E$50,0)","v":0},0,0,0,0,0,0,0,0,0,0,0,0,0,0,0]
[null,null,0,0,{"$f":"IF(E$50>0,E38/E$50,0)","v":0},0,0,0,0,0,0,0,0,0,0,0,0,0,0,0]
[null,null,0,0,{"$f":"IF(E$50>0,E39/E$50,0)","v":0},0,0,0,0,0,0,0,0,0,0,0,0,0,0,0]
[null,null,0,0,{"$f":"IF(E$50>0,E40/E$50,0)","v":0},0,0,0,0,0,0,0,0,0,0,0,0,0,0,0]
[null,null,0,0,{"$f":"IF(E$50>0,E41/E$50,0)","v":0},0,0,0,0,0,0,0,0,0,0,0,0,0,0,0]
[null,null,0,0,{"$f":"IF(E$50>0,E42/E$50,0)","v":0},0,0,0,0,0,0,0,0,0,0,0,0,0,0,0]
[null,null,0,0,{"$f":"IF(E$50>0,E43/E$50,0)","v":0},0,0,0,0,0,0,0,0,0,0,0,0,0,0,0]
[null,null,0,0,{"$f":"IF(E$50>0,E44/E$50,0)","v":0},0,0,0,0,0,0,0,0,0,0,0,0,0,0,0]
[null,null,{"$f":"C45","v":0},0,{"$f":"IF(E$50>0,E45/E$50,0)","v":0},0,0,0,0,0,0,0,0,0,0,0,0,0,0,0]
[null,null,0,0,{"$f":"IF(E$50>0,E46/E$50,0)","v":0},0,0,0,0,0,0,0,0,0,0,0,0,0,0,0]
[null,null,0,0,{"$f":"IF(E$50>0,E47/E$50,0)","v":0},0,0,0,0,0,0,0,0,0,0,0,0,0,0,0]
[null,null,0,0,{"$f":"IF(E$50>0,E48/E$50,0)","v":0},0,0,0,0,0,0,0,0,0,0,0,0,0,0,0]
[null,null,0,0,{"$f":"IF(E$50>0,E49/E$50,0)","v":0},0,0,0,0,0,0,0,0,0,0,0,0,0,0,0]
[]
[]
[]
[]
[]
[]
[]
[]
[]
[]
[]
[]
["COUNT"]
[null,null,null,null,{"$f":"E3","v":"Female"},"Male",0,0,0,0,0,0,0,0,0,0,0,0,0,0]
[null,null,null,null,{"$f":"E4","v":0},0,0,0,0,0,0,0,0,0,0,0,0,0,0,0]
[null,null,{"$f":"C5","v":1},"Female",17,56]
[null,null,2,"Male",49,147]
[null,null,3,"Other: transgender, transsexual",0,0]
[null,null,4,"Do not know",0,2]
[null,null,5,"NA – Use this where you are coding a secondary source only",0,10]
[null,null,0,0,0,0]
[null,null,0,0,0,0]
[null,null,0,0,0,0]
[null,null,0,0,0,0]
[null,null,0,0,0,0]
[null,null,0,0,0,0]
[null,null,0,0]
[null,null,0,0]
[null,null,0,0]
[null,null,0,0]
[null,null,0,0]
[null,null,0,0]
[null,null,0,0]
[null,null,0,0]
[null,null,0,0]
[null,null,{"$f":"C25","v":0},0]
[null,null,0,0]
[null,null,0,0]
[null,null,0,0]
[null,null,0,0]
[null,null,0,0]
[null,null,0,0]
[null,null,0,0]
[null,null,0,0]
[null,null,0,0]
[null,null,0,0]
[null,null,0,0]
[null,null,0,0]
[null,null,0,0]
[null,null,0,0]
[null,null,0,0]
[null,null,0,0]
[null,null,0,0]
[null,null,0,0]
[null,null,0,0]
[null,null,{"$f":"C45","v":0},0]
[null,null,0,0]
[null,null,0,0]

{"sheet":"13bF - sex of source","index":52,"n_rows":11,"n_cols":12,"rows_kept":11,"cut":false,"hidden":false,"merged":[[1,5,1,9],[1,10,1,11]]}
["Selection of News Subject(sex of source)  by female & male reporters"]
[null,null,null,null,"Sex of Source","% Female",null,null,null,null,"% Male"]
[null,null,null,null,null,1995,2000,2005,2010,"N",2010,"N"]
[]
[null,null,null,null,{"$f":"'13b'!D5","v":"Female"},"n/a",0.24,0.25,{"$f":"'13b'!W5","v":0.23556733475739966},{"$f":"'13b'!E112","v":17},{"$f":"'13b'!X5","v":0.76443266524260034},{"$f":"'13b'!F112","v":56}]
[null,null,null,null,{"$f":"'13b'!D6","v":"Male"},"n/a",0.18,0.2,{"$f":"'13b'!W6","v":0.24961543018302268},{"$f":"'13b'!E113","v":49},{"$f":"'13b'!X6","v":0.75038456981697732},{"$f":"'13b'!F113","v":147}]
[null,null,null,null,{"$f":"'13b'!D7","v":"Other: transgender, transsexual"},"n/a","n/a","n/a",{"$f":"'13b'!W7","v":0},{"$f":"'13b'!E114","v":0},{"$f":"'13b'!X7","v":0},{"$f":"'13b'!F114","v":0}]
[null,null,null,null,{"$f":"'13b'!D8","v":"Do not know"},"n/a","n/a","n/a",{"$f":"'13b'!W8","v":0},{"$f":"'13b'!E115","v":0},{"$f":"'13b'!X8","v":1},{"$f":"'13b'!F115","v":2}]
[null,null,null,null,{"$f":"'13b'!D9","v":"NA – Use this where you are coding a secondary source only"},"n/a","n/a","n/a",{"$f":"'13b'!W9","v":0},{"$f":"'13b'!E116","v":0},{"$f":"'13b'!X9","v":1},{"$f":"'13b'!F116","v":10}]
[]
[null,null,null,null,"Total",0,0,0,{"$f":"'13b'!$W$50","v":0.2340525836232584},{"$f":"SUM(J5:J10)","v":66},{"$f":"'13b'!$X$50","v":0.76594741637674157},{"$f":"SUM(L5:L10)","v":215}]

{"sheet":"14","index":53,"n_rows":154,"n_cols":38,"rows_kept":154,"cut":false,"hidden":true,"merged":[]}
["Age of television Announcers & Reporters, by sex"]
[]
[null,null,null,null,"Female","Male",null,null,null,null,null,null,null,null,null,null,null,null,null,null,null,null,{"$f":"E3","v":"Female"},"Male",0,0,0,0,0,0,0,0,0,0,0,0,0]
[null,null,null,null,null,null,null,null,null,null,null,null,null,null,null,null,null,null,null,null,null,"TOTAL",0,0,0,0,0,0,0,0,0,0,0,0,0,0,0,{"$f":"T4","v":0}]
[null,null,0,"Do not know: (e.g., the person may not be seen clearly)",3.5700001288205399E-2,1.5300000552088E-2,null,null,null,null,null,null,null,null,null,null,null,null,null,null,null,{"$f":"SUM(E5:O5)","v":5.1000001840293401E-2},{"$f":"IF((E5+F5)>0,E5/(E5+F5),0)","v":0.7000000000000004},{"$f":"IF((E5+F5)>0,F5/(E5+F5),0)","v":0.2999999999999996},{"$f":"IF((G5+H5)>0,G5/(G5+H5),0)","v":0},{"$f":"IF((G5+H5)>0,H5/(G5+H5),0)","v":0},{"$f":"IF((I5+J5)>0,I5/(I5+J5),0)","v":0},{"$f":"IF((I5+J5)>0,J5/(I5+J5),0)","v":0},{"$f":"IF((K5+L5)>0,K5/(K5+L5),0)","v":0},{"$f":"IF((K5+L5)>0,L5/(K5+L5),0)","v":0},{"$f":"IF((M5+N5)>0,M5/(M5+N5),0)","v":0},{"$f":"IF((M5+N5)>0,N5/(M5+N5),0)","v":0},{"$f":"IF((O5+P5)>0,O5/(O5+P5),0)","v":0},{"$f":"IF((O5+P5)>0,P5/(O5+P5),0)","v":0},{"$f":"IF((Q5+R5)>0,Q5/(Q5+R5),0)","v":0},{"$f":"IF((Q5+R5)>0,R5/(Q5+R5),0)","v":0},{"$f":"IF((S5+T5)>0,S5/(S5+T5),0)","v":0},{"$f":"IF((S5+T5)>0,T5/(S5+T5),0)","v":0}]
["Role =1",null,1,"12 years or under",3.0600001104175999E-2,5.1000001840293399E-3,null,null,null,null,null,null,null,null,null,null,null,null,null,null,null,3.5700001288205337E-2,0.8571428571428571,0.14285714285714302,0,0,0,0,0,0,0,0,0,0,0,0,0,0]
[null,null,2,"13-18",2.55000009201467E-2,5.1000001840293399E-3,null,null,null,null,null,null,null,null,null,null,null,null,null,null,null,3.0600001104176041E-2,0.83333333333333326,0.16666666666666666,0,0,0,0,0,0,0,0,0,0,0,0,0,0]
[null,null,3,"19-34",8.6700003128498807E-2,2.55000009201467E-2,null,null,null,null,null,null,null,null,null,null,null,null,null,null,null,0.11220000404864551,0.77272727272727271,0.22727272727272721,0,0,0,0,0,0,0,0,0,0,0,0,0,0]
[null,null,4,"35-49",0.16320000588893899,3.5700001288205399E-2,null,null,null,null,null,null,null,null,null,null,null,null,null,null,null,0.1989000071771444,0.82051282051282048,0.17948717948717946,0,0,0,0,0,0,0,0,0,0,0,0,0,0]
[null,null,5,"50-64",0.117300004232675,0.117300004232675,null,null,null,null,null,null,null,null,null,null,null,null,null,null,null,0.23460000846535001,0.5,0.5,0,0,0,0,0,0,0,0,0,0,0,0,0,0]
[null,null,6,"65 years or more",1.0200000368058701E-2,2.55000009201467E-2,null,null,null,null,null,null,null,null,null,null,null,null,null,null,null,3.5700001288205399E-2,0.28571428571428614,0.71428571428571386,0,0,0,0,0,0,0,0,0,0,0,0,0,0]
[null,null,7,"NA – Use this where you are coding a secondary source only",null,null,null,null,null,null,null,null,null,null,null,null,null,null,null,null,null,0,0,0,0,0,0,0,0,0,0,0,0,0,0,0,0,0]
[null,null,null,null,null,null,null,null,null,null,null,null,null,null,null,null,null,null,null,null,null,{"$f":"SUM(E13:O13)","v":0},{"$f":"IF((E13+F13)>0,E13/(E13+F13),0)","v":0},{"$f":"IF((E13+F13)>0,F13/(E13+F13),0)","v":0},{"$f":"IF((G13+H13)>0,G13/(G13+H13),0)","v":0},{"$f":"IF((G13+H13)>0,H13/(G13+H13),0)","v":0},{"$f":"IF((I13+J13)>0,I13/(I13+J13),0)","v":0},{"$f":"IF((I13+J13)>0,J13/(I13+J13),0)","v":0},{"$f":"IF((K13+L13)>0,K13/(K13+L13),0)","v":0},{"$f":"IF((K13+L13)>0,L13/(K13+L13),0)","v":0},{"$f":"IF((M13+N13)>0,M13/(M13+N13),0)","v":0},{"$f":"IF((M13+N13)>0,N13/(M13+N13),0)","v":0},{"$f":"IF((O13+P13)>0,O13/(O13+P13),0)","v":0},{"$f":"IF((O13+P13)>0,P13/(O13+P13),0)","v":0},{"$f":"IF((Q13+R13)>0,Q13/(Q13+R13),0)","v":0},{"$f":"IF((Q13+R13)>0,R13/(Q13+R13),0)","v":0},{"$f":"IF((S13+T13)>0,S13/(S13+T13),0)","v":0},{"$f":"IF((S13+T13)>0,T13/(S13+T13),0)","v":0}]
[null,null,null,null,null,null,null,null,null,null,null,null,null,null,null,null,null,null,null,null,null,0,0,0,0,0,0,0,0,0,0,0,0,0,0,0,0,0]
[null,null,null,null,null,null,null,null,null,null,null,null,null,null,null,null,null,null,null,null,null,0,0,0,0,0,0,0,0,0,0,0,0,0,0,0,0,0]
[null,null,null,null,null,null,null,null,null,null,null,null,null,null,null,null,null,null,null,null,null,0,0,0,0,0,0,0,0,0,0,0,0,0,0,0,0,0]
[null,null,null,null,null,null,null,null,null,null,null,null,null,null,null,null,null,null,null,null,null,0,0,0,0,0,0,0,0,0,0,0,0,0,0,0,0,0]
[null,null,null,null,null,null,null,null,null,null,null,null,null,null,null,null,null,null,null,null,null,0,0,0,0,0,0,0,0,0,0,0,0,0,0,0,0,0]
[null,null,null,null,null,null,null,null,null,null,null,null,null,null,null,null,null,null,null,null,null,0,0,0,0,0,0,0,0,0,0,0,0,0,0,0,0,0]
["Role =2",null,null,{"$f":"D5","v":"Do not know: (e.g., the person may not be seen clearly)"},0.21681849332526301,0.63109648227691695,null,null,null,null,null,null,null,null,null,null,null,null,null,null,null,0.84791497560217999,0.2557078239728941,0.74429217602710585,0,0,0,0,0,0,0,0,0,0,0,0,0,0]
[null,null,null,{"$f":"D6","v":"12 years or under"},null,3.0600001104175999E-2,null,null,null,null,null,null,null,null,null,null,null,null,null,null,null,3.0600001104175999E-2,0,1,0,0,0,0,0,0,0,0,0,0,0,0,0,0]
[null,null,null,"13-18",null,1.0200000368058701E-2,null,null,null,null,null,null,null,null,null,null,null,null,null,null,null,1.0200000368058701E-2,0,1,0,0,0,0,0,0,0,0,0,0,0,0,0,0]
[null,null,null,"19-34",2.5152999907731999E-2,0.15636500064283601,null,null,null,null,null,null,null,null,null,null,null,null,null,null,null,0.18151800055056802,0.13857027860289137,0.86142972139710861,0,0,0,0,0,0,0,0,0,0,0,0,0,0]
[null,null,null,"35-49",2.55000009201467E-2,0.17542950483038999,null,null,null,null,null,null,null,null,null,null,null,null,null,null,null,0.2009295057505367,0.12691018586292716,0.87308981413707287,0,0,0,0,0,0,0,0,0,0,0,0,0,0]
[null,null,null,"50-64",6.3576501794159399E-2,0.17815300542861201,null,null,null,null,null,null,null,null,null,null,null,null,null,null,null,0.24172950722277142,0.26300679021187512,0.73699320978812477,0,0,0,0,0,0,0,0,0,0,0,0,0,0]
[null,null,null,"65 years or more",2.55000009201467E-2,1.0200000368058701E-2,null,null,null,null,null,null,null,null,null,null,null,null,null,null,null,3.5700001288205399E-2,0.71428571428571386,0.28571428571428614,0,0,0,0,0,0,0,0,0,0,0,0,0,0]
[null,null,null,"NA – Use this where you are coding a secondary source only",null,7.47649976983666E-2,null,null,null,null,null,null,null,null,null,null,null,null,null,null,null,7.47649976983666E-2,0,1,0,0,0,0,0,0,0,0,0,0,0,0,0,0]
[null,null,null,null,null,null,null,null,null,null,null,null,null,null,null,null,null,null,null,null,null,0,0,0,0,0,0,0,0,0,0,0,0,0,0,0,0,0]
[null,null,null,null,null,null,null,null,null,null,null,null,null,null,null,null,null,null,null,null,null,0,0,0,0,0,0,0,0,0,0,0,0,0,0,0,0,0]
[null,null,null,null,null,null,null,null,null,null,null,null,null,null,null,null,null,null,null,null,null,0,0,0,0,0,0,0,0,0,0,0,0,0,0,0,0,0]
[null,null,null,null,null,null,null,null,null,null,null,null,null,null,null,null,null,null,null,null,null,0,0,0,0,0,0,0,0,0,0,0,0,0,0,0,0,0]
[null,null,null,null,null,null,null,null,null,null,null,null,null,null,null,null,null,null,null,null,null,0,0,0,0,0,0,0,0,0,0,0,0,0,0,0,0,0]
[null,null,null,null,null,null,null,null,null,null,null,null,null,null,null,null,null,null,null,null,null,0,0,0,0,0,0,0,0,0,0,0,0,0,0,0,0,0]
[null,null,null,null,null,null,null,null,null,null,null,null,null,null,null,null,null,null,null,null,null,0,0,0,0,0,0,0,0,0,0,0,0,0,0,0,0,0]
[null,null,null,null,null,null,null,null,null,null,null,null,null,null,null,null,null,null,null,null,null,0,0,0,0,0,0,0,0,0,0,0,0,0,0,0,0,0]
[null,null,null,null,null,null,null,null,null,null,null,null,null,null,null,null,null,null,null,null,null,0,0,0,0,0,0,0,0,0,0,0,0,0,0,0,0,0]
[null,null,null,null,null,null,null,null,null,null,null,null,null,null,null,null,null,null,null,null,null,0,0,0,0,0,0,0,0,0,0,0,0,0,0,0,0,0]
[null,null,null,null,null,null,null,null,null,null,null,null,null,null,null,null,null,null,null,null,null,0,0,0,0,0,0,0,0,0,0,0,0,0,0,0,0,0]
[null,null,null,null,null,null,null,null,null,null,null,null,null,null,null,null,null,null,null,null,null,0,0,0,0,0,0,0,0,0,0,0,0,0,0,0,0,0]
[null,null,null,null,null,null,null,null,null,null,null,null,null,null,null,null,null,null,null,null,null,0,0,0,0,0,0,0,0,0,0,0,0,0,0,0,0,0]
[null,null,null,null,null,null,null,null,null,null,null,null,null,null,null,null,null,null,null,null,null,0,0,0,0,0,0,0,0,0,0,0,0,0,0,0,0,0]
[null,null,null,null,null,null,null,null,null,null,null,null,null,null,null,null,null,null,null,null,null,0,0,0,0,0,0,0,0,0,0,0,0,0,0,0,0,0]
[null,null,null,null,null,null,null,null,null,null,null,null,null,null,null,null,null,null,null,null,null,0,0,0,0,0,0,0,0,0,0,0,0,0,0,0,0,0]
[]
[]
[]
[]
[]
[]
[null,null,null,"TOTAL",{"$f":"SUM(E5:E49)","v":0.82574801379814744},1.4963090009987356,0,0,0,0,0,0,0,0,0,0,0,0,0,0,null,{"$f":"SUM(E50:O50)","v":2.3220570147968829},{"$f":"IF((E50+F50)>0,E50/(E50+F50),0)","v":0.35561056793016688},{"$f":"IF((E50+F50)>0,F50/(E50+F50),0)","v":0.64438943206983323},{"$f":"IF((G50+H50)>0,G50/(G50+H50),0)","v":0},{"$f":"IF((G50+H50)>0,H50/(G50+H50),0)","v":0},{"$f":"IF((I50+J50)>0,I50/(I50+J50),0)","v":0},{"$f":"IF((I50+J50)>0,J50/(I50+J50),0)","v":0},{"$f":"IF((K50+L50)>0,K50/(K50+L50),0)","v":0},{"$f":"IF((K50+L50)>0,L50/(K50+L50),0)","v":0},{"$f":"IF((M50+N50)>0,M50/(M50+N50),0)","v":0},{"$f":"IF((M50+N50)>0,N50/(M50+N50),0)","v":0},{"$f":"IF((O50+P50)>0,O50/(O50+P50),0)","v":0},{"$f":"IF((O50+P50)>0,P50/(O50+P50),0)","v":0},{"$f":"IF((Q50+R50)>0,Q50/(Q50+R50),0)","v":0},{"$f":"IF((Q50+R50)>0,R50/(Q50+R50),0)","v":0},{"$f":"IF((S50+T50)>0,S50/(S50+T50),0)","v":0},{"$f":"IF((S50+T50)>0,T50/(S50+T50),0)","v":0}]
[]
[null,null,{"$f":"C5","v":0},"Do not know: (e.g., the person may not be seen clearly)",{"$f":"IF(E$50>0,E5/E$50,0)","v":4.3233529710835245E-2},1.0225161074267259E-2,0,0,0,0,0,0,0,0,0,0,0,0,0,0]
[null,null,1,"12 years or under",{"$f":"IF(E$50>0,E6/E$50,0)","v":3.7057311180715855E-2},3.408387024755757E-3,0,0,0,0,0,0,0,0,0,0,0,0,0,0]
[null,null,2,"13-18",{"$f":"IF(E$50>0,E7/E$50,0)","v":3.0881092650596586E-2},3.408387024755757E-3,0,0,0,0,0,0,0,0,0,0,0,0,0,0]
[null,null,3,"19-34",{"$f":"IF(E$50>0,E8/E$50,0)","v":0.10499571501202842},1.7041935123778787E-2,0,0,0,0,0,0,0,0,0,0,0,0,0,0]
[null,null,4,"35-49",{"$f":"IF(E$50>0,E9/E$50,0)","v":0.19763899296381829},2.3858709173290315E-2,0,0,0,0,0,0,0,0,0,0,0,0,0,0]
[null,null,5,"50-64",{"$f":"IF(E$50>0,E10/E$50,0)","v":0.14205302619274451},7.8392901569382542E-2,0,0,0,0,0,0,0,0,0,0,0,0,0,0]
[null,null,6,"65 years or more",{"$f":"IF(E$50>0,E11/E$50,0)","v":1.235243706023866E-2},1.7041935123778787E-2,0,0,0,0,0,0,0,0,0,0,0,0,0,0]
[null,null,7,"NA – Use this where you are coding a secondary source only",{"$f":"IF(E$50>0,E12/E$50,0)","v":0},0,0,0,0,0,0,0,0,0,0,0,0,0,0,0]
[null,null,0,0,{"$f":"IF(E$50>0,E13/E$50,0)","v":0},0,0,0,0,0,0,0,0,0,0,0,0,0,0,0]
[null,null,0,0,{"$f":"IF(E$50>0,E14/E$50,0)","v":0},0,0,0,0,0,0,0,0,0,0,0,0,0,0,0]
[null,null,0,0,{"$f":"IF(E$50>0,E15/E$50,0)","v":0},0,0,0,0,0,0,0,0,0,0,0,0,0,0,0]
[null,null,0,0,{"$f":"IF(E$50>0,E16/E$50,0)","v":0},0,0,0,0,0,0,0,0,0,0,0,0,0,0,0]
[null,null,0,0,{"$f":"IF(E$50>0,E17/E$50,0)","v":0},0,0,0,0,0,0,0,0,0,0,0,0,0,0,0]
[null,null,0,0,{"$f":"IF(E$50>0,E18/E$50,0)","v":0},0,0,0,0,0,0,0,0,0,0,0,0,0,0,0]
[null,null,0,0,{"$f":"IF(E$50>0,E19/E$50,0)","v":0},0,0,0,0,0,0,0,0,0,0,0,0,0,0,0]
[null,null,0,"Do not know: (e.g., the person may not be seen clearly)",{"$f":"IF(E$50>0,E20/E$50,0)","v":0.26257222506412697},0.42176882038113878,0,0,0,0,0,0,0,0,0,0,0,0,0,0]
[null,null,0,"12 years or under",{"$f":"IF(E$50>0,E21/E$50,0)","v":0},2.0450322148534518E-2,0,0,0,0,0,0,0,0,0,0,0,0,0,0]
[null,null,0,"13-18",{"$f":"IF(E$50>0,E22/E$50,0)","v":0},6.816774049511528E-3,0,0,0,0,0,0,0,0,0,0,0,0,0,0]
[null,null,0,"19-34",{"$f":"IF(E$50>0,E23/E$50,0)","v":3.0460866375006022E-2},0.1045004745266303,0,0,0,0,0,0,0,0,0,0,0,0,0,0]
[null,null,0,"35-49",{"$f":"IF(E$50>0,E24/E$50,0)","v":3.0881092650596586E-2},0.11724149538183405,0,0,0,0,0,0,0,0,0,0,0,0,0,0]
[null,null,{"$f":"C25","v":0},"50-64",{"$f":"IF(E$50>0,E25/E$50,0)","v":7.699261848869618E-2},0.11906164121829174,0,0,0,0,0,0,0,0,0,0,0,0,0,0]
[null,null,0,"65 years or more",{"$f":"IF(E$50>0,E26/E$50,0)","v":3.0881092650596586E-2},6.816774049511528E-3,0,0,0,0,0,0,0,0,0,0,0,0,0,0]
[null,null,0,"NA – Use this where you are coding a secondary source only",{"$f":"IF(E$50>0,E27/E$50,0)","v":0},4.9966282130538206E-2,0,0,0,0,0,0,0,0,0,0,0,0,0,0]
[null,null,0,0,{"$f":"IF(E$50>0,E28/E$50,0)","v":0},0,0,0,0,0,0,0,0,0,0,0,0,0,0,0]
[null,null,0,0,{"$f":"IF(E$50>0,E29/E$50,0)","v":0},0,0,0,0,0,0,0,0,0,0,0,0,0,0,0]
[null,null,0,0,{"$f":"IF(E$50>0,E30/E$50,0)","v":0},0,0,0,0,0,0,0,0,0,0,0,0,0,0,0]
[null,null,0,0,{"$f":"IF(E$50>0,E31/E$50,0)","v":0},0,0,0,0,0,0,0,0,0,0,0,0,0,0,0]
[null,null,0,0,{"$f":"IF(E$50>0,E32/E$50,0)","v":0},0,0,0,0,0,0,0,0,0,0,0,0,0,0,0]
[null,null,0,0,{"$f":"IF(E$50>0,E33/E$50,0)","v":0},0,0,0,0,0,0,0,0,0,0,0,0,0,0,0]
[null,null,0,0,{"$f":"IF(E$50>0,E34/E$50,0)","v":0},0,0,0,0,0,0,0,0,0,0,0,0,0,0,0]
[null,null,0,0,{"$f":"IF(E$50>0,E35/E$50,0)","v":0},0,0,0,0,0,0,0,0,0,0,0,0,0,0,0]
[null,null,0,0,{"$f":"IF(E$50>0,E36/E$50,0)","v":0},0,0,0,0,0,0,0,0,0,0,0,0,0,0,0]
[null,null,0,0,{"$f":"IF(E$50>0,E37/E$50,0)","v":0},0,0,0,0,0,0,0,0,0,0,0,0,0,0,0]
[null,null,0,0,{"$f":"IF(E$50>0,E38/E$50,0)","v":0},0,0,0,0,0,0,0,0,0,0,0,0,0,0,0]
[null,null,0,0,{"$f":"IF(E$50>0,E39/E$50,0)","v":0},0,0,0,0,0,0,0,0,0,0,0,0,0,0,0]
[null,null,0,0,{"$f":"IF(E$50>0,E40/E$50,0)","v":0},0,0,0,0,0,0,0,0,0,0,0,0,0,0,0]
[null,null,0,0,{"$f":"IF(E$50>0,E41/E$50,0)","v":0},0,0,0,0,0,0,0,0,0,0,0,0,0,0,0]
[null,null,0,0,{"$f":"IF(E$50>0,E42/E$50,0)","v":0},0,0,0,0,0,0,0,0,0,0,0,0,0,0,0]
[null,null,0,0,{"$f":"IF(E$50>0,E43/E$50,0)","v":0},0,0,0,0,0,0,0,0,0,0,0,0,0,0,0]
[null,null,0,0,{"$f":"IF(E$50>0,E44/E$50,0)","v":0},0,0,0,0,0,0,0,0,0,0,0,0,0,0,0]
[null,null,{"$f":"C45","v":0},0,{"$f":"IF(E$50>0,E45/E$50,0)","v":0},0,0,0,0,0,0,0,0,0,0,0,0,0,0,0]
[null,null,0,0,{"$f":"IF(E$50>0,E46/E$50,0)","v":0},0,0,0,0,0,0,0,0,0,0,0,0,0,0,0]
[null,null,0,0,{"$f":"IF(E$50>0,E47/E$50,0)","v":0},0,0,0,0,0,0,0,0,0,0,0,0,0,0,0]
[null,null,0,0,{"$f":"IF(E$50>0,E48/E$50,0)","v":0},0,0,0,0,0,0,0,0,0,0,0,0,0,0,0]
[null,null,0,0,{"$f":"IF(E$50>0,E49/E$50,0)","v":0},0,0,0,0,0,0,0,0,0,0,0,0,0,0,0]
[]
[]
[]
[]
[]
[]
[]
[]
[]
[]
[]
[]
["COUNT"]
[null,null,null,null,{"$f":"E3","v":"Female"},"Male",0,0,0,0,0,0,0,0,0,0,0,0,0,0]
[null,null,null,null,{"$f":"E4","v":0},0,0,0,0,0,0,0,0,0,0,0,0,0,0,0]
[null,null,{"$f":"C5","v":0},"Do not know: (e.g., the person may not be seen clearly)",7,3]
[null,null,1,"12 years or under",6,1]
[null,null,2,"13-18",5,1]
[null,null,3,"19-34",17,5]
[null,null,4,"35-49",32,7]
[null,null,5,"50-64",23,23]
[null,null,6,"65 years or more",2,5]
[null,null,7,"NA – Use this where you are coding a secondary source only",0,0]
[null,null,0,0,0,0]
[null,null,0,0,0,0]
[null,null,0,0,0,0]
[null,null,0,0]
[null,null,0,0]
[null,null,0,0]
[null,null,0,0]
[null,null,0,"Do not know: (e.g., the person may not be seen clearly)"]
[null,null,0,"12 years or under"]
[null,null,0,"13-18"]
[null,null,0,"19-34"]
[null,null,0,"35-49"]
[null,null,{"$f":"C25","v":0},"50-64"]
[null,null,0,"65 years or more"]
[null,null,0,"NA – Use this where you are coding a secondary source only"]
[null,null,0,0]
[null,null,0,0]
[null,null,0,0]
[null,null,0,0]
[null,null,0,0]
[null,null,0,0,29,86]
[null,null,0,0,0,6]
[null,null,0,0,0,2]
[null,null,0,0,4,26]
[null,null,0,0,5,33]
[null,null,0,0,12,34]
[null,null,0,0,5,2]
[null,null,0,0,0,10]
[null,null,0,0]
[null,null,0,0]
[null,null,0,0]
[null,null,0,0]
[null,null,{"$f":"C45","v":0},0]
[null,null,0,0]
[null,null,0,0]

{"sheet":"14F - Age","index":54,"n_rows":33,"n_cols":10,"rows_kept":33,"cut":false,"hidden":false,"merged":[[1,5,1,9],[21,5,21,9]]}
[{"$f":"'14'!A1","v":"Age of television Announcers & Reporters, by sex"}]
[null,null,null,null,null,{"$f":"'14'!W3 &  \"  %F\"","v":"Female  %F"}]
[null,null,null,null,"Age of announcers",1995,2000,2005,2010,"N"]
[]
[null,null,null,null,"Do not know: (e.g., the person may not be seen clearly)",0,0,"new code for 2010",{"$f":"'14'!W5","v":0.7000000000000004},{"$f":"'14'!E112","v":7}]
[null,null,null,null,{"$f":"'14'!D6","v":"12 years or under"},0,0,"new code for 2010",{"$f":"'14'!W6","v":0.8571428571428571},{"$f":"'14'!E113","v":6}]
[null,null,null,null,{"$f":"'14'!D7","v":"13-18"},0,0,"new code for 2010",{"$f":"'14'!W7","v":0.83333333333333326},{"$f":"'14'!E114","v":5}]
[null,null,null,null,{"$f":"'14'!D8","v":"19-34"},0,0,0.79,{"$f":"'14'!W8","v":0.77272727272727271},{"$f":"'14'!E115","v":17}]
[null,null,null,null,{"$f":"'14'!D9","v":"35-49"},0,0,0.5,{"$f":"'14'!W9","v":0.82051282051282048},{"$f":"'14'!E116","v":32}]
[null,null,null,null,{"$f":"'14'!D10","v":"50-64"},0,0,7.0000000000000007E-2,{"$f":"'14'!W10","v":0.5},{"$f":"'14'!E117","v":23}]
[null,null,null,null,{"$f":"'14'!D11","v":"65 years or more"},0,0,"new code for 2010",{"$f":"'14'!W11","v":0.28571428571428614},{"$f":"'14'!E118","v":2}]
[]
[null,null,null,null,null,0,0]
[]
[]
[null,null,null,null,null,null,null,"No available data for previous years"]
[]
[]
[]
[]
[]
[null,null,null,null,null,"Female  %F\""]
[null,null,null,null,"Age of reporters",1995,2000,2005,2010,"N"]
[]
[null,null,null,null,"Do not know: (e.g., the person may not be seen clearly)",0,0,"new code for 2010",{"$f":"'14'!W20","v":0.2557078239728941},{"$f":"'14'!E140","v":29}]
[null,null,null,null,"12 years or under",0,0,"new code for 2010",{"$f":"'14'!W21","v":0},{"$f":"'14'!E141","v":0}]
[null,null,null,null,"13-18",0,0,"new code for 2010",{"$f":"'14'!W22","v":0},{"$f":"'14'!E142","v":0}]
[null,null,null,null,"19-34",0,0,0.52,{"$f":"'14'!W23","v":0.13857027860289137},{"$f":"'14'!E143","v":4}]
[null,null,null,null,"35-49",0,0,0.34,{"$f":"'14'!W24","v":0.12691018586292716},{"$f":"'14'!E144","v":5}]
[null,null,null,null,"50-64",0,0,0.17,{"$f":"'14'!W25","v":0.26300679021187512},{"$f":"'14'!E145","v":12}]
[null,null,null,null,"65 years or more",0,0,"new code for 2010",{"$f":"'14'!W26","v":0.71428571428571386},{"$f":"'14'!E146","v":5}]
[]
[null,null,null,null,null,0,0]

{"sheet":"15a","index":55,"n_rows":154,"n_cols":38,"rows_kept":154,"cut":false,"hidden":true,"merged":[]}
["Stories with Women as central focus  by sex of reporter"]
[]
[null,null,null,null,"Female","Male",null,null,null,null,null,null,null,null,null,null,null,null,null,null,null,null,{"$f":"E3","v":"Female"},"Male",0,0,0,0,0,0,0,0,0,0,0,0,0]
[null,null,null,null,null,null,null,null,null,null,null,null,null,null,null,null,null,null,null,null,null,"TOTAL",0,0,0,0,0,0,0,0,0,0,0,0,0,0,0,{"$f":"T4","v":0}]
[null,null,1,"No, women are not central to the news in this story",0.12813549907878,0.272024000063539,null,null,null,null,null,null,null,null,null,null,null,null,null,null,null,{"$f":"SUM(E5:O5)","v":0.40015949914231896},{"$f":"IF((E5+F5)>0,E5/(E5+F5),0)","v":0.32021106422168899},{"$f":"IF((E5+F5)>0,F5/(E5+F5),0)","v":0.67978893577831112},{"$f":"IF((G5+H5)>0,G5/(G5+H5),0)","v":0},{"$f":"IF((G5+H5)>0,H5/(G5+H5),0)","v":0},{"$f":"IF((I5+J5)>0,I5/(I5+J5),0)","v":0},{"$f":"IF((I5+J5)>0,J5/(I5+J5),0)","v":0},{"$f":"IF((K5+L5)>0,K5/(K5+L5),0)","v":0},{"$f":"IF((K5+L5)>0,L5/(K5+L5),0)","v":0},{"$f":"IF((M5+N5)>0,M5/(M5+N5),0)","v":0},{"$f":"IF((M5+N5)>0,N5/(M5+N5),0)","v":0},{"$f":"IF((O5+P5)>0,O5/(O5+P5),0)","v":0},{"$f":"IF((O5+P5)>0,P5/(O5+P5),0)","v":0},{"$f":"IF((Q5+R5)>0,Q5/(Q5+R5),0)","v":0},{"$f":"IF((Q5+R5)>0,R5/(Q5+R5),0)","v":0},{"$f":"IF((S5+T5)>0,S5/(S5+T5),0)","v":0},{"$f":"IF((S5+T5)>0,T5/(S5+T5),0)","v":0}]
[null,null,2,"Yes, women are central to the news in this story",1.2576499953866E-2,8.0458999611437307E-2,null,null,null,null,null,null,null,null,null,null,null,null,null,null,null,9.3035499565303312E-2,0.13517958212325529,0.86482041787674468,0,0,0,0,0,0,0,0,0,0,0,0,0,0]
[null,null,3,"Do not know, cannot decide",null,7.4764997698366599E-3,null,null,null,null,null,null,null,null,null,null,null,null,null,null,null,7.4764997698366599E-3,0,1,0,0,0,0,0,0,0,0,0,0,0,0,0,0]
[null,null,null,null,null,null,null,null,null,null,null,null,null,null,null,null,null,null,null,null,null,0,0,0,0,0,0,0,0,0,0,0,0,0,0,0,0,0]
[null,null,null,null,null,null,null,null,null,null,null,null,null,null,null,null,null,null,null,null,null,0,0,0,0,0,0,0,0,0,0,0,0,0,0,0,0,0]
[null,null,null,null,null,null,null,null,null,null,null,null,null,null,null,null,null,null,null,null,null,0,0,0,0,0,0,0,0,0,0,0,0,0,0,0,0,0]
[null,null,null,null,null,null,null,null,null,null,null,null,null,null,null,null,null,null,null,null,null,0,0,0,0,0,0,0,0,0,0,0,0,0,0,0,0,0]
[null,null,null,null,null,null,null,null,null,null,null,null,null,null,null,null,null,null,null,null,null,0,0,0,0,0,0,0,0,0,0,0,0,0,0,0,0,0]
[]
[]
[]
[]
[]
[]
[]
[]
[]
[]
[]
[]
[]
[]
[]
[]
[]
[]
[]
[]
[]
[]
[]
[]
[]
[]
[]
[]
[]
[]
[]
[]
[]
[]
[]
[]
[]
[null,null,null,null,{"$f":"SUM(E5:E49)","v":0.140711999032646},{"$f":"SUM(F5:F49)","v":0.35995949944481298},{"$f":"SUM(G5:G49)","v":0},{"$f":"SUM(H5:H49)","v":0},{"$f":"SUM(I5:I49)","v":0},0,0,0,0,0,0,0,0,0,0,0,null,{"$f":"SUM(E50:O50)","v":0.50067149847745895},{"$f":"IF((E50+F50)>0,E50/(E50+F50),0)","v":0.28104655339988577},{"$f":"IF((E50+F50)>0,F50/(E50+F50),0)","v":0.71895344660011429},{"$f":"IF((G50+H50)>0,G50/(G50+H50),0)","v":0},{"$f":"IF((G50+H50)>0,H50/(G50+H50),0)","v":0},{"$f":"IF((I50+J50)>0,I50/(I50+J50),0)","v":0},{"$f":"IF((I50+J50)>0,J50/(I50+J50),0)","v":0},{"$f":"IF((K50+L50)>0,K50/(K50+L50),0)","v":0},{"$f":"IF((K50+L50)>0,L50/(K50+L50),0)","v":0},{"$f":"IF((M50+N50)>0,M50/(M50+N50),0)","v":0},{"$f":"IF((M50+N50)>0,N50/(M50+N50),0)","v":0},{"$f":"IF((O50+P50)>0,O50/(O50+P50),0)","v":0},{"$f":"IF((O50+P50)>0,P50/(O50+P50),0)","v":0},{"$f":"IF((Q50+R50)>0,Q50/(Q50+R50),0)","v":0},{"$f":"IF((Q50+R50)>0,R50/(Q50+R50),0)","v":0},{"$f":"IF((S50+T50)>0,S50/(S50+T50),0)","v":0},{"$f":"IF((S50+T50)>0,T50/(S50+T50),0)","v":0}]
[]
[null,null,{"$f":"C5","v":1},"No, women are not central to the news in this story",{"$f":"IF(E$50>0,E5/E$50,0)","v":0.91062240576265152},0.7557072406287314,0,{"$f":"IF(H$50>0,H5/H$50,0)","v":0},0,0,0,0,0,0,0,0,0,0,0,0]
[null,null,2,"Yes, women are central to the news in this story",8.9377594237348437E-2,0.22352236775396683,0,{"$f":"IF(H$50>0,H6/H$50,0)","v":0},0,0,0,0,0,0,0,0,0,0,0,0]
[null,null,3,"Do not know, cannot decide",0,2.0770391617301702E-2,0,{"$f":"IF(H$50>0,H7/H$50,0)","v":0},0,0,0,0,0,0,0,0,0,0,0,0]
[null,null,0,0,0,0,0,{"$f":"IF(H$50>0,H8/H$50,0)","v":0},0,0,0,0,0,0,0,0,0,0,0,0]
[null,null,0,0,0,0,0,{"$f":"IF(H$50>0,H9/H$50,0)","v":0},0,0,0,0,0,0,0,0,0,0,0,0]
[null,null,{"$f":"C10","v":0},0,0,0,0,{"$f":"IF(H$50>0,H10/H$50,0)","v":0},0,0,0,0,0,0,0,0,0,0,0,0]
[null,null,0,0,0,0,0,{"$f":"IF(H$50>0,H11/H$50,0)","v":0},0,0,0,0,0,0,0,0,0,0,0,0]
[null,null,0,0,0,0,0,{"$f":"IF(H$50>0,H12/H$50,0)","v":0},0,0,0,0,0,0,0,0,0,0,0,0]
[null,null,0,0,0,0,0,{"$f":"IF(H$50>0,H13/H$50,0)","v":0},0,0,0,0,0,0,0,0,0,0,0,0]
[null,null,0,0,0,0,0,{"$f":"IF(H$50>0,H14/H$50,0)","v":0},0,0,0,0,0,0,0,0,0,0,0,0]
[null,null,0,0,0,0,0,{"$f":"IF(H$50>0,H15/H$50,0)","v":0},0,0,0,0,0,0,0,0,0,0,0,0]
[null,null,0,0,0,0,0,{"$f":"IF(H$50>0,H16/H$50,0)","v":0},0,0,0,0,0,0,0,0,0,0,0,0]
[null,null,0,0,0,0,0,{"$f":"IF(H$50>0,H17/H$50,0)","v":0},0,0,0,0,0,0,0,0,0,0,0,0]
[null,null,0,0,0,0,0,{"$f":"IF(H$50>0,H18/H$50,0)","v":0},0,0,0,0,0,0,0,0,0,0,0,0]
[null,null,0,0,0,0,0,{"$f":"IF(H$50>0,H19/H$50,0)","v":0},0,0,0,0,0,0,0,0,0,0,0,0]
[null,null,0,0,0,0,0,{"$f":"IF(H$50>0,H20/H$50,0)","v":0},0,0,0,0,0,0,0,0,0,0,0,0]
[null,null,0,0,{"$f":"IF(E$50>0,E21/E$50,0)","v":0},0,0,0,0,0,0,0,0,0,0,0,0,0,0,0]
[null,null,0,0,{"$f":"IF(E$50>0,E22/E$50,0)","v":0},0,0,0,0,0,0,0,0,0,0,0,0,0,0,0]
[null,null,0,0,{"$f":"IF(E$50>0,E23/E$50,0)","v":0},0,0,0,0,0,0,0,0,0,0,0,0,0,0,0]
[null,null,0,0,{"$f":"IF(E$50>0,E24/E$50,0)","v":0},0,0,0,0,0,0,0,0,0,0,0,0,0,0,0]
[null,null,{"$f":"C25","v":0},0,{"$f":"IF(E$50>0,E25/E$50,0)","v":0},0,0,0,0,0,0,0,0,0,0,0,0,0,0,0]
[null,null,0,0,{"$f":"IF(E$50>0,E26/E$50,0)","v":0},0,0,0,0,0,0,0,0,0,0,0,0,0,0,0]
[null,null,0,0,{"$f":"IF(E$50>0,E27/E$50,0)","v":0},0,0,0,0,0,0,0,0,0,0,0,0,0,0,0]
[null,null,0,0,{"$f":"IF(E$50>0,E28/E$50,0)","v":0},0,0,0,0,0,0,0,0,0,0,0,0,0,0,0]
[null,null,0,0,{"$f":"IF(E$50>0,E29/E$50,0)","v":0},0,0,0,0,0,0,0,0,0,0,0,0,0,0,0]
[null,null,0,0,{"$f":"IF(E$50>0,E30/E$50,0)","v":0},0,0,0,0,0,0,0,0,0,0,0,0,0,0,0]
[null,null,0,0,{"$f":"IF(E$50>0,E31/E$50,0)","v":0},0,0,0,0,0,0,0,0,0,0,0,0,0,0,0]
[null,null,0,0,{"$f":"IF(E$50>0,E32/E$50,0)","v":0},0,0,0,0,0,0,0,0,0,0,0,0,0,0,0]
[null,null,0,0,{"$f":"IF(E$50>0,E33/E$50,0)","v":0},0,0,0,0,0,0,0,0,0,0,0,0,0,0,0]
[null,null,0,0,{"$f":"IF(E$50>0,E34/E$50,0)","v":0},0,0,0,0,0,0,0,0,0,0,0,0,0,0,0]
[null,null,0,0,{"$f":"IF(E$50>0,E35/E$50,0)","v":0},0,0,0,0,0,0,0,0,0,0,0,0,0,0,0]
[null,null,0,0,{"$f":"IF(E$50>0,E36/E$50,0)","v":0},0,0,0,0,0,0,0,0,0,0,0,0,0,0,0]
[null,null,0,0,{"$f":"IF(E$50>0,E37/E$50,0)","v":0},0,0,0,0,0,0,0,0,0,0,0,0,0,0,0]
[null,null,0,0,{"$f":"IF(E$50>0,E38/E$50,0)","v":0},0,0,0,0,0,0,0,0,0,0,0,0,0,0,0]
[null,null,0,0,{"$f":"IF(E$50>0,E39/E$50,0)","v":0},0,0,0,0,0,0,0,0,0,0,0,0,0,0,0]
[null,null,0,0,{"$f":"IF(E$50>0,E40/E$50,0)","v":0},0,0,0,0,0,0,0,0,0,0,0,0,0,0,0]
[null,null,0,0,{"$f":"IF(E$50>0,E41/E$50,0)","v":0},0,0,0,0,0,0,0,0,0,0,0,0,0,0,0]
[null,null,0,0,{"$f":"IF(E$50>0,E42/E$50,0)","v":0},0,0,0,0,0,0,0,0,0,0,0,0,0,0,0]
[null,null,0,0,{"$f":"IF(E$50>0,E43/E$50,0)","v":0},0,0,0,0,0,0,0,0,0,0,0,0,0,0,0]
[null,null,0,0,{"$f":"IF(E$50>0,E44/E$50,0)","v":0},0,0,0,0,0,0,0,0,0,0,0,0,0,0,0]
[null,null,{"$f":"C45","v":0},0,{"$f":"IF(E$50>0,E45/E$50,0)","v":0},0,0,0,0,0,0,0,0,0,0,0,0,0,0,0]
[null,null,0,0,{"$f":"IF(E$50>0,E46/E$50,0)","v":0},0,0,0,0,0,0,0,0,0,0,0,0,0,0,0]
[null,null,0,0,{"$f":"IF(E$50>0,E47/E$50,0)","v":0},0,0,0,0,0,0,0,0,0,0,0,0,0,0,0]
[null,null,0,0,{"$f":"IF(E$50>0,E48/E$50,0)","v":0},0,0,0,0,0,0,0,0,0,0,0,0,0,0,0]
[null,null,0,0,{"$f":"IF(E$50>0,E49/E$50,0)","v":0},0,0,0,0,0,0,0,0,0,0,0,0,0,0,0]
[]
[]
[]
[]
[]
[]
[]
[]
[]
[]
[]
[]
["COUNT"]
[null,null,null,null,{"$f":"E3","v":"Female"},{"$f":"F3","v":"Male"},{"$f":"G3","v":0},0,0,0,0,0,0,0,0,0,0,0,0,0]
[null,null,null,null,{"$f":"E4","v":0},{"$f":"F4","v":0},{"$f":"G4","v":0},0,0,0,0,0,0,0,0,0,0,0,0,0]
[null,null,{"$f":"C5","v":1},"No, women are not central to the news in this story",22,46]
[null,null,2,"Yes, women are central to the news in this story",2,13]
[null,null,3,"Do not know, cannot decide",0,1]
[null,null,0,0]
[null,null,0,0]
[null,null,0,0]
[null,null,0,0]
[null,null,0,0]
[null,null,0,0]
[null,null,0,0]
[null,null,0,0]
[null,null,0,0]
[null,null,0,0]
[null,null,0,0]
[null,null,0,0]
[null,null,0,0]
[null,null,0,0]
[null,null,0,0]
[null,null,0,0]
[null,null,0,0]
[null,null,{"$f":"C25","v":0},0]
[null,null,0,0]
[null,null,0,0]
[null,null,0,0]
[null,null,0,0]
[null,null,0,0]
[null,null,0,0]
[null,null,0,0]
[null,null,0,0]
[null,null,0,0]
[null,null,0,0]
[null,null,0,0]
[null,null,0,0]
[null,null,0,0]
[null,null,0,0]
[null,null,0,0]
[null,null,0,0]
[null,null,0,0]
[null,null,0,0]
[null,null,0,0]
[null,null,{"$f":"C45","v":0},0]
[null,null,0,0]
[null,null,0,0]

{"sheet":"15aF - Central Focus","index":56,"n_rows":10,"n_cols":15,"rows_kept":10,"cut":false,"hidden":false,"merged":[[3,5,3,9],[3,10,3,14]]}
["Stories with Women as central focus  by sex of reporter"]
[]
[]
[null,null,null,null,null,{"$f":"'15a'!W3 &  \"  %F\"","v":"Female  %F"},null,null,null,null,"Male %M"]
[null,null,null,null,null,1995,2000,2005,2010,"N",1995,2000,2005,2010,"N"]
[]
[null,null,null,null,"No, women are not central",0,"n/a",0.36,{"$f":"'15a'!W5","v":0.32021106422168899},{"$f":"'15a'!E112","v":22},0,"n/a",0.64,{"$f":"'15a'!X5","v":0.67978893577831112},{"$f":"'15a'!F112","v":46}]
[null,null,null,null,"Yes, women are central",0,"n/a",0.39,{"$f":"'15a'!W6","v":0.13517958212325529},{"$f":"'15a'!E113","v":2},0,"n/a",0.61,{"$f":"'15a'!X6","v":0.86482041787674468},{"$f":"'15a'!F113","v":13}]
[]
[null,null,null,null,"Total",0,0,null,{"$f":"'15a'!$W$50","v":0.28104655339988577},{"$f":"SUM(J7:J9)","v":24},0,0,null,{"$f":"'15a'!$X$50","v":0.71895344660011429},{"$f":"SUM(O7:O9)","v":59}]

{"sheet":"15b","index":57,"n_rows":205,"n_cols":38,"rows_kept":205,"cut":false,"hidden":true,"merged":[]}
["Stories with Women as a central Focus by topic"]
[]
[null,null,null,null,"No, women are not central to the news in this story","Yes, women are central to the news in this story","Do not know, cannot decide",null,null,null,null,null,null,null,null,null,null,null,null,null,null,null,{"$f":"E3","v":"No, women are not central to the news in this story"},"Yes, women are central to the news in this story","Do not know, cannot decide",0,0,0,0,0,0,0,0,0,0,0,0]
[null,null,null,null,null,null,null,null,null,null,null,null,null,null,null,null,null,null,null,null,null,"TOTAL",0,0,0,0,0,0,0,0,0,0,0,0,0,0,0,{"$f":"T4","v":0}]
[null,null,1,"Women in political power and decision-making (local, regional, national),",null,null,null,null,null,null,null,null,null,null,null,null,null,null,null,null,null,{"$f":"SUM(E5:O5)","v":0},{"$f":"IF($V5>0,+E5/$V5,0)","v":0},{"$f":"IF($V5>0,+F5/$V5,0)","v":0},{"$f":"IF($V5>0,+G5/$V5,0)","v":0},{"$f":"IF((G5+H5)>0,H5/(G5+H5),0)","v":0},{"$f":"IF((I5+J5)>0,I5/(I5+J5),0)","v":0},{"$f":"IF((I5+J5)>0,J5/(I5+J5),0)","v":0},{"$f":"IF((K5+L5)>0,K5/(K5+L5),0)","v":0},{"$f":"IF((K5+L5)>0,L5/(K5+L5),0)","v":0},{"$f":"IF((M5+N5)>0,M5/(M5+N5),0)","v":0},{"$f":"IF((M5+N5)>0,N5/(M5+N5),0)","v":0},{"$f":"IF((O5+P5)>0,O5/(O5+P5),0)","v":0},{"$f":"IF((O5+P5)>0,P5/(O5+P5),0)","v":0},{"$f":"IF((Q5+R5)>0,Q5/(Q5+R5),0)","v":0},{"$f":"IF((Q5+R5)>0,R5/(Q5+R5),0)","v":0},{"$f":"IF((S5+T5)>0,S5/(S5+T5),0)","v":0},{"$f":"IF((S5+T5)>0,T5/(S5+T5),0)","v":0}]
[null,null,2,"Women electoral candidates (local, regional, national),",5.1000001840293399E-3,null,null,null,null,null,null,null,null,null,null,null,null,null,null,null,null,5.1000001840293399E-3,{"$f":"IF($V6>0,+E6/$V6,0)","v":1},{"$f":"IF($V6>0,+F6/$V6,0)","v":0},{"$f":"IF($V6>0,+G6/$V6,0)","v":0},0,0,0,0,0,0,0,0,0,0,0,0,0]
[null,null,3,"Peace, negotiations, treaties…(local, regional, national),",7.4764997698366599E-3,7.4764997698366599E-3,null,null,null,null,null,null,null,null,null,null,null,null,null,null,null,1.495299953967332E-2,0.5,0.5,0,0,0,0,0,0,0,0,0,0,0,0,0,0]
[null,null,4,"Other domestic politics/government (local, regional, national), elections, speeches, the political process …",3.7876500282436602E-2,null,7.4764997698366599E-3,null,null,null,null,null,null,null,null,null,null,null,null,null,null,4.535300005227326E-2,0.83514872751043279,0,0.16485127248956732,0,0,0,0,0,0,0,0,0,0,0,0,0]
[null,null,5,"Global partnerships (international trade and finance systems, e.g. WTO, IMF, World Bank, debt) …",null,null,null,null,null,null,null,null,null,null,null,null,null,null,null,null,null,0,0,0,0,0,0,0,0,0,0,0,0,0,0,0,0,0]
[null,null,6,"Foreign/international politics, relations with other countries, negotiations, treaties, UN peacekeeping …",8.0305999144911794E-2,null,null,null,null,null,null,null,null,null,null,null,null,null,null,null,null,8.0305999144911794E-2,1,0,0,0,0,0,0,0,0,0,0,0,0,0,0,0]
[null,null,7,"National defence, military spending, military training, military parades, internal security …",2.5052999611943998E-2,null,null,null,null,null,null,null,null,null,null,null,null,null,null,null,null,2.5052999611943998E-2,1,0,0,0,0,0,0,0,0,0,0,0,0,0,0,0]
[null,null,8,"Other stories on politics and government (specify the subject in 'Comments' section of coding sheet)",4.2629499454051298E-2,2.9905999079346698E-2,null,null,null,null,null,null,null,null,null,null,null,null,null,null,null,7.2535498533397996E-2,0.58770533484957188,0.41229466515042812,0,0,0,0,0,0,0,0,0,0,0,0,0,0]
[null,null,9,"Economic policies, strategies, models (national, international) …",2.5052999611943998E-2,null,null,null,null,null,null,null,null,null,null,null,null,null,null,null,null,2.5052999611943998E-2,1,0,0]
[null,null,10,"Economic indicators, statistics, business, trade, stock markets …",1.2576499953866E-2,null,null,null,null,null,null,null,null,null,null,null,null,null,null,null,null,1.2576499953866E-2,{"$f":"IF($V14>0,+E14/$V14,0)","v":1},{"$f":"IF($V14>0,+F14/$V14,0)","v":0},{"$f":"IF($V14>0,+G14/$V14,0)","v":0}]
[null,null,11,"Economic crisis, state bailouts of companies, company takeovers and mergers …",4.9999998882412902E-3,null,null,null,null,null,null,null,null,null,null,null,null,null,null,null,null,4.9999998882412902E-3,1,0,0]
[null,null,12,"Poverty, housing, social welfare, aid to those in need …",5.1000001840293399E-3,null,null,null,null,null,null,null,null,null,null,null,null,null,null,null,null,5.1000001840293399E-3,1,0,0]
[null,null,13,"Women's participation in economic processes (informal work, paid employment, unemployment, unpaid labour)",null,null,null,null,null,null,null,null,null,null,null,null,null,null,null,null,null,0,0,0,0]
[null,null,14,"Other labour issues, strikes, trade unions, negotiations, other employment and unemployment …",2.2476499434560499E-2,null,null,null,null,null,null,null,null,null,null,null,null,null,null,null,null,2.2476499434560499E-2,1,0,0]
[null,null,15,"Rural economy, agriculture, farming practices, agricultural policy, land rights …",null,null,null,null,null,null,null,null,null,null,null,null,null,null,null,null,null,0,0,0,0]
[null,null,16,"Consumer issues, consumer protection, regulation, prices, consumer fraud …",1.7576499842107299E-2,null,null,null,null,null,null,null,null,null,null,null,null,null,null,null,null,1.7576499842107299E-2,1,0,0]
[null,null,17,"Transport, traffic, roads ……",5.1000001840293399E-3,null,null,null,null,null,null,null,null,null,null,null,null,null,null,null,null,5.1000001840293399E-3,1,0,0]
[null,null,18,"Other stories on the economy (specify the subject in 'Comments' section of coding sheet)",1.2576499953866E-2,null,null,null,null,null,null,null,null,null,null,null,null,null,null,null,null,1.2576499953866E-2,1,0,0]
[null,null,19,"Science, technology, research, funding, discoveries, developments …",5.1000001840293399E-3,null,null,null,null,null,null,null,null,null,null,null,null,null,null,null,null,5.1000001840293399E-3,1,0,0]
[null,null,20,"Medicine, health, hygiene, safety, disability, medical research, funding (apart from HIV-AIDS)…",5.1000001840293399E-3,null,null,null,null,null,null,null,null,null,null,null,null,null,null,null,null,5.1000001840293399E-3,1,0,0]
[null,null,21,"HIV and AIDS, incidence, policy, treatment, people affected …",null,null,null,null,null,null,null,null,null,null,null,null,null,null,null,null,null,0,0,0,0]
[null,null,22,"Other epidemics, viruses, contagions, Influenza, BSE, SARS …",2.7776500210165998E-2,5.1000001840293399E-3,null,null,null,null,null,null,null,null,null,null,null,null,null,null,null,3.2876500394195339E-2,0.84487399440696564,0.15512600559303427,0]
[null,null,23,"Birth control, fertility, sterilisation, amniocentesis, termination of pregnancy …",null,null,null,null,null,null,null,null,null,null,null,null,null,null,null,null,null,0,0,0,0]
[null,null,24,"Environment, nature,   pollution, global warming, ecology, tourism …",1.2576499953866E-2,null,null,null,null,null,null,null,null,null,null,null,null,null,null,null,null,1.2576499953866E-2,1,0,0]
[null,null,25,"Other stories on science or health (specify the subject in 'Comments' section of coding sheet)",5.1000001840293399E-3,null,null,null,null,null,null,null,null,null,null,null,null,null,null,null,null,5.1000001840293399E-3,1,0,0]
[null,null,26,"Development issues, sustainability, community development …",null,null,null,null,null,null,null,null,null,null,null,null,null,null,null,null,null,0,0,0,0]
[null,null,27,"Education, child care, nurseries, pre-school to university, adult education, literacy …",2.5300000328570601E-2,2.7529499493539299E-2,null,null,null,null,null,null,null,null,null,null,null,null,null,null,null,5.2829499822109896E-2,0.47889910776672151,0.5211008922332786,0]
[null,null,28,"Family relations, inter-generational conflict, single parents …",null,null,null,null,null,null,null,null,null,null,null,null,null,null,null,null,null,0,0,0,0]
[null,null,29,"Human rights, women's rights, children's rights, gay & lesbian rights, rights of minorities ..",7.4764997698366599E-3,4.9999998882412902E-3,null,null,null,null,null,null,null,null,null,null,null,null,null,null,null,1.247649965807795E-2,0.59924658155189992,0.40075341844810008,0]
[null,null,30,"Religion, culture, tradition, controversies, teachings, celebrations, practices …",null,null,null,null,null,null,null,null,null,null,null,null,null,null,null,null,null,0,0,0,0]
[null,null,31,"Migration, refugees, asylum seekers, ethnic conflict, integration, racism, xenophobia …",null,null,null,null,null,null,null,null,null,null,null,null,null,null,null,null,null,0,0,0,0]
[null,null,32,"Women's movement, activism, events, demonstrations, gender equality advocacy …",null,null,null,null,null,null,null,null,null,null,null,null,null,null,null,null,null,0,0,0,0]
[null,null,33,"Changing gender relations, roles and relationships of women and men inside and outside the home …",null,null,null,null,null,null,null,null,null,null,null,null,null,null,null,null,null,0,0,0,0]
[null,null,34,"Family law, family codes, property law, inheritance law and rights …",null,null,null,null,null,null,null,null,null,null,null,null,null,null,null,null,null,0,0,0,0]
[null,null,35,"Legal system, judicial system, legislation (apart from family, property & inheritance law) …",3.2676499802619198E-2,null,null,null,null,null,null,null,null,null,null,null,null,null,null,null,null,3.2676499802619198E-2,1,0,0]
[null,null,36,"Other stories on social or legal issues (specify the subject in 'Comments' section of coding sheet)",4.5600000768899897E-2,null,null,null,null,null,null,null,null,null,null,null,null,null,null,null,null,4.5600000768899897E-2,1,0,0]
[null,null,37,"Non-violent crime, bribery, theft, drug-dealing, corruption, (including political corruption/malpractice) …",2.5052999611943998E-2,7.4764997698366599E-3,null,null,null,null,null,null,null,null,null,null,null,null,null,null,null,3.2529499381780659E-2,0.770162470621231,0.229837529378769,0]
[null,null,38,"Violent crime, murder, abduction, kidnapping, assault, drug-related violence …",1.4999999664723899E-2,4.9999998882412902E-3,null,null,null,null,null,null,null,null,null,null,null,null,null,null,null,1.9999999552965188E-2,0.75000000000000044,0.24999999999999967,0]
[null,null,39,"Gender-based violence, feminicide, harassment, domestic violence, rape, trafficking, genital mutilation …",null,1.7676500137895301E-2,null,null,null,null,null,null,null,null,null,null,null,null,null,null,null,1.7676500137895301E-2,0,1,0]
[null,null,40,"Child abuse, sexual violence against children, trafficking, neglect.",2.0400000736117401E-2,null,null,null,null,null,null,null,null,null,null,null,null,null,null,null,null,2.0400000736117401E-2,1,0,0]
[null,null,41,"War, civil war, terrorism, state-based violence …",2.27765003219247E-2,1.0100000072270601E-2,null,null,null,null,null,null,null,null,null,null,null,null,null,null,null,3.2876500394195304E-2,0.69278968408529684,0.3072103159147031,0]
[null,null,42,"Riots, demonstrations, public disorder …",null,null,null,null,null,null,null,null,null,null,null,null,null,null,null,null,null,0,0,0,0]
[null,null,43,"Disaster, accident, famine, earthquake, flood, hurricane, plane crash, car crash …",1.0100000072270601E-2,1.5300000552088E-2,null,null,null,null,null,null,null,null,null,null,null,null,null,null,null,2.5400000624358599E-2,0.39763778834653657,0.60236221165346349,0]
[null,null,44,"Other stories on crime and violence (specify the subject in 'Comments' section of coding sheet)",1.2476499658078E-2,null,null,null,null,null,null,null,null,null,null,null,null,null,null,null,null,1.2476499658078E-2,1,0,0]
[null,null,45,"Celebrity news, births, marriages, deaths, obituaries, famous people, royalty …",null,null,null,null,null,null,null,null,null,null,null,null,null,null,null,null,null,0,0,0,0]
[null,null,46,"Arts, entertainment, leisure, cinema, theatre, books, dance …",5.25824991054833E-2,1.0100000072270601E-2,null,null,null,null,null,null,null,null,null,null,null,null,null,null,null,6.2682499177753898E-2,0.8388704948788146,0.16112950512118546,0]
[null,null,47,"Media, including new media (computers, internet), portrayal of women and/or men, pornography …",null,null,null,null,null,null,null,null,null,null,null,null,null,null,null,null,null,0,0,0,0]
[null,null,48,"Beauty contests, models, fashion, beauty aids, cosmetic surgery …",null,7.4764997698366599E-3,null,null,null,null,null,null,null,null,null,null,null,null,null,null,null,7.4764997698366599E-3,0,1,0]
[null,null,49,"Sports, events, players, facilities, training, policies, funding …",2.5052999611943998E-2,null,null,null,null,null,null,null,null,null,null,null,null,null,null,null,null,2.5052999611943998E-2,1,0,0]
[null,null,50,"Other stories on celebrities, arts, media (specify the subject in 'Comments' section of coding sheet)",1.2576499953866E-2,null,null,null,null,null,null,null,null,null,null,null,null,null,null,null,null,1.2576499953866E-2,1,0,0]
[null,null,51,"News about the girl child, including, cultural attitudes and practices impinging on girls, education, health, economic exploitation, violence (ONLY WHERE EMPHASIS IS ON THE GIRL CHILD)…",null,null,null,null,null,null,null,null,null,null,null,null,null,null,null,null,null,0,0,0,0]
[null,null,52,"Other subject: use only if none of the above subject codes is suitable (specify the subject in 'Comments' section of coding sheet)",5.1000001840293399E-3,null,null,null,null,null,null,null,null,null,null,null,null,null,null,null,null,5.1000001840293399E-3,1,0,0]
[]
[]
[]
[]
[]
[]
[]
[]
[]
[]
[]
[null,null,null,"TOTAL",{"$f":"SUM(E5:E67)","v":0.67172449780628096},0.14814149867743243,7.4764997698366599E-3,0,0,0,0,0,0,0,0,0,0,0,0,0,null,{"$f":"SUM(E68:O68)","v":0.82734249625355005},{"$f":"IF((E68+F68)>0,E68/(E68+F68),0)","v":0.81931010761174405},{"$f":"IF((E68+F68)>0,F68/(E68+F68),0)","v":0.18068989238825597},{"$f":"IF((G68+H68)>0,G68/(G68+H68),0)","v":1},{"$f":"IF((G68+H68)>0,H68/(G68+H68),0)","v":0},{"$f":"IF((I68+J68)>0,I68/(I68+J68),0)","v":0},{"$f":"IF((I68+J68)>0,J68/(I68+J68),0)","v":0},{"$f":"IF((K68+L68)>0,K68/(K68+L68),0)","v":0},{"$f":"IF((K68+L68)>0,L68/(K68+L68),0)","v":0},{"$f":"IF((M68+N68)>0,M68/(M68+N68),0)","v":0},{"$f":"IF((M68+N68)>0,N68/(M68+N68),0)","v":0},{"$f":"IF((O68+P68)>0,O68/(O68+P68),0)","v":0},{"$f":"IF((O68+P68)>0,P68/(O68+P68),0)","v":0},{"$f":"IF((Q68+R68)>0,Q68/(Q68+R68),0)","v":0},{"$f":"IF((Q68+R68)>0,R68/(Q68+R68),0)","v":0},{"$f":"IF((S68+T68)>0,S68/(S68+T68),0)","v":0},{"$f":"IF((S68+T68)>0,T68/(S68+T68),0)","v":0}]
[]
[null,null,{"$f":"C5","v":1},"Women in political power and decision-making (local, regional, national),",{"$f":"IF(E$68>0,E5/E$68,0)","v":0},0,0,0,0,0,0,0,0,0,0,0,0,0,0,0]
[null,null,2,"Women electoral candidates (local, regional, national),",{"$f":"IF(E$68>0,E6/E$68,0)","v":7.5923986704146259E-3},0,0,0,0,0,0,0,0,0,0,0,0,0,0,0]
[null,null,3,"Peace, negotiations, treaties…(local, regional, national),",{"$f":"IF(E$68>0,E7/E$68,0)","v":1.1130306835992174E-2},5.0468638677108338E-2,0,0,0,0,0,0,0,0,0,0,0,0,0,0]
[null,null,4,"Other domestic politics/government (local, regional, national), elections, speeches, the political process …",{"$f":"IF(E$68>0,E8/E$68,0)","v":5.6386956864211059E-2},0,1,0,0,0,0,0,0,0,0,0,0,0,0,0]
[null,null,5,"Global partnerships (international trade and finance systems, e.g. WTO, IMF, World Bank, debt) …",{"$f":"IF(E$68>0,E9/E$68,0)","v":0},0,0,0,0,0,0,0,0,0,0,0,0,0,0,0]
[null,null,6,"Foreign/international politics, relations with other countries, negotiations, treaties, UN peacekeeping …",{"$f":"IF(E$68>0,E10/E$68,0)","v":0.11955198806530842},0,0,0,0,0,0,0,0,0,0,0,0,0,0,0]
[null,null,7,"National defence, military spending, military training, military parades, internal security …",{"$f":"IF(E$68>0,E11/E$68,0)","v":3.7296540015679239E-2},0,0,0,0,0,0,0,0,0,0,0,0,0,0,0]
[null,null,8,"Other stories on politics and government (specify the subject in 'Comments' section of coding sheet)",{"$f":"IF(E$68>0,E12/E$68,0)","v":6.3462773195366237E-2},0.20187455470843374,0,0,0,0,0,0,0,0,0,0,0,0,0,0]
[null,null,9,"Economic policies, strategies, models (national, international) …",{"$f":"IF(E$68>0,E13/E$68,0)","v":3.7296540015679239E-2},0,0,0,0,0,0,0,0,0,0,0,0,0,0,0]
[null,null,10,"Economic indicators, statistics, business, trade, stock markets …",{"$f":"IF(E$68>0,E14/E$68,0)","v":1.8722705506406801E-2},0,0,0,0,0,0,0,0,0,0,0,0,0,0,0]
[null,null,11,"Economic crisis, state bailouts of companies, company takeovers and mergers …",{"$f":"IF(E$68>0,E15/E$68,0)","v":7.4435276732801895E-3},0,0,0,0,0,0,0,0,0,0,0,0,0,0,0]
[null,null,12,"Poverty, housing, social welfare, aid to those in need …",{"$f":"IF(E$68>0,E16/E$68,0)","v":7.5923986704146259E-3},0,0,0,0,0,0,0,0,0,0,0,0,0,0,0]
[null,null,13,"Women's participation in economic processes (informal work, paid employment, unemployment, unpaid labour)",{"$f":"IF(E$68>0,E17/E$68,0)","v":0},0,0,0,0,0,0,0,0,0,0,0,0,0,0,0]
[null,null,14,"Other labour issues, strikes, trade unions, negotiations, other employment and unemployment …",{"$f":"IF(E$68>0,E18/E$68,0)","v":3.3460889855832697E-2},0,0,0,0,0,0,0,0,0,0,0,0,0,0,0]
[null,null,15,"Rural economy, agriculture, farming practices, agricultural policy, land rights …",{"$f":"IF(E$68>0,E19/E$68,0)","v":0},0,0,0,0,0,0,0,0,0,0,0,0,0,0,0]
[null,null,16,"Consumer issues, consumer protection, regulation, prices, consumer fraud …",{"$f":"IF(E$68>0,E20/E$68,0)","v":2.6166233179687005E-2},0,0,0,0,0,0,0,0,0,0,0,0,0,0,0]
[null,null,17,"Transport, traffic, roads ……",{"$f":"IF(E$68>0,E21/E$68,0)","v":7.5923986704146259E-3},0,0,0,0,0,0,0,0,0,0,0,0,0,0,0]
[null,null,18,"Other stories on the economy (specify the subject in 'Comments' section of coding sheet)",{"$f":"IF(E$68>0,E22/E$68,0)","v":1.8722705506406801E-2},0,0,0,0,0,0,0,0,0,0,0,0,0,0,0]
[null,null,19,"Science, technology, research, funding, discoveries, developments …",{"$f":"IF(E$68>0,E23/E$68,0)","v":7.5923986704146259E-3},0,0,0,0,0,0,0,0,0,0,0,0,0,0,0]
[null,null,20,"Medicine, health, hygiene, safety, disability, medical research, funding (apart from HIV-AIDS)…",{"$f":"IF(E$68>0,E24/E$68,0)","v":7.5923986704146259E-3},0,0,0,0,0,0,0,0,0,0,0,0,0,0,0]
[null,null,{"$f":"C25","v":21},"HIV and AIDS, incidence, policy, treatment, people affected …",{"$f":"IF(E$68>0,E25/E$68,0)","v":0},0,0,0,0,0,0,0,0,0,0,0,0,0,0,0]
[null,null,22,"Other epidemics, viruses, contagions, Influenza, BSE, SARS …",{"$f":"IF(E$68>0,E26/E$68,0)","v":4.1351030520516287E-2},3.4426546440806755E-2,0,0,0,0,0,0,0,0,0,0,0,0,0,0]
[null,null,23,"Birth control, fertility, sterilisation, amniocentesis, termination of pregnancy …",{"$f":"IF(E$68>0,E27/E$68,0)","v":0},0,0,0,0,0,0,0,0,0,0,0,0,0,0,0]
[null,null,24,"Environment, nature,   pollution, global warming, ecology, tourism …",{"$f":"IF(E$68>0,E28/E$68,0)","v":1.8722705506406801E-2},0,0,0,0,0,0,0,0,0,0,0,0,0,0,0]
[null,null,25,"Other stories on science or health (specify the subject in 'Comments' section of coding sheet)",{"$f":"IF(E$68>0,E29/E$68,0)","v":7.5923986704146259E-3},0,0,0,0,0,0,0,0,0,0,0,0,0,0,0]
[null,null,26,"Development issues, sustainability, community development …",{"$f":"IF(E$68>0,E30/E$68,0)","v":0},0,0,0,0,0,0,0,0,0,0,0,0,0,0,0]
[null,null,27,"Education, child care, nurseries, pre-school to university, adult education, literacy …",{"$f":"IF(E$68>0,E31/E$68,0)","v":3.7664251357804254E-2},0.18583246247213162,0,0,0,0,0,0,0,0,0,0,0,0,0,0]
[null,null,28,"Family relations, inter-generational conflict, single parents …",{"$f":"IF(E$68>0,E32/E$68,0)","v":0},0,0,0,0,0,0,0,0,0,0,0,0,0,0,0]
[null,null,29,"Human rights, women's rights, children's rights, gay & lesbian rights, rights of minorities ..",{"$f":"IF(E$68>0,E33/E$68,0)","v":1.1130306835992174E-2},3.375151414613696E-2,0,0,0,0,0,0,0,0,0,0,0,0,0,0]
[null,null,30,"Religion, culture, tradition, controversies, teachings, celebrations, practices …",{"$f":"IF(E$68>0,E34/E$68,0)","v":0},0,0,0,0,0,0,0,0,0,0,0,0,0,0,0]
[null,null,31,"Migration, refugees, asylum seekers, ethnic conflict, integration, racism, xenophobia …",{"$f":"IF(E$68>0,E35/E$68,0)","v":0},0,0,0,0,0,0,0,0,0,0,0,0,0,0,0]
[null,null,32,"Women's movement, activism, events, demonstrations, gender equality advocacy …",{"$f":"IF(E$68>0,E36/E$68,0)","v":0},0,0,0,0,0,0,0,0,0,0,0,0,0,0,0]
[null,null,33,"Changing gender relations, roles and relationships of women and men inside and outside the home …",{"$f":"IF(E$68>0,E37/E$68,0)","v":0},0,0,0,0,0,0,0,0,0,0,0,0,0,0,0]
[null,null,34,"Family law, family codes, property law, inheritance law and rights …",{"$f":"IF(E$68>0,E38/E$68,0)","v":0},0,0,0,0,0,0,0,0,0,0,0,0,0,0,0]
[null,null,35,"Legal system, judicial system, legislation (apart from family, property & inheritance law) …",{"$f":"IF(E$68>0,E39/E$68,0)","v":4.8645687196661978E-2},0,0,0,0,0,0,0,0,0,0,0,0,0,0,0]
[null,null,36,"Other stories on social or legal issues (specify the subject in 'Comments' section of coding sheet)",{"$f":"IF(E$68>0,E40/E$68,0)","v":6.7884975042328308E-2},0,0,0,0,0,0,0,0,0,0,0,0,0,0,0]
[null,null,37,"Non-violent crime, bribery, theft, drug-dealing, corruption, (including political corruption/malpractice) …",{"$f":"IF(E$68>0,E41/E$68,0)","v":3.7296540015679239E-2},5.0468638677108338E-2,0,0,0,0,0,0,0,0,0,0,0,0,0,0]
[null,null,38,"Violent crime, murder, abduction, kidnapping, assault, drug-related violence …",{"$f":"IF(E$68>0,E42/E$68,0)","v":2.2330583019840609E-2},3.375151414613696E-2,0,0,0,0,0,0,0,0,0,0,0,0,0,0]
[null,null,39,"Gender-based violence, feminicide, harassment, domestic violence, rape, trafficking, genital mutilation …",{"$f":"IF(E$68>0,E43/E$68,0)","v":0},0.11932173155872158,0,0,0,0,0,0,0,0,0,0,0,0,0,0]
[null,null,40,"Child abuse, sexual violence against children, trafficking, neglect.",{"$f":"IF(E$68>0,E44/E$68,0)","v":3.0369594681658566E-2},0,0,0,0,0,0,0,0,0,0,0,0,0,0,0]
[null,null,{"$f":"C45","v":41},"War, civil war, terrorism, state-based violence …",{"$f":"IF(E$68>0,E45/E$68,0)","v":3.3907502847236086E-2},6.817806058694352E-2,0,0,0,0,0,0,0,0,0,0,0,0,0,0]
[null,null,42,"Riots, demonstrations, public disorder …",{"$f":"IF(E$68>0,E46/E$68,0)","v":0},0,0,0,0,0,0,0,0,0,0,0,0,0,0,0]
[null,null,43,"Disaster, accident, famine, earthquake, flood, hurricane, plane crash, car crash …",{"$f":"IF(E$68>0,E47/E$68,0)","v":1.5035926343694772E-2},0.10327963932242012,0,0,0,0,0,0,0,0,0,0,0,0,0,0]
[null,null,44,"Other stories on crime and violence (specify the subject in 'Comments' section of coding sheet)",{"$f":"IF(E$68>0,E48/E$68,0)","v":1.8573834509272441E-2},0,0,0,0,0,0,0,0,0,0,0,0,0,0,0]
[null,null,45,"Celebrity news, births, marriages, deaths, obituaries, famous people, royalty …",{"$f":"IF(E$68>0,E49/E$68,0)","v":0},0,0,0,0,0,0,0,0,0,0,0,0,0,0,0]
[null,null,46,"Arts, entertainment, leisure, cinema, theatre, books, dance …",{"$f":"IF(E$68>0,E50/E$68,0)","v":7.8279859194070364E-2},6.817806058694352E-2,0,0,0,0,0,0,0,0,0,0,0,0,0,0]
[null,null,47,"Media, including new media (computers, internet), portrayal of women and/or men, pornography …",{"$f":"IF(E$68>0,E51/E$68,0)","v":0},0,0,0,0,0,0,0,0,0,0,0,0,0,0,0]
[null,null,48,"Beauty contests, models, fashion, beauty aids, cosmetic surgery …",{"$f":"IF(E$68>0,E52/E$68,0)","v":0},5.0468638677108338E-2,0,0,0,0,0,0,0,0,0,0,0,0,0,0]
[null,null,49,"Sports, events, players, facilities, training, policies, funding …",{"$f":"IF(E$68>0,E53/E$68,0)","v":3.7296540015679239E-2},0,0,0,0,0,0,0,0,0,0,0,0,0,0,0]
[null,null,50,"Other stories on celebrities, arts, media (specify the subject in 'Comments' section of coding sheet)",{"$f":"IF(E$68>0,E54/E$68,0)","v":1.8722705506406801E-2},0,0,0,0,0,0,0,0,0,0,0,0,0,0,0]
[null,null,51,"News about the girl child, including, cultural attitudes and practices impinging on girls, education, health, economic exploitation, violence (ONLY WHERE EMPHASIS IS ON THE GIRL CHILD)…",{"$f":"IF(E$68>0,E55/E$68,0)","v":0},0,0,0,0,0,0,0,0,0,0,0,0,0,0,0]
[null,null,52,"Other subject: use only if none of the above subject codes is suitable (specify the subject in 'Comments' section of coding sheet)",{"$f":"IF(E$68>0,E56/E$68,0)","v":7.5923986704146259E-3},0,0,0,0,0,0,0,0,0,0,0,0,0,0,0]
[null,null,0,0,{"$f":"IF(E$68>0,E57/E$68,0)","v":0},0,0,0,0,0,0,0,0,0,0,0,0,0,0,0]
[null,null,0,0,{"$f":"IF(E$68>0,E58/E$68,0)","v":0},0,0,0,0,0,0,0,0,0,0,0,0,0,0,0]
[null,null,0,0,{"$f":"IF(E$68>0,E59/E$68,0)","v":0},0,0,0,0,0,0,0,0,0,0,0,0,0,0,0]
[null,null,0,0,{"$f":"IF(E$68>0,E60/E$68,0)","v":0},0,0,0,0,0,0,0,0,0,0,0,0,0,0,0]
[null,null,0,0,{"$f":"IF(E$68>0,E61/E$68,0)","v":0},0,0,0,0,0,0,0,0,0,0,0,0,0,0,0]
[null,null,0,0,{"$f":"IF(E$68>0,E62/E$68,0)","v":0},0,0,0,0,0,0,0,0,0,0,0,0,0,0,0]
[]
[]
[]
[]
[]
[]
[]
[]
[]
[]
[]
[]
[]
[]
[]
[]
[]
[]
[]
[]
["COUNT"]
[null,null,null,null,{"$f":"E3","v":"No, women are not central to the news in this story"},{"$f":"F3","v":"Yes, women are central to the news in this story"},{"$f":"G3","v":"Do not know, cannot decide"},0,0,0,0,0,0,0,0,0,0,0,0,0]
[null,null,null,null,{"$f":"E4","v":0},{"$f":"F4","v":0},{"$f":"G4","v":0},0,0,0,0,0,0,0,0,0,0,0,0,0]
[null,null,{"$f":"C5","v":1},"Women in political power and decision-making (local, regional, national),",0,0,0]
[null,null,2,"Women electoral candidates (local, regional, national),",1,0,0]
[null,null,3,"Peace, negotiations, treaties…(local, regional, national),",1,1,0]
[null,null,4,"Other domestic politics/government (local, regional, national), elections, speeches, the political process …",7,0,1]
[null,null,5,"Global partnerships (international trade and finance systems, e.g. WTO, IMF, World Bank, debt) …",0,0,0]
[null,null,6,"Foreign/international politics, relations with other countries, negotiations, treaties, UN peacekeeping …",14,0,0]
[null,null,7,"National defence, military spending, military training, military parades, internal security …",4,0,0]
[null,null,8,"Other stories on politics and government (specify the subject in 'Comments' section of coding sheet)",7,4,0]
[null,null,9,"Economic policies, strategies, models (national, international) …",4,0,0]
[null,null,10,"Economic indicators, statistics, business, trade, stock markets …",2,0,0]
[null,null,11,"Economic crisis, state bailouts of companies, company takeovers and mergers …",1,0,0]
[null,null,12,"Poverty, housing, social welfare, aid to those in need …",1,0,0]
[null,null,13,"Women's participation in economic processes (informal work, paid employment, unemployment, unpaid labour)",0,0,0]
[null,null,14,"Other labour issues, strikes, trade unions, negotiations, other employment and unemployment …",4,0,0]
[null,null,15,"Rural economy, agriculture, farming practices, agricultural policy, land rights …",0,0,0]
[null,null,16,"Consumer issues, consumer protection, regulation, prices, consumer fraud …",3,0,0]
[null,null,17,"Transport, traffic, roads ……",1,0,0]
[null,null,18,"Other stories on the economy (specify the subject in 'Comments' section of coding sheet)",2,0,0]
[null,null,19,"Science, technology, research, funding, discoveries, developments …",1,0,0]
[null,null,20,"Medicine, health, hygiene, safety, disability, medical research, funding (apart from HIV-AIDS)…",1,0,0]
[null,null,{"$f":"C25","v":21},"HIV and AIDS, incidence, policy, treatment, people affected …",0,0,0]
[null,null,22,"Other epidemics, viruses, contagions, Influenza, BSE, SARS …",5,1,0]
[null,null,23,"Birth control, fertility, sterilisation, amniocentesis, termination of pregnancy …",0,0,0]
[null,null,24,"Environment, nature,   pollution, global warming, ecology, tourism …",2,0,0]
[null,null,25,"Other stories on science or health (specify the subject in 'Comments' section of coding sheet)",1,0,0]
[null,null,26,"Development issues, sustainability, community development …",0,0,0]
[null,null,27,"Education, child care, nurseries, pre-school to university, adult education, literacy …",5,4,0]
[null,null,28,"Family relations, inter-generational conflict, single parents …",0,0,0]
[null,null,29,"Human rights, women's rights, children's rights, gay & lesbian rights, rights of minorities ..",1,1,0]
[null,null,30,"Religion, culture, tradition, controversies, teachings, celebrations, practices …",0,0,0]
[null,null,31,"Migration, refugees, asylum seekers, ethnic conflict, integration, racism, xenophobia …",0,0,0]
[null,null,32,"Women's movement, activism, events, demonstrations, gender equality advocacy …",0,0,0]
[null,null,33,"Changing gender relations, roles and relationships of women and men inside and outside the home …",0,0,0]
[null,null,34,"Family law, family codes, property law, inheritance law and rights …",0,0,0]
[null,null,35,"Legal system, judicial system, legislation (apart from family, property & inheritance law) …",6,0,0]
[null,null,36,"Other stories on social or legal issues (specify the subject in 'Comments' section of coding sheet)",9,0,0]
[null,null,37,"Non-violent crime, bribery, theft, drug-dealing, corruption, (including political corruption/malpractice) …",4,1,0]
[null,null,38,"Violent crime, murder, abduction, kidnapping, assault, drug-related violence …",3,1,0]
[null,null,39,"Gender-based violence, feminicide, harassment, domestic violence, rape, trafficking, genital mutilation …",0,3,0]
[null,null,40,"Child abuse, sexual violence against children, trafficking, neglect.",4,0,0]
[null,null,{"$f":"C45","v":41},"War, civil war, terrorism, state-based violence …",4,2,0]
[null,null,42,"Riots, demonstrations, public disorder …",0,0,0]
[null,null,43,"Disaster, accident, famine, earthquake, flood, hurricane, plane crash, car crash …",2,3,0]
[null,null,44,"Other stories on crime and violence (specify the subject in 'Comments' section of coding sheet)",2,0,0]
[null,null,45,"Celebrity news, births, marriages, deaths, obituaries, famous people, royalty …",0,0,0]
[null,null,46,"Arts, entertainment, leisure, cinema, theatre, books, dance …",8,2,0]
[null,null,47,"Media, including new media (computers, internet), portrayal of women and/or men, pornography …",0,0,0]
[null,null,48,"Beauty contests, models, fashion, beauty aids, cosmetic surgery …",0,1,0]
[null,null,49,"Sports, events, players, facilities, training, policies, funding …",4,0,0]
[null,null,50,"Other stories on celebrities, arts, media (specify the subject in 'Comments' section of coding sheet)",2,0,0]
[null,null,51,"News about the girl child, including, cultural attitudes and practices impinging on girls, education, health, economic exploitation, violence (ONLY WHERE EMPHASIS IS ON THE GIRL CHILD)…",0,0,0]
[null,null,52,"Other subject: use only if none of the above subject codes is suitable (specify the subject in 'Comments' section of coding sheet)",1,0,0]
[null,null,0,0]
[null,null,0,0]
[null,null,0,0]

{"sheet":"15bF - Central focus - Topic","index":58,"n_rows":58,"n_cols":20,"rows_kept":58,"cut":false,"hidden":false,"merged":[[2,12,2,15],[0,11,0,15],[1,4,1,8],[2,5,2,9]]}
[{"$f":"'15b'!$A$1","v":"Stories with Women as a central Focus by topic"},null,null,null,null,null,null,null,null,null,null,"Sorted"]
[null,null,null,null,"DO NOT SORT THIS!"]
[null,null,null,null,null,"Yes",null,null,null,null,null,null,{"$f":"F3","v":"Yes"},null,null,null,null,null,null,"<- Press Me"]
[null,null,null,null,"Story Topic","1995","2000","2005","2010","N",null,"Story Topic","1995","2000","2005","2010","N"]
[null,null,null,null,{"$f":"'15b'!D6","v":"Women electoral candidates (local, regional, national),"},0,"n/a",null,{"$f":"'15b'!X6","v":0},{"$f":"'15b'!F152","v":0},null,"Women electoral candidates (local, regional, national),",0,"n/a",null,1,1]
[null,null,null,null,{"$f":"'15b'!D52","v":"Beauty contests, models, fashion, beauty aids, cosmetic surgery …"},0,"n/a",null,{"$f":"'15b'!X52","v":1},{"$f":"'15b'!F198","v":1},null,"Beauty contests, models, fashion, beauty aids, cosmetic surgery …",0,"n/a",null,1,2]
[null,null,null,null,{"$f":"'15b'!D37","v":"Changing gender relations, roles and relationships of women and men inside and outside the home …"},0,"n/a",null,{"$f":"'15b'!X37","v":0},{"$f":"'15b'!F183","v":0},null,"Changing gender relations, roles and relationships of women and men inside and outside the home …",0,"n/a",null,1,1]
[null,null,null,null,{"$f":"'15b'!D39","v":"Legal system, judicial system, legislation (apart from family, property & inheritance law) …"},0,"n/a",null,{"$f":"'15b'!X39","v":0},{"$f":"'15b'!F185","v":0},null,"Legal system, judicial system, legislation (apart from family, property & inheritance law) …",0,"n/a",null,1,1]
[null,null,null,null,{"$f":"'15b'!D49","v":"Celebrity news, births, marriages, deaths, obituaries, famous people, royalty …"},0,"n/a",null,{"$f":"'15b'!X49","v":0},{"$f":"'15b'!F195","v":0},null,"Celebrity news, births, marriages, deaths, obituaries, famous people, royalty …",0,"n/a",null,0.42857142857142799,3]
[null,null,null,null,{"$f":"'15b'!D50","v":"Arts, entertainment, leisure, cinema, theatre, books, dance …"},0,"n/a",null,{"$f":"'15b'!X50","v":0.16112950512118546},{"$f":"'15b'!F196","v":2},null,"Arts, entertainment, leisure, cinema, theatre, books, dance …",0,"n/a",null,0.20253440347804394,1]
[null,null,null,null,{"$f":"'15b'!D8","v":"Other domestic politics/government (local, regional, national), elections, speeches, the political process …"},0,"n/a",null,{"$f":"'15b'!X8","v":0},{"$f":"'15b'!F154","v":0},null,"Other domestic politics/government (local, regional, national), elections, speeches, the political process …",0,"n/a",null,5.837526173514785E-2,1]
[null,null,null,null,{"$f":"'15b'!D55","v":"News about the girl child, including, cultural attitudes and practices impinging on girls, education, health, economic exploitation, violence (ONLY WHERE EMPHASIS IS ON THE GIRL CHILD)…"},0,"n/a",null,{"$f":"'15b'!X55","v":0},{"$f":"'15b'!F201","v":0},null,"News about the girl child, including, cultural attitudes and practices impinging on girls, education, health, economic exploitation, violence (ONLY WHERE EMPHASIS IS ON THE GIRL CHILD)…",0,"n/a",null,0,0]
[null,null,null,null,{"$f":"'15b'!D5","v":"Women in political power and decision-making (local, regional, national),"},0,"n/a",null,{"$f":"'15b'!X5","v":0},{"$f":"'15b'!F151","v":0},null,"Women in political power and decision-making (local, regional, national),",0,"n/a",null,0,0]
[null,null,null,null,{"$f":"'15b'!D17","v":"Women's participation in economic processes (informal work, paid employment, unemployment, unpaid labour)"},0,"n/a",null,{"$f":"'15b'!X17","v":0},{"$f":"'15b'!F163","v":0},null,"Women's participation in economic processes (informal work, paid employment, unemployment, unpaid labour)",0,"n/a",null,0,0]
[null,null,null,null,{"$f":"'15b'!D36","v":"Women's movement, activism, events, demonstrations, gender equality advocacy …"},0,"n/a",null,{"$f":"'15b'!X36","v":0},{"$f":"'15b'!F182","v":0},null,"Women's movement, activism, events, demonstrations, gender equality advocacy …",0,"n/a",null,0,0]
[null,null,null,null,{"$f":"'15b'!D43","v":"Gender-based violence, feminicide, harassment, domestic violence, rape, trafficking, genital mutilation …"},0,"n/a",null,{"$f":"'15b'!X43","v":1},{"$f":"'15b'!F189","v":3},null,"Gender-based violence, feminicide, harassment, domestic violence, rape, trafficking, genital mutilation …",0,"n/a",null,0,0]
[null,null,null,null,{"$f":"'15b'!D25","v":"HIV and AIDS, incidence, policy, treatment, people affected …"},0,"n/a",null,{"$f":"'15b'!X25","v":0},{"$f":"'15b'!F171","v":0},null,"HIV and AIDS, incidence, policy, treatment, people affected …",0,"n/a",null,0,0]
[null,null,null,null,{"$f":"'15b'!D44","v":"Child abuse, sexual violence against children, trafficking, neglect."},0,"n/a",null,{"$f":"'15b'!X44","v":0},{"$f":"'15b'!F190","v":0},null,"Child abuse, sexual violence against children, trafficking, neglect.",0,"n/a",null,0,0]
[null,null,null,null,{"$f":"'15b'!D38","v":"Family law, family codes, property law, inheritance law and rights …"},0,"n/a",null,{"$f":"'15b'!X38","v":0},{"$f":"'15b'!F184","v":0},null,"Family law, family codes, property law, inheritance law and rights …",0,"n/a",null,0,0]
[null,null,null,null,{"$f":"'15b'!D33","v":"Human rights, women's rights, children's rights, gay & lesbian rights, rights of minorities .."},0,"n/a",null,{"$f":"'15b'!X33","v":0.40075341844810008},{"$f":"'15b'!F179","v":1},null,"Human rights, women's rights, children's rights, gay & lesbian rights, rights of minorities ..",0,"n/a",null,0,0]
[null,null,null,null,{"$f":"'15b'!D27","v":"Birth control, fertility, sterilisation, amniocentesis, termination of pregnancy …"},0,"n/a",null,{"$f":"'15b'!X27","v":0},{"$f":"'15b'!F173","v":0},null,"Birth control, fertility, sterilisation, amniocentesis, termination of pregnancy …",0,"n/a",null,0,0]
[null,null,null,null,{"$f":"'15b'!D32","v":"Family relations, inter-generational conflict, single parents …"},0,"n/a",null,{"$f":"'15b'!X32","v":0},{"$f":"'15b'!F178","v":0},null,"Family relations, inter-generational conflict, single parents …",0,"n/a",null,0,0]
[null,null,null,null,{"$f":"'15b'!D54","v":"Other stories on celebrities, arts, media (specify the subject in 'Comments' section of coding sheet)"},0,"n/a",null,{"$f":"'15b'!X54","v":0},{"$f":"'15b'!F200","v":0},null,"Other stories on celebrities, arts, media (specify the subject in 'Comments' section of coding sheet)",0,"n/a",null,0,0]
[null,null,null,null,{"$f":"'15b'!D9","v":"Global partnerships (international trade and finance systems, e.g. WTO, IMF, World Bank, debt) …"},0,"n/a",null,{"$f":"'15b'!X9","v":0},{"$f":"'15b'!F155","v":0},null,"Global partnerships (international trade and finance systems, e.g. WTO, IMF, World Bank, debt) …",0,"n/a",null,0,0]
[null,null,null,null,{"$f":"'15b'!D48","v":"Other stories on crime and violence (specify the subject in 'Comments' section of coding sheet)"},0,"n/a",null,{"$f":"'15b'!X48","v":0},{"$f":"'15b'!F194","v":0},null,"Other stories on crime and violence (specify the subject in 'Comments' section of coding sheet)",0,"n/a",null,0,0]
[null,null,null,null,{"$f":"'15b'!D35","v":"Migration, refugees, asylum seekers, ethnic conflict, integration, racism, xenophobia …"},0,"n/a",null,{"$f":"'15b'!X35","v":0},{"$f":"'15b'!F181","v":0},null,"Migration, refugees, asylum seekers, ethnic conflict, integration, racism, xenophobia …",0,"n/a",null,0,0]
[null,null,null,null,{"$f":"'15b'!D42","v":"Violent crime, murder, abduction, kidnapping, assault, drug-related violence …"},0,"n/a",null,{"$f":"'15b'!X42","v":0.24999999999999967},{"$f":"'15b'!F188","v":1},null,"Violent crime, murder, abduction, kidnapping, assault, drug-related violence …",0,"n/a",null,0,0]
[null,null,null,null,{"$f":"'15b'!D22","v":"Other stories on the economy (specify the subject in 'Comments' section of coding sheet)"},0,"n/a",null,{"$f":"'15b'!X22","v":0},{"$f":"'15b'!F168","v":0},null,"Other stories on the economy (specify the subject in 'Comments' section of coding sheet)",0,"n/a",null,0,0]
[null,null,null,null,{"$f":"'15b'!D40","v":"Other stories on social or legal issues (specify the subject in 'Comments' section of coding sheet)"},0,"n/a",null,{"$f":"'15b'!X40","v":0},{"$f":"'15b'!F186","v":0},null,"Other stories on social or legal issues (specify the subject in 'Comments' section of coding sheet)",0,"n/a",null,0,0]
[null,null,null,null,{"$f":"'15b'!D51","v":"Media, including new media (computers, internet), portrayal of women and/or men, pornography …"},0,"n/a",null,{"$f":"'15b'!X51","v":0},{"$f":"'15b'!F197","v":0},null,"Media, including new media (computers, internet), portrayal of women and/or men, pornography …",0,"n/a",null,0,0]
[null,null,null,null,{"$f":"'15b'!D24","v":"Medicine, health, hygiene, safety, disability, medical research, funding (apart from HIV-AIDS)…"},0,"n/a",null,{"$f":"'15b'!X24","v":0},{"$f":"'15b'!F170","v":0},null,"Medicine, health, hygiene, safety, disability, medical research, funding (apart from HIV-AIDS)…",0,"n/a",null,0,0]
[null,null,null,null,{"$f":"'15b'!D12","v":"Other stories on politics and government (specify the subject in 'Comments' section of coding sheet)"},0,"n/a",null,{"$f":"'15b'!X12","v":0.41229466515042812},{"$f":"'15b'!F158","v":4},null,"Other stories on politics and government (specify the subject in 'Comments' section of coding sheet)",0,"n/a",null,0,0]
[null,null,null,null,{"$f":"'15b'!D47","v":"Disaster, accident, famine, earthquake, flood, hurricane, plane crash, car crash …"},0,"n/a",null,{"$f":"'15b'!X47","v":0.60236221165346349},{"$f":"'15b'!F193","v":3},null,"Disaster, accident, famine, earthquake, flood, hurricane, plane crash, car crash …",0,"n/a",null,0,0]
[null,null,null,null,{"$f":"'15b'!D29","v":"Other stories on science or health (specify the subject in 'Comments' section of coding sheet)"},0,"n/a",null,{"$f":"'15b'!X29","v":0},{"$f":"'15b'!F175","v":0},null,"Other stories on science or health (specify the subject in 'Comments' section of coding sheet)",0,"n/a",null,0,0]
[null,null,null,null,{"$f":"'15b'!D34","v":"Religion, culture, tradition, controversies, teachings, celebrations, practices …"},0,"n/a",null,{"$f":"'15b'!X34","v":0},{"$f":"'15b'!F180","v":0},null,"Religion, culture, tradition, controversies, teachings, celebrations, practices …",0,"n/a",null,0,0]
[null,null,null,null,{"$f":"'15b'!D7","v":"Peace, negotiations, treaties…(local, regional, national),"},0,"n/a",null,{"$f":"'15b'!X7","v":0.5},{"$f":"'15b'!F153","v":1},null,"Peace, negotiations, treaties…(local, regional, national),",0,"n/a",null,0,0]
[null,null,null,null,{"$f":"'15b'!D31","v":"Education, child care, nurseries, pre-school to university, adult education, literacy …"},0,"n/a",null,{"$f":"'15b'!X31","v":0.5211008922332786},{"$f":"'15b'!F177","v":4},null,"Education, child care, nurseries, pre-school to university, adult education, literacy …",0,"n/a",null,0,0]
[null,null,null,null,{"$f":"'15b'!D30","v":"Development issues, sustainability, community development …"},0,"n/a",null,{"$f":"'15b'!X30","v":0},{"$f":"'15b'!F176","v":0},null,"Development issues, sustainability, community development …",0,"n/a",null,0,0]
[null,null,null,null,{"$f":"'15b'!D16","v":"Poverty, housing, social welfare, aid to those in need …"},0,"n/a",null,{"$f":"'15b'!X16","v":0},{"$f":"'15b'!F162","v":0},null,"Poverty, housing, social welfare, aid to those in need …",0,"n/a",null,0,0]
[null,null,null,null,{"$f":"'15b'!D41","v":"Non-violent crime, bribery, theft, drug-dealing, corruption, (including political corruption/malpractice) …"},0,"n/a",null,{"$f":"'15b'!X41","v":0.229837529378769},{"$f":"'15b'!F187","v":1},null,"Non-violent crime, bribery, theft, drug-dealing, corruption, (including political corruption/malpractice) …",0,"n/a",null,0,0]
[null,null,null,null,{"$f":"'15b'!D26","v":"Other epidemics, viruses, contagions, Influenza, BSE, SARS …"},0,"n/a",null,{"$f":"'15b'!X26","v":0.15512600559303427},{"$f":"'15b'!F172","v":1},null,"Other epidemics, viruses, contagions, Influenza, BSE, SARS …",0,"n/a",null,0,0]
[null,null,null,null,{"$f":"'15b'!D53","v":"Sports, events, players, facilities, training, policies, funding …"},0,"n/a",null,{"$f":"'15b'!X53","v":0},{"$f":"'15b'!F199","v":0},null,"Sports, events, players, facilities, training, policies, funding …",0,"n/a",null,0,0]
[null,null,null,null,{"$f":"'15b'!D46","v":"Riots, demonstrations, public disorder …"},0,"n/a",null,{"$f":"'15b'!X46","v":0},{"$f":"'15b'!F192","v":0},null,"Riots, demonstrations, public disorder …",0,"n/a",null,0,0]
[null,null,null,null,{"$f":"'15b'!D45","v":"War, civil war, terrorism, state-based violence …"},0,"n/a",null,{"$f":"'15b'!X45","v":0.3072103159147031},{"$f":"'15b'!F191","v":2},null,"War, civil war, terrorism, state-based violence …",0,"n/a",null,0,0]
[null,null,null,null,{"$f":"'15b'!D20","v":"Consumer issues, consumer protection, regulation, prices, consumer fraud …"},0,"n/a",null,{"$f":"'15b'!X20","v":0},{"$f":"'15b'!F166","v":0},null,"Consumer issues, consumer protection, regulation, prices, consumer fraud …",0,"n/a",null,0,0]
[null,null,null,null,{"$f":"'15b'!D11","v":"National defence, military spending, military training, military parades, internal security …"},0,"n/a",null,{"$f":"'15b'!X11","v":0},{"$f":"'15b'!F157","v":0},null,"National defence, military spending, military training, military parades, internal security …",0,"n/a",null,0,0]
[null,null,null,null,{"$f":"'15b'!D10","v":"Foreign/international politics, relations with other countries, negotiations, treaties, UN peacekeeping …"},0,"n/a",null,{"$f":"'15b'!X10","v":0},{"$f":"'15b'!F156","v":0},null,"Foreign/international politics, relations with other countries, negotiations, treaties, UN peacekeeping …",0,"n/a",null,0,0]
[null,null,null,null,{"$f":"'15b'!D28","v":"Environment, nature,   pollution, global warming, ecology, tourism …"},0,"n/a",null,{"$f":"'15b'!X28","v":0},{"$f":"'15b'!F174","v":0},null,"Environment, nature,   pollution, global warming, ecology, tourism …",0,"n/a",null,0,0]
[null,null,null,null,{"$f":"'15b'!D18","v":"Other labour issues, strikes, trade unions, negotiations, other employment and unemployment …"},0,"n/a",null,{"$f":"'15b'!X18","v":0},{"$f":"'15b'!F164","v":0},null,"Other labour issues, strikes, trade unions, negotiations, other employment and unemployment …",0,"n/a",null,0,0]
[null,null,null,null,{"$f":"'15b'!D14","v":"Economic indicators, statistics, business, trade, stock markets …"},0,"n/a",null,{"$f":"'15b'!X14","v":0},{"$f":"'15b'!F160","v":0},null,"Economic indicators, statistics, business, trade, stock markets …",0,"n/a",null,0,0]
[null,null,null,null,{"$f":"'15b'!D23","v":"Science, technology, research, funding, discoveries, developments …"},0,"n/a",null,{"$f":"'15b'!X23","v":0},{"$f":"'15b'!F169","v":0},null,"Science, technology, research, funding, discoveries, developments …",0,"n/a",null,0,0]
[null,null,null,null,{"$f":"'15b'!D15","v":"Economic crisis, state bailouts of companies, company takeovers and mergers …"},0,"n/a",null,{"$f":"'15b'!X15","v":0},{"$f":"'15b'!F161","v":0},null,"Economic crisis, state bailouts of companies, company takeovers and mergers …",0,"n/a",null,0,0]
[null,null,null,null,{"$f":"'15b'!D13","v":"Economic policies, strategies, models (national, international) …"},0,"n/a",null,{"$f":"'15b'!X13","v":0},{"$f":"'15b'!F159","v":0},null,"Economic policies, strategies, models (national, international) …",0,"n/a",null,0,0]
[null,null,null,null,{"$f":"'15b'!D21","v":"Transport, traffic, roads ……"},0,"n/a",null,{"$f":"'15b'!X21","v":0},{"$f":"'15b'!F167","v":0},null,"Transport, traffic, roads ……",0,"n/a",null,0,0]
[null,null,null,null,{"$f":"'15b'!D19","v":"Rural economy, agriculture, farming practices, agricultural policy, land rights …"},0,"n/a",null,{"$f":"'15b'!X19","v":0},{"$f":"'15b'!F165","v":0},null,"Rural economy, agriculture, farming practices, agricultural policy, land rights …",0,"n/a",null,0,0]
[null,null,null,null,{"$f":"'15b'!D56","v":"Other subject: use only if none of the above subject codes is suitable (specify the subject in 'Comments' section of coding sheet)"},0,"n/a",null,{"$f":"'15b'!X56","v":0},{"$f":"'15b'!F202","v":0}]
[]
[null,null,null,null,{"$f":"'15b'!D68","v":"TOTAL"},0,0,0,{"$f":"'15b'!X68","v":0.18068989238825597},{"$f":"SUM(J5:J56)","v":24}]

{"sheet":"16e","index":59,"n_rows":205,"n_cols":53,"rows_kept":205,"cut":false,"hidden":true,"merged":[]}
["Stories where issues of gender equality/inequality are raised by topic"]
[null,null,null,null,"Disagree. The story does not highlight issues concerning inequality","Disagree. The story does not highlight issues concerning inequality","Agree. The story clearly highlight issues concerning inequality","Agree. The story clearly highlight issues concerning inequality","Do not know, cannot decide","Do not know, cannot decide",null,null,null,null,null,null,null,null,null,null,"%",null,null,null,null,null,null,null,null,null,null,null,null,null,null,null,null,null,null,null,null,null,null,null,null,{"$f":"E2","v":"Disagree. The story does not highlight issues concerning inequality"},"Disagree. The story does not highlight issues concerning inequality",{"$f":"G2","v":"Agree. The story clearly highlight issues concerning inequality"},"Agree. The story clearly highlight issues concerning inequality","Do not know, cannot decide","Do not know, cannot decide",0,0]
[null,null,null,null,"Female","Male","Female","Male","Female","Male",null,null,null,null,null,null,null,null,"Disagree","Agree","Disagree","Agree",null,null,null,null,null,null,null,null,null,null,null,null,null,null,null,null,null,null,null,null,null,null,null,"Female","Male","Female","Male","Female","Male",0,0]
[null,null,null,null,null,null,null,null,null,null,null,null,null,null,null,null,null,null,null,null,null,null,null,null,null,null,null,null,null,null,null,null,null,null,null,null,null,null,null,null,null,null,null,null,"TOTAL",0,0,0,0,0,0,0,0]
[null,null,1,"Women in political power and decision-making (local, regional, national),",null,null,null,null,null,null,null,null,null,null,null,null,null,null,{"$f":"SUM(E5:F5)","v":0},{"$f":"G5+H5","v":0},{"$f":"IF(S$68>0,+S5/S$68,0)","v":0},{"$f":"IF(T$68>0,+T5/T$68,0)","v":0},null,null,null,null,null,null,null,null,null,null,null,null,null,null,null,null,null,null,null,null,null,null,{"$f":"SUM(E5:O5)","v":0},{"$f":"IF((E5+F5)>0,E5/(E5+F5),0)","v":0},{"$f":"IF((E5+F5)>0,F5/(E5+F5),0)","v":0},{"$f":"IF((G5+H5)>0,G5/(G5+H5),0)","v":0},{"$f":"IF((G5+H5)>0,H5/(G5+H5),0)","v":0},{"$f":"IF((I5+J5)>0,I5/(I5+J5),0)","v":0},{"$f":"IF((I5+J5)>0,J5/(I5+J5),0)","v":0},{"$f":"IF((K5+L5)>0,K5/(K5+L5),0)","v":0},{"$f":"IF((K5+L5)>0,L5/(K5+L5),0)","v":0}]
[null,null,2,"Women electoral candidates (local, regional, national),",5.1000001840293399E-3,1.0200000368058701E-2,null,null,null,null,null,null,null,null,null,null,null,null,{"$f":"SUM(E6:F6)","v":1.530000055208804E-2},{"$f":"G6+H6","v":0},{"$f":"IF(S$68>0,+S6/S$68,0)","v":7.67998105828033E-3},0,null,null,null,null,null,null,null,null,null,null,null,null,null,null,null,null,null,null,null,null,null,null,1.530000055208804E-2,0.33333333333333293,0.66666666666666718,0,0,0,0,0,0]
[null,null,3,"Peace, negotiations, treaties…(local, regional, national),",2.242949930951E-2,7.47649976983666E-2,null,null,null,null,null,null,null,null,null,null,null,null,9.7194497007876607E-2,0,4.8787703859769202E-2,0,null,null,null,null,null,null,null,null,null,null,null,null,null,null,null,null,null,null,null,null,null,null,9.7194497007876607E-2,0.23076923076923089,0.76923076923076905,0,0,0,0,0,0]
[null,null,4,"Other domestic politics/government (local, regional, national), elections, speeches, the political process …",1.7576499842107299E-2,7.3129500262439306E-2,null,null,7.4764997698366599E-3,3.73824988491833E-2,null,null,null,null,null,null,null,null,9.0706000104546602E-2,0,4.5530741015576075E-2,0,null,null,null,null,null,null,null,null,null,null,null,null,null,null,null,null,null,null,null,null,null,null,0.13556499872356656,0.19377439002765909,0.80622560997234094,0,0,0.16666666666666669,0.83333333333333337,0,0]
[null,null,5,"Global partnerships (international trade and finance systems, e.g. WTO, IMF, World Bank, debt) …",null,null,null,null,null,null,null,null,null,null,null,null,null,null,0,0,0,0,null,null,null,null,null,null,null,null,null,null,null,null,null,null,null,null,null,null,null,null,null,null,0,0,0,0,0,0,0,0,0]
[null,null,6,"Foreign/international politics, relations with other countries, negotiations, treaties, UN peacekeeping …",4.52059996314347E-2,0.22102399822324501,null,null,null,null,null,null,null,null,null,null,null,null,0.26622999785467971,0,0.13363668411050575,0,null,null,null,null,null,null,null,null,null,null,null,null,null,null,null,null,null,null,null,null,null,null,0.26622999785467971,0.16980054838189257,0.83019945161810738,0,0,0,0,0,0]
[null,null,7,"National defence, military spending, military training, military parades, internal security …",null,2.9905999079346698E-2,null,null,null,null,null,null,null,null,null,null,null,null,2.9905999079346698E-2,0,1.5011601187621317E-2,0,null,null,null,null,null,null,null,null,null,null,null,null,null,null,null,null,null,null,null,null,null,null,2.9905999079346698E-2,0,1,0,0,0,0,0,0]
[null,null,8,"Other stories on politics and government (specify the subject in 'Comments' section of coding sheet)",0.115117997862399,0.16760049667209401,null,null,null,null,null,null,null,null,null,null,null,null,0.28271849453449299,0,0.14191324212430284,0,null,null,null,null,null,null,null,null,null,null,null,null,null,null,null,null,null,null,null,null,null,null,0.28271849453449299,0.40718240966847702,0.59281759033152304,0,0,0,0,0,0]
[null,null,9,"Economic policies, strategies, models (national, international) …",null,0.102641498204321,null,null,null,null,null,null,null,null,null,null,null,null,0.102641498204321,0,5.1521878010332492E-2,0,null,null,null,null,null,null,null,null,null,null,null,null,null,null,null,null,null,null,null,null,null,null,0.102641498204321,0,1,0,0,0,0,0,0]
[null,null,10,"Economic indicators, statistics, business, trade, stock markets …",null,7.4764997698366599E-3,null,null,null,null,null,null,null,null,null,null,null,null,7.4764997698366599E-3,0,3.7529002969053219E-3,0,null,null,null,null,null,null,null,null,null,null,null,null,null,null,null,null,null,null,null,null,null,null,7.4764997698366599E-3,0,1,0,0,0,0,0,0]
[null,null,11,"Economic crisis, state bailouts of companies, company takeovers and mergers …",null,4.9999998882412902E-3,null,null,null,null,null,null,null,null,null,null,null,null,4.9999998882412902E-3,0,2.509797584801807E-3,0,null,null,null,null,null,null,null,null,null,null,null,null,null,null,null,null,null,null,null,null,null,null,4.9999998882412902E-3,0,1,0,0,0,0,0,0]
[null,null,12,"Poverty, housing, social welfare, aid to those in need …",1.0200000368058701E-2,1.5300000552088E-2,null,null,null,null,null,null,null,null,null,null,null,null,2.55000009201467E-2,0,1.27999684304672E-2,0,null,null,null,null,null,null,null,null,null,null,null,null,null,null,null,null,null,null,null,null,null,null,2.55000009201467E-2,0.4000000000000008,0.5999999999999992,0,0,0,0,0,0]
[null,null,13,"Women's participation in economic processes (informal work, paid employment, unemployment, unpaid labour)",null,null,null,null,null,null,null,null,null,null,null,null,null,null,0,0,0,0,null,null,null,null,null,null,null,null,null,null,null,null,null,null,null,null,null,null,null,null,null,null,0,0,0,0,0,0,0,0,0]
[null,null,14,"Other labour issues, strikes, trade unions, negotiations, other employment and unemployment …",2.49529993161559E-2,1.9952999427914599E-2,null,null,null,null,null,null,null,null,null,null,null,null,4.4905998744070502E-2,0,2.2540993942026705E-2,0,null,null,null,null,null,null,null,null,null,null,null,null,null,null,null,null,null,null,null,null,null,null,4.4905998744070502E-2,0.55567184817263982,0.44432815182736007,0,0,0,0,0,0]
[null,null,15,"Rural economy, agriculture, farming practices, agricultural policy, land rights …",null,null,null,null,null,null,null,null,null,null,null,null,null,null,0,0,0,0,null,null,null,null,null,null,null,null,null,null,null,null,null,null,null,null,null,null,null,null,null,null,0,0,0,0,0,0,0,0,0]
[null,null,16,"Consumer issues, consumer protection, regulation, prices, consumer fraud …",null,1.2576499953866E-2,null,null,null,null,null,null,null,null,null,null,null,null,1.2576499953866E-2,0,6.3128939829987622E-3,0,null,null,null,null,null,null,null,null,null,null,null,null,null,null,null,null,null,null,null,null,null,null,1.2576499953866E-2,0,1,0,0,0,0,0,0]
[null,null,17,"Transport, traffic, roads ……",null,null,null,null,null,null,null,null,null,null,null,null,null,null,0,0,0,0,null,null,null,null,null,null,null,null,null,null,null,null,null,null,null,null,null,null,null,null,null,null,0,0,0,0,0,0,0,0,0]
[null,null,18,"Other stories on the economy (specify the subject in 'Comments' section of coding sheet)",1.2576499953866E-2,3.0253000091761399E-2,null,null,null,null,null,null,null,null,null,null,null,null,4.2829500045627397E-2,0,2.1498675635089753E-2,0,null,null,null,null,null,null,null,null,null,null,null,null,null,null,null,null,null,null,null,null,null,null,4.2829500045627397E-2,0.29364106376371246,0.70635893623628754,0,0,0,0,0,0]
[null,null,19,"Science, technology, research, funding, discoveries, developments …",null,5.1000001840293399E-3,null,null,null,null,null,null,null,null,null,null,null,null,5.1000001840293399E-3,0,2.5599936860934399E-3,0,null,null,null,null,null,null,null,null,null,null,null,null,null,null,null,null,null,null,null,null,null,null,5.1000001840293399E-3,0,1,0,0,0,0,0,0]
[null,null,20,"Medicine, health, hygiene, safety, disability, medical research, funding (apart from HIV-AIDS)…",5.1000001840293399E-3,5.1000001840293399E-3,null,null,null,null,null,null,null,null,null,null,null,null,1.020000036805868E-2,0,5.1199873721868797E-3,0,null,null,null,null,null,null,null,null,null,null,null,null,null,null,null,null,null,null,null,null,null,null,1.020000036805868E-2,0.5,0.5,0,0,0,0,0,0]
[null,null,21,"HIV and AIDS, incidence, policy, treatment, people affected …",null,null,null,null,null,null,null,null,null,null,null,null,null,null,0,0,0,0,null,null,null,null,null,null,null,null,null,null,null,null,null,null,null,null,null,null,null,null,null,null,0,0,0,0,0,0,0,0,0]
[null,null,22,"Other epidemics, viruses, contagions, Influenza, BSE, SARS …",2.0400000736117401E-2,3.04000005125999E-2,null,null,null,null,null,null,null,null,null,null,null,null,5.0800001248717301E-2,0,2.5499544658351133E-2,0,null,null,null,null,null,null,null,null,null,null,null,null,null,null,null,null,null,null,null,null,null,null,5.0800001248717301E-2,0.40157480776897619,0.59842519223102375,0,0,0,0,0,0]
[null,null,23,"Birth control, fertility, sterilisation, amniocentesis, termination of pregnancy …",null,null,null,null,null,null,null,null,null,null,null,null,null,null,0,0,0,0,null,null,null,null,null,null,null,null,null,null,null,null,null,null,null,null,null,null,null,null,null,null,0,0,0,0,0,0,0,0,0]
[null,null,24,"Environment, nature,   pollution, global warming, ecology, tourism …",1.2576499953866E-2,null,null,null,null,null,null,null,null,null,null,null,null,null,1.2576499953866E-2,0,6.3128939829987622E-3,0,null,null,null,null,null,null,null,null,null,null,null,null,null,null,null,null,null,null,null,null,null,null,1.2576499953866E-2,1,0,0,0,0,0,0,0]
[null,null,25,"Other stories on science or health (specify the subject in 'Comments' section of coding sheet)",null,2.0400000736117401E-2,null,null,null,null,null,null,null,null,null,null,null,null,2.0400000736117401E-2,0,1.023997474437378E-2,0,null,null,null,null,null,null,null,null,null,null,null,null,null,null,null,null,null,null,null,null,null,null,2.0400000736117401E-2,0,1,0,0,0,0,0,0]
[null,null,26,"Development issues, sustainability, community development …",null,null,null,null,null,null,null,null,null,null,null,null,null,null,0,0,0,0,null,null,null,null,null,null,null,null,null,null,null,null,null,null,null,null,null,null,null,null,null,null,0,0,0,0,0,0,0,0,0]
[null,null,27,"Education, child care, nurseries, pre-school to university, adult education, literacy …",4.52059996314347E-2,4.0400000289082499E-2,null,null,null,null,null,null,null,null,null,null,null,null,8.5605999920517206E-2,0,4.2970747329482611E-2,0,null,null,null,null,null,null,null,null,null,null,null,null,null,null,null,null,null,null,null,null,null,null,8.5605999920517206E-2,0.52807045853570089,0.471929541464299,0,0,0,0,0,0]
[null,null,28,"Family relations, inter-generational conflict, single parents …",null,null,null,null,null,null,null,null,null,null,null,null,null,null,0,0,0,0,null,null,null,null,null,null,null,null,null,null,null,null,null,null,null,null,null,null,null,null,null,null,0,0,0,0,0,0,0,0,0]
[null,null,29,"Human rights, women's rights, children's rights, gay & lesbian rights, rights of minorities ..",7.4764997698366599E-3,null,4.9999998882412902E-3,null,null,null,null,null,null,null,null,null,null,null,7.4764997698366599E-3,4.9999998882412902E-3,3.7529002969053219E-3,1,null,null,null,null,null,null,null,null,null,null,null,null,null,null,null,null,null,null,null,null,null,null,1.247649965807795E-2,1,0,1,0,0,0,0,0]
[null,null,30,"Religion, culture, tradition, controversies, teachings, celebrations, practices …",null,null,null,null,null,null,null,null,null,null,null,null,null,null,0,0,0,0,null,null,null,null,null,null,null,null,null,null,null,null,null,null,null,null,null,null,null,null,null,null,0,0,0,0,0,0,0,0,0]
[null,null,31,"Migration, refugees, asylum seekers, ethnic conflict, integration, racism, xenophobia …",null,null,null,null,null,null,null,null,null,null,null,null,null,null,0,0,0,0,null,null,null,null,null,null,null,null,null,null,null,null,null,null,null,null,null,null,null,null,null,null,0,0,0,0,0,0,0,0,0]
[null,null,32,"Women's movement, activism, events, demonstrations, gender equality advocacy …",null,null,null,null,null,null,null,null,null,null,null,null,null,null,0,0,0,0,null,null,null,null,null,null,null,null,null,null,null,null,null,null,null,null,null,null,null,null,null,null,0,0,0,0,0,0,0,0,0]
[null,null,33,"Changing gender relations, roles and relationships of women and men inside and outside the home …",null,null,null,null,null,null,null,null,null,null,null,null,null,null,0,0,0,0,null,null,null,null,null,null,null,null,null,null,null,null,null,null,null,null,null,null,null,null,null,null,{"$f":"SUM(E37:O37)","v":0},{"$f":"IF((E37+F37)>0,E37/(E37+F37),0)","v":0},{"$f":"IF((E37+F37)>0,F37/(E37+F37),0)","v":0},0,0,0,0,0,0]
[null,null,34,"Family law, family codes, property law, inheritance law and rights …",null,null,null,null,null,null,null,null,null,null,null,null,null,null,0,0,0,0,null,null,null,null,null,null,null,null,null,null,null,null,null,null,null,null,null,null,null,null,null,null,0,0,0,0,0,0,0,0,0]
[null,null,35,"Legal system, judicial system, legislation (apart from family, property & inheritance law) …",1.2576499953866E-2,2.2576499730348601E-2,null,null,null,null,null,null,null,null,null,null,null,null,3.5152999684214599E-2,0,1.7645383135601149E-2,0,null,null,null,null,null,null,null,null,null,null,null,null,null,null,null,null,null,null,null,null,null,null,3.5152999684214599E-2,0.35776463080940024,0.64223536919059976,0,0,0,0,0,0]
[null,null,36,"Other stories on social or legal issues (specify the subject in 'Comments' section of coding sheet)",3.0600001104175999E-2,7.6200001873076004E-2,null,null,null,null,null,null,null,null,null,null,null,null,0.10680000297725201,0,5.3609279104087346E-2,0,null,null,null,null,null,null,null,null,null,null,null,null,null,null,null,null,null,null,null,null,null,null,0.10680000297725201,0.28651685628411155,0.71348314371588839,0,0,0,0,0,0]
[null,null,37,"Non-violent crime, bribery, theft, drug-dealing, corruption, (including political corruption/malpractice) …",2.2676500026136599E-2,4.7382498625665903E-2,null,null,null,null,null,null,null,null,null,null,null,null,7.0058998651802498E-2,0,3.5166781908024226E-2,0,null,null,null,null,null,null,null,null,null,null,null,null,null,null,null,null,null,null,null,null,null,null,7.0058998651802498E-2,0.32367719297331365,0.67632280702668635,0,0,0,0,0,0]
[null,null,38,"Violent crime, murder, abduction, kidnapping, assault, drug-related violence …",1.4999999664723899E-2,1.9999999552965199E-2,null,null,null,null,null,null,null,null,null,null,null,null,3.49999992176891E-2,0,1.7568583093612682E-2,0,null,null,null,null,null,null,null,null,null,null,null,null,null,null,null,null,null,null,null,null,null,null,3.49999992176891E-2,0.42857142857142855,0.5714285714285714,0,0,0,0,0,0]
[null,null,39,"Gender-based violence, feminicide, harassment, domestic violence, rape, trafficking, genital mutilation …",2.27765003219247E-2,3.2976500689983403E-2,null,null,null,null,null,null,null,null,null,null,null,null,5.5753001011908103E-2,0,2.7985750082558197E-2,0,null,null,null,null,null,null,null,null,null,null,null,null,null,null,null,null,null,null,null,null,null,null,5.5753001011908103E-2,0.40852510014770221,0.59147489985229784,0,0,0,0,0,0]
[null,null,40,"Child abuse, sexual violence against children, trafficking, neglect.",1.0200000368058701E-2,2.0400000736117401E-2,null,null,null,null,null,null,null,null,null,null,null,null,3.06000011041761E-2,0,1.535996211656067E-2,0,null,null,null,null,null,null,null,null,null,null,null,null,null,null,null,null,null,null,null,null,null,null,3.06000011041761E-2,0.33333333333333337,0.66666666666666674,0,0,0,0,0,0]
[null,null,41,"War, civil war, terrorism, state-based violence …",2.2676500026136599E-2,2.55000009201467E-2,null,null,null,null,null,null,null,null,null,null,null,null,4.8176500946283299E-2,0,2.4182653684361195E-2,0,null,null,null,null,null,null,null,null,null,null,null,null,null,null,null,null,null,null,null,null,null,null,4.8176500946283299E-2,0.47069628513330286,0.52930371486669714,0,0,0,0,0,0]
[null,null,42,"Riots, demonstrations, public disorder …",null,null,null,null,null,null,null,null,null,null,null,null,null,null,0,0,0,0,null,null,null,null,null,null,null,null,null,null,null,null,null,null,null,null,null,null,null,null,null,null,0,0,0,0,0,0,0,0,0]
[null,null,43,"Disaster, accident, famine, earthquake, flood, hurricane, plane crash, car crash …",2.55000009201467E-2,4.9999998882412902E-3,null,null,null,null,null,null,null,null,null,null,null,null,3.0500000808387991E-2,0,1.5309766015269007E-2,0,null,null,null,null,null,null,null,null,null,null,null,null,null,null,null,null,null,null,null,null,null,null,3.0500000808387991E-2,0.83606558177971557,0.16393441822028443,0,0,0,0,0,0]
[null,null,44,"Other stories on crime and violence (specify the subject in 'Comments' section of coding sheet)",null,2.242949930951E-2,null,null,null,null,null,null,null,null,null,null,null,null,2.242949930951E-2,0,1.1258700890715977E-2,0,null,null,null,null,null,null,null,null,null,null,null,null,null,null,null,null,null,null,null,null,null,null,2.242949930951E-2,0,1,0,0,0,0,0,0]
[null,null,45,"Celebrity news, births, marriages, deaths, obituaries, famous people, royalty …",null,null,null,null,null,null,null,null,null,null,null,null,null,null,0,0,0,0,null,null,null,null,null,null,null,null,null,null,null,null,null,null,null,null,null,null,null,null,null,null,0,0,0,0,0,0,0,0,0]
[null,null,46,"Arts, entertainment, leisure, cinema, theatre, books, dance …",4.2729499749839299E-2,0.14487099647522,null,null,null,null,null,null,null,null,null,null,null,null,0.18760049622505931,0,9.4167856571470504E-2,0,null,null,null,null,null,null,null,null,null,null,null,null,null,null,null,null,null,null,null,null,null,null,0.18760049622505931,0.22776858595607263,0.77223141404392737,0,0,0,0,0,0]
[null,null,47,"Media, including new media (computers, internet), portrayal of women and/or men, pornography …",null,null,null,null,null,null,null,null,null,null,null,null,null,null,0,0,0,0,null,null,null,null,null,null,null,null,null,null,null,null,null,null,null,null,null,null,null,null,null,null,0,0,0,0,0,0,0,0,0]
[null,null,48,"Beauty contests, models, fashion, beauty aids, cosmetic surgery …",7.4764997698366599E-3,null,null,null,null,null,null,null,null,null,null,null,null,null,7.4764997698366599E-3,0,3.7529002969053219E-3,0,null,null,null,null,null,null,null,null,null,null,null,null,null,null,null,null,null,null,null,null,null,null,7.4764997698366599E-3,1,0,0,0,0,0,0,0]
[null,null,49,"Sports, events, players, facilities, training, policies, funding …",null,0.102294497191906,null,null,null,null,null,null,null,null,null,null,null,null,0.102294497191906,0,5.1347697545862665E-2,0,null,null,null,null,null,null,null,null,null,null,null,null,null,null,null,null,null,null,null,null,null,null,0.102294497191906,0,1,0,0,0,0,0,0]
[null,null,50,"Other stories on celebrities, arts, media (specify the subject in 'Comments' section of coding sheet)",null,4.52059996314347E-2,null,null,null,null,null,null,null,null,null,null,null,null,4.52059996314347E-2,0,2.2691582245901627E-2,0,null,null,null,null,null,null,null,null,null,null,null,null,null,null,null,null,null,null,null,null,null,null,4.52059996314347E-2,0,1,0,0,0,0,0,0]
[null,null,51,"News about the girl child, including, cultural attitudes and practices impinging on girls, education, health, economic exploitation, violence (ONLY WHERE EMPHASIS IS ON THE GIRL CHILD)…",null,null,null,null,null,null,null,null,null,null,null,null,null,null,0,0,0,0,null,null,null,null,null,null,null,null,null,null,null,null,null,null,null,null,null,null,null,null,null,null,0,0,0,0,0,0,0,0,0]
[null,null,52,"Other subject: use only if none of the above subject codes is suitable (specify the subject in 'Comments' section of coding sheet)",null,null,null,null,null,null,null,null,null,null,null,null,null,null,null,null,null,null,null,null,null,null,null,null,null,null,null,null,null,null,null,null,null,null,null,null,null,null,null,null,0,0,0,0,0,0,0,0,0]
[null,null,null,null,null,null,null,null,null,null,null,null,null,null,null,null,null,null,null,null,null,null,null,null,null,null,null,null,null,null,null,null,null,null,null,null,null,null,null,null,null,null,null,null,0,0,0,0,0,0,0,0,0]
[null,null,null,null,null,null,null,null,null,null,null,null,null,null,null,null,null,null,null,null,null,null,null,null,null,null,null,null,null,null,null,null,null,null,null,null,null,null,null,null,null,null,null,null,0,0,0,0,0,0,0,0,0]
[null,null,null,null,null,null,null,null,null,null,null,null,null,null,null,null,null,null,null,null,null,null,null,null,null,null,null,null,null,null,null,null,null,null,null,null,null,null,null,null,null,null,null,null,0,0,0,0,0,0,0,0,0]
[null,null,null,null,null,null,null,null,null,null,null,null,null,null,null,null,null,null,null,null,null,null,null,null,null,null,null,null,null,null,null,null,null,null,null,null,null,null,null,null,null,null,null,null,0,0,0,0,0,0,0,0,0]
[null,null,null,null,null,null,null,null,null,null,null,null,null,null,null,null,null,null,null,null,null,null,null,null,null,null,null,null,null,null,null,null,null,null,null,null,null,null,null,null,null,null,null,null,0,0,0,0,0,0,0,0,0]
[null,null,null,null,null,null,null,null,null,null,null,null,null,null,null,null,null,null,null,null,null,null,null,null,null,null,null,null,null,null,null,null,null,null,null,null,null,null,null,null,null,null,null,null,0,0,0,0,0,0,0,0,0]
[null,null,null,null,null,null,null,null,null,null,null,null,null,null,null,null,null,null,null,null,null,null,null,null,null,null,null,null,null,null,null,null,null,null,null,null,null,null,null,null,null,null,null,null,0,0,0,0,0,0,0,0,0]
[null,null,null,null,null,null,null,null,null,null,null,null,null,null,null,null,null,null,null,null,null,null,null,null,null,null,null,null,null,null,null,null,null,null,null,null,null,null,null,null,null,null,null,null,0,0,0,0,0,0,0,0,0]
[null,null,null,null,null,null,null,null,null,null,null,null,null,null,null,null,null,null,null,null,null,null,null,null,null,null,null,null,null,null,null,null,null,null,null,null,null,null,null,null,null,null,null,null,0,0,0,0,0,0,0,0,0]
[null,null,null,null,null,null,null,null,null,null,null,null,null,null,null,null,null,null,null,null,null,null,null,null,null,null,null,null,null,null,null,null,null,null,null,null,null,null,null,null,null,null,null,null,0,0,0,0,0,0,0,0,0]
[null,null,null,null,null,null,null,null,null,null,null,null,null,null,null,null,null,null,null,null,null,null,null,null,null,null,null,null,null,null,null,null,null,null,null,null,null,null,null,null,null,null,null,null,0,0,0,0,0,0,0,0,0]
[null,null,null,"TOTAL",{"$f":"SUM(E5:E67)","v":0.55613049864769004},1.4360619867220528,4.9999998882412902E-3,0,7.4764997698366599E-3,3.73824988491833E-2,0,0,0,0,0,0,0,0,1.992192485369743,4.9999998882412902E-3,null,null,null,null,null,null,null,null,null,null,null,null,null,null,null,null,null,null,null,null,null,null,null,null,2.0420514838770041,0.27915500270772003,0.72084499729228002,1,0,0.16666666666666669,0.83333333333333337,0,0]
[]
[null,null,{"$f":"C5","v":1},"Women in political power and decision-making (local, regional, national),",{"$f":"IF(E$68>0,E5/E$68,0)","v":0},0,0,0,0,0,0,0,0,0,0,0,0,0,0,0]
[null,null,2,"Women electoral candidates (local, regional, national),",{"$f":"IF(E$68>0,E6/E$68,0)","v":9.1705097929905156E-3},7.1027577238090998E-3,0,0,0,0,0,0,0,0,0,0,0,0,7.67998105828033E-3,0]
[null,null,3,"Peace, negotiations, treaties…(local, regional, national),",{"$f":"IF(E$68>0,E7/E$68,0)","v":4.0331359930898411E-2},5.2062514285351136E-2,0,0,0,0,0,0,0,0,0,0,0,0,4.8787703859769202E-2,0]
[null,null,4,"Other domestic politics/government (local, regional, national), elections, speeches, the political process …",{"$f":"IF(E$68>0,E8/E$68,0)","v":3.1604991786724601E-2},5.0923637655338472E-2,0,0,1,1,0,0,0,0,0,0,0,0,4.5530741015576075E-2,0]
[null,null,5,"Global partnerships (international trade and finance systems, e.g. WTO, IMF, World Bank, debt) …",{"$f":"IF(E$68>0,E9/E$68,0)","v":0},0,0,0,0,0,0,0,0,0,0,0,0,0,0,0]
[null,null,6,"Foreign/international politics, relations with other countries, negotiations, treaties, UN peacekeeping …",{"$f":"IF(E$68>0,E10/E$68,0)","v":8.1286675953502779E-2},0.15390978959602794,0,0,0,0,0,0,0,0,0,0,0,0,0.13363668411050575,0]
[null,null,7,"National defence, military spending, military training, military parades, internal security …",{"$f":"IF(E$68>0,E11/E$68,0)","v":0},2.0825005714140494E-2,0,0,0,0,0,0,0,0,0,0,0,0,1.5011601187621317E-2,0]
[null,null,8,"Other stories on politics and government (specify the subject in 'Comments' section of coding sheet)",{"$f":"IF(E$68>0,E12/E$68,0)","v":0.20699817424565761},0.11670839993102107,0,0,0,0,0,0,0,0,0,0,0,0,0.14191324212430284,0]
[null,null,9,"Economic policies, strategies, models (national, international) …",{"$f":"IF(E$68>0,E13/E$68,0)","v":0},7.1474281161504685E-2,0,0,0,0,0,0,0,0,0,0,0,0,5.1521878010332492E-2,0]
[null,null,10,"Economic indicators, statistics, business, trade, stock markets …",{"$f":"IF(E$68>0,E14/E$68,0)","v":0},5.2062514285351131E-3,0,0,0,0,0,0,0,0,0,0,0,0,3.7529002969053219E-3,0]
[null,null,11,"Economic crisis, state bailouts of companies, company takeovers and mergers …",{"$f":"IF(E$68>0,E15/E$68,0)","v":0},3.481743778800428E-3,0,0,0,0,0,0,0,0,0,0,0,0,2.509797584801807E-3,0]
[null,null,12,"Poverty, housing, social welfare, aid to those in need …",{"$f":"IF(E$68>0,E16/E$68,0)","v":1.8341019585981066E-2},1.0654136585713613E-2,0,0,0,0,0,0,0,0,0,0,0,0,1.27999684304672E-2,0]
[null,null,13,"Women's participation in economic processes (informal work, paid employment, unemployment, unpaid labour)",{"$f":"IF(E$68>0,E17/E$68,0)","v":0},0,0,0,0,0,0,0,0,0,0,0,0,0,0,0]
[null,null,14,"Other labour issues, strikes, trade unions, negotiations, other employment and unemployment …",{"$f":"IF(E$68>0,E18/E$68,0)","v":4.4868963987468133E-2},1.3894246635870647E-2,0,0,0,0,0,0,0,0,0,0,0,0,2.2540993942026705E-2,0]
[null,null,15,"Rural economy, agriculture, farming practices, agricultural policy, land rights …",{"$f":"IF(E$68>0,E19/E$68,0)","v":0},0,0,0,0,0,0,0,0,0,0,0,0,0,0,0]
[null,null,16,"Consumer issues, consumer protection, regulation, prices, consumer fraud …",{"$f":"IF(E$68>0,E20/E$68,0)","v":0},8.7576302904396556E-3,0,0,0,0,0,0,0,0,0,0,0,0,6.3128939829987622E-3,0]
[null,null,17,"Transport, traffic, roads ……",{"$f":"IF(E$68>0,E21/E$68,0)","v":0},0,0,0,0,0,0,0,0,0,0,0,0,0,0,0]
[null,null,18,"Other stories on the economy (specify the subject in 'Comments' section of coding sheet)",{"$f":"IF(E$68>0,E22/E$68,0)","v":2.2614296436623306E-2},2.1066639442783894E-2,0,0,0,0,0,0,0,0,0,0,0,0,2.1498675635089753E-2,0]
[null,null,19,"Science, technology, research, funding, discoveries, developments …",{"$f":"IF(E$68>0,E23/E$68,0)","v":0},3.5513788619045425E-3,0,0,0,0,0,0,0,0,0,0,0,0,2.5599936860934399E-3,0]
[null,null,20,"Medicine, health, hygiene, safety, disability, medical research, funding (apart from HIV-AIDS)…",{"$f":"IF(E$68>0,E24/E$68,0)","v":9.1705097929905156E-3},3.5513788619045425E-3,0,0,0,0,0,0,0,0,0,0,0,0,5.1199873721868797E-3,0]
[null,null,{"$f":"C25","v":21},"HIV and AIDS, incidence, policy, treatment, people affected …",{"$f":"IF(E$68>0,E25/E$68,0)","v":0},0,0,0,0,0,0,0,0,0,0,0,0,0,0,0]
[null,null,22,"Other epidemics, viruses, contagions, Influenza, BSE, SARS …",{"$f":"IF(E$68>0,E26/E$68,0)","v":3.6682039171962132E-2},2.1169003005218998E-2,0,0,0,0,0,0,0,0,0,0,0,0,2.5499544658351133E-2,0]
[null,null,23,"Birth control, fertility, sterilisation, amniocentesis, termination of pregnancy …",{"$f":"IF(E$68>0,E27/E$68,0)","v":0},0,0,0,0,0,0,0,0,0,0,0,0,0,0,0]
[null,null,24,"Environment, nature,   pollution, global warming, ecology, tourism …",{"$f":"IF(E$68>0,E28/E$68,0)","v":2.2614296436623306E-2},0,0,0,0,0,0,0,0,0,0,0,0,0,6.3128939829987622E-3,0]
[null,null,25,"Other stories on science or health (specify the subject in 'Comments' section of coding sheet)",{"$f":"IF(E$68>0,E29/E$68,0)","v":0},1.42055154476182E-2,0,0,0,0,0,0,0,0,0,0,0,0,1.023997474437378E-2,0]
[null,null,26,"Development issues, sustainability, community development …",{"$f":"IF(E$68>0,E30/E$68,0)","v":0},0,0,0,0,0,0,0,0,0,0,0,0,0,0,0]
[null,null,27,"Education, child care, nurseries, pre-school to university, adult education, literacy …",{"$f":"IF(E$68>0,E31/E$68,0)","v":8.1286675953502779E-2},2.8132490562819867E-2,0,0,0,0,0,0,0,0,0,0,0,0,4.2970747329482611E-2,0]
[null,null,28,"Family relations, inter-generational conflict, single parents …",{"$f":"IF(E$68>0,E32/E$68,0)","v":0},0,0,0,0,0,0,0,0,0,0,0,0,0,0,0]
[null,null,29,"Human rights, women's rights, children's rights, gay & lesbian rights, rights of minorities ..",{"$f":"IF(E$68>0,E33/E$68,0)","v":1.3443786643632792E-2},0,1,0,0,0,0,0,0,0,0,0,0,0,3.7529002969053219E-3,1]
[null,null,30,"Religion, culture, tradition, controversies, teachings, celebrations, practices …",{"$f":"IF(E$68>0,E34/E$68,0)","v":0},0,0,0,0,0,0,0,0,0,0,0,0,0,0,0]
[null,null,31,"Migration, refugees, asylum seekers, ethnic conflict, integration, racism, xenophobia …",{"$f":"IF(E$68>0,E35/E$68,0)","v":0},0,0,0,0,0,0,0,0,0,0,0,0,0,0,0]
[null,null,32,"Women's movement, activism, events, demonstrations, gender equality advocacy …",{"$f":"IF(E$68>0,E36/E$68,0)","v":0},0,0,0,0,0,0,0,0,0,0,0,0,0,0,0]
[null,null,33,"Changing gender relations, roles and relationships of women and men inside and outside the home …",{"$f":"IF(E$68>0,E37/E$68,0)","v":0},0,0,0,0,0,0,0,0,0,0,0,0,0,0,0]
[null,null,34,"Family law, family codes, property law, inheritance law and rights …",{"$f":"IF(E$68>0,E38/E$68,0)","v":0},0,0,0,0,0,0,0,0,0,0,0,0,0,0,0]
[null,null,35,"Legal system, judicial system, legislation (apart from family, property & inheritance law) …",{"$f":"IF(E$68>0,E39/E$68,0)","v":2.2614296436623306E-2},1.5721117848040526E-2,0,0,0,0,0,0,0,0,0,0,0,0,1.7645383135601149E-2,0]
[null,null,36,"Other stories on social or legal issues (specify the subject in 'Comments' section of coding sheet)",{"$f":"IF(E$68>0,E40/E$68,0)","v":5.5023058757943021E-2},5.306177767925583E-2,0,0,0,0,0,0,0,0,0,0,0,0,5.3609279104087346E-2,0]
[null,null,37,"Non-violent crime, bribery, theft, drug-dealing, corruption, (including political corruption/malpractice) …",{"$f":"IF(E$68>0,E41/E$68,0)","v":4.0775501579715039E-2},3.299474470027644E-2,0,0,0,0,0,0,0,0,0,0,0,0,3.5166781908024226E-2,0]
[null,null,38,"Violent crime, murder, abduction, kidnapping, assault, drug-related violence …",{"$f":"IF(E$68>0,E42/E$68,0)","v":2.6972086050303875E-2},1.3926975115201738E-2,0,0,0,0,0,0,0,0,0,0,0,0,1.7568583093612682E-2,0]
[null,null,39,"Gender-based violence, feminicide, harassment, domestic violence, rape, trafficking, genital mutilation …",{"$f":"IF(E$68>0,E43/E$68,0)","v":4.0955316022604375E-2},2.2963145738057855E-2,0,0,0,0,0,0,0,0,0,0,0,0,2.7985750082558197E-2,0]
[null,null,40,"Child abuse, sexual violence against children, trafficking, neglect.",{"$f":"IF(E$68>0,E44/E$68,0)","v":1.8341019585981066E-2},1.42055154476182E-2,0,0,0,0,0,0,0,0,0,0,0,0,1.535996211656067E-2,0]
[null,null,{"$f":"C45","v":41},"War, civil war, terrorism, state-based violence …",{"$f":"IF(E$68>0,E45/E$68,0)","v":4.0775501579715039E-2},1.7756894309522712E-2,0,0,0,0,0,0,0,0,0,0,0,0,2.4182653684361195E-2,0]
[null,null,42,"Riots, demonstrations, public disorder …",{"$f":"IF(E$68>0,E46/E$68,0)","v":0},0,0,0,0,0,0,0,0,0,0,0,0,0,0,0]
[null,null,43,"Disaster, accident, famine, earthquake, flood, hurricane, plane crash, car crash …",{"$f":"IF(E$68>0,E47/E$68,0)","v":4.5852548964952576E-2},3.481743778800428E-3,0,0,0,0,0,0,0,0,0,0,0,0,1.5309766015269007E-2,0]
[null,null,44,"Other stories on crime and violence (specify the subject in 'Comments' section of coding sheet)",{"$f":"IF(E$68>0,E48/E$68,0)","v":0},1.5618754285605354E-2,0,0,0,0,0,0,0,0,0,0,0,0,1.1258700890715977E-2,0]
[null,null,45,"Celebrity news, births, marriages, deaths, obituaries, famous people, royalty …",{"$f":"IF(E$68>0,E49/E$68,0)","v":0},0,0,0,0,0,0,0,0,0,0,0,0,0,0,0]
[null,null,46,"Arts, entertainment, leisure, cinema, theatre, books, dance …",{"$f":"IF(E$68>0,E50/E$68,0)","v":7.6833584659971213E-2},0.10088074039610348,0,0,0,0,0,0,0,0,0,0,0,0,9.4167856571470504E-2,0]
[null,null,47,"Media, including new media (computers, internet), portrayal of women and/or men, pornography …",{"$f":"IF(E$68>0,E51/E$68,0)","v":0},0,0,0,0,0,0,0,0,0,0,0,0,0,0,0]
[null,null,48,"Beauty contests, models, fashion, beauty aids, cosmetic surgery …",{"$f":"IF(E$68>0,E52/E$68,0)","v":1.3443786643632792E-2},0,0,0,0,0,0,0,0,0,0,0,0,0,3.7529002969053219E-3,0]
[null,null,49,"Sports, events, players, facilities, training, policies, funding …",{"$f":"IF(E$68>0,E53/E$68,0)","v":0},7.1232647432861076E-2,0,0,0,0,0,0,0,0,0,0,0,0,5.1347697545862665E-2,0]
[null,null,50,"Other stories on celebrities, arts, media (specify the subject in 'Comments' section of coding sheet)",{"$f":"IF(E$68>0,E54/E$68,0)","v":0},3.1479142299854108E-2,0,0,0,0,0,0,0,0,0,0,0,0,2.2691582245901627E-2,0]
[null,null,51,"News about the girl child, including, cultural attitudes and practices impinging on girls, education, health, economic exploitation, violence (ONLY WHERE EMPHASIS IS ON THE GIRL CHILD)…",{"$f":"IF(E$68>0,E55/E$68,0)","v":0},0,0,0,0,0,0,0,0,0,0,0,0,0,0,0]
[null,null,52,"Other subject: use only if none of the above subject codes is suitable (specify the subject in 'Comments' section of coding sheet)",{"$f":"IF(E$68>0,E56/E$68,0)","v":0},0,0,0,0,0,0,0,0,0,0,0,0,0,0,0]
[null,null,0,0,{"$f":"IF(E$68>0,E57/E$68,0)","v":0},0,0,0,0,0,0,0,0,0,0,0,0,0,0,0]
[null,null,0,0,{"$f":"IF(E$68>0,E58/E$68,0)","v":0},0,0,0,0,0,0,0,0,0,0,0,0,0,0,0]
[null,null,0,0,{"$f":"IF(E$68>0,E59/E$68,0)","v":0},0,0,0,0,0,0,0,0,0,0,0,0,0,0,0]
[null,null,0,0,{"$f":"IF(E$68>0,E60/E$68,0)","v":0},0,0,0,0,0,0,0,0,0,0,0,0,0,0,0]
[null,null,0,0,{"$f":"IF(E$68>0,E61/E$68,0)","v":0},0,0,0,0,0,0,0,0,0,0,0,0,0,0,0]
[null,null,0,0,{"$f":"IF(E$68>0,E62/E$68,0)","v":0},0,0,0,0,0,0,0,0,0,0,0,0,0,0,0]
[]
[]
[]
[]
[]
[]
[]
[]
[]
[]
[]
[]
[]
[]
[]
[]
[]
[]
[]
[]
["COUNT"]
[null,null,null,null,{"$f":"E3","v":"Female"},"Male","Female","Male","Female","Male",0,0,0,0,0,0,0,0,"Disagree",null,{"$f":"T3","v":"Agree"}]
[null,null,null,null,{"$f":"E4","v":0},0,0,0,0,0,0,0,0,0,0,0,0,0,0,0]
[null,null,{"$f":"C5","v":1},"Women in political power and decision-making (local, regional, national),",0,0,0,0,0,0,null,null,null,null,null,null,null,null,{"$f":"+E151+F151","v":0},null,{"$f":"+G151+H151","v":0}]
[null,null,2,"Women electoral candidates (local, regional, national),",1,2,0,0,0,0,null,null,null,null,null,null,null,null,{"$f":"+E152+F152","v":3},null,0]
[null,null,3,"Peace, negotiations, treaties…(local, regional, national),",3,10,0,0,0,0,null,null,null,null,null,null,null,null,13,null,0]
[null,null,4,"Other domestic politics/government (local, regional, national), elections, speeches, the political process …",3,13,0,0,1,5,null,null,null,null,null,null,null,null,16,null,0]
[null,null,5,"Global partnerships (international trade and finance systems, e.g. WTO, IMF, World Bank, debt) …",0,0,0,0,0,0,null,null,null,null,null,null,null,null,0,null,0]
[null,null,6,"Foreign/international politics, relations with other countries, negotiations, treaties, UN peacekeeping …",7,36,0,0,0,0,null,null,null,null,null,null,null,null,43,null,0]
[null,null,7,"National defence, military spending, military training, military parades, internal security …",0,4,0,0,0,0,null,null,null,null,null,null,null,null,4,null,0]
[null,null,8,"Other stories on politics and government (specify the subject in 'Comments' section of coding sheet)",17,25,0,0,0,0,null,null,null,null,null,null,null,null,42,null,0]
[null,null,9,"Economic policies, strategies, models (national, international) …",0,15,0,0,0,0,null,null,null,null,null,null,null,null,15,null,0]
[null,null,10,"Economic indicators, statistics, business, trade, stock markets …",0,1,0,0,0,0,null,null,null,null,null,null,null,null,1,null,0]
[null,null,11,"Economic crisis, state bailouts of companies, company takeovers and mergers …",0,1,0,0,0,0,null,null,null,null,null,null,null,null,1,null,0]
[null,null,12,"Poverty, housing, social welfare, aid to those in need …",2,3,0,0,0,0,null,null,null,null,null,null,null,null,5,null,0]
[null,null,13,"Women's participation in economic processes (informal work, paid employment, unemployment, unpaid labour)",0,0,0,0,0,0,null,null,null,null,null,null,null,null,0,null,0]
[null,null,14,"Other labour issues, strikes, trade unions, negotiations, other employment and unemployment …",4,3,0,0,0,0,null,null,null,null,null,null,null,null,7,null,0]
[null,null,15,"Rural economy, agriculture, farming practices, agricultural policy, land rights …",0,0,0,0,0,0,null,null,null,null,null,null,null,null,0,null,0]
[null,null,16,"Consumer issues, consumer protection, regulation, prices, consumer fraud …",0,2,0,0,0,0,null,null,null,null,null,null,null,null,2,null,0]
[null,null,17,"Transport, traffic, roads ……",0,0,0,0,0,0,null,null,null,null,null,null,null,null,0,null,0]
[null,null,18,"Other stories on the economy (specify the subject in 'Comments' section of coding sheet)",2,5,0,0,0,0,null,null,null,null,null,null,null,null,7,null,0]
[null,null,19,"Science, technology, research, funding, discoveries, developments …",0,1,0,0,0,0,null,null,null,null,null,null,null,null,1,null,0]
[null,null,20,"Medicine, health, hygiene, safety, disability, medical research, funding (apart from HIV-AIDS)…",1,1,0,0,0,0,null,null,null,null,null,null,null,null,2,null,0]
[null,null,{"$f":"C25","v":21},"HIV and AIDS, incidence, policy, treatment, people affected …",0,0,0,0,0,0,null,null,null,null,null,null,null,null,0,null,0]
[null,null,22,"Other epidemics, viruses, contagions, Influenza, BSE, SARS …",4,6,0,0,0,0,null,null,null,null,null,null,null,null,10,null,0]
[null,null,23,"Birth control, fertility, sterilisation, amniocentesis, termination of pregnancy …",0,0,0,0,0,0,null,null,null,null,null,null,null,null,0,null,0]
[null,null,24,"Environment, nature,   pollution, global warming, ecology, tourism …",2,0,0,0,0,0,null,null,null,null,null,null,null,null,2,null,0]
[null,null,25,"Other stories on science or health (specify the subject in 'Comments' section of coding sheet)",0,4,0,0,0,0,null,null,null,null,null,null,null,null,4,null,0]
[null,null,26,"Development issues, sustainability, community development …",0,0,0,0,0,0,null,null,null,null,null,null,null,null,0,null,0]
[null,null,27,"Education, child care, nurseries, pre-school to university, adult education, literacy …",7,8,0,0,0,0,null,null,null,null,null,null,null,null,15,null,0]
[null,null,28,"Family relations, inter-generational conflict, single parents …",0,0,0,0,0,0,null,null,null,null,null,null,null,null,0,null,0]
[null,null,29,"Human rights, women's rights, children's rights, gay & lesbian rights, rights of minorities ..",1,0,1,0,0,0,null,null,null,null,null,null,null,null,1,null,1]
[null,null,30,"Religion, culture, tradition, controversies, teachings, celebrations, practices …",0,0,0,0,0,0,null,null,null,null,null,null,null,null,0,null,0]
[null,null,31,"Migration, refugees, asylum seekers, ethnic conflict, integration, racism, xenophobia …",0,0,0,0,0,0,null,null,null,null,null,null,null,null,0,null,0]
[null,null,32,"Women's movement, activism, events, demonstrations, gender equality advocacy …",0,0,0,0,0,0,null,null,null,null,null,null,null,null,0,null,0]
[null,null,33,"Changing gender relations, roles and relationships of women and men inside and outside the home …",0,0,0,0,0,0,null,null,null,null,null,null,null,null,0,null,0]
[null,null,34,"Family law, family codes, property law, inheritance law and rights …",0,0,0,0,0,0,null,null,null,null,null,null,null,null,0,null,0]
[null,null,35,"Legal system, judicial system, legislation (apart from family, property & inheritance law) …",2,4,0,0,0,0,null,null,null,null,null,null,null,null,6,null,0]
[null,null,36,"Other stories on social or legal issues (specify the subject in 'Comments' section of coding sheet)",6,15,0,0,0,0,null,null,null,null,null,null,null,null,21,null,0]
[null,null,37,"Non-violent crime, bribery, theft, drug-dealing, corruption, (including political corruption/malpractice) …",4,7,0,0,0,0,null,null,null,null,null,null,null,null,11,null,0]
[null,null,38,"Violent crime, murder, abduction, kidnapping, assault, drug-related violence …",3,4,0,0,0,0,null,null,null,null,null,null,null,null,7,null,0]
[null,null,39,"Gender-based violence, feminicide, harassment, domestic violence, rape, trafficking, genital mutilation …",4,6,0,0,0,0,null,null,null,null,null,null,null,null,10,null,0]
[null,null,40,"Child abuse, sexual violence against children, trafficking, neglect.",2,4,0,0,0,0,null,null,null,null,null,null,null,null,6,null,0]
[null,null,{"$f":"C45","v":41},"War, civil war, terrorism, state-based violence …",4,5,0,0,0,0,null,null,null,null,null,null,null,null,9,null,0]
[null,null,42,"Riots, demonstrations, public disorder …",0,0,0,0,0,0,null,null,null,null,null,null,null,null,0,null,0]
[null,null,43,"Disaster, accident, famine, earthquake, flood, hurricane, plane crash, car crash …",5,1,0,0,0,0,null,null,null,null,null,null,null,null,6,null,0]
[null,null,44,"Other stories on crime and violence (specify the subject in 'Comments' section of coding sheet)",0,3,0,0,0,0,null,null,null,null,null,null,null,null,3,null,0]
[null,null,45,"Celebrity news, births, marriages, deaths, obituaries, famous people, royalty …",0,0,0,0,0,0,null,null,null,null,null,null,null,null,0,null,0]
[null,null,46,"Arts, entertainment, leisure, cinema, theatre, books, dance …",7,22,0,0,0,0,null,null,null,null,null,null,null,null,29,null,0]
[null,null,47,"Media, including new media (computers, internet), portrayal of women and/or men, pornography …",0,0,0,0,0,0,null,null,null,null,null,null,null,null,0,null,0]
[null,null,48,"Beauty contests, models, fashion, beauty aids, cosmetic surgery …",1,0,0,0,0,0,null,null,null,null,null,null,null,null,1,null,0]
[null,null,49,"Sports, events, players, facilities, training, policies, funding …",0,14,0,0,0,0,null,null,null,null,null,null,null,null,14,null,0]
[null,null,50,"Other stories on celebrities, arts, media (specify the subject in 'Comments' section of coding sheet)",0,7,0,0,0,0,null,null,null,null,null,null,null,null,7,null,0]
[null,null,51,"News about the girl child, including, cultural attitudes and practices impinging on girls, education, health, economic exploitation, violence (ONLY WHERE EMPHASIS IS ON THE GIRL CHILD)…",0,0,0,0,0,0,null,null,null,null,null,null,null,null,0,null,0]
[null,null,52,"Other subject: use only if none of the above subject codes is suitable (specify the subject in 'Comments' section of coding sheet)",0,0,0,0,0,0,null,null,null,null,null,null,null,null,0,null,0]
[null,null,0,0,null,null,null,null,null,null,null,null,null,null,null,null,null,null,0,null,0]
[null,null,0,0]
[null,null,0,0]

{"sheet":"16eF - equality","index":60,"n_rows":57,"n_cols":53,"rows_kept":57,"cut":false,"hidden":false,"merged":[[1,51,1,52],[1,21,1,25],[1,43,1,47],[0,42,0,51],[1,5,1,8],[1,30,1,33],[0,29,0,38],[1,16,1,20],[1,10,1,11],[1,35,1,39]]}
[{"$f":"'16e'!$A$1","v":"Stories where issues of gender equality/inequality are raised by topic"},null,null,null,null,null,null,null,null,null,null,null,null,null,null,"Stories where issues of gender equality or inequality are raised, by topic",null,null,null,null,null,null,null,null,null,null,null,null,null,"SORTED - AGREE",null,null,null,null,null,null,null,null,null,null,null,null,"SORTED - DISAGREE"]
[null,null,null,null,null,"%F",null,null,null,null,"%M",null,null,null,null,null,"Agree",null,null,null,null,"Disagree",null,null,null,null,null,null,null,null,"Agree",null,null,null,null,"Disagree",null,null,null,null,null,null,null,"Agree",null,null,null,null,"Disgree",null,null,{"$f":"AJ2","v":"Disagree"}]
[null,null,null,null,null,1995,2000,2005,2010,"N",2010,"N",null,null,null,null,1995,2000,2005,2010,"N",1995,2000,2005,2010,"N",null,null,null,null,1995,2000,2005,2010,"N",1995,2000,2005,2010,"N",null,null,null,1995,2000,2005,2010,"N",1995,2000,2005,2010,"N"]
[null,null,null,null,{"$f":"'16e'!D5","v":"Women in political power and decision-making (local, regional, national),"},0,"n/a","n/a",{"$f":"'16e'!AV5","v":0},{"$f":"'16e'!G151","v":0},{"$f":"'16e'!AW5","v":0},{"$f":"'16e'!H151","v":0},null,null,null,{"$f":"E4","v":"Women in political power and decision-making (local, regional, national),"},0,"n/a","n/a",{"$f":"'16e'!V5","v":0},{"$f":"'16e'!U151","v":0},0,"n/a","n/a",{"$f":"'16e'!U5","v":0},{"$f":"'16e'!S151","v":0},null,null,null,"Women in political power and decision-making (local, regional, national),",0,"n/a","n/a",0,0,0,"n/a","n/a",0,0,null,null,"Women in political power and decision-making (local, regional, national),",0,"n/a","n/a",0,0,0,"n/a","n/a",0,0]
[null,null,null,null,{"$f":"'16e'!D6","v":"Women electoral candidates (local, regional, national),"},0,"n/a","n/a",{"$f":"'16e'!AV6","v":0},{"$f":"'16e'!G152","v":0},{"$f":"'16e'!AW6","v":0},{"$f":"'16e'!H152","v":0},null,null,null,"Women electoral candidates (local, regional, national),",0,"n/a","n/a",{"$f":"'16e'!V6","v":0},{"$f":"'16e'!U152","v":0},0,"n/a","n/a",{"$f":"'16e'!U6","v":7.67998105828033E-3},{"$f":"'16e'!S152","v":3},null,null,null,"Women electoral candidates (local, regional, national),",0,"n/a","n/a",0,0,0,"n/a","n/a",3.2399223368912143E-3,2,null,null,"Women electoral candidates (local, regional, national),",0,"n/a","n/a",0,0,0,"n/a","n/a",3.2399223368912143E-3,2]
[null,null,null,null,{"$f":"'16e'!D7","v":"Peace, negotiations, treaties…(local, regional, national),"},0,"n/a","n/a",{"$f":"'16e'!AV7","v":0},{"$f":"'16e'!G153","v":0},{"$f":"'16e'!AW7","v":0},{"$f":"'16e'!H153","v":0},null,null,null,"Peace, negotiations, treaties…(local, regional, national),",0,"n/a","n/a",{"$f":"'16e'!V7","v":0},{"$f":"'16e'!U153","v":0},0,"n/a","n/a",{"$f":"'16e'!U7","v":4.8787703859769202E-2},{"$f":"'16e'!S153","v":13},null,null,null,"Peace, negotiations, treaties…(local, regional, national),",0,"n/a","n/a",0,0,0,"n/a","n/a",1.1772213549623914E-2,5,null,null,"Peace, negotiations, treaties…(local, regional, national),",0,"n/a","n/a",0,0,0,"n/a","n/a",1.1772213549623914E-2,5]
[null,null,null,null,{"$f":"'16e'!D8","v":"Other domestic politics/government (local, regional, national), elections, speeches, the political process …"},0,"n/a","n/a",{"$f":"'16e'!AV8","v":0},{"$f":"'16e'!G154","v":0},{"$f":"'16e'!AW8","v":0},{"$f":"'16e'!H154","v":0},null,null,null,"Other domestic politics/government (local, regional, national), elections, speeches, the political process …",0,"n/a","n/a",{"$f":"'16e'!V8","v":0},{"$f":"'16e'!U154","v":0},0,"n/a","n/a",{"$f":"'16e'!U8","v":4.5530741015576075E-2},{"$f":"'16e'!S154","v":16},null,null,null,"Other domestic politics/government (local, regional, national), elections, speeches, the political process …",0,"n/a","n/a",0,0,0,"n/a","n/a",0.18399421621089015,66,null,null,"Other domestic politics/government (local, regional, national), elections, speeches, the political process …",0,"n/a","n/a",0,0,0,"n/a","n/a",0.18399421621089015,66]
[null,null,null,null,{"$f":"'16e'!D9","v":"Global partnerships (international trade and finance systems, e.g. WTO, IMF, World Bank, debt) …"},0,"n/a","n/a",{"$f":"'16e'!AV9","v":0},{"$f":"'16e'!G155","v":0},{"$f":"'16e'!AW9","v":0},{"$f":"'16e'!H155","v":0},null,null,null,"Global partnerships (international trade and finance systems, e.g. WTO, IMF, World Bank, debt) …",0,"n/a","n/a",{"$f":"'16e'!V9","v":0},{"$f":"'16e'!U155","v":0},0,"n/a","n/a",{"$f":"'16e'!U9","v":0},{"$f":"'16e'!S155","v":0},null,null,null,"Global partnerships (international trade and finance systems, e.g. WTO, IMF, World Bank, debt) …",0,"n/a","n/a",0,0,0,"n/a","n/a",0,0,null,null,"Global partnerships (international trade and finance systems, e.g. WTO, IMF, World Bank, debt) …",0,"n/a","n/a",0,0,0,"n/a","n/a",0,0]
[null,null,null,null,{"$f":"'16e'!D10","v":"Foreign/international politics, relations with other countries, negotiations, treaties, UN peacekeeping …"},0,"n/a","n/a",{"$f":"'16e'!AV10","v":0},{"$f":"'16e'!G156","v":0},{"$f":"'16e'!AW10","v":0},{"$f":"'16e'!H156","v":0},null,null,null,"Foreign/international politics, relations with other countries, negotiations, treaties, UN peacekeeping …",0,"n/a","n/a",{"$f":"'16e'!V10","v":0},{"$f":"'16e'!U156","v":0},0,"n/a","n/a",{"$f":"'16e'!U10","v":0.13363668411050575},{"$f":"'16e'!S156","v":43},null,null,null,"Foreign/international politics, relations with other countries, negotiations, treaties, UN peacekeeping …",0,"n/a","n/a",0,0,0,"n/a","n/a",0.10724737805812923,39,null,null,"Foreign/international politics, relations with other countries, negotiations, treaties, UN peacekeeping …",0,"n/a","n/a",0,0,0,"n/a","n/a",0.10724737805812923,39]
[null,null,null,null,{"$f":"'16e'!D11","v":"National defence, military spending, military training, military parades, internal security …"},0,"n/a","n/a",{"$f":"'16e'!AV11","v":0},{"$f":"'16e'!G157","v":0},{"$f":"'16e'!AW11","v":0},{"$f":"'16e'!H157","v":0},null,null,null,"National defence, military spending, military training, military parades, internal security …",0,"n/a","n/a",{"$f":"'16e'!V11","v":0},{"$f":"'16e'!U157","v":0},0,"n/a","n/a",{"$f":"'16e'!U11","v":1.5011601187621317E-2},{"$f":"'16e'!S157","v":4},null,null,null,"National defence, military spending, military training, military parades, internal security …",0,"n/a","n/a",0,0,0,"n/a","n/a",1.8468300908658697E-2,8,null,null,"National defence, military spending, military training, military parades, internal security …",0,"n/a","n/a",0,0,0,"n/a","n/a",1.8468300908658697E-2,8]
[null,null,null,null,{"$f":"'16e'!D12","v":"Other stories on politics and government (specify the subject in 'Comments' section of coding sheet)"},0,"n/a","n/a",{"$f":"'16e'!AV12","v":0},{"$f":"'16e'!G158","v":0},{"$f":"'16e'!AW12","v":0},{"$f":"'16e'!H158","v":0},null,null,null,"Other stories on politics and government (specify the subject in 'Comments' section of coding sheet)",0,"n/a","n/a",{"$f":"'16e'!V12","v":0},{"$f":"'16e'!U158","v":0},0,"n/a","n/a",{"$f":"'16e'!U12","v":0.14191324212430284},{"$f":"'16e'!S158","v":42},null,null,null,"Other stories on politics and government (specify the subject in 'Comments' section of coding sheet)",0,"n/a","n/a",0,0,0,"n/a","n/a",3.4561650221435591E-2,10,null,null,"Other stories on politics and government (specify the subject in 'Comments' section of coding sheet)",0,"n/a","n/a",0,0,0,"n/a","n/a",3.4561650221435591E-2,10]
[null,null,null,null,{"$f":"'16e'!D13","v":"Economic policies, strategies, models (national, international) …"},0,"n/a","n/a",{"$f":"'16e'!AV13","v":0},{"$f":"'16e'!G159","v":0},{"$f":"'16e'!AW13","v":0},{"$f":"'16e'!H159","v":0},null,null,null,"Economic policies, strategies, models (national, international) …",0,"n/a","n/a",{"$f":"'16e'!V13","v":0},{"$f":"'16e'!U159","v":0},0,"n/a","n/a",{"$f":"'16e'!U13","v":5.1521878010332492E-2},{"$f":"'16e'!S159","v":15},null,null,null,"Economic policies, strategies, models (national, international) …",0,"n/a","n/a",0,0,0,"n/a","n/a",1.3608417403321882E-2,5,null,null,"Economic policies, strategies, models (national, international) …",0,"n/a","n/a",0,0,0,"n/a","n/a",1.3608417403321882E-2,5]
[null,null,null,null,{"$f":"'16e'!D14","v":"Economic indicators, statistics, business, trade, stock markets …"},0,"n/a","n/a",{"$f":"'16e'!AV14","v":0},{"$f":"'16e'!G160","v":0},{"$f":"'16e'!AW14","v":0},{"$f":"'16e'!H160","v":0},null,null,null,"Economic indicators, statistics, business, trade, stock markets …",0,"n/a","n/a",{"$f":"'16e'!V14","v":0},{"$f":"'16e'!U160","v":0},0,"n/a","n/a",{"$f":"'16e'!U14","v":3.7529002969053219E-3},{"$f":"'16e'!S160","v":1},null,null,null,"Economic indicators, statistics, business, trade, stock markets …",0,"n/a","n/a",0,0,0,"n/a","n/a",0,0,null,null,"Economic indicators, statistics, business, trade, stock markets …",0,"n/a","n/a",0,0,0,"n/a","n/a",0,0]
[null,null,null,null,{"$f":"'16e'!D15","v":"Economic crisis, state bailouts of companies, company takeovers and mergers …"},0,"n/a","n/a",{"$f":"'16e'!AV15","v":0},{"$f":"'16e'!G161","v":0},{"$f":"'16e'!AW15","v":0},{"$f":"'16e'!H161","v":0},null,null,null,"Economic crisis, state bailouts of companies, company takeovers and mergers …",0,"n/a","n/a",{"$f":"'16e'!V15","v":0},{"$f":"'16e'!U161","v":0},0,"n/a","n/a",{"$f":"'16e'!U15","v":2.509797584801807E-3},{"$f":"'16e'!S161","v":1},null,null,null,"Economic crisis, state bailouts of companies, company takeovers and mergers …",0,"n/a","n/a",0,0,0,"n/a","n/a",1.7280825110717792E-2,5,null,null,"Economic crisis, state bailouts of companies, company takeovers and mergers …",0,"n/a","n/a",0,0,0,"n/a","n/a",1.7280825110717792E-2,5]
[null,null,null,null,{"$f":"'16e'!D16","v":"Poverty, housing, social welfare, aid to those in need …"},0,"n/a","n/a",{"$f":"'16e'!AV16","v":0},{"$f":"'16e'!G162","v":0},{"$f":"'16e'!AW16","v":0},{"$f":"'16e'!H162","v":0},null,null,null,"Poverty, housing, social welfare, aid to those in need …",0,"n/a","n/a",{"$f":"'16e'!V16","v":0},{"$f":"'16e'!U162","v":0},0,"n/a","n/a",{"$f":"'16e'!U16","v":1.27999684304672E-2},{"$f":"'16e'!S162","v":5},null,null,null,"Poverty, housing, social welfare, aid to those in need …",0,"n/a","n/a",0,0,0,"n/a","n/a",1.8553195308410351E-2,7,null,null,"Poverty, housing, social welfare, aid to those in need …",0,"n/a","n/a",0,0,0,"n/a","n/a",1.8553195308410351E-2,7]
[null,null,null,null,{"$f":"'16e'!D17","v":"Women's participation in economic processes (informal work, paid employment, unemployment, unpaid labour)"},0,"n/a","n/a",{"$f":"'16e'!AV17","v":0},{"$f":"'16e'!G163","v":0},{"$f":"'16e'!AW17","v":0},{"$f":"'16e'!H163","v":0},null,null,null,"Women's participation in economic processes (informal work, paid employment, unemployment, unpaid labour)",0,"n/a","n/a",{"$f":"'16e'!V17","v":0},{"$f":"'16e'!U163","v":0},0,"n/a","n/a",{"$f":"'16e'!U17","v":0},{"$f":"'16e'!S163","v":0},null,null,null,"Women's participation in economic processes (informal work, paid employment, unemployment, unpaid labour)",0,"n/a","n/a",0,0,0,"n/a","n/a",0,0,null,null,"Women's participation in economic processes (informal work, paid employment, unemployment, unpaid labour)",0,"n/a","n/a",0,0,0,"n/a","n/a",0,0]
[null,null,null,null,{"$f":"'16e'!D18","v":"Other labour issues, strikes, trade unions, negotiations, other employment and unemployment …"},0,"n/a","n/a",{"$f":"'16e'!AV18","v":0},{"$f":"'16e'!G164","v":0},{"$f":"'16e'!AW18","v":0},{"$f":"'16e'!H164","v":0},null,null,null,"Other labour issues, strikes, trade unions, negotiations, other employment and unemployment …",0,"n/a","n/a",{"$f":"'16e'!V18","v":0},{"$f":"'16e'!U164","v":0},0,"n/a","n/a",{"$f":"'16e'!U18","v":2.2540993942026705E-2},{"$f":"'16e'!S164","v":7},null,null,null,"Other labour issues, strikes, trade unions, negotiations, other employment and unemployment …",0,"n/a","n/a",0,0,0,"n/a","n/a",2.5769333561616946E-2,8,null,null,"Other labour issues, strikes, trade unions, negotiations, other employment and unemployment …",0,"n/a","n/a",0,0,0,"n/a","n/a",2.5769333561616946E-2,8]
[null,null,null,null,{"$f":"'16e'!D19","v":"Rural economy, agriculture, farming practices, agricultural policy, land rights …"},0,"n/a","n/a",{"$f":"'16e'!AV19","v":0},{"$f":"'16e'!G165","v":0},{"$f":"'16e'!AW19","v":0},{"$f":"'16e'!H165","v":0},null,null,null,"Rural economy, agriculture, farming practices, agricultural policy, land rights …",0,"n/a","n/a",{"$f":"'16e'!V19","v":0},{"$f":"'16e'!U165","v":0},0,"n/a","n/a",{"$f":"'16e'!U19","v":0},{"$f":"'16e'!S165","v":0},null,null,null,"Rural economy, agriculture, farming practices, agricultural policy, land rights …",0,"n/a","n/a",0,0,0,"n/a","n/a",0,0,null,null,"Rural economy, agriculture, farming practices, agricultural policy, land rights …",0,"n/a","n/a",0,0,0,"n/a","n/a",0,0]
[null,null,null,null,{"$f":"'16e'!D20","v":"Consumer issues, consumer protection, regulation, prices, consumer fraud …"},0,"n/a","n/a",{"$f":"'16e'!AV20","v":0},{"$f":"'16e'!G166","v":0},{"$f":"'16e'!AW20","v":0},{"$f":"'16e'!H166","v":0},null,null,null,"Consumer issues, consumer protection, regulation, prices, consumer fraud …",0,"n/a","n/a",{"$f":"'16e'!V20","v":0},{"$f":"'16e'!U166","v":0},0,"n/a","n/a",{"$f":"'16e'!U20","v":6.3128939829987622E-3},{"$f":"'16e'!S166","v":2},null,null,null,"Consumer issues, consumer protection, regulation, prices, consumer fraud …",0,"n/a","n/a",0,0,0,"n/a","n/a",4.7285352198361162E-3,3,null,null,"Consumer issues, consumer protection, regulation, prices, consumer fraud …",0,"n/a","n/a",0,0,0,"n/a","n/a",4.7285352198361162E-3,3]
[null,null,null,null,{"$f":"'16e'!D21","v":"Transport, traffic, roads ……"},0,"n/a","n/a",{"$f":"'16e'!AV21","v":0},{"$f":"'16e'!G167","v":0},{"$f":"'16e'!AW21","v":0},{"$f":"'16e'!H167","v":0},null,null,null,"Transport, traffic, roads ……",0,"n/a","n/a",{"$f":"'16e'!V21","v":0},{"$f":"'16e'!U167","v":0},0,"n/a","n/a",{"$f":"'16e'!U21","v":0},{"$f":"'16e'!S167","v":0},null,null,null,"Transport, traffic, roads ……",0,"n/a","n/a",0,0,0,"n/a","n/a",6.9123300442871091E-3,2,null,null,"Transport, traffic, roads ……",0,"n/a","n/a",0,0,0,"n/a","n/a",6.9123300442871091E-3,2]
[null,null,null,null,{"$f":"'16e'!D22","v":"Other stories on the economy (specify the subject in 'Comments' section of coding sheet)"},0,"n/a","n/a",{"$f":"'16e'!AV22","v":0},{"$f":"'16e'!G168","v":0},{"$f":"'16e'!AW22","v":0},{"$f":"'16e'!H168","v":0},null,null,null,"Other stories on the economy (specify the subject in 'Comments' section of coding sheet)",0,"n/a","n/a",{"$f":"'16e'!V22","v":0},{"$f":"'16e'!U168","v":0},0,"n/a","n/a",{"$f":"'16e'!U22","v":2.1498675635089753E-2},{"$f":"'16e'!S168","v":7},null,null,null,"Other stories on the economy (specify the subject in 'Comments' section of coding sheet)",0,"n/a","n/a",0,0,0,"n/a","n/a",0,0,null,null,"Other stories on the economy (specify the subject in 'Comments' section of coding sheet)",0,"n/a","n/a",0,0,0,"n/a","n/a",0,0]
[null,null,null,null,{"$f":"'16e'!D23","v":"Science, technology, research, funding, discoveries, developments …"},0,"n/a","n/a",{"$f":"'16e'!AV23","v":0},{"$f":"'16e'!G169","v":0},{"$f":"'16e'!AW23","v":0},{"$f":"'16e'!H169","v":0},null,null,null,"Science, technology, research, funding, discoveries, developments …",0,"n/a","n/a",{"$f":"'16e'!V23","v":0},{"$f":"'16e'!U169","v":0},0,"n/a","n/a",{"$f":"'16e'!U23","v":2.5599936860934399E-3},{"$f":"'16e'!S169","v":1},null,null,null,"Science, technology, research, funding, discoveries, developments …",0,"n/a","n/a",0,0,0,"n/a","n/a",3.1105485199292012E-2,9,null,null,"Science, technology, research, funding, discoveries, developments …",0,"n/a","n/a",0,0,0,"n/a","n/a",3.1105485199292012E-2,9]
[null,null,null,null,{"$f":"'16e'!D24","v":"Medicine, health, hygiene, safety, disability, medical research, funding (apart from HIV-AIDS)…"},0,"n/a","n/a",{"$f":"'16e'!AV24","v":0},{"$f":"'16e'!G170","v":0},{"$f":"'16e'!AW24","v":0},{"$f":"'16e'!H170","v":0},null,null,null,"Medicine, health, hygiene, safety, disability, medical research, funding (apart from HIV-AIDS)…",0,"n/a","n/a",{"$f":"'16e'!V24","v":0},{"$f":"'16e'!U170","v":0},0,"n/a","n/a",{"$f":"'16e'!U24","v":5.1199873721868797E-3},{"$f":"'16e'!S170","v":2},null,null,null,"Medicine, health, hygiene, safety, disability, medical research, funding (apart from HIV-AIDS)…",0,"n/a","n/a",0,0,0,"n/a","n/a",2.6568106750886746E-2,13,null,null,"Medicine, health, hygiene, safety, disability, medical research, funding (apart from HIV-AIDS)…",0,"n/a","n/a",0,0,0,"n/a","n/a",2.6568106750886746E-2,13]
[null,null,null,null,{"$f":"'16e'!D25","v":"HIV and AIDS, incidence, policy, treatment, people affected …"},0,"n/a","n/a",{"$f":"'16e'!AV25","v":0},{"$f":"'16e'!G171","v":0},{"$f":"'16e'!AW25","v":0},{"$f":"'16e'!H171","v":0},null,null,null,"HIV and AIDS, incidence, policy, treatment, people affected …",0,"n/a","n/a",{"$f":"'16e'!V25","v":0},{"$f":"'16e'!U171","v":0},0,"n/a","n/a",{"$f":"'16e'!U25","v":0},{"$f":"'16e'!S171","v":0},null,null,null,"HIV and AIDS, incidence, policy, treatment, people affected …",0,"n/a","n/a",0,0,0,"n/a","n/a",0,0,null,null,"HIV and AIDS, incidence, policy, treatment, people affected …",0,"n/a","n/a",0,0,0,"n/a","n/a",0,0]
[null,null,null,null,{"$f":"'16e'!D26","v":"Other epidemics, viruses, contagions, Influenza, BSE, SARS …"},0,"n/a","n/a",{"$f":"'16e'!AV26","v":0},{"$f":"'16e'!G172","v":0},{"$f":"'16e'!AW26","v":0},{"$f":"'16e'!H172","v":0},null,null,null,"Other epidemics, viruses, contagions, Influenza, BSE, SARS …",0,"n/a","n/a",{"$f":"'16e'!V26","v":0},{"$f":"'16e'!U172","v":0},0,"n/a","n/a",{"$f":"'16e'!U26","v":2.5499544658351133E-2},{"$f":"'16e'!S172","v":10},null,null,null,"Other epidemics, viruses, contagions, Influenza, BSE, SARS …",0,"n/a","n/a",0,0,0,"n/a","n/a",4.3093941434168274E-2,13,null,null,"Other epidemics, viruses, contagions, Influenza, BSE, SARS …",0,"n/a","n/a",0,0,0,"n/a","n/a",4.3093941434168274E-2,13]
[null,null,null,null,{"$f":"'16e'!D27","v":"Birth control, fertility, sterilisation, amniocentesis, termination of pregnancy …"},0,"n/a","n/a",{"$f":"'16e'!AV27","v":0},{"$f":"'16e'!G173","v":0},{"$f":"'16e'!AW27","v":0},{"$f":"'16e'!H173","v":0},null,null,null,"Birth control, fertility, sterilisation, amniocentesis, termination of pregnancy …",0,"n/a","n/a",{"$f":"'16e'!V27","v":0},{"$f":"'16e'!U173","v":0},0,"n/a","n/a",{"$f":"'16e'!U27","v":0},{"$f":"'16e'!S173","v":0},null,null,null,"Birth control, fertility, sterilisation, amniocentesis, termination of pregnancy …",0,"n/a","n/a",0,0,0,"n/a","n/a",0,0,null,null,"Birth control, fertility, sterilisation, amniocentesis, termination of pregnancy …",0,"n/a","n/a",0,0,0,"n/a","n/a",0,0]
[null,null,null,null,{"$f":"'16e'!D28","v":"Environment, nature,   pollution, global warming, ecology, tourism …"},0,"n/a","n/a",{"$f":"'16e'!AV28","v":0},{"$f":"'16e'!G174","v":0},{"$f":"'16e'!AW28","v":0},{"$f":"'16e'!H174","v":0},null,null,null,"Environment, nature,   pollution, global warming, ecology, tourism …",0,"n/a","n/a",{"$f":"'16e'!V28","v":0},{"$f":"'16e'!U174","v":0},0,"n/a","n/a",{"$f":"'16e'!U28","v":6.3128939829987622E-3},{"$f":"'16e'!S174","v":2},null,null,null,"Environment, nature,   pollution, global warming, ecology, tourism …",0,"n/a","n/a",0,0,0,"n/a","n/a",6.6085218353676353E-3,3,null,null,"Environment, nature,   pollution, global warming, ecology, tourism …",0,"n/a","n/a",0,0,0,"n/a","n/a",6.6085218353676353E-3,3]
[null,null,null,null,{"$f":"'16e'!D29","v":"Other stories on science or health (specify the subject in 'Comments' section of coding sheet)"},0,"n/a","n/a",{"$f":"'16e'!AV29","v":0},{"$f":"'16e'!G175","v":0},{"$f":"'16e'!AW29","v":0},{"$f":"'16e'!H175","v":0},null,null,null,"Other stories on science or health (specify the subject in 'Comments' section of coding sheet)",0,"n/a","n/a",{"$f":"'16e'!V29","v":0},{"$f":"'16e'!U175","v":0},0,"n/a","n/a",{"$f":"'16e'!U29","v":1.023997474437378E-2},{"$f":"'16e'!S175","v":4},null,null,null,"Other stories on science or health (specify the subject in 'Comments' section of coding sheet)",0,"n/a","n/a",0,0,0,"n/a","n/a",3.4561650221435545E-3,1,null,null,"Other stories on science or health (specify the subject in 'Comments' section of coding sheet)",0,"n/a","n/a",0,0,0,"n/a","n/a",3.4561650221435545E-3,1]
[null,null,null,null,{"$f":"'16e'!D30","v":"Development issues, sustainability, community development …"},0,"n/a","n/a",{"$f":"'16e'!AV30","v":0},{"$f":"'16e'!G176","v":0},{"$f":"'16e'!AW30","v":0},{"$f":"'16e'!H176","v":0},null,null,null,"Development issues, sustainability, community development …",0,"n/a","n/a",{"$f":"'16e'!V30","v":0},{"$f":"'16e'!U176","v":0},0,"n/a","n/a",{"$f":"'16e'!U30","v":0},{"$f":"'16e'!S176","v":0},null,null,null,"Development issues, sustainability, community development …",0,"n/a","n/a",0,0,0,"n/a","n/a",2.2356951301306924E-2,7,null,null,"Development issues, sustainability, community development …",0,"n/a","n/a",0,0,0,"n/a","n/a",2.2356951301306924E-2,7]
[null,null,null,null,{"$f":"'16e'!D31","v":"Education, child care, nurseries, pre-school to university, adult education, literacy …"},0,"n/a","n/a",{"$f":"'16e'!AV31","v":0},{"$f":"'16e'!G177","v":0},{"$f":"'16e'!AW31","v":0},{"$f":"'16e'!H177","v":0},null,null,null,"Education, child care, nurseries, pre-school to university, adult education, literacy …",0,"n/a","n/a",{"$f":"'16e'!V31","v":0},{"$f":"'16e'!U177","v":0},0,"n/a","n/a",{"$f":"'16e'!U31","v":4.2970747329482611E-2},{"$f":"'16e'!S177","v":15},null,null,null,"Education, child care, nurseries, pre-school to university, adult education, literacy …",0,"n/a","n/a",0,0,0,"n/a","n/a",2.0433181923941838E-2,7,null,null,"Education, child care, nurseries, pre-school to university, adult education, literacy …",0,"n/a","n/a",0,0,0,"n/a","n/a",2.0433181923941838E-2,7]
[null,null,null,null,{"$f":"'16e'!D32","v":"Family relations, inter-generational conflict, single parents …"},0,"n/a","n/a",{"$f":"'16e'!AV32","v":0},{"$f":"'16e'!G178","v":0},{"$f":"'16e'!AW32","v":0},{"$f":"'16e'!H178","v":0},null,null,null,"Family relations, inter-generational conflict, single parents …",0,"n/a","n/a",{"$f":"'16e'!V32","v":0},{"$f":"'16e'!U178","v":0},0,"n/a","n/a",{"$f":"'16e'!U32","v":0},{"$f":"'16e'!S178","v":0},null,null,null,"Family relations, inter-generational conflict, single parents …",0,"n/a","n/a",0,0,0,"n/a","n/a",1.0368495066430672E-2,3,null,null,"Family relations, inter-generational conflict, single parents …",0,"n/a","n/a",0,0,0,"n/a","n/a",1.0368495066430672E-2,3]
[null,null,null,null,{"$f":"'16e'!D33","v":"Human rights, women's rights, children's rights, gay & lesbian rights, rights of minorities .."},0,"n/a","n/a",{"$f":"'16e'!AV33","v":1},{"$f":"'16e'!G179","v":1},{"$f":"'16e'!AW33","v":0},{"$f":"'16e'!H179","v":0},null,null,null,"Human rights, women's rights, children's rights, gay & lesbian rights, rights of minorities ..",0,"n/a","n/a",{"$f":"'16e'!V33","v":1},{"$f":"'16e'!U179","v":1},0,"n/a","n/a",{"$f":"'16e'!U33","v":3.7529002969053219E-3},{"$f":"'16e'!S179","v":1},null,null,null,"Human rights, women's rights, children's rights, gay & lesbian rights, rights of minorities ..",0,"n/a","n/a",0,0,0,"n/a","n/a",0,0,null,null,"Human rights, women's rights, children's rights, gay & lesbian rights, rights of minorities ..",0,"n/a","n/a",0,0,0,"n/a","n/a",0,0]
[null,null,null,null,{"$f":"'16e'!D34","v":"Religion, culture, tradition, controversies, teachings, celebrations, practices …"},0,"n/a","n/a",{"$f":"'16e'!AV34","v":0},{"$f":"'16e'!G180","v":0},{"$f":"'16e'!AW34","v":0},{"$f":"'16e'!H180","v":0},null,null,null,"Religion, culture, tradition, controversies, teachings, celebrations, practices …",0,"n/a","n/a",{"$f":"'16e'!V34","v":0},{"$f":"'16e'!U180","v":0},0,"n/a","n/a",{"$f":"'16e'!U34","v":0},{"$f":"'16e'!S180","v":0},null,null,null,"Religion, culture, tradition, controversies, teachings, celebrations, practices …",0,"n/a","n/a",0,0,0,"n/a","n/a",3.1523568132240895E-3,2,null,null,"Religion, culture, tradition, controversies, teachings, celebrations, practices …",0,"n/a","n/a",0,0,0,"n/a","n/a",3.1523568132240895E-3,2]
[null,null,null,null,{"$f":"'16e'!D35","v":"Migration, refugees, asylum seekers, ethnic conflict, integration, racism, xenophobia …"},0,"n/a","n/a",{"$f":"'16e'!AV35","v":0},{"$f":"'16e'!G181","v":0},{"$f":"'16e'!AW35","v":0},{"$f":"'16e'!H181","v":0},null,null,null,"Migration, refugees, asylum seekers, ethnic conflict, integration, racism, xenophobia …",0,"n/a","n/a",{"$f":"'16e'!V35","v":0},{"$f":"'16e'!U181","v":0},0,"n/a","n/a",{"$f":"'16e'!U35","v":0},{"$f":"'16e'!S181","v":0},null,null,null,"Migration, refugees, asylum seekers, ethnic conflict, integration, racism, xenophobia …",0,"n/a","n/a",0,0,0,"n/a","n/a",5.8754805376440476E-2,17,null,null,"Migration, refugees, asylum seekers, ethnic conflict, integration, racism, xenophobia …",0,"n/a","n/a",0,0,0,"n/a","n/a",5.8754805376440476E-2,17]
[null,null,null,null,{"$f":"'16e'!D36","v":"Women's movement, activism, events, demonstrations, gender equality advocacy …"},0,"n/a","n/a",{"$f":"'16e'!AV36","v":0},{"$f":"'16e'!G182","v":0},{"$f":"'16e'!AW36","v":0},{"$f":"'16e'!H182","v":0},null,null,null,"Women's movement, activism, events, demonstrations, gender equality advocacy …",0,"n/a","n/a",{"$f":"'16e'!V36","v":0},{"$f":"'16e'!U182","v":0},0,"n/a","n/a",{"$f":"'16e'!U36","v":0},{"$f":"'16e'!S182","v":0},null,null,null,"Women's movement, activism, events, demonstrations, gender equality advocacy …",0,"n/a","n/a",0,0,0,"n/a","n/a",0,0,null,null,"Women's movement, activism, events, demonstrations, gender equality advocacy …",0,"n/a","n/a",0,0,0,"n/a","n/a",0,0]
[null,null,null,null,{"$f":"'16e'!D37","v":"Changing gender relations, roles and relationships of women and men inside and outside the home …"},0,"n/a","n/a",{"$f":"'16e'!AV37","v":0},{"$f":"'16e'!G183","v":0},{"$f":"'16e'!AW37","v":0},{"$f":"'16e'!H183","v":0},null,null,null,{"$f":"E36","v":"Changing gender relations, roles and relationships of women and men inside and outside the home …"},0,"n/a","n/a",{"$f":"'16e'!V37","v":0},{"$f":"'16e'!U183","v":0},0,"n/a","n/a",{"$f":"'16e'!U37","v":0},{"$f":"'16e'!S183","v":0},null,null,null,"Changing gender relations, roles and relationships of women and men inside and outside the home …",0,"n/a","n/a",0,0,0,"n/a","n/a",3.4561650221435545E-3,1,null,null,"Changing gender relations, roles and relationships of women and men inside and outside the home …",0,"n/a","n/a",0,0,0,"n/a","n/a",3.4561650221435545E-3,1]
[null,null,null,null,{"$f":"'16e'!D38","v":"Family law, family codes, property law, inheritance law and rights …"},0,"n/a","n/a",{"$f":"'16e'!AV38","v":0},{"$f":"'16e'!G184","v":0},{"$f":"'16e'!AW38","v":0},{"$f":"'16e'!H184","v":0},null,null,null,"Family law, family codes, property law, inheritance law and rights …",0,"n/a","n/a",{"$f":"'16e'!V38","v":0},{"$f":"'16e'!U184","v":0},0,"n/a","n/a",{"$f":"'16e'!U38","v":0},{"$f":"'16e'!S184","v":0},null,null,null,"Family law, family codes, property law, inheritance law and rights …",0,"n/a","n/a",0,0,0,"n/a","n/a",0,0,null,null,"Family law, family codes, property law, inheritance law and rights …",0,"n/a","n/a",0,0,0,"n/a","n/a",0,0]
[null,null,null,null,{"$f":"'16e'!D39","v":"Legal system, judicial system, legislation (apart from family, property & inheritance law) …"},0,"n/a","n/a",{"$f":"'16e'!AV39","v":0},{"$f":"'16e'!G185","v":0},{"$f":"'16e'!AW39","v":0},{"$f":"'16e'!H185","v":0},null,null,null,"Legal system, judicial system, legislation (apart from family, property & inheritance law) …",0,"n/a","n/a",{"$f":"'16e'!V39","v":0},{"$f":"'16e'!U185","v":0},0,"n/a","n/a",{"$f":"'16e'!U39","v":1.7645383135601149E-2},{"$f":"'16e'!S185","v":6},null,null,null,"Legal system, judicial system, legislation (apart from family, property & inheritance law) …",0,"n/a","n/a",0,0,0,"n/a","n/a",6.4798446737824502E-3,4,null,null,"Legal system, judicial system, legislation (apart from family, property & inheritance law) …",0,"n/a","n/a",0,0,0,"n/a","n/a",6.4798446737824502E-3,4]
[null,null,null,null,{"$f":"'16e'!D40","v":"Other stories on social or legal issues (specify the subject in 'Comments' section of coding sheet)"},0,"n/a","n/a",{"$f":"'16e'!AV40","v":0},{"$f":"'16e'!G186","v":0},{"$f":"'16e'!AW40","v":0},{"$f":"'16e'!H186","v":0},null,null,null,"Other stories on social or legal issues (specify the subject in 'Comments' section of coding sheet)",0,"n/a","n/a",{"$f":"'16e'!V40","v":0},{"$f":"'16e'!U186","v":0},0,"n/a","n/a",{"$f":"'16e'!U40","v":5.3609279104087346E-2},{"$f":"'16e'!S186","v":21},null,null,null,"Other stories on social or legal issues (specify the subject in 'Comments' section of coding sheet)",0,"n/a","n/a",0,0,0,"n/a","n/a",0,0,null,null,"Other stories on social or legal issues (specify the subject in 'Comments' section of coding sheet)",0,"n/a","n/a",0,0,0,"n/a","n/a",0,0]
[null,null,null,null,{"$f":"'16e'!D41","v":"Non-violent crime, bribery, theft, drug-dealing, corruption, (including political corruption/malpractice) …"},0,"n/a","n/a",{"$f":"'16e'!AV41","v":0},{"$f":"'16e'!G187","v":0},{"$f":"'16e'!AW41","v":0},{"$f":"'16e'!H187","v":0},null,null,null,"Non-violent crime, bribery, theft, drug-dealing, corruption, (including political corruption/malpractice) …",0,"n/a","n/a",{"$f":"'16e'!V41","v":0},{"$f":"'16e'!U187","v":0},0,"n/a","n/a",{"$f":"'16e'!U41","v":3.5166781908024226E-2},{"$f":"'16e'!S187","v":11},null,null,null,"Non-violent crime, bribery, theft, drug-dealing, corruption, (including political corruption/malpractice) …",0,"n/a","n/a",0,0,0,"n/a","n/a",2.0304504762356648E-2,8,null,null,"Non-violent crime, bribery, theft, drug-dealing, corruption, (including political corruption/malpractice) …",0,"n/a","n/a",0,0,0,"n/a","n/a",2.0304504762356648E-2,8]
[null,null,null,null,{"$f":"'16e'!D42","v":"Violent crime, murder, abduction, kidnapping, assault, drug-related violence …"},0,"n/a","n/a",{"$f":"'16e'!AV42","v":0},{"$f":"'16e'!G188","v":0},{"$f":"'16e'!AW42","v":0},{"$f":"'16e'!H188","v":0},null,null,null,"Violent crime, murder, abduction, kidnapping, assault, drug-related violence …",0,"n/a","n/a",{"$f":"'16e'!V42","v":0},{"$f":"'16e'!U188","v":0},0,"n/a","n/a",{"$f":"'16e'!U42","v":1.7568583093612682E-2},{"$f":"'16e'!S188","v":7},null,null,null,"Violent crime, murder, abduction, kidnapping, assault, drug-related violence …",0,"n/a","n/a",0,0,0,"n/a","n/a",4.1473980265722667E-2,12,null,null,"Violent crime, murder, abduction, kidnapping, assault, drug-related violence …",0,"n/a","n/a",0,0,0,"n/a","n/a",4.1473980265722667E-2,12]
[null,null,null,null,{"$f":"'16e'!D43","v":"Gender-based violence, feminicide, harassment, domestic violence, rape, trafficking, genital mutilation …"},0,"n/a","n/a",{"$f":"'16e'!AV43","v":0},{"$f":"'16e'!G189","v":0},{"$f":"'16e'!AW43","v":0},{"$f":"'16e'!H189","v":0},null,null,null,"Gender-based violence, feminicide, harassment, domestic violence, rape, trafficking, genital mutilation …",0,"n/a","n/a",{"$f":"'16e'!V43","v":0},{"$f":"'16e'!U189","v":0},0,"n/a","n/a",{"$f":"'16e'!U43","v":2.7985750082558197E-2},{"$f":"'16e'!S189","v":10},null,null,null,"Gender-based violence, feminicide, harassment, domestic violence, rape, trafficking, genital mutilation …",0,"n/a","n/a",0,0,0,"n/a","n/a",2.7649320177148475E-2,8,null,null,"Gender-based violence, feminicide, harassment, domestic violence, rape, trafficking, genital mutilation …",0,"n/a","n/a",0,0,0,"n/a","n/a",2.7649320177148475E-2,8]
[null,null,null,null,{"$f":"'16e'!D44","v":"Child abuse, sexual violence against children, trafficking, neglect."},0,"n/a","n/a",{"$f":"'16e'!AV44","v":0},{"$f":"'16e'!G190","v":0},{"$f":"'16e'!AW44","v":0},{"$f":"'16e'!H190","v":0},null,null,null,"Child abuse, sexual violence against children, trafficking, neglect.",0,"n/a","n/a",{"$f":"'16e'!V44","v":0},{"$f":"'16e'!U190","v":0},0,"n/a","n/a",{"$f":"'16e'!U44","v":1.535996211656067E-2},{"$f":"'16e'!S190","v":6},null,null,null,"Child abuse, sexual violence against children, trafficking, neglect.",0,"n/a","n/a",0,0,0,"n/a","n/a",1.7280825110717771E-2,5,null,null,"Child abuse, sexual violence against children, trafficking, neglect.",0,"n/a","n/a",0,0,0,"n/a","n/a",1.7280825110717771E-2,5]
[null,null,null,null,{"$f":"'16e'!D45","v":"War, civil war, terrorism, state-based violence …"},0,"n/a","n/a",{"$f":"'16e'!AV45","v":0},{"$f":"'16e'!G191","v":0},{"$f":"'16e'!AW45","v":0},{"$f":"'16e'!H191","v":0},null,null,null,"War, civil war, terrorism, state-based violence …",0,"n/a","n/a",{"$f":"'16e'!V45","v":0},{"$f":"'16e'!U191","v":0},0,"n/a","n/a",{"$f":"'16e'!U45","v":2.4182653684361195E-2},{"$f":"'16e'!S191","v":9},null,null,null,"War, civil war, terrorism, state-based violence …",0,"n/a","n/a",0,0,0,"n/a","n/a",2.4193155155004895E-2,7,null,null,"War, civil war, terrorism, state-based violence …",0,"n/a","n/a",0,0,0,"n/a","n/a",2.4193155155004895E-2,7]
[null,null,null,null,{"$f":"'16e'!D46","v":"Riots, demonstrations, public disorder …"},0,"n/a","n/a",{"$f":"'16e'!AV46","v":0},{"$f":"'16e'!G192","v":0},{"$f":"'16e'!AW46","v":0},{"$f":"'16e'!H192","v":0},null,null,null,"Riots, demonstrations, public disorder …",0,"n/a","n/a",{"$f":"'16e'!V46","v":0},{"$f":"'16e'!U192","v":0},0,"n/a","n/a",{"$f":"'16e'!U46","v":0},{"$f":"'16e'!S192","v":0},null,null,null,"Riots, demonstrations, public disorder …",0,"n/a","n/a",0,0,0,"n/a","n/a",6.4798446737824103E-3,4,null,null,"Riots, demonstrations, public disorder …",0,"n/a","n/a",0,0,0,"n/a","n/a",6.4798446737824103E-3,4]
[null,null,null,null,{"$f":"'16e'!D47","v":"Disaster, accident, famine, earthquake, flood, hurricane, plane crash, car crash …"},0,"n/a","n/a",{"$f":"'16e'!AV47","v":0},{"$f":"'16e'!G193","v":0},{"$f":"'16e'!AW47","v":0},{"$f":"'16e'!H193","v":0},null,null,null,"Disaster, accident, famine, earthquake, flood, hurricane, plane crash, car crash …",0,"n/a","n/a",{"$f":"'16e'!V47","v":0},{"$f":"'16e'!U193","v":0},0,"n/a","n/a",{"$f":"'16e'!U47","v":1.5309766015269007E-2},{"$f":"'16e'!S193","v":6},null,null,null,"Disaster, accident, famine, earthquake, flood, hurricane, plane crash, car crash …",0,"n/a","n/a",0,0,0,"n/a","n/a",0,0,null,null,"Disaster, accident, famine, earthquake, flood, hurricane, plane crash, car crash …",0,"n/a","n/a",0,0,0,"n/a","n/a",0,0]
[null,null,null,null,{"$f":"'16e'!D48","v":"Other stories on crime and violence (specify the subject in 'Comments' section of coding sheet)"},0,"n/a","n/a",{"$f":"'16e'!AV48","v":0},{"$f":"'16e'!G194","v":0},{"$f":"'16e'!AW48","v":0},{"$f":"'16e'!H194","v":0},null,null,null,"Other stories on crime and violence (specify the subject in 'Comments' section of coding sheet)",0,"n/a","n/a",{"$f":"'16e'!V48","v":0},{"$f":"'16e'!U194","v":0},0,"n/a","n/a",{"$f":"'16e'!U48","v":1.1258700890715977E-2},{"$f":"'16e'!S194","v":3},null,null,null,"Other stories on crime and violence (specify the subject in 'Comments' section of coding sheet)",0,"n/a","n/a",0,0,0,"n/a","n/a",0,0,null,null,"Other stories on crime and violence (specify the subject in 'Comments' section of coding sheet)",0,"n/a","n/a",0,0,0,"n/a","n/a",0,0]
[null,null,null,null,{"$f":"'16e'!D49","v":"Celebrity news, births, marriages, deaths, obituaries, famous people, royalty …"},0,"n/a","n/a",{"$f":"'16e'!AV49","v":0},{"$f":"'16e'!G195","v":0},{"$f":"'16e'!AW49","v":0},{"$f":"'16e'!H195","v":0},null,null,null,"Celebrity news, births, marriages, deaths, obituaries, famous people, royalty …",0,"n/a","n/a",{"$f":"'16e'!V49","v":0},{"$f":"'16e'!U195","v":0},0,"n/a","n/a",{"$f":"'16e'!U49","v":0},{"$f":"'16e'!S195","v":0},null,null,null,"Celebrity news, births, marriages, deaths, obituaries, famous people, royalty …",0,"n/a","n/a",0,0,0,"n/a","n/a",6.2210970398583976E-2,18,null,null,"Celebrity news, births, marriages, deaths, obituaries, famous people, royalty …",0,"n/a","n/a",0,0,0,"n/a","n/a",6.2210970398583976E-2,18]
[null,null,null,null,{"$f":"'16e'!D50","v":"Arts, entertainment, leisure, cinema, theatre, books, dance …"},0,"n/a","n/a",{"$f":"'16e'!AV50","v":0},{"$f":"'16e'!G196","v":0},{"$f":"'16e'!AW50","v":0},{"$f":"'16e'!H196","v":0},null,null,null,"Arts, entertainment, leisure, cinema, theatre, books, dance …",0,"n/a","n/a",{"$f":"'16e'!V50","v":0},{"$f":"'16e'!U196","v":0},0,"n/a","n/a",{"$f":"'16e'!U50","v":9.4167856571470504E-2},{"$f":"'16e'!S196","v":29},null,null,null,"Arts, entertainment, leisure, cinema, theatre, books, dance …",0,"n/a","n/a",0,0,0,"n/a","n/a",2.7000592121391411E-2,11,null,null,"Arts, entertainment, leisure, cinema, theatre, books, dance …",0,"n/a","n/a",0,0,0,"n/a","n/a",2.7000592121391411E-2,11]
[null,null,null,null,{"$f":"'16e'!D51","v":"Media, including new media (computers, internet), portrayal of women and/or men, pornography …"},0,"n/a","n/a",{"$f":"'16e'!AV51","v":0},{"$f":"'16e'!G197","v":0},{"$f":"'16e'!AW51","v":0},{"$f":"'16e'!H197","v":0},null,null,null,"Media, including new media (computers, internet), portrayal of women and/or men, pornography …",0,"n/a","n/a",{"$f":"'16e'!V51","v":0},{"$f":"'16e'!U197","v":0},0,"n/a","n/a",{"$f":"'16e'!U51","v":0},{"$f":"'16e'!S197","v":0},null,null,null,"Media, including new media (computers, internet), portrayal of women and/or men, pornography …",0,"n/a","n/a",0,0,0,"n/a","n/a",5.0323434287555908E-3,2,null,null,"Media, including new media (computers, internet), portrayal of women and/or men, pornography …",0,"n/a","n/a",0,0,0,"n/a","n/a",5.0323434287555908E-3,2]
[null,null,null,null,{"$f":"'16e'!D52","v":"Beauty contests, models, fashion, beauty aids, cosmetic surgery …"},0,"n/a","n/a",{"$f":"'16e'!AV52","v":0},{"$f":"'16e'!G198","v":0},{"$f":"'16e'!AW52","v":0},{"$f":"'16e'!H198","v":0},null,null,null,"Beauty contests, models, fashion, beauty aids, cosmetic surgery …",0,"n/a","n/a",{"$f":"'16e'!V52","v":0},{"$f":"'16e'!U198","v":0},0,"n/a","n/a",{"$f":"'16e'!U52","v":3.7529002969053219E-3},{"$f":"'16e'!S198","v":1},null,null,null,"Beauty contests, models, fashion, beauty aids, cosmetic surgery …",0,"n/a","n/a",0,0,0,"n/a","n/a",6.9123300442871186E-3,2,null,null,"Beauty contests, models, fashion, beauty aids, cosmetic surgery …",0,"n/a","n/a",0,0,0,"n/a","n/a",6.9123300442871186E-3,2]
[null,null,null,null,{"$f":"'16e'!D53","v":"Sports, events, players, facilities, training, policies, funding …"},0,"n/a","n/a",{"$f":"'16e'!AV53","v":0},{"$f":"'16e'!G199","v":0},{"$f":"'16e'!AW53","v":0},{"$f":"'16e'!H199","v":0},null,null,null,"Sports, events, players, facilities, training, policies, funding …",0,"n/a","n/a",{"$f":"'16e'!V53","v":0},{"$f":"'16e'!U199","v":0},0,"n/a","n/a",{"$f":"'16e'!U53","v":5.1347697545862665E-2},{"$f":"'16e'!S199","v":14},null,null,null,"Sports, events, players, facilities, training, policies, funding …",0,"n/a","n/a",0,0,0,"n/a","n/a",4.4930145287866222E-2,13,null,null,"Sports, events, players, facilities, training, policies, funding …",0,"n/a","n/a",0,0,0,"n/a","n/a",4.4930145287866222E-2,13]
[null,null,null,null,{"$f":"'16e'!D54","v":"Other stories on celebrities, arts, media (specify the subject in 'Comments' section of coding sheet)"},0,"n/a","n/a",{"$f":"'16e'!AV54","v":0},{"$f":"'16e'!G200","v":0},{"$f":"'16e'!AW54","v":0},{"$f":"'16e'!H200","v":0},null,null,null,"Other stories on celebrities, arts, media (specify the subject in 'Comments' section of coding sheet)",0,"n/a","n/a",{"$f":"'16e'!V54","v":0},{"$f":"'16e'!U200","v":0},0,"n/a","n/a",{"$f":"'16e'!U54","v":2.2691582245901627E-2},{"$f":"'16e'!S200","v":7},null,null,null,"Other stories on celebrities, arts, media (specify the subject in 'Comments' section of coding sheet)",0,"n/a","n/a",0,0,0,"n/a","n/a",3.4561650221435543E-2,10,null,null,"Other stories on celebrities, arts, media (specify the subject in 'Comments' section of coding sheet)",0,"n/a","n/a",0,0,0,"n/a","n/a",3.4561650221435543E-2,10]
[null,null,null,null,{"$f":"'16e'!D55","v":"News about the girl child, including, cultural attitudes and practices impinging on girls, education, health, economic exploitation, violence (ONLY WHERE EMPHASIS IS ON THE GIRL CHILD)…"},0,"n/a","n/a",{"$f":"'16e'!AV55","v":0},{"$f":"'16e'!G201","v":0},{"$f":"'16e'!AW55","v":0},{"$f":"'16e'!H201","v":0},null,null,null,"News about the girl child, including, cultural attitudes and practices impinging on girls, education, health, economic exploitation, violence (ONLY WHERE EMPHASIS IS ON THE GIRL CHILD)…",0,"n/a","n/a",{"$f":"'16e'!V55","v":0},{"$f":"'16e'!U201","v":0},0,"n/a","n/a",{"$f":"'16e'!U55","v":0},{"$f":"'16e'!S201","v":0},null,null,null,"News about the girl child, including, cultural attitudes and practices impinging on girls, education, health, economic exploitation, violence (ONLY WHERE EMPHASIS IS ON THE GIRL CHILD)…",0,"n/a","n/a",0,0,0,"n/a","n/a",0,0,null,null,"News about the girl child, including, cultural attitudes and practices impinging on girls, education, health, economic exploitation, violence (ONLY WHERE EMPHASIS IS ON THE GIRL CHILD)…",0,"n/a","n/a",0,0,0,"n/a","n/a",0,0]
[null,null,null,null,{"$f":"'16e'!D56","v":"Other subject: use only if none of the above subject codes is suitable (specify the subject in 'Comments' section of coding sheet)"},1,"n/a","n/a",{"$f":"'16e'!AV56","v":0},{"$f":"'16e'!G202","v":0},{"$f":"'16e'!AW56","v":0},{"$f":"'16e'!H202","v":0},null,null,null,"Other subject: use only if none of the above subject codes is suitable (specify the subject in 'Comments' section of coding sheet)",1,"n/a","n/a",{"$f":"'16e'!V56","v":0},{"$f":"'16e'!U202","v":0},1,"n/a","n/a",{"$f":"'16e'!U56","v":0},{"$f":"'16e'!S202","v":0},null,null,null,"Other subject: use only if none of the above subject codes is suitable (specify the subject in 'Comments' section of coding sheet)",1,"n/a","n/a",0,0,1,"n/a","n/a",0,3,null,null,"Other subject: use only if none of the above subject codes is suitable (specify the subject in 'Comments' section of coding sheet)",1,"n/a","n/a",0,0,1,"n/a","n/a",0,3]
[]
[null,null,null,null,null,0,0,0,{"$f":"'16e'!$AV$68","v":1},null,{"$f":"'16e'!AW68","v":0},null,null,null,null,null,0,0,0,{"$f":"SUM(T4:T55)","v":1},null,0,0,0,{"$f":"SUM(Y4:Y55)","v":1},null,null,null,null,null,0,0,0,{"$f":"SUM(AH4:AH55)","v":0},null,0,0,0,{"$f":"SUM(AM4:AM55)","v":0.99999999999999989},null,null,null,null,0,0,0,{"$f":"SUM(AU4:AU55)","v":0},null,0,0,0,{"$f":"SUM(AZ4:AZ55)","v":0.99999999999999989}]

{"sheet":"17a","index":61,"n_rows":205,"n_cols":48,"rows_kept":205,"cut":false,"hidden":true,"merged":[]}
["Stories where stereotypes are challenged/ supported by news topic"]
[null,null,null,null,null,null,null,null,null,null,null,null,null,null,null,null,null,null,null,null,null,null,null,null,null,null,null,null,null,null,null,null,null,null,null,null,null,null,null,null,null,null,null,null,null,{"$f":"E2","v":0},0,0]
[null,null,null,null,"Disagree. The story definitely does not challenge stereotypes","Agree. The story definitely challenges stereotypes","Neither agree nor disagree. The story neither clearly challenges nor reinforces stereotypes",null,null,null,null,null,null,null,null,null,null,null,null,null,null,null,null,null,null,null,null,null,null,null,null,null,null,null,null,null,null,null,null,null,null,null,null,null,null,"Disagree. The story definitely does not challenge stereotypes","Agree. The story definitely challenges stereotypes","Neither agree nor disagree. The story neither clearly challenges nor reinforces stereotypes"]
[null,null,null,null,null,null,null,null,null,null,null,null,null,null,null,null,null,null,null,null,null,null,null,null,null,null,null,null,null,null,null,null,null,null,null,null,null,null,null,null,null,null,null,null,"TOTAL",0,0,0]
[null,null,1,"Women in political power and decision-making (local, regional, national),",null,null,null,null,null,null,null,null,null,null,null,null,null,null,null,null,null,null,null,null,null,null,null,null,null,null,null,null,null,null,null,null,null,null,null,null,null,null,null,null,{"$f":"SUM(E5:O5)","v":0},{"$f":"IF($AS5>0,+E5/$AS5,0)","v":0},0,0]
[null,null,2,"Women electoral candidates (local, regional, national),",null,null,5.1000001840293399E-3,null,null,null,null,null,null,null,null,null,null,null,null,null,null,null,null,null,null,null,null,null,null,null,null,null,null,null,null,null,null,null,null,null,null,null,null,null,5.1000001840293399E-3,0,0,1]
[null,null,3,"Peace, negotiations, treaties…(local, regional, national),",null,7.4764997698366599E-3,7.4764997698366599E-3,null,null,null,null,null,null,null,null,null,null,null,null,null,null,null,null,null,null,null,null,null,null,null,null,null,null,null,null,null,null,null,null,null,null,null,null,null,1.495299953967332E-2,{"$f":"IF($AS7>0,+E7/$AS7,0)","v":0},{"$f":"IF($AS7>0,+F7/$AS7,0)","v":0.5},{"$f":"IF($AS7>0,+G7/$AS7,0)","v":0.5}]
[null,null,4,"Other domestic politics/government (local, regional, national), elections, speeches, the political process …",null,null,3.7876500282436602E-2,null,null,null,null,null,null,null,null,null,null,null,null,null,null,null,null,null,null,null,null,null,null,null,null,null,null,null,null,null,null,null,null,null,null,null,null,null,3.7876500282436602E-2,0,{"$f":"IF($AS8>0,+F8/$AS8,0)","v":0},{"$f":"IF($AS8>0,+G8/$AS8,0)","v":1}]
[null,null,5,"Global partnerships (international trade and finance systems, e.g. WTO, IMF, World Bank, debt) …",null,null,null,null,null,null,null,null,null,null,null,null,null,null,null,null,null,null,null,null,null,null,null,null,null,null,null,null,null,null,null,null,null,null,null,null,null,null,null,null,0,0,0,0]
[null,null,6,"Foreign/international politics, relations with other countries, negotiations, treaties, UN peacekeeping …",null,null,8.0305999144911794E-2,null,null,null,null,null,null,null,null,null,null,null,null,null,null,null,null,null,null,null,null,null,null,null,null,null,null,null,null,null,null,null,null,null,null,null,null,null,8.0305999144911794E-2,0,0,1]
[null,null,7,"National defence, military spending, military training, military parades, internal security …",null,null,2.5052999611943998E-2,null,null,null,null,null,null,null,null,null,null,null,null,null,null,null,null,null,null,null,null,null,null,null,null,null,null,null,null,null,null,null,null,null,null,null,null,null,2.5052999611943998E-2,0,0,1]
[null,null,8,"Other stories on politics and government (specify the subject in 'Comments' section of coding sheet)",null,7.4764997698366599E-3,6.5058998763561193E-2,null,null,null,null,null,null,null,null,null,null,null,null,null,null,null,null,null,null,null,null,null,null,null,null,null,null,null,null,null,null,null,null,null,null,null,null,null,7.2535498533397857E-2,0,0.10307366628760703,0.89692633371239294]
[null,null,9,"Economic policies, strategies, models (national, international) …",7.4764997698366599E-3,null,1.7576499842107299E-2,null,null,null,null,null,null,null,null,null,null,null,null,null,null,null,null,null,null,null,null,null,null,null,null,null,null,null,null,null,null,null,null,null,null,null,null,null,2.505299961194396E-2,0.29842732948721462,0,0.70157267051278538]
[null,null,10,"Economic indicators, statistics, business, trade, stock markets …",null,null,1.2576499953866E-2,null,null,null,null,null,null,null,null,null,null,null,null,null,null,null,null,null,null,null,null,null,null,null,null,null,null,null,null,null,null,null,null,null,null,null,null,null,1.2576499953866E-2,0,0,1]
[null,null,11,"Economic crisis, state bailouts of companies, company takeovers and mergers …",null,null,4.9999998882412902E-3,null,null,null,null,null,null,null,null,null,null,null,null,null,null,null,null,null,null,null,null,null,null,null,null,null,null,null,null,null,null,null,null,null,null,null,null,null,4.9999998882412902E-3,0,0,1]
[null,null,12,"Poverty, housing, social welfare, aid to those in need …",null,null,5.1000001840293399E-3,null,null,null,null,null,null,null,null,null,null,null,null,null,null,null,null,null,null,null,null,null,null,null,null,null,null,null,null,null,null,null,null,null,null,null,null,null,5.1000001840293399E-3,0,0,1]
[null,null,13,"Women's participation in economic processes (informal work, paid employment, unemployment, unpaid labour)",null,null,null,null,null,null,null,null,null,null,null,null,null,null,null,null,null,null,null,null,null,null,null,null,null,null,null,null,null,null,null,null,null,null,null,null,null,null,null,null,0,0,0,0]
[null,null,14,"Other labour issues, strikes, trade unions, negotiations, other employment and unemployment …",null,null,2.2476499434560499E-2,null,null,null,null,null,null,null,null,null,null,null,null,null,null,null,null,null,null,null,null,null,null,null,null,null,null,null,null,null,null,null,null,null,null,null,null,null,2.2476499434560499E-2,0,0,1]
[null,null,15,"Rural economy, agriculture, farming practices, agricultural policy, land rights …",null,null,null,null,null,null,null,null,null,null,null,null,null,null,null,null,null,null,null,null,null,null,null,null,null,null,null,null,null,null,null,null,null,null,null,null,null,null,null,null,0,0,0,0]
[null,null,16,"Consumer issues, consumer protection, regulation, prices, consumer fraud …",null,null,1.7576499842107299E-2,null,null,null,null,null,null,null,null,null,null,null,null,null,null,null,null,null,null,null,null,null,null,null,null,null,null,null,null,null,null,null,null,null,null,null,null,null,1.7576499842107299E-2,0,0,1]
[null,null,17,"Transport, traffic, roads ……",null,null,5.1000001840293399E-3,null,null,null,null,null,null,null,null,null,null,null,null,null,null,null,null,null,null,null,null,null,null,null,null,null,null,null,null,null,null,null,null,null,null,null,null,null,5.1000001840293399E-3,0,0,1]
[null,null,18,"Other stories on the economy (specify the subject in 'Comments' section of coding sheet)",5.1000001840293399E-3,null,7.4764997698366599E-3,null,null,null,null,null,null,null,null,null,null,null,null,null,null,null,null,null,null,null,null,null,null,null,null,null,null,null,null,null,null,null,null,null,null,null,null,null,1.2576499953866E-2,0.40551824456228036,0,0.59448175543771964]
[null,null,19,"Science, technology, research, funding, discoveries, developments …",null,null,5.1000001840293399E-3,null,null,null,null,null,null,null,null,null,null,null,null,null,null,null,null,null,null,null,null,null,null,null,null,null,null,null,null,null,null,null,null,null,null,null,null,null,5.1000001840293399E-3,0,0,1]
[null,null,20,"Medicine, health, hygiene, safety, disability, medical research, funding (apart from HIV-AIDS)…",null,null,5.1000001840293399E-3,null,null,null,null,null,null,null,null,null,null,null,null,null,null,null,null,null,null,null,null,null,null,null,null,null,null,null,null,null,null,null,null,null,null,null,null,null,5.1000001840293399E-3,0,0,1]
[null,null,21,"HIV and AIDS, incidence, policy, treatment, people affected …",null,null,null,null,null,null,null,null,null,null,null,null,null,null,null,null,null,null,null,null,null,null,null,null,null,null,null,null,null,null,null,null,null,null,null,null,null,null,null,null,0,0,0,0]
[null,null,22,"Other epidemics, viruses, contagions, Influenza, BSE, SARS …",null,null,3.2876500394195297E-2,null,null,null,null,null,null,null,null,null,null,null,null,null,null,null,null,null,null,null,null,null,null,null,null,null,null,null,null,null,null,null,null,null,null,null,null,null,3.2876500394195297E-2,0,0,1]
[null,null,23,"Birth control, fertility, sterilisation, amniocentesis, termination of pregnancy …",null,null,null,null,null,null,null,null,null,null,null,null,null,null,null,null,null,null,null,null,null,null,null,null,null,null,null,null,null,null,null,null,null,null,null,null,null,null,null,null,0,0,0,0]
[null,null,24,"Environment, nature,   pollution, global warming, ecology, tourism …",null,null,1.2576499953866E-2,null,null,null,null,null,null,null,null,null,null,null,null,null,null,null,null,null,null,null,null,null,null,null,null,null,null,null,null,null,null,null,null,null,null,null,null,null,1.2576499953866E-2,0,0,1]
[null,null,25,"Other stories on science or health (specify the subject in 'Comments' section of coding sheet)",null,null,5.1000001840293399E-3,null,null,null,null,null,null,null,null,null,null,null,null,null,null,null,null,null,null,null,null,null,null,null,null,null,null,null,null,null,null,null,null,null,null,null,null,null,5.1000001840293399E-3,0,0,1]
[null,null,26,"Development issues, sustainability, community development …",null,null,null,null,null,null,null,null,null,null,null,null,null,null,null,null,null,null,null,null,null,null,null,null,null,null,null,null,null,null,null,null,null,null,null,null,null,null,null,null,0,0,0,0]
[null,null,27,"Education, child care, nurseries, pre-school to university, adult education, literacy …",1.7676500137895301E-2,7.4764997698366599E-3,2.2576499730348601E-2,null,null,null,null,null,null,null,null,null,null,null,null,null,null,null,null,null,null,null,null,null,null,null,null,null,null,null,null,null,null,null,null,null,null,null,null,null,4.7729499638080562E-2,0.37034748471974888,0.15664316254159094,0.47300935273866018]
[null,null,28,"Family relations, inter-generational conflict, single parents …",null,null,null,null,null,null,null,null,null,null,null,null,null,null,null,null,null,null,null,null,null,null,null,null,null,null,null,null,null,null,null,null,null,null,null,null,null,null,null,null,0,0,0,0]
[null,null,29,"Human rights, women's rights, children's rights, gay & lesbian rights, rights of minorities ..",null,4.9999998882412902E-3,7.4764997698366599E-3,null,null,null,null,null,null,null,null,null,null,null,null,null,null,null,null,null,null,null,null,null,null,null,null,null,null,null,null,null,null,null,null,null,null,null,null,null,1.247649965807795E-2,0,0.40075341844810008,0.59924658155189992]
[null,null,30,"Religion, culture, tradition, controversies, teachings, celebrations, practices …",null,null,null,null,null,null,null,null,null,null,null,null,null,null,null,null,null,null,null,null,null,null,null,null,null,null,null,null,null,null,null,null,null,null,null,null,null,null,null,null,0,0,0,0]
[null,null,31,"Migration, refugees, asylum seekers, ethnic conflict, integration, racism, xenophobia …",null,null,null,null,null,null,null,null,null,null,null,null,null,null,null,null,null,null,null,null,null,null,null,null,null,null,null,null,null,null,null,null,null,null,null,null,null,null,null,null,0,0,0,0]
[null,null,32,"Women's movement, activism, events, demonstrations, gender equality advocacy …",null,null,null,null,null,null,null,null,null,null,null,null,null,null,null,null,null,null,null,null,null,null,null,null,null,null,null,null,null,null,null,null,null,null,null,null,null,null,null,null,0,0,0,0]
[null,null,33,"Changing gender relations, roles and relationships of women and men inside and outside the home …",null,null,null,null,null,null,null,null,null,null,null,null,null,null,null,null,null,null,null,null,null,null,null,null,null,null,null,null,null,null,null,null,null,null,null,null,null,null,null,null,{"$f":"SUM(E37:O37)","v":0},0,0,0]
[null,null,34,"Family law, family codes, property law, inheritance law and rights …",null,null,null,null,null,null,null,null,null,null,null,null,null,null,null,null,null,null,null,null,null,null,null,null,null,null,null,null,null,null,null,null,null,null,null,null,null,null,null,null,0,0,0,0]
[null,null,35,"Legal system, judicial system, legislation (apart from family, property & inheritance law) …",null,null,3.2676499802619198E-2,null,null,null,null,null,null,null,null,null,null,null,null,null,null,null,null,null,null,null,null,null,null,null,null,null,null,null,null,null,null,null,null,null,null,null,null,null,3.2676499802619198E-2,0,0,1]
[null,null,36,"Other stories on social or legal issues (specify the subject in 'Comments' section of coding sheet)",null,5.1000001840293399E-3,4.0500000584870598E-2,null,null,null,null,null,null,null,null,null,null,null,null,null,null,null,null,null,null,null,null,null,null,null,null,null,null,null,null,null,null,null,null,null,null,null,null,null,4.5600000768899938E-2,0,0.11184210741302522,0.88815789258697475]
[null,null,37,"Non-violent crime, bribery, theft, drug-dealing, corruption, (including political corruption/malpractice) …",7.4764997698366599E-3,null,2.5052999611943998E-2,null,null,null,null,null,null,null,null,null,null,null,null,null,null,null,null,null,null,null,null,null,null,null,null,null,null,null,null,null,null,null,null,null,null,null,null,null,3.2529499381780659E-2,0.229837529378769,0,0.770162470621231]
[null,null,38,"Violent crime, murder, abduction, kidnapping, assault, drug-related violence …",4.9999998882412902E-3,null,1.4999999664723899E-2,null,null,null,null,null,null,null,null,null,null,null,null,null,null,null,null,null,null,null,null,null,null,null,null,null,null,null,null,null,null,null,null,null,null,null,null,null,1.9999999552965188E-2,0.24999999999999967,0,0.75000000000000044]
[null,null,39,"Gender-based violence, feminicide, harassment, domestic violence, rape, trafficking, genital mutilation …",1.7676500137895301E-2,null,null,null,null,null,null,null,null,null,null,null,null,null,null,null,null,null,null,null,null,null,null,null,null,null,null,null,null,null,null,null,null,null,null,null,null,null,null,null,1.7676500137895301E-2,1,0,0]
[null,null,40,"Child abuse, sexual violence against children, trafficking, neglect.",null,5.1000001840293399E-3,1.5300000552088E-2,null,null,null,null,null,null,null,null,null,null,null,null,null,null,null,null,null,null,null,null,null,null,null,null,null,null,null,null,null,null,null,null,null,null,null,null,null,2.0400000736117339E-2,0,0.25000000000000028,0.74999999999999978]
[null,null,41,"War, civil war, terrorism, state-based violence …",1.2476499658078E-2,null,2.0400000736117401E-2,null,null,null,null,null,null,null,null,null,null,null,null,null,null,null,null,null,null,null,null,null,null,null,null,null,null,null,null,null,null,null,null,null,null,null,null,null,3.2876500394195401E-2,0.3794959776278628,0,0.6205040223721372]
[null,null,42,"Riots, demonstrations, public disorder …",null,null,null,null,null,null,null,null,null,null,null,null,null,null,null,null,null,null,null,null,null,null,null,null,null,null,null,null,null,null,null,null,null,null,null,null,null,null,null,null,0,0,0,0]
[null,null,43,"Disaster, accident, famine, earthquake, flood, hurricane, plane crash, car crash …",null,1.0200000368058701E-2,1.52000002563E-2,null,null,null,null,null,null,null,null,null,null,null,null,null,null,null,null,null,null,null,null,null,null,null,null,null,null,null,null,null,null,null,null,null,null,null,null,null,2.5400000624358703E-2,0,0.40157480776897536,0.59842519223102453]
[null,null,44,"Other stories on crime and violence (specify the subject in 'Comments' section of coding sheet)",null,null,1.2476499658078E-2,null,null,null,null,null,null,null,null,null,null,null,null,null,null,null,null,null,null,null,null,null,null,null,null,null,null,null,null,null,null,null,null,null,null,null,null,null,1.2476499658078E-2,0,0,1]
[null,null,45,"Celebrity news, births, marriages, deaths, obituaries, famous people, royalty …",null,null,null,null,null,null,null,null,null,null,null,null,null,null,null,null,null,null,null,null,null,null,null,null,null,null,null,null,null,null,null,null,null,null,null,null,null,null,null,null,0,0,0,0]
[null,null,46,"Arts, entertainment, leisure, cinema, theatre, books, dance …",1.2576499953866E-2,null,5.01059992238879E-2,null,null,null,null,null,null,null,null,null,null,null,null,null,null,null,null,null,null,null,null,null,null,null,null,null,null,null,null,null,null,null,null,null,null,null,null,null,6.2682499177753898E-2,0.20063813853691106,0,0.79936186146308896]
[null,null,47,"Media, including new media (computers, internet), portrayal of women and/or men, pornography …",null,null,null,null,null,null,null,null,null,null,null,null,null,null,null,null,null,null,null,null,null,null,null,null,null,null,null,null,null,null,null,null,null,null,null,null,null,null,null,null,0,0,0,0]
[null,null,48,"Beauty contests, models, fashion, beauty aids, cosmetic surgery …",7.4764997698366599E-3,null,null,null,null,null,null,null,null,null,null,null,null,null,null,null,null,null,null,null,null,null,null,null,null,null,null,null,null,null,null,null,null,null,null,null,null,null,null,null,7.4764997698366599E-3,1,0,0]
[null,null,49,"Sports, events, players, facilities, training, policies, funding …",7.4764997698366599E-3,null,1.7576499842107299E-2,null,null,null,null,null,null,null,null,null,null,null,null,null,null,null,null,null,null,null,null,null,null,null,null,null,null,null,null,null,null,null,null,null,null,null,null,null,2.505299961194396E-2,0.29842732948721462,0,0.70157267051278538]
[null,null,50,"Other stories on celebrities, arts, media (specify the subject in 'Comments' section of coding sheet)",null,null,1.2576499953866E-2,null,null,null,null,null,null,null,null,null,null,null,null,null,null,null,null,null,null,null,null,null,null,null,null,null,null,null,null,null,null,null,null,null,null,null,null,null,1.2576499953866E-2,0,0,1]
[null,null,51,"News about the girl child, including, cultural attitudes and practices impinging on girls, education, health, economic exploitation, violence (ONLY WHERE EMPHASIS IS ON THE GIRL CHILD)…",null,null,null,null,null,null,null,null,null,null,null,null,null,null,null,null,null,null,null,null,null,null,null,null,null,null,null,null,null,null,null,null,null,null,null,null,null,null,null,null,0,0,0,0]
[null,null,52,"Other subject: use only if none of the above subject codes is suitable (specify the subject in 'Comments' section of coding sheet)",null,null,5.1000001840293399E-3,null,null,null,null,null,null,null,null,null,null,null,null,null,null,null,null,null,null,null,null,null,null,null,null,null,null,null,null,null,null,null,null,null,null,null,null,null,5.1000001840293399E-3,0,0,1]
[null,null,null,null,null,null,null,null,null,null,null,null,null,null,null,null,null,null,null,null,null,null,null,null,null,null,null,null,null,null,null,null,null,null,null,null,null,null,null,null,null,null,null,null,0,0,0,0]
[null,null,null,null,null,null,null,null,null,null,null,null,null,null,null,null,null,null,null,null,null,null,null,null,null,null,null,null,null,null,null,null,null,null,null,null,null,null,null,null,null,null,null,null,0,0,0,0]
[null,null,null,null,null,null,null,null,null,null,null,null,null,null,null,null,null,null,null,null,null,null,null,null,null,null,null,null,null,null,null,null,null,null,null,null,null,null,null,null,null,null,null,null,0,0,0,0]
[null,null,null,null,null,null,null,null,null,null,null,null,null,null,null,null,null,null,null,null,null,null,null,null,null,null,null,null,null,null,null,null,null,null,null,null,null,null,null,null,null,null,null,null,0,0,0,0]
[null,null,null,null,null,null,null,null,null,null,null,null,null,null,null,null,null,null,null,null,null,null,null,null,null,null,null,null,null,null,null,null,null,null,null,null,null,null,null,null,null,null,null,null,0,0,0,0]
[null,null,null,null,null,null,null,null,null,null,null,null,null,null,null,null,null,null,null,null,null,null,null,null,null,null,null,null,null,null,null,null,null,null,null,null,null,null,null,null,null,null,null,null,0,0,0,0]
[null,null,null,null,null,null,null,null,null,null,null,null,null,null,null,null,null,null,null,null,null,null,null,null,null,null,null,null,null,null,null,null,null,null,null,null,null,null,null,null,null,null,null,null,0,0,0,0]
[null,null,null,null,null,null,null,null,null,null,null,null,null,null,null,null,null,null,null,null,null,null,null,null,null,null,null,null,null,null,null,null,null,null,null,null,null,null,null,null,null,null,null,null,0,0,0,0]
[null,null,null,null,null,null,null,null,null,null,null,null,null,null,null,null,null,null,null,null,null,null,null,null,null,null,null,null,null,null,null,null,null,null,null,null,null,null,null,null,null,null,null,null,0,0,0,0]
[null,null,null,null,null,null,null,null,null,null,null,null,null,null,null,null,null,null,null,null,null,null,null,null,null,null,null,null,null,null,null,null,null,null,null,null,null,null,null,null,null,null,null,null,0,0,0,0]
[null,null,null,null,null,null,null,null,null,null,null,null,null,null,null,null,null,null,null,null,null,null,null,null,null,null,null,null,null,null,null,null,null,null,null,null,null,null,null,null,null,null,null,null,0,0,0,0]
[null,null,null,"TOTAL",{"$f":"SUM(E5:E67)","v":0.10041199903935188},4.7829499933868654E-2,0.66652449732646335,0,0,0,0,0,0,0,0,0,0,0,0,0,null,null,null,null,null,null,null,null,null,null,null,null,null,null,null,null,null,null,null,null,null,null,null,null,0.81476599629968383,0.12324029168544089,5.8703357959327754E-2,0.81805635035523139]
[]
[null,null,{"$f":"C5","v":1},"Women in political power and decision-making (local, regional, national),",{"$f":"IF(E$68>0,E5/E$68,0)","v":0},0,0,0,0,0,0,0,0,0,0,0,0,0,0,0]
[null,null,2,"Women electoral candidates (local, regional, national),",{"$f":"IF(E$68>0,E6/E$68,0)","v":0},0,7.6516320172570675E-3,0,0,0,0,0,0,0,0,0,0,0,0,0]
[null,null,3,"Peace, negotiations, treaties…(local, regional, national),",{"$f":"IF(E$68>0,E7/E$68,0)","v":0},0.15631565833165775,1.121714175521845E-2,0,0,0,0,0,0,0,0,0,0,0,0,0]
[null,null,4,"Other domestic politics/government (local, regional, national), elections, speeches, the political process …",{"$f":"IF(E$68>0,E8/E$68,0)","v":0},0,5.6826868981358254E-2,0,0,0,0,0,0,0,0,0,0,0,0,0]
[null,null,5,"Global partnerships (international trade and finance systems, e.g. WTO, IMF, World Bank, debt) …",{"$f":"IF(E$68>0,E9/E$68,0)","v":0},0,0,0,0,0,0,0,0,0,0,0,0,0,0,0]
[null,null,6,"Foreign/international politics, relations with other countries, negotiations, treaties, UN peacekeeping …",{"$f":"IF(E$68>0,E10/E$68,0)","v":0},0,0.12048469256123674,0,0,0,0,0,0,0,0,0,0,0,0,0]
[null,null,7,"National defence, military spending, military training, military parades, internal security …",{"$f":"IF(E$68>0,E11/E$68,0)","v":0},0,3.7587515106249803E-2,0,0,0,0,0,0,0,0,0,0,0,0,0]
[null,null,8,"Other stories on politics and government (specify the subject in 'Comments' section of coding sheet)",{"$f":"IF(E$68>0,E12/E$68,0)","v":0},0.15631565833165775,9.7609313722936325E-2,0,0,0,0,0,0,0,0,0,0,0,0,0]
[null,null,9,"Economic policies, strategies, models (national, international) …",{"$f":"IF(E$68>0,E13/E$68,0)","v":7.4458230503971823E-2},0,2.6370373351031297E-2,0,0,0,0,0,0,0,0,0,0,0,0,0]
[null,null,10,"Economic indicators, statistics, business, trade, stock markets …",{"$f":"IF(E$68>0,E14/E$68,0)","v":0},0,1.8868773772475516E-2,0,0,0,0,0,0,0,0,0,0,0,0,0]
[null,null,11,"Economic crisis, state bailouts of companies, company takeovers and mergers …",{"$f":"IF(E$68>0,E15/E$68,0)","v":0},0,7.5015995785557643E-3,0,0,0,0,0,0,0,0,0,0,0,0,0]
[null,null,12,"Poverty, housing, social welfare, aid to those in need …",{"$f":"IF(E$68>0,E16/E$68,0)","v":0},0,7.6516320172570675E-3,0,0,0,0,0,0,0,0,0,0,0,0,0]
[null,null,13,"Women's participation in economic processes (informal work, paid employment, unemployment, unpaid labour)",{"$f":"IF(E$68>0,E17/E$68,0)","v":0},0,0,0,0,0,0,0,0,0,0,0,0,0,0,0]
[null,null,14,"Other labour issues, strikes, trade unions, negotiations, other employment and unemployment …",{"$f":"IF(E$68>0,E18/E$68,0)","v":0},0,3.3721940490885699E-2,0,0,0,0,0,0,0,0,0,0,0,0,0]
[null,null,15,"Rural economy, agriculture, farming practices, agricultural policy, land rights …",{"$f":"IF(E$68>0,E19/E$68,0)","v":0},0,0,0,0,0,0,0,0,0,0,0,0,0,0,0]
[null,null,16,"Consumer issues, consumer protection, regulation, prices, consumer fraud …",{"$f":"IF(E$68>0,E20/E$68,0)","v":0},0,2.6370373351031297E-2,0,0,0,0,0,0,0,0,0,0,0,0,0]
[null,null,17,"Transport, traffic, roads ……",{"$f":"IF(E$68>0,E21/E$68,0)","v":0},0,7.6516320172570675E-3,0,0,0,0,0,0,0,0,0,0,0,0,0]
[null,null,18,"Other stories on the economy (specify the subject in 'Comments' section of coding sheet)",{"$f":"IF(E$68>0,E22/E$68,0)","v":5.0790744461034265E-2},0,1.121714175521845E-2,0,0,0,0,0,0,0,0,0,0,0,0,0]
[null,null,19,"Science, technology, research, funding, discoveries, developments …",{"$f":"IF(E$68>0,E23/E$68,0)","v":0},0,7.6516320172570675E-3,0,0,0,0,0,0,0,0,0,0,0,0,0]
[null,null,20,"Medicine, health, hygiene, safety, disability, medical research, funding (apart from HIV-AIDS)…",{"$f":"IF(E$68>0,E24/E$68,0)","v":0},0,7.6516320172570675E-3,0,0,0,0,0,0,0,0,0,0,0,0,0]
[null,null,{"$f":"C25","v":21},"HIV and AIDS, incidence, policy, treatment, people affected …",{"$f":"IF(E$68>0,E25/E$68,0)","v":0},0,0,0,0,0,0,0,0,0,0,0,0,0,0,0]
[null,null,22,"Other epidemics, viruses, contagions, Influenza, BSE, SARS …",{"$f":"IF(E$68>0,E26/E$68,0)","v":0},0,4.932526940280247E-2,0,0,0,0,0,0,0,0,0,0,0,0,0]
[null,null,23,"Birth control, fertility, sterilisation, amniocentesis, termination of pregnancy …",{"$f":"IF(E$68>0,E27/E$68,0)","v":0},0,0,0,0,0,0,0,0,0,0,0,0,0,0,0]
[null,null,24,"Environment, nature,   pollution, global warming, ecology, tourism …",{"$f":"IF(E$68>0,E28/E$68,0)","v":0},0,1.8868773772475516E-2,0,0,0,0,0,0,0,0,0,0,0,0,0]
[null,null,25,"Other stories on science or health (specify the subject in 'Comments' section of coding sheet)",{"$f":"IF(E$68>0,E29/E$68,0)","v":0},0,7.6516320172570675E-3,0,0,0,0,0,0,0,0,0,0,0,0,0]
[null,null,26,"Development issues, sustainability, community development …",{"$f":"IF(E$68>0,E30/E$68,0)","v":0},0,0,0,0,0,0,0,0,0,0,0,0,0,0,0]
[null,null,27,"Education, child care, nurseries, pre-school to university, adult education, literacy …",{"$f":"IF(E$68>0,E31/E$68,0)","v":0.17603971942603996},0.15631565833165775,3.3871972929587074E-2,0,0,0,0,0,0,0,0,0,0,0,0,0]
[null,null,28,"Family relations, inter-generational conflict, single parents …",{"$f":"IF(E$68>0,E32/E$68,0)","v":0},0,0,0,0,0,0,0,0,0,0,0,0,0,0,0]
[null,null,29,"Human rights, women's rights, children's rights, gay & lesbian rights, rights of minorities ..",{"$f":"IF(E$68>0,E33/E$68,0)","v":0},0.10453799214197364,1.121714175521845E-2,0,0,0,0,0,0,0,0,0,0,0,0,0]
[null,null,30,"Religion, culture, tradition, controversies, teachings, celebrations, practices …",{"$f":"IF(E$68>0,E34/E$68,0)","v":0},0,0,0,0,0,0,0,0,0,0,0,0,0,0,0]
[null,null,31,"Migration, refugees, asylum seekers, ethnic conflict, integration, racism, xenophobia …",{"$f":"IF(E$68>0,E35/E$68,0)","v":0},0,0,0,0,0,0,0,0,0,0,0,0,0,0,0]
[null,null,32,"Women's movement, activism, events, demonstrations, gender equality advocacy …",{"$f":"IF(E$68>0,E36/E$68,0)","v":0},0,0,0,0,0,0,0,0,0,0,0,0,0,0,0]
[null,null,33,"Changing gender relations, roles and relationships of women and men inside and outside the home …",{"$f":"IF(E$68>0,E37/E$68,0)","v":0},0,0,0,0,0,0,0,0,0,0,0,0,0,0,0]
[null,null,34,"Family law, family codes, property law, inheritance law and rights …",{"$f":"IF(E$68>0,E38/E$68,0)","v":0},0,0,0,0,0,0,0,0,0,0,0,0,0,0,0]
[null,null,35,"Legal system, judicial system, legislation (apart from family, property & inheritance law) …",{"$f":"IF(E$68>0,E39/E$68,0)","v":0},0,4.9025204525399858E-2,0,0,0,0,0,0,0,0,0,0,0,0,0]
[null,null,36,"Other stories on social or legal issues (specify the subject in 'Comments' section of coding sheet)",{"$f":"IF(E$68>0,E40/E$68,0)","v":0},0.10662875821576315,6.0762958821952671E-2,0,0,0,0,0,0,0,0,0,0,0,0,0]
[null,null,37,"Non-violent crime, bribery, theft, drug-dealing, corruption, (including political corruption/malpractice) …",{"$f":"IF(E$68>0,E41/E$68,0)","v":7.4458230503971823E-2},0,3.7587515106249803E-2,0,0,0,0,0,0,0,0,0,0,0,0,0]
[null,null,38,"Violent crime, murder, abduction, kidnapping, assault, drug-related violence …",{"$f":"IF(E$68>0,E42/E$68,0)","v":4.9794844601009976E-2},0,2.2504798735667336E-2,0,0,0,0,0,0,0,0,0,0,0,0,0]
[null,null,39,"Gender-based violence, feminicide, harassment, domestic violence, rape, trafficking, genital mutilation …",{"$f":"IF(E$68>0,E43/E$68,0)","v":0.17603971942603996},0,0,0,0,0,0,0,0,0,0,0,0,0,0,0]
[null,null,40,"Child abuse, sexual violence against children, trafficking, neglect.",{"$f":"IF(E$68>0,E44/E$68,0)","v":0},0.10662875821576315,2.2954896051771173E-2,0,0,0,0,0,0,0,0,0,0,0,0,0]
[null,null,{"$f":"C45","v":41},"War, civil war, terrorism, state-based violence …",{"$f":"IF(E$68>0,E45/E$68,0)","v":0.12425307510498231},0,3.0606528069028333E-2,0,0,0,0,0,0,0,0,0,0,0,0,0]
[null,null,42,"Riots, demonstrations, public disorder …",{"$f":"IF(E$68>0,E46/E$68,0)","v":0},0,0,0,0,0,0,0,0,0,0,0,0,0,0,0]
[null,null,43,"Disaster, accident, famine, earthquake, flood, hurricane, plane crash, car crash …",{"$f":"IF(E$68>0,E47/E$68,0)","v":0},0.21325751643152671,2.2804863613069947E-2,0,0,0,0,0,0,0,0,0,0,0,0,0]
[null,null,44,"Other stories on crime and violence (specify the subject in 'Comments' section of coding sheet)",{"$f":"IF(E$68>0,E48/E$68,0)","v":0},0,1.871874133377429E-2,0,0,0,0,0,0,0,0,0,0,0,0,0]
[null,null,45,"Celebrity news, births, marriages, deaths, obituaries, famous people, royalty …",{"$f":"IF(E$68>0,E49/E$68,0)","v":0},0,0,0,0,0,0,0,0,0,0,0,0,0,0,0]
[null,null,46,"Arts, entertainment, leisure, cinema, theatre, books, dance …",{"$f":"IF(E$68>0,E50/E$68,0)","v":0.12524897496500609},0,7.5175030212499466E-2,0,0,0,0,0,0,0,0,0,0,0,0,0]
[null,null,47,"Media, including new media (computers, internet), portrayal of women and/or men, pornography …",{"$f":"IF(E$68>0,E51/E$68,0)","v":0},0,0,0,0,0,0,0,0,0,0,0,0,0,0,0]
[null,null,48,"Beauty contests, models, fashion, beauty aids, cosmetic surgery …",{"$f":"IF(E$68>0,E52/E$68,0)","v":7.4458230503971823E-2},0,0,0,0,0,0,0,0,0,0,0,0,0,0,0]
[null,null,49,"Sports, events, players, facilities, training, policies, funding …",{"$f":"IF(E$68>0,E53/E$68,0)","v":7.4458230503971823E-2},0,2.6370373351031297E-2,0,0,0,0,0,0,0,0,0,0,0,0,0]
[null,null,50,"Other stories on celebrities, arts, media (specify the subject in 'Comments' section of coding sheet)",{"$f":"IF(E$68>0,E54/E$68,0)","v":0},0,1.8868773772475516E-2,0,0,0,0,0,0,0,0,0,0,0,0,0]
[null,null,51,"News about the girl child, including, cultural attitudes and practices impinging on girls, education, health, economic exploitation, violence (ONLY WHERE EMPHASIS IS ON THE GIRL CHILD)…",{"$f":"IF(E$68>0,E55/E$68,0)","v":0},0,0,0,0,0,0,0,0,0,0,0,0,0,0,0]
[null,null,52,"Other subject: use only if none of the above subject codes is suitable (specify the subject in 'Comments' section of coding sheet)",{"$f":"IF(E$68>0,E56/E$68,0)","v":0},0,7.6516320172570675E-3,0,0,0,0,0,0,0,0,0,0,0,0,0]
[null,null,0,0,{"$f":"IF(E$68>0,E57/E$68,0)","v":0},0,0,0,0,0,0,0,0,0,0,0,0,0,0,0]
[null,null,0,0,{"$f":"IF(E$68>0,E58/E$68,0)","v":0},0,0,0,0,0,0,0,0,0,0,0,0,0,0,0]
[null,null,0,0,{"$f":"IF(E$68>0,E59/E$68,0)","v":0},0,0,0,0,0,0,0,0,0,0,0,0,0,0,0]
[null,null,0,0,{"$f":"IF(E$68>0,E60/E$68,0)","v":0},0,0,0,0,0,0,0,0,0,0,0,0,0,0,0]
[null,null,0,0,{"$f":"IF(E$68>0,E61/E$68,0)","v":0},0,0,0,0,0,0,0,0,0,0,0,0,0,0,0]
[null,null,0,0,{"$f":"IF(E$68>0,E62/E$68,0)","v":0},0,0,0,0,0,0,0,0,0,0,0,0,0,0,0]
[]
[]
[]
[]
[]
[]
[]
[]
[]
[]
[]
[]
[]
[]
[]
[]
[]
[]
[]
[]
["COUNT"]
[null,null,null,null,{"$f":"E3","v":"Disagree. The story definitely does not challenge stereotypes"},"Agree. The story definitely challenges stereotypes","Neither agree nor disagree. The story neither clearly challenges nor reinforces stereotypes",0,0,0,0,0,0,0,0,0,0,0,0,0]
[null,null,null,null,{"$f":"E4","v":0},0,0,0,0,0,0,0,0,0,0,0,0,0,0,0]
[null,null,{"$f":"C5","v":1},"Women in political power and decision-making (local, regional, national),",0,0,0]
[null,null,2,"Women electoral candidates (local, regional, national),",0,0,1]
[null,null,3,"Peace, negotiations, treaties…(local, regional, national),",0,1,1]
[null,null,4,"Other domestic politics/government (local, regional, national), elections, speeches, the political process …",0,0,7]
[null,null,5,"Global partnerships (international trade and finance systems, e.g. WTO, IMF, World Bank, debt) …",0,0,0]
[null,null,6,"Foreign/international politics, relations with other countries, negotiations, treaties, UN peacekeeping …",0,0,14]
[null,null,7,"National defence, military spending, military training, military parades, internal security …",0,0,4]
[null,null,8,"Other stories on politics and government (specify the subject in 'Comments' section of coding sheet)",0,1,10]
[null,null,9,"Economic policies, strategies, models (national, international) …",1,0,3]
[null,null,10,"Economic indicators, statistics, business, trade, stock markets …",0,0,2]
[null,null,11,"Economic crisis, state bailouts of companies, company takeovers and mergers …",0,0,1]
[null,null,12,"Poverty, housing, social welfare, aid to those in need …",0,0,1]
[null,null,13,"Women's participation in economic processes (informal work, paid employment, unemployment, unpaid labour)",0,0,0]
[null,null,14,"Other labour issues, strikes, trade unions, negotiations, other employment and unemployment …",0,0,4]
[null,null,15,"Rural economy, agriculture, farming practices, agricultural policy, land rights …",0,0,0]
[null,null,16,"Consumer issues, consumer protection, regulation, prices, consumer fraud …",0,0,3]
[null,null,17,"Transport, traffic, roads ……",0,0,1]
[null,null,18,"Other stories on the economy (specify the subject in 'Comments' section of coding sheet)",1,0,1]
[null,null,19,"Science, technology, research, funding, discoveries, developments …",0,0,1]
[null,null,20,"Medicine, health, hygiene, safety, disability, medical research, funding (apart from HIV-AIDS)…",0,0,1]
[null,null,{"$f":"C25","v":21},"HIV and AIDS, incidence, policy, treatment, people affected …",0,0,0]
[null,null,22,"Other epidemics, viruses, contagions, Influenza, BSE, SARS …",0,0,6]
[null,null,23,"Birth control, fertility, sterilisation, amniocentesis, termination of pregnancy …",0,0,0]
[null,null,24,"Environment, nature,   pollution, global warming, ecology, tourism …",0,0,2]
[null,null,25,"Other stories on science or health (specify the subject in 'Comments' section of coding sheet)",0,0,1]
[null,null,26,"Development issues, sustainability, community development …",0,0,0]
[null,null,27,"Education, child care, nurseries, pre-school to university, adult education, literacy …",3,1,4]
[null,null,28,"Family relations, inter-generational conflict, single parents …",0,0,0]
[null,null,29,"Human rights, women's rights, children's rights, gay & lesbian rights, rights of minorities ..",0,1,1]
[null,null,30,"Religion, culture, tradition, controversies, teachings, celebrations, practices …",0,0,0]
[null,null,31,"Migration, refugees, asylum seekers, ethnic conflict, integration, racism, xenophobia …",0,0,0]
[null,null,32,"Women's movement, activism, events, demonstrations, gender equality advocacy …",0,0,0]
[null,null,33,"Changing gender relations, roles and relationships of women and men inside and outside the home …",0,0,0]
[null,null,34,"Family law, family codes, property law, inheritance law and rights …",0,0,0]
[null,null,35,"Legal system, judicial system, legislation (apart from family, property & inheritance law) …",0,0,6]
[null,null,36,"Other stories on social or legal issues (specify the subject in 'Comments' section of coding sheet)",0,1,8]
[null,null,37,"Non-violent crime, bribery, theft, drug-dealing, corruption, (including political corruption/malpractice) …",1,0,4]
[null,null,38,"Violent crime, murder, abduction, kidnapping, assault, drug-related violence …",1,0,3]
[null,null,39,"Gender-based violence, feminicide, harassment, domestic violence, rape, trafficking, genital mutilation …",3,0,0]
[null,null,40,"Child abuse, sexual violence against children, trafficking, neglect.",0,1,3]
[null,null,{"$f":"C45","v":41},"War, civil war, terrorism, state-based violence …",2,0,4]
[null,null,42,"Riots, demonstrations, public disorder …",0,0,0]
[null,null,43,"Disaster, accident, famine, earthquake, flood, hurricane, plane crash, car crash …",0,2,3]
[null,null,44,"Other stories on crime and violence (specify the subject in 'Comments' section of coding sheet)",0,0,2]
[null,null,45,"Celebrity news, births, marriages, deaths, obituaries, famous people, royalty …",0,0,0]
[null,null,46,"Arts, entertainment, leisure, cinema, theatre, books, dance …",2,0,8]
[null,null,47,"Media, including new media (computers, internet), portrayal of women and/or men, pornography …",0,0,0]
[null,null,48,"Beauty contests, models, fashion, beauty aids, cosmetic surgery …",1,0,0]
[null,null,49,"Sports, events, players, facilities, training, policies, funding …",1,0,3]
[null,null,50,"Other stories on celebrities, arts, media (specify the subject in 'Comments' section of coding sheet)",0,0,2]
[null,null,51,"News about the girl child, including, cultural attitudes and practices impinging on girls, education, health, economic exploitation, violence (ONLY WHERE EMPHASIS IS ON THE GIRL CHILD)…",0,0,0]
[null,null,52,"Other subject: use only if none of the above subject codes is suitable (specify the subject in 'Comments' section of coding sheet)",0,0,1]
[null,null,0,0]
[null,null,0,0]
[null,null,0,0]

{"sheet":"17aF - stereotypes","index":62,"n_rows":57,"n_cols":18,"rows_kept":57,"cut":false,"hidden":false,"merged":[[1,5,1,7],[1,8,1,10],[1,11,1,13],[1,14,1,17]]}
[{"$f":"'17a'!$A$1","v":"Stories where stereotypes are challenged/ supported by news topic"}]
[null,null,null,null,null,1995,null,null,2000,null,null,2005,null,null,2010]
[null,null,null,null,"Topic","Disagree","Agree","Neither","Disagree","Agree","Neither","Disagree","Agree","Neither","Disagree","Agree","Neither","N"]
[null,null,null,null,{"$f":"'17a'!D5","v":"Women in political power and decision-making (local, regional, national),"},0,0,0,"n/a","n/a","n/a","n/a","n/a","n/a",{"$f":"'17a'!AT5","v":0},{"$f":"'17a'!AU5","v":0},{"$f":"'17a'!AV5","v":0},{"$f":"'17a'!E151+'17a'!F151+'17a'!G151","v":0}]
[null,null,null,null,{"$f":"'17a'!D6","v":"Women electoral candidates (local, regional, national),"},0,0,0,"n/a","n/a","n/a","n/a","n/a","n/a",{"$f":"'17a'!AT6","v":0},{"$f":"'17a'!AU6","v":0},{"$f":"'17a'!AV6","v":1},{"$f":"'17a'!E152+'17a'!F152+'17a'!G152","v":1}]
[null,null,null,null,{"$f":"'17a'!D7","v":"Peace, negotiations, treaties…(local, regional, national),"},0,0,0,"n/a","n/a","n/a","n/a","n/a","n/a",{"$f":"'17a'!AT7","v":0},{"$f":"'17a'!AU7","v":0.5},{"$f":"'17a'!AV7","v":0.5},{"$f":"'17a'!E153+'17a'!F153+'17a'!G153","v":2}]
[null,null,null,null,{"$f":"'17a'!D8","v":"Other domestic politics/government (local, regional, national), elections, speeches, the political process …"},0,0,0,"n/a","n/a","n/a","n/a","n/a","n/a",{"$f":"'17a'!AT8","v":0},{"$f":"'17a'!AU8","v":0},{"$f":"'17a'!AV8","v":1},{"$f":"'17a'!E154+'17a'!F154+'17a'!G154","v":7}]
[null,null,null,null,{"$f":"'17a'!D9","v":"Global partnerships (international trade and finance systems, e.g. WTO, IMF, World Bank, debt) …"},0,0,0,"n/a","n/a","n/a","n/a","n/a","n/a",{"$f":"'17a'!AT9","v":0},{"$f":"'17a'!AU9","v":0},{"$f":"'17a'!AV9","v":0},{"$f":"'17a'!E155+'17a'!F155+'17a'!G155","v":0}]
[null,null,null,null,{"$f":"'17a'!D10","v":"Foreign/international politics, relations with other countries, negotiations, treaties, UN peacekeeping …"},0,0,0,"n/a","n/a","n/a","n/a","n/a","n/a",{"$f":"'17a'!AT10","v":0},{"$f":"'17a'!AU10","v":0},{"$f":"'17a'!AV10","v":1},{"$f":"'17a'!E156+'17a'!F156+'17a'!G156","v":14}]
[null,null,null,null,{"$f":"'17a'!D11","v":"National defence, military spending, military training, military parades, internal security …"},0,0,0,"n/a","n/a","n/a","n/a","n/a","n/a",{"$f":"'17a'!AT11","v":0},{"$f":"'17a'!AU11","v":0},{"$f":"'17a'!AV11","v":1},{"$f":"'17a'!E157+'17a'!F157+'17a'!G157","v":4}]
[null,null,null,null,{"$f":"'17a'!D12","v":"Other stories on politics and government (specify the subject in 'Comments' section of coding sheet)"},0,0,0,"n/a","n/a","n/a","n/a","n/a","n/a",{"$f":"'17a'!AT12","v":0},{"$f":"'17a'!AU12","v":0.10307366628760703},{"$f":"'17a'!AV12","v":0.89692633371239294},{"$f":"'17a'!E158+'17a'!F158+'17a'!G158","v":11}]
[null,null,null,null,{"$f":"'17a'!D13","v":"Economic policies, strategies, models (national, international) …"},0,0,0,"n/a","n/a","n/a","n/a","n/a","n/a",{"$f":"'17a'!AT13","v":0.29842732948721462},{"$f":"'17a'!AU13","v":0},{"$f":"'17a'!AV13","v":0.70157267051278538},{"$f":"'17a'!E159+'17a'!F159+'17a'!G159","v":4}]
[null,null,null,null,{"$f":"'17a'!D14","v":"Economic indicators, statistics, business, trade, stock markets …"},0,0,0,"n/a","n/a","n/a","n/a","n/a","n/a",{"$f":"'17a'!AT14","v":0},{"$f":"'17a'!AU14","v":0},{"$f":"'17a'!AV14","v":1},{"$f":"'17a'!E160+'17a'!F160+'17a'!G160","v":2}]
[null,null,null,null,{"$f":"'17a'!D15","v":"Economic crisis, state bailouts of companies, company takeovers and mergers …"},0,0,0,"n/a","n/a","n/a","n/a","n/a","n/a",{"$f":"'17a'!AT15","v":0},{"$f":"'17a'!AU15","v":0},{"$f":"'17a'!AV15","v":1},{"$f":"'17a'!E161+'17a'!F161+'17a'!G161","v":1}]
[null,null,null,null,{"$f":"'17a'!D16","v":"Poverty, housing, social welfare, aid to those in need …"},0,0,0,"n/a","n/a","n/a","n/a","n/a","n/a",{"$f":"'17a'!AT16","v":0},{"$f":"'17a'!AU16","v":0},{"$f":"'17a'!AV16","v":1},{"$f":"'17a'!E162+'17a'!F162+'17a'!G162","v":1}]
[null,null,null,null,{"$f":"'17a'!D17","v":"Women's participation in economic processes (informal work, paid employment, unemployment, unpaid labour)"},0,0,0,"n/a","n/a","n/a","n/a","n/a","n/a",{"$f":"'17a'!AT17","v":0},{"$f":"'17a'!AU17","v":0},{"$f":"'17a'!AV17","v":0},{"$f":"'17a'!E163+'17a'!F163+'17a'!G163","v":0}]
[null,null,null,null,{"$f":"'17a'!D18","v":"Other labour issues, strikes, trade unions, negotiations, other employment and unemployment …"},0,0,0,"n/a","n/a","n/a","n/a","n/a","n/a",{"$f":"'17a'!AT18","v":0},{"$f":"'17a'!AU18","v":0},{"$f":"'17a'!AV18","v":1},{"$f":"'17a'!E164+'17a'!F164+'17a'!G164","v":4}]
[null,null,null,null,{"$f":"'17a'!D19","v":"Rural economy, agriculture, farming practices, agricultural policy, land rights …"},0,0,0,"n/a","n/a","n/a","n/a","n/a","n/a",{"$f":"'17a'!AT19","v":0},{"$f":"'17a'!AU19","v":0},{"$f":"'17a'!AV19","v":0},{"$f":"'17a'!E165+'17a'!F165+'17a'!G165","v":0}]
[null,null,null,null,{"$f":"'17a'!D20","v":"Consumer issues, consumer protection, regulation, prices, consumer fraud …"},0,0,0,"n/a","n/a","n/a","n/a","n/a","n/a",{"$f":"'17a'!AT20","v":0},{"$f":"'17a'!AU20","v":0},{"$f":"'17a'!AV20","v":1},{"$f":"'17a'!E166+'17a'!F166+'17a'!G166","v":3}]
[null,null,null,null,{"$f":"'17a'!D21","v":"Transport, traffic, roads ……"},0,0,0,"n/a","n/a","n/a","n/a","n/a","n/a",{"$f":"'17a'!AT21","v":0},{"$f":"'17a'!AU21","v":0},{"$f":"'17a'!AV21","v":1},{"$f":"'17a'!E167+'17a'!F167+'17a'!G167","v":1}]
[null,null,null,null,{"$f":"'17a'!D22","v":"Other stories on the economy (specify the subject in 'Comments' section of coding sheet)"},0,0,0,"n/a","n/a","n/a","n/a","n/a","n/a",{"$f":"'17a'!AT22","v":0.40551824456228036},{"$f":"'17a'!AU22","v":0},{"$f":"'17a'!AV22","v":0.59448175543771964},{"$f":"'17a'!E168+'17a'!F168+'17a'!G168","v":2}]
[null,null,null,null,{"$f":"'17a'!D23","v":"Science, technology, research, funding, discoveries, developments …"},0,0,0,"n/a","n/a","n/a","n/a","n/a","n/a",{"$f":"'17a'!AT23","v":0},{"$f":"'17a'!AU23","v":0},{"$f":"'17a'!AV23","v":1},{"$f":"'17a'!E169+'17a'!F169+'17a'!G169","v":1}]
[null,null,null,null,{"$f":"'17a'!D24","v":"Medicine, health, hygiene, safety, disability, medical research, funding (apart from HIV-AIDS)…"},0,0,0,"n/a","n/a","n/a","n/a","n/a","n/a",{"$f":"'17a'!AT24","v":0},{"$f":"'17a'!AU24","v":0},{"$f":"'17a'!AV24","v":1},{"$f":"'17a'!E170+'17a'!F170+'17a'!G170","v":1}]
[null,null,null,null,{"$f":"'17a'!D25","v":"HIV and AIDS, incidence, policy, treatment, people affected …"},0,0,0,"n/a","n/a","n/a","n/a","n/a","n/a",{"$f":"'17a'!AT25","v":0},{"$f":"'17a'!AU25","v":0},{"$f":"'17a'!AV25","v":0},{"$f":"'17a'!E171+'17a'!F171+'17a'!G171","v":0}]
[null,null,null,null,{"$f":"'17a'!D26","v":"Other epidemics, viruses, contagions, Influenza, BSE, SARS …"},0,0,0,"n/a","n/a","n/a","n/a","n/a","n/a",{"$f":"'17a'!AT26","v":0},{"$f":"'17a'!AU26","v":0},{"$f":"'17a'!AV26","v":1},{"$f":"'17a'!E172+'17a'!F172+'17a'!G172","v":6}]
[null,null,null,null,{"$f":"'17a'!D27","v":"Birth control, fertility, sterilisation, amniocentesis, termination of pregnancy …"},0,0,0,"n/a","n/a","n/a","n/a","n/a","n/a",{"$f":"'17a'!AT27","v":0},{"$f":"'17a'!AU27","v":0},{"$f":"'17a'!AV27","v":0},{"$f":"'17a'!E173+'17a'!F173+'17a'!G173","v":0}]
[null,null,null,null,{"$f":"'17a'!D28","v":"Environment, nature,   pollution, global warming, ecology, tourism …"},0,0,0,"n/a","n/a","n/a","n/a","n/a","n/a",{"$f":"'17a'!AT28","v":0},{"$f":"'17a'!AU28","v":0},{"$f":"'17a'!AV28","v":1},{"$f":"'17a'!E174+'17a'!F174+'17a'!G174","v":2}]
[null,null,null,null,{"$f":"'17a'!D29","v":"Other stories on science or health (specify the subject in 'Comments' section of coding sheet)"},0,0,0,"n/a","n/a","n/a","n/a","n/a","n/a",{"$f":"'17a'!AT29","v":0},{"$f":"'17a'!AU29","v":0},{"$f":"'17a'!AV29","v":1},{"$f":"'17a'!E175+'17a'!F175+'17a'!G175","v":1}]
[null,null,null,null,{"$f":"'17a'!D30","v":"Development issues, sustainability, community development …"},0,0,0,"n/a","n/a","n/a","n/a","n/a","n/a",{"$f":"'17a'!AT30","v":0},{"$f":"'17a'!AU30","v":0},{"$f":"'17a'!AV30","v":0},{"$f":"'17a'!E176+'17a'!F176+'17a'!G176","v":0}]
[null,null,null,null,{"$f":"'17a'!D31","v":"Education, child care, nurseries, pre-school to university, adult education, literacy …"},0,0,0,"n/a","n/a","n/a","n/a","n/a","n/a",{"$f":"'17a'!AT31","v":0.37034748471974888},{"$f":"'17a'!AU31","v":0.15664316254159094},{"$f":"'17a'!AV31","v":0.47300935273866018},{"$f":"'17a'!E177+'17a'!F177+'17a'!G177","v":8}]
[null,null,null,null,{"$f":"'17a'!D32","v":"Family relations, inter-generational conflict, single parents …"},0,0,0,"n/a","n/a","n/a","n/a","n/a","n/a",{"$f":"'17a'!AT32","v":0},{"$f":"'17a'!AU32","v":0},{"$f":"'17a'!AV32","v":0},{"$f":"'17a'!E178+'17a'!F178+'17a'!G178","v":0}]
[null,null,null,null,{"$f":"'17a'!D33","v":"Human rights, women's rights, children's rights, gay & lesbian rights, rights of minorities .."},0,0,0,"n/a","n/a","n/a","n/a","n/a","n/a",{"$f":"'17a'!AT33","v":0},{"$f":"'17a'!AU33","v":0.40075341844810008},{"$f":"'17a'!AV33","v":0.59924658155189992},{"$f":"'17a'!E179+'17a'!F179+'17a'!G179","v":2}]
[null,null,null,null,{"$f":"'17a'!D34","v":"Religion, culture, tradition, controversies, teachings, celebrations, practices …"},0,0,0,"n/a","n/a","n/a","n/a","n/a","n/a",{"$f":"'17a'!AT34","v":0},{"$f":"'17a'!AU34","v":0},{"$f":"'17a'!AV34","v":0},{"$f":"'17a'!E180+'17a'!F180+'17a'!G180","v":0}]
[null,null,null,null,{"$f":"'17a'!D35","v":"Migration, refugees, asylum seekers, ethnic conflict, integration, racism, xenophobia …"},0,0,0,"n/a","n/a","n/a","n/a","n/a","n/a",{"$f":"'17a'!AT35","v":0},{"$f":"'17a'!AU35","v":0},{"$f":"'17a'!AV35","v":0},{"$f":"'17a'!E181+'17a'!F181+'17a'!G181","v":0}]
[null,null,null,null,{"$f":"'17a'!D36","v":"Women's movement, activism, events, demonstrations, gender equality advocacy …"},0,0,0,"n/a","n/a","n/a","n/a","n/a","n/a",{"$f":"'17a'!AT36","v":0},{"$f":"'17a'!AU36","v":0},{"$f":"'17a'!AV36","v":0},{"$f":"'17a'!E182+'17a'!F182+'17a'!G182","v":0}]
[null,null,null,null,{"$f":"'17a'!D37","v":"Changing gender relations, roles and relationships of women and men inside and outside the home …"},0,0,0,"n/a","n/a","n/a","n/a","n/a","n/a",{"$f":"'17a'!AT37","v":0},{"$f":"'17a'!AU37","v":0},{"$f":"'17a'!AV37","v":0},{"$f":"'17a'!E183+'17a'!F183+'17a'!G183","v":0}]
[null,null,null,null,{"$f":"'17a'!D38","v":"Family law, family codes, property law, inheritance law and rights …"},0,0,0,"n/a","n/a","n/a","n/a","n/a","n/a",{"$f":"'17a'!AT38","v":0},{"$f":"'17a'!AU38","v":0},{"$f":"'17a'!AV38","v":0},{"$f":"'17a'!E184+'17a'!F184+'17a'!G184","v":0}]
[null,null,null,null,{"$f":"'17a'!D39","v":"Legal system, judicial system, legislation (apart from family, property & inheritance law) …"},0,0,0,"n/a","n/a","n/a","n/a","n/a","n/a",{"$f":"'17a'!AT39","v":0},{"$f":"'17a'!AU39","v":0},{"$f":"'17a'!AV39","v":1},{"$f":"'17a'!E185+'17a'!F185+'17a'!G185","v":6}]
[null,null,null,null,{"$f":"'17a'!D40","v":"Other stories on social or legal issues (specify the subject in 'Comments' section of coding sheet)"},0,0,0,"n/a","n/a","n/a","n/a","n/a","n/a",{"$f":"'17a'!AT40","v":0},{"$f":"'17a'!AU40","v":0.11184210741302522},{"$f":"'17a'!AV40","v":0.88815789258697475},{"$f":"'17a'!E186+'17a'!F186+'17a'!G186","v":9}]
[null,null,null,null,{"$f":"'17a'!D41","v":"Non-violent crime, bribery, theft, drug-dealing, corruption, (including political corruption/malpractice) …"},0,0,0,"n/a","n/a","n/a","n/a","n/a","n/a",{"$f":"'17a'!AT41","v":0.229837529378769},{"$f":"'17a'!AU41","v":0},{"$f":"'17a'!AV41","v":0.770162470621231},{"$f":"'17a'!E187+'17a'!F187+'17a'!G187","v":5}]
[null,null,null,null,{"$f":"'17a'!D42","v":"Violent crime, murder, abduction, kidnapping, assault, drug-related violence …"},0,0,0,"n/a","n/a","n/a","n/a","n/a","n/a",{"$f":"'17a'!AT42","v":0.24999999999999967},{"$f":"'17a'!AU42","v":0},{"$f":"'17a'!AV42","v":0.75000000000000044},{"$f":"'17a'!E188+'17a'!F188+'17a'!G188","v":4}]
[null,null,null,null,{"$f":"'17a'!D43","v":"Gender-based violence, feminicide, harassment, domestic violence, rape, trafficking, genital mutilation …"},0,0,0,"n/a","n/a","n/a","n/a","n/a","n/a",{"$f":"'17a'!AT43","v":1},{"$f":"'17a'!AU43","v":0},{"$f":"'17a'!AV43","v":0},{"$f":"'17a'!E189+'17a'!F189+'17a'!G189","v":3}]
[null,null,null,null,{"$f":"'17a'!D44","v":"Child abuse, sexual violence against children, trafficking, neglect."},0,0,0,"n/a","n/a","n/a","n/a","n/a","n/a",{"$f":"'17a'!AT44","v":0},{"$f":"'17a'!AU44","v":0.25000000000000028},{"$f":"'17a'!AV44","v":0.74999999999999978},{"$f":"'17a'!E190+'17a'!F190+'17a'!G190","v":4}]
[null,null,null,null,{"$f":"'17a'!D45","v":"War, civil war, terrorism, state-based violence …"},0,0,0,"n/a","n/a","n/a","n/a","n/a","n/a",{"$f":"'17a'!AT45","v":0.3794959776278628},{"$f":"'17a'!AU45","v":0},{"$f":"'17a'!AV45","v":0.6205040223721372},{"$f":"'17a'!E191+'17a'!F191+'17a'!G191","v":6}]
[null,null,null,null,{"$f":"'17a'!D46","v":"Riots, demonstrations, public disorder …"},0,0,0,"n/a","n/a","n/a","n/a","n/a","n/a",{"$f":"'17a'!AT46","v":0},{"$f":"'17a'!AU46","v":0},{"$f":"'17a'!AV46","v":0},{"$f":"'17a'!E192+'17a'!F192+'17a'!G192","v":0}]
[null,null,null,null,{"$f":"'17a'!D47","v":"Disaster, accident, famine, earthquake, flood, hurricane, plane crash, car crash …"},0,0,0,"n/a","n/a","n/a","n/a","n/a","n/a",{"$f":"'17a'!AT47","v":0},{"$f":"'17a'!AU47","v":0.40157480776897536},{"$f":"'17a'!AV47","v":0.59842519223102453},{"$f":"'17a'!E193+'17a'!F193+'17a'!G193","v":5}]
[null,null,null,null,{"$f":"'17a'!D48","v":"Other stories on crime and violence (specify the subject in 'Comments' section of coding sheet)"},0,0,0,"n/a","n/a","n/a","n/a","n/a","n/a",{"$f":"'17a'!AT48","v":0},{"$f":"'17a'!AU48","v":0},{"$f":"'17a'!AV48","v":1},{"$f":"'17a'!E194+'17a'!F194+'17a'!G194","v":2}]
[null,null,null,null,{"$f":"'17a'!D49","v":"Celebrity news, births, marriages, deaths, obituaries, famous people, royalty …"},0,0,0,"n/a","n/a","n/a","n/a","n/a","n/a",{"$f":"'17a'!AT49","v":0},{"$f":"'17a'!AU49","v":0},{"$f":"'17a'!AV49","v":0},{"$f":"'17a'!E195+'17a'!F195+'17a'!G195","v":0}]
[null,null,null,null,{"$f":"'17a'!D50","v":"Arts, entertainment, leisure, cinema, theatre, books, dance …"},0,0,0,"n/a","n/a","n/a","n/a","n/a","n/a",{"$f":"'17a'!AT50","v":0.20063813853691106},{"$f":"'17a'!AU50","v":0},{"$f":"'17a'!AV50","v":0.79936186146308896},{"$f":"'17a'!E196+'17a'!F196+'17a'!G196","v":10}]
[null,null,null,null,{"$f":"'17a'!D51","v":"Media, including new media (computers, internet), portrayal of women and/or men, pornography …"},0,0,0,"n/a","n/a","n/a","n/a","n/a","n/a",{"$f":"'17a'!AT51","v":0},{"$f":"'17a'!AU51","v":0},{"$f":"'17a'!AV51","v":0},{"$f":"'17a'!E197+'17a'!F197+'17a'!G197","v":0}]
[null,null,null,null,{"$f":"'17a'!D52","v":"Beauty contests, models, fashion, beauty aids, cosmetic surgery …"},0,0,0,"n/a","n/a","n/a","n/a","n/a","n/a",{"$f":"'17a'!AT52","v":1},{"$f":"'17a'!AU52","v":0},{"$f":"'17a'!AV52","v":0},{"$f":"'17a'!E198+'17a'!F198+'17a'!G198","v":1}]
[null,null,null,null,{"$f":"'17a'!D53","v":"Sports, events, players, facilities, training, policies, funding …"},0,0,0,"n/a","n/a","n/a","n/a","n/a","n/a",{"$f":"'17a'!AT53","v":0.29842732948721462},{"$f":"'17a'!AU53","v":0},{"$f":"'17a'!AV53","v":0.70157267051278538},{"$f":"'17a'!E199+'17a'!F199+'17a'!G199","v":4}]
[null,null,null,null,{"$f":"'17a'!D54","v":"Other stories on celebrities, arts, media (specify the subject in 'Comments' section of coding sheet)"},0,0,0,"n/a","n/a","n/a","n/a","n/a","n/a",{"$f":"'17a'!AT54","v":0},{"$f":"'17a'!AU54","v":0},{"$f":"'17a'!AV54","v":1},{"$f":"'17a'!E200+'17a'!F200+'17a'!G200","v":2}]
[null,null,null,null,{"$f":"'17a'!D55","v":"News about the girl child, including, cultural attitudes and practices impinging on girls, education, health, economic exploitation, violence (ONLY WHERE EMPHASIS IS ON THE GIRL CHILD)…"},0,0,0,"n/a","n/a","n/a","n/a","n/a","n/a",{"$f":"'17a'!AT55","v":0},{"$f":"'17a'!AU55","v":0},{"$f":"'17a'!AV55","v":0},{"$f":"'17a'!E201+'17a'!F201+'17a'!G201","v":0}]
[null,null,null,null,{"$f":"'17a'!D56","v":"Other subject: use only if none of the above subject codes is suitable (specify the subject in 'Comments' section of coding sheet)"},0,0,0,"n/a","n/a","n/a","n/a","n/a","n/a",{"$f":"'17a'!AT56","v":0},{"$f":"'17a'!AU56","v":0},{"$f":"'17a'!AV56","v":1},{"$f":"'17a'!E202+'17a'!F202+'17a'!G202","v":1}]
[]
[null,null,null,null,"Total",0,0,0,0,0,0,0,0,0,{"$f":"'17a'!AT68","v":0.12324029168544089},{"$f":"'17a'!AU68","v":5.8703357959327754E-2},{"$f":"'17a'!AV68","v":0.81805635035523139},{"$f":"SUM(R4:R55)","v":140}]

{"sheet":"17a2","index":63,"n_rows":205,"n_cols":48,"rows_kept":205,"cut":false,"hidden":true,"merged":[]}
["Stories where stereotypes are challenged/ supported by news topic"]
[null,null,null,null,null,null,null,null,null,null,null,null,null,null,null,null,null,null,null,null,null,null,null,null,null,null,null,null,null,null,null,null,null,null,null,null,null,null,null,null,null,null,null,null,null,{"$f":"E2","v":0},0,0]
[null,null,null,null,"Disagree. The story definitely does not challenge stereotypes","Agree. The story definitely challenges stereotypes","Neither agree nor disagree. The story neither clearly challenges nor reinforces stereotypes",null,null,null,null,null,null,null,null,null,null,null,null,null,null,null,null,null,null,null,null,null,null,null,null,null,null,null,null,null,null,null,null,null,null,null,null,null,null,"Disagree. The story definitely does not challenge stereotypes","Agree. The story definitely challenges stereotypes","Neither agree nor disagree. The story neither clearly challenges nor reinforces stereotypes"]
[null,null,null,null,null,null,null,null,null,null,null,null,null,null,null,null,null,null,null,null,null,null,null,null,null,null,null,null,null,null,null,null,null,null,null,null,null,null,null,null,null,null,null,null,"TOTAL",0,0,0]
[null,null,1,"Politics and Government",null,1.4952999539673301E-2,0.22087099775672001,null,null,null,null,null,null,null,null,null,null,null,null,null,null,null,null,null,null,null,null,null,null,null,null,null,null,null,null,null,null,null,null,null,null,null,null,null,{"$f":"SUM(E5:O5)","v":0.23582399729639331},{"$f":"IF(AS5>0,+E5/$AS5,0)","v":0},{"$f":"IF(AT5>0,+F5/$AS5,0)","v":0},{"$f":"IF(AU5>0,+G5/$AS5,0)","v":0}]
[null,null,2,"Economy",1.2576499953866E-2,null,9.2882499098777799E-2,null,null,null,null,null,null,null,null,null,null,null,null,null,null,null,null,null,null,null,null,null,null,null,null,null,null,null,null,null,null,null,null,null,null,null,null,null,0.1054589990526438,0.11925487693646675,0,0]
[null,null,3,"Science and Health",null,null,6.0753000900149297E-2,null,null,null,null,null,null,null,null,null,null,null,null,null,null,null,null,null,null,null,null,null,null,null,null,null,null,null,null,null,null,null,null,null,null,null,null,null,6.0753000900149297E-2,0,0,0]
[null,null,4,"Social and Legal",1.7676500137895301E-2,1.7576499842107299E-2,0.10322949988767501,null,null,null,null,null,null,null,null,null,null,null,null,null,null,null,null,null,null,null,null,null,null,null,null,null,null,null,null,null,null,null,null,null,null,null,null,null,0.13848249986767761,0.12764428830202731,0.12692217326306174,0.745433538434911]
[null,null,5,"Crime and Violence",4.2629499454051298E-2,1.5300000552088E-2,0.10342950047925099,null,null,null,null,null,null,null,null,null,null,null,null,null,null,null,null,null,null,null,null,null,null,null,null,null,null,null,null,null,null,null,null,null,null,null,null,null,0.16135900048539029,0.26419040354622825,9.4819628939591061E-2,0.64098996751418069]
[null,null,6,"Celebrity, Arts and Media, Sports",2.7529499493539299E-2,null,8.0258999019861194E-2,null,null,null,null,null,null,null,null,null,null,null,null,null,null,null,null,null,null,null,null,null,null,null,null,null,null,null,null,null,null,null,null,null,null,null,null,null,0.1077884985134005,0.25540294069609637,0,0]
[null,null,7,"The Girl-child",null,null,null,null,null,null,null,null,null,null,null,null,null,null,null,null,null,null,null,null,null,null,null,null,null,null,null,null,null,null,null,null,null,null,null,null,null,null,null,null,0,0,0,0]
[null,null,8,"Other",null,null,5.1000001840293399E-3,null,null,null,null,null,null,null,null,null,null,null,null,null,null,null,null,null,null,null,null,null,null,null,null,null,null,null,null,null,null,null,null,null,null,null,null,null,5.1000001840293399E-3,0,0,0]
[null,null,null,null,null,null,null,null,null,null,null,null,null,null,null,null,null,null,null,null,null,null,null,null,null,null,null,null,null,null,null,null,null,null,null,null,null,null,null,null,null,null,null,null,0,0,0,0]
[null,null,null,null,null,null,null,null,null,null,null,null,null,null,null,null,null,null,null,null,null,null,null,null,null,null,null,null,null,null,null,null,null,null,null,null,null,null,null,null,null,null,null,null,0,0,0,0]
[null,null,null,null,null,null,null,null,null,null,null,null,null,null,null,null,null,null,null,null,null,null,null,null,null,null,null,null,null,null,null,null,null,null,null,null,null,null,null,null,null,null,null,null,0,0,0,0]
[null,null,null,null,null,null,null,null,null,null,null,null,null,null,null,null,null,null,null,null,null,null,null,null,null,null,null,null,null,null,null,null,null,null,null,null,null,null,null,null,null,null,null,null,0,0,0,0]
[null,null,null,null,null,null,null,null,null,null,null,null,null,null,null,null,null,null,null,null,null,null,null,null,null,null,null,null,null,null,null,null,null,null,null,null,null,null,null,null,null,null,null,null,0,0,0,0]
[null,null,null,null,null,null,null,null,null,null,null,null,null,null,null,null,null,null,null,null,null,null,null,null,null,null,null,null,null,null,null,null,null,null,null,null,null,null,null,null,null,null,null,null,0,0,0,0]
[null,null,null,null,null,null,null,null,null,null,null,null,null,null,null,null,null,null,null,null,null,null,null,null,null,null,null,null,null,null,null,null,null,null,null,null,null,null,null,null,null,null,null,null,0,0,0,0]
[null,null,null,null,null,null,null,null,null,null,null,null,null,null,null,null,null,null,null,null,null,null,null,null,null,null,null,null,null,null,null,null,null,null,null,null,null,null,null,null,null,null,null,null,0,0,0,0]
[null,null,null,null,null,null,null,null,null,null,null,null,null,null,null,null,null,null,null,null,null,null,null,null,null,null,null,null,null,null,null,null,null,null,null,null,null,null,null,null,null,null,null,null,0,0,0,0]
[null,null,null,null,null,null,null,null,null,null,null,null,null,null,null,null,null,null,null,null,null,null,null,null,null,null,null,null,null,null,null,null,null,null,null,null,null,null,null,null,null,null,null,null,0,0,0,0]
[null,null,null,null,null,null,null,null,null,null,null,null,null,null,null,null,null,null,null,null,null,null,null,null,null,null,null,null,null,null,null,null,null,null,null,null,null,null,null,null,null,null,null,null,0,0,0,0]
[null,null,null,null,null,null,null,null,null,null,null,null,null,null,null,null,null,null,null,null,null,null,null,null,null,null,null,null,null,null,null,null,null,null,null,null,null,null,null,null,null,null,null,null,0,0,0,0]
[null,null,null,null,null,null,null,null,null,null,null,null,null,null,null,null,null,null,null,null,null,null,null,null,null,null,null,null,null,null,null,null,null,null,null,null,null,null,null,null,null,null,null,null,0,0,0,0]
[null,null,null,null,null,null,null,null,null,null,null,null,null,null,null,null,null,null,null,null,null,null,null,null,null,null,null,null,null,null,null,null,null,null,null,null,null,null,null,null,null,null,null,null,0,0,0,0]
[null,null,null,null,null,null,null,null,null,null,null,null,null,null,null,null,null,null,null,null,null,null,null,null,null,null,null,null,null,null,null,null,null,null,null,null,null,null,null,null,null,null,null,null,0,0,0,0]
[null,null,null,null,null,null,null,null,null,null,null,null,null,null,null,null,null,null,null,null,null,null,null,null,null,null,null,null,null,null,null,null,null,null,null,null,null,null,null,null,null,null,null,null,0,0,0,0]
[null,null,null,null,null,null,null,null,null,null,null,null,null,null,null,null,null,null,null,null,null,null,null,null,null,null,null,null,null,null,null,null,null,null,null,null,null,null,null,null,null,null,null,null,0,0,0,0]
[null,null,null,null,null,null,null,null,null,null,null,null,null,null,null,null,null,null,null,null,null,null,null,null,null,null,null,null,null,null,null,null,null,null,null,null,null,null,null,null,null,null,null,null,0,0,0,0]
[null,null,null,null,null,null,null,null,null,null,null,null,null,null,null,null,null,null,null,null,null,null,null,null,null,null,null,null,null,null,null,null,null,null,null,null,null,null,null,null,null,null,null,null,0,0,0,0]
[null,null,null,null,null,null,null,null,null,null,null,null,null,null,null,null,null,null,null,null,null,null,null,null,null,null,null,null,null,null,null,null,null,null,null,null,null,null,null,null,null,null,null,null,0,0,0,0]
[null,null,null,null,null,null,null,null,null,null,null,null,null,null,null,null,null,null,null,null,null,null,null,null,null,null,null,null,null,null,null,null,null,null,null,null,null,null,null,null,null,null,null,null,0,0,0,0]
[null,null,null,null,null,null,null,null,null,null,null,null,null,null,null,null,null,null,null,null,null,null,null,null,null,null,null,null,null,null,null,null,null,null,null,null,null,null,null,null,null,null,null,null,0,0,0,0]
[null,null,null,null,null,null,null,null,null,null,null,null,null,null,null,null,null,null,null,null,null,null,null,null,null,null,null,null,null,null,null,null,null,null,null,null,null,null,null,null,null,null,null,null,0,0,0,0]
[null,null,null,null,null,null,null,null,null,null,null,null,null,null,null,null,null,null,null,null,null,null,null,null,null,null,null,null,null,null,null,null,null,null,null,null,null,null,null,null,null,null,null,null,0,0,0,0]
[null,null,null,null,null,null,null,null,null,null,null,null,null,null,null,null,null,null,null,null,null,null,null,null,null,null,null,null,null,null,null,null,null,null,null,null,null,null,null,null,null,null,null,null,{"$f":"SUM(E37:O37)","v":0},{"$f":"IF(AS37>0,+E37/$AS37,0)","v":0},{"$f":"IF(AT37>0,+F37/$AS37,0)","v":0},{"$f":"IF(AU37>0,+G37/$AS37,0)","v":0}]
[null,null,null,null,null,null,null,null,null,null,null,null,null,null,null,null,null,null,null,null,null,null,null,null,null,null,null,null,null,null,null,null,null,null,null,null,null,null,null,null,null,null,null,null,0,0,0,0]
[null,null,null,null,null,null,null,null,null,null,null,null,null,null,null,null,null,null,null,null,null,null,null,null,null,null,null,null,null,null,null,null,null,null,null,null,null,null,null,null,null,null,null,null,0,0,0,0]
[null,null,null,null,null,null,null,null,null,null,null,null,null,null,null,null,null,null,null,null,null,null,null,null,null,null,null,null,null,null,null,null,null,null,null,null,null,null,null,null,null,null,null,null,0,0,0,0]
[null,null,null,null,null,null,null,null,null,null,null,null,null,null,null,null,null,null,null,null,null,null,null,null,null,null,null,null,null,null,null,null,null,null,null,null,null,null,null,null,null,null,null,null,0,0,0,0]
[null,null,null,null,null,null,null,null,null,null,null,null,null,null,null,null,null,null,null,null,null,null,null,null,null,null,null,null,null,null,null,null,null,null,null,null,null,null,null,null,null,null,null,null,0,0,0,0]
[null,null,null,null,null,null,null,null,null,null,null,null,null,null,null,null,null,null,null,null,null,null,null,null,null,null,null,null,null,null,null,null,null,null,null,null,null,null,null,null,null,null,null,null,0,0,0,0]
[null,null,null,null,null,null,null,null,null,null,null,null,null,null,null,null,null,null,null,null,null,null,null,null,null,null,null,null,null,null,null,null,null,null,null,null,null,null,null,null,null,null,null,null,0,0,0,0]
[null,null,null,null,null,null,null,null,null,null,null,null,null,null,null,null,null,null,null,null,null,null,null,null,null,null,null,null,null,null,null,null,null,null,null,null,null,null,null,null,null,null,null,null,0,0,0,0]
[null,null,null,null,null,null,null,null,null,null,null,null,null,null,null,null,null,null,null,null,null,null,null,null,null,null,null,null,null,null,null,null,null,null,null,null,null,null,null,null,null,null,null,null,0,0,0,0]
[null,null,null,null,null,null,null,null,null,null,null,null,null,null,null,null,null,null,null,null,null,null,null,null,null,null,null,null,null,null,null,null,null,null,null,null,null,null,null,null,null,null,null,null,0,0,0,0]
[null,null,null,null,null,null,null,null,null,null,null,null,null,null,null,null,null,null,null,null,null,null,null,null,null,null,null,null,null,null,null,null,null,null,null,null,null,null,null,null,null,null,null,null,0,0,0,0]
[null,null,null,null,null,null,null,null,null,null,null,null,null,null,null,null,null,null,null,null,null,null,null,null,null,null,null,null,null,null,null,null,null,null,null,null,null,null,null,null,null,null,null,null,0,0,0,0]
[null,null,null,null,null,null,null,null,null,null,null,null,null,null,null,null,null,null,null,null,null,null,null,null,null,null,null,null,null,null,null,null,null,null,null,null,null,null,null,null,null,null,null,null,0,0,0,0]
[null,null,null,null,null,null,null,null,null,null,null,null,null,null,null,null,null,null,null,null,null,null,null,null,null,null,null,null,null,null,null,null,null,null,null,null,null,null,null,null,null,null,null,null,0,0,0,0]
[null,null,null,null,null,null,null,null,null,null,null,null,null,null,null,null,null,null,null,null,null,null,null,null,null,null,null,null,null,null,null,null,null,null,null,null,null,null,null,null,null,null,null,null,0,0,0,0]
[null,null,null,null,null,null,null,null,null,null,null,null,null,null,null,null,null,null,null,null,null,null,null,null,null,null,null,null,null,null,null,null,null,null,null,null,null,null,null,null,null,null,null,null,0,0,0,0]
[null,null,null,null,null,null,null,null,null,null,null,null,null,null,null,null,null,null,null,null,null,null,null,null,null,null,null,null,null,null,null,null,null,null,null,null,null,null,null,null,null,null,null,null,0,0,0,0]
[null,null,null,null,null,null,null,null,null,null,null,null,null,null,null,null,null,null,null,null,null,null,null,null,null,null,null,null,null,null,null,null,null,null,null,null,null,null,null,null,null,null,null,null,0,0,0,0]
[null,null,null,null,null,null,null,null,null,null,null,null,null,null,null,null,null,null,null,null,null,null,null,null,null,null,null,null,null,null,null,null,null,null,null,null,null,null,null,null,null,null,null,null,0,0,0,0]
[null,null,null,null,null,null,null,null,null,null,null,null,null,null,null,null,null,null,null,null,null,null,null,null,null,null,null,null,null,null,null,null,null,null,null,null,null,null,null,null,null,null,null,null,0,0,0,0]
[null,null,null,null,null,null,null,null,null,null,null,null,null,null,null,null,null,null,null,null,null,null,null,null,null,null,null,null,null,null,null,null,null,null,null,null,null,null,null,null,null,null,null,null,0,0,0,0]
[null,null,null,null,null,null,null,null,null,null,null,null,null,null,null,null,null,null,null,null,null,null,null,null,null,null,null,null,null,null,null,null,null,null,null,null,null,null,null,null,null,null,null,null,0,0,0,0]
[null,null,null,null,null,null,null,null,null,null,null,null,null,null,null,null,null,null,null,null,null,null,null,null,null,null,null,null,null,null,null,null,null,null,null,null,null,null,null,null,null,null,null,null,0,0,0,0]
[null,null,null,null,null,null,null,null,null,null,null,null,null,null,null,null,null,null,null,null,null,null,null,null,null,null,null,null,null,null,null,null,null,null,null,null,null,null,null,null,null,null,null,null,0,0,0,0]
[null,null,null,null,null,null,null,null,null,null,null,null,null,null,null,null,null,null,null,null,null,null,null,null,null,null,null,null,null,null,null,null,null,null,null,null,null,null,null,null,null,null,null,null,0,0,0,0]
[null,null,null,null,null,null,null,null,null,null,null,null,null,null,null,null,null,null,null,null,null,null,null,null,null,null,null,null,null,null,null,null,null,null,null,null,null,null,null,null,null,null,null,null,0,0,0,0]
[null,null,null,null,null,null,null,null,null,null,null,null,null,null,null,null,null,null,null,null,null,null,null,null,null,null,null,null,null,null,null,null,null,null,null,null,null,null,null,null,null,null,null,null,0,0,0,0]
[null,null,null,null,null,null,null,null,null,null,null,null,null,null,null,null,null,null,null,null,null,null,null,null,null,null,null,null,null,null,null,null,null,null,null,null,null,null,null,null,null,null,null,null,0,0,0,0]
[null,null,null,null,null,null,null,null,null,null,null,null,null,null,null,null,null,null,null,null,null,null,null,null,null,null,null,null,null,null,null,null,null,null,null,null,null,null,null,null,null,null,null,null,0,0,0,0]
[null,null,null,null,null,null,null,null,null,null,null,null,null,null,null,null,null,null,null,null,null,null,null,null,null,null,null,null,null,null,null,null,null,null,null,null,null,null,null,null,null,null,null,null,0,0,0,0]
[null,null,null,"TOTAL",{"$f":"SUM(E5:E67)","v":0.10041199903935191},4.7829499933868598E-2,0.66652449732646368,0,0,0,0,0,0,0,0,0,0,0,0,0,null,null,null,null,null,null,null,null,null,null,null,null,null,null,null,null,null,null,null,null,null,null,null,null,0.81476599629968416,0.12324029168544087,5.8703357959327664E-2,0.8180563503552315]
[]
[null,null,{"$f":"C5","v":1},"Politics and Government",{"$f":"IF(E$68>0,E5/E$68,0)","v":0},0.31263131666331551,0.33137716414425711,0,0,0,0,0,0,0,0,0,0,0,0,0]
[null,null,2,"Economy",{"$f":"IF(E$68>0,E6/E$68,0)","v":0.12524897496500606},0,0.13935346633371218,0,0,0,0,0,0,0,0,0,0,0,0,0]
[null,null,3,"Science and Health",{"$f":"IF(E$68>0,E7/E$68,0)","v":0},0,9.1148939227049114E-2,0,0,0,0,0,0,0,0,0,0,0,0,0]
[null,null,4,"Social and Legal",{"$f":"IF(E$68>0,E8/E$68,0)","v":0.17603971942603991},0.36748240868939519,0.15487727803215789,0,0,0,0,0,0,0,0,0,0,0,0,0]
[null,null,5,"Crime and Violence",{"$f":"IF(E$68>0,E9/E$68,0)","v":0.42454586963600444},0.31988627464728936,0.15517734290956034,0,0,0,0,0,0,0,0,0,0,0,0,0]
[null,null,6,"Celebrity, Arts and Media, Sports",{"$f":"IF(E$68>0,E10/E$68,0)","v":0.27416543597294946},0,0.12041417733600621,0,0,0,0,0,0,0,0,0,0,0,0,0]
[null,null,7,"The Girl-child",{"$f":"IF(E$68>0,E11/E$68,0)","v":0},0,0,0,0,0,0,0,0,0,0,0,0,0,0,0]
[null,null,8,"Other",{"$f":"IF(E$68>0,E12/E$68,0)","v":0},0,7.6516320172570641E-3,0,0,0,0,0,0,0,0,0,0,0,0,0]
[null,null,0,0,{"$f":"IF(E$68>0,E13/E$68,0)","v":0},0,0,0,0,0,0,0,0,0,0,0,0,0,0,0]
[null,null,0,0,{"$f":"IF(E$68>0,E14/E$68,0)","v":0},0,0,0,0,0,0,0,0,0,0,0,0,0,0,0]
[null,null,0,0,{"$f":"IF(E$68>0,E15/E$68,0)","v":0},0,0,0,0,0,0,0,0,0,0,0,0,0,0,0]
[null,null,0,0,{"$f":"IF(E$68>0,E16/E$68,0)","v":0},0,0,0,0,0,0,0,0,0,0,0,0,0,0,0]
[null,null,0,0,{"$f":"IF(E$68>0,E17/E$68,0)","v":0},0,0,0,0,0,0,0,0,0,0,0,0,0,0,0]
[null,null,0,0,{"$f":"IF(E$68>0,E18/E$68,0)","v":0},0,0,0,0,0,0,0,0,0,0,0,0,0,0,0]
[null,null,0,0,{"$f":"IF(E$68>0,E19/E$68,0)","v":0},0,0,0,0,0,0,0,0,0,0,0,0,0,0,0]
[null,null,0,0,{"$f":"IF(E$68>0,E20/E$68,0)","v":0},0,0,0,0,0,0,0,0,0,0,0,0,0,0,0]
[null,null,0,0,{"$f":"IF(E$68>0,E21/E$68,0)","v":0},0,0,0,0,0,0,0,0,0,0,0,0,0,0,0]
[null,null,0,0,{"$f":"IF(E$68>0,E22/E$68,0)","v":0},0,0,0,0,0,0,0,0,0,0,0,0,0,0,0]
[null,null,0,0,{"$f":"IF(E$68>0,E23/E$68,0)","v":0},0,0,0,0,0,0,0,0,0,0,0,0,0,0,0]
[null,null,0,0,{"$f":"IF(E$68>0,E24/E$68,0)","v":0},0,0,0,0,0,0,0,0,0,0,0,0,0,0,0]
[null,null,{"$f":"C25","v":0},0,{"$f":"IF(E$68>0,E25/E$68,0)","v":0},0,0,0,0,0,0,0,0,0,0,0,0,0,0,0]
[null,null,0,0,{"$f":"IF(E$68>0,E26/E$68,0)","v":0},0,0,0,0,0,0,0,0,0,0,0,0,0,0,0]
[null,null,0,0,{"$f":"IF(E$68>0,E27/E$68,0)","v":0},0,0,0,0,0,0,0,0,0,0,0,0,0,0,0]
[null,null,0,0,{"$f":"IF(E$68>0,E28/E$68,0)","v":0},0,0,0,0,0,0,0,0,0,0,0,0,0,0,0]
[null,null,0,0,{"$f":"IF(E$68>0,E29/E$68,0)","v":0},0,0,0,0,0,0,0,0,0,0,0,0,0,0,0]
[null,null,0,0,{"$f":"IF(E$68>0,E30/E$68,0)","v":0},0,0,0,0,0,0,0,0,0,0,0,0,0,0,0]
[null,null,0,0,{"$f":"IF(E$68>0,E31/E$68,0)","v":0},0,0,0,0,0,0,0,0,0,0,0,0,0,0,0]
[null,null,0,0,{"$f":"IF(E$68>0,E32/E$68,0)","v":0},0,0,0,0,0,0,0,0,0,0,0,0,0,0,0]
[null,null,0,0,{"$f":"IF(E$68>0,E33/E$68,0)","v":0},0,0,0,0,0,0,0,0,0,0,0,0,0,0,0]
[null,null,0,0,{"$f":"IF(E$68>0,E34/E$68,0)","v":0},0,0,0,0,0,0,0,0,0,0,0,0,0,0,0]
[null,null,0,0,{"$f":"IF(E$68>0,E35/E$68,0)","v":0},0,0,0,0,0,0,0,0,0,0,0,0,0,0,0]
[null,null,0,0,{"$f":"IF(E$68>0,E36/E$68,0)","v":0},0,0,0,0,0,0,0,0,0,0,0,0,0,0,0]
[null,null,0,0,{"$f":"IF(E$68>0,E37/E$68,0)","v":0},0,0,0,0,0,0,0,0,0,0,0,0,0,0,0]
[null,null,0,0,{"$f":"IF(E$68>0,E38/E$68,0)","v":0},0,0,0,0,0,0,0,0,0,0,0,0,0,0,0]
[null,null,0,0,{"$f":"IF(E$68>0,E39/E$68,0)","v":0},0,0,0,0,0,0,0,0,0,0,0,0,0,0,0]
[null,null,0,0,{"$f":"IF(E$68>0,E40/E$68,0)","v":0},0,0,0,0,0,0,0,0,0,0,0,0,0,0,0]
[null,null,0,0,{"$f":"IF(E$68>0,E41/E$68,0)","v":0},0,0,0,0,0,0,0,0,0,0,0,0,0,0,0]
[null,null,0,0,{"$f":"IF(E$68>0,E42/E$68,0)","v":0},0,0,0,0,0,0,0,0,0,0,0,0,0,0,0]
[null,null,0,0,{"$f":"IF(E$68>0,E43/E$68,0)","v":0},0,0,0,0,0,0,0,0,0,0,0,0,0,0,0]
[null,null,0,0,{"$f":"IF(E$68>0,E44/E$68,0)","v":0},0,0,0,0,0,0,0,0,0,0,0,0,0,0,0]
[null,null,{"$f":"C45","v":0},0,{"$f":"IF(E$68>0,E45/E$68,0)","v":0},0,0,0,0,0,0,0,0,0,0,0,0,0,0,0]
[null,null,0,0,{"$f":"IF(E$68>0,E46/E$68,0)","v":0},0,0,0,0,0,0,0,0,0,0,0,0,0,0,0]
[null,null,0,0,{"$f":"IF(E$68>0,E47/E$68,0)","v":0},0,0,0,0,0,0,0,0,0,0,0,0,0,0,0]
[null,null,0,0,{"$f":"IF(E$68>0,E48/E$68,0)","v":0},0,0,0,0,0,0,0,0,0,0,0,0,0,0,0]
[null,null,0,0,{"$f":"IF(E$68>0,E49/E$68,0)","v":0},0,0,0,0,0,0,0,0,0,0,0,0,0,0,0]
[null,null,0,0,{"$f":"IF(E$68>0,E50/E$68,0)","v":0},0,0,0,0,0,0,0,0,0,0,0,0,0,0,0]
[null,null,0,0,{"$f":"IF(E$68>0,E51/E$68,0)","v":0},0,0,0,0,0,0,0,0,0,0,0,0,0,0,0]
[null,null,0,0,{"$f":"IF(E$68>0,E52/E$68,0)","v":0},0,0,0,0,0,0,0,0,0,0,0,0,0,0,0]
[null,null,0,0,{"$f":"IF(E$68>0,E53/E$68,0)","v":0},0,0,0,0,0,0,0,0,0,0,0,0,0,0,0]
[null,null,0,0,{"$f":"IF(E$68>0,E54/E$68,0)","v":0},0,0,0,0,0,0,0,0,0,0,0,0,0,0,0]
[null,null,0,0,{"$f":"IF(E$68>0,E55/E$68,0)","v":0},0,0,0,0,0,0,0,0,0,0,0,0,0,0,0]
[null,null,0,0,{"$f":"IF(E$68>0,E56/E$68,0)","v":0},0,0,0,0,0,0,0,0,0,0,0,0,0,0,0]
[null,null,0,0,{"$f":"IF(E$68>0,E57/E$68,0)","v":0},0,0,0,0,0,0,0,0,0,0,0,0,0,0,0]
[null,null,0,0,{"$f":"IF(E$68>0,E58/E$68,0)","v":0},0,0,0,0,0,0,0,0,0,0,0,0,0,0,0]
[null,null,0,0,{"$f":"IF(E$68>0,E59/E$68,0)","v":0},0,0,0,0,0,0,0,0,0,0,0,0,0,0,0]
[null,null,0,0,{"$f":"IF(E$68>0,E60/E$68,0)","v":0},0,0,0,0,0,0,0,0,0,0,0,0,0,0,0]
[null,null,0,0,{"$f":"IF(E$68>0,E61/E$68,0)","v":0},0,0,0,0,0,0,0,0,0,0,0,0,0,0,0]
[null,null,0,0,{"$f":"IF(E$68>0,E62/E$68,0)","v":0},0,0,0,0,0,0,0,0,0,0,0,0,0,0,0]
[]
[]
[]
[]
[]
[]
[]
[]
[]
[]
[]
[]
[]
[]
[]
[]
[]
[]
[]
[]
["COUNT"]
[null,null,null,null,{"$f":"E3","v":"Disagree. The story definitely does not challenge stereotypes"},"Agree. The story definitely challenges stereotypes","Neither agree nor disagree. The story neither clearly challenges nor reinforces stereotypes",0,0,0,0,0,0,0,0,0,0,0,0,0]
[null,null,null,null,{"$f":"E4","v":0},0,0,0,0,0,0,0,0,0,0,0,0,0,0,0]
[null,null,{"$f":"C5","v":1},"Politics and Government",0,2,37]
[null,null,2,"Economy",2,0,16]
[null,null,3,"Science and Health",0,0,11]
[null,null,4,"Social and Legal",3,3,19]
[null,null,5,"Crime and Violence",7,3,19]
[null,null,6,"Celebrity, Arts and Media, Sports",4,0,13]
[null,null,7,"The Girl-child",0,0,0]
[null,null,8,"Other",0,0,1]
[null,null,0,0]
[null,null,0,0]
[null,null,0,0]
[null,null,0,0]
[null,null,0,0]
[null,null,0,0]
[null,null,0,0]
[null,null,0,0]
[null,null,0,0]
[null,null,0,0]
[null,null,0,0]
[null,null,0,0]
[null,null,{"$f":"C25","v":0},0]
[null,null,0,0]
[null,null,0,0]
[null,null,0,0]
[null,null,0,0]
[null,null,0,0]
[null,null,0,0]
[null,null,0,0]
[null,null,0,0]
[null,null,0,0]
[null,null,0,0]
[null,null,0,0]
[null,null,0,0]
[null,null,0,0]
[null,null,0,0]
[null,null,0,0]
[null,null,0,0]
[null,null,0,0]
[null,null,0,0]
[null,null,0,0]
[null,null,{"$f":"C45","v":0},0]
[null,null,0,0]
[null,null,0,0]
[null,null,0,0]
[null,null,0,0]
[null,null,0,0]
[null,null,0,0]
[null,null,0,0]
[null,null,0,0]
[null,null,0,0]
[null,null,0,0]
[null,null,0,0]
[null,null,0,0]
[null,null,0,0]
[null,null,0,0]

{"sheet":"17a2F - stereotypes","index":64,"n_rows":14,"n_cols":18,"rows_kept":14,"cut":false,"hidden":false,"merged":[[1,5,1,7],[1,8,1,10],[1,11,1,13],[1,14,1,17]]}
[{"$f":"'17a2'!$A$1","v":"Stories where stereotypes are challenged/ supported by news topic"}]
[null,null,null,null,null,1995,null,null,2000,null,null,2005,null,null,2010]
[null,null,null,null,"Topic","Disagree","Agree","Neither","Disagree","Agree","Neither","Disagree","Agree","Neither","Disagree","Agree","Neither","N"]
[null,null,null,null,{"$f":"'17a2'!D5","v":"Politics and Government"},0,0,0,"n/a","n/a","n/a","n/a","n/a","n/a",{"$f":"'17a2'!AT5","v":0},{"$f":"'17a2'!AU5","v":0},{"$f":"'17a2'!AV5","v":0},{"$f":"'17a2'!E151+'17a2'!F151+'17a2'!G151","v":39}]
[null,null,null,null,{"$f":"'17a2'!D6","v":"Economy"},0,0,0,"n/a","n/a","n/a","n/a","n/a","n/a",{"$f":"'17a2'!AT6","v":0.11925487693646675},{"$f":"'17a2'!AU6","v":0},{"$f":"'17a2'!AV6","v":0},{"$f":"'17a2'!E152+'17a2'!F152+'17a2'!G152","v":18}]
[null,null,null,null,{"$f":"'17a2'!D7","v":"Science and Health"},0,0,0,"n/a","n/a","n/a","n/a","n/a","n/a",{"$f":"'17a2'!AT7","v":0},{"$f":"'17a2'!AU7","v":0},{"$f":"'17a2'!AV7","v":0},{"$f":"'17a2'!E153+'17a2'!F153+'17a2'!G153","v":11}]
[null,null,null,null,{"$f":"'17a2'!D8","v":"Social and Legal"},0,0,0,"n/a","n/a","n/a","n/a","n/a","n/a",{"$f":"'17a2'!AT8","v":0.12764428830202731},{"$f":"'17a2'!AU8","v":0.12692217326306174},{"$f":"'17a2'!AV8","v":0.745433538434911},{"$f":"'17a2'!E154+'17a2'!F154+'17a2'!G154","v":25}]
[null,null,null,null,{"$f":"'17a2'!D9","v":"Crime and Violence"},0,0,0,"n/a","n/a","n/a","n/a","n/a","n/a",{"$f":"'17a2'!AT9","v":0.26419040354622825},{"$f":"'17a2'!AU9","v":9.4819628939591061E-2},{"$f":"'17a2'!AV9","v":0.64098996751418069},{"$f":"'17a2'!E155+'17a2'!F155+'17a2'!G155","v":29}]
[null,null,null,null,{"$f":"'17a2'!D10","v":"Celebrity, Arts and Media, Sports"},0,0,0,"n/a","n/a","n/a","n/a","n/a","n/a",{"$f":"'17a2'!AT10","v":0.25540294069609637},{"$f":"'17a2'!AU10","v":0},{"$f":"'17a2'!AV10","v":0},{"$f":"'17a2'!E156+'17a2'!F156+'17a2'!G156","v":17}]
[null,null,null,null,{"$f":"'17a2'!D11","v":"The Girl-child"},0,0,0,"n/a","n/a","n/a","n/a","n/a","n/a",{"$f":"'17a2'!AT11","v":0},{"$f":"'17a2'!AU11","v":0},{"$f":"'17a2'!AV11","v":0},{"$f":"'17a2'!E157+'17a2'!F157+'17a2'!G157","v":0}]
[null,null,null,null,{"$f":"'17a2'!D12","v":"Other"},0,0,0,"n/a","n/a","n/a","n/a","n/a","n/a",{"$f":"'17a2'!AT12","v":0},{"$f":"'17a2'!AU12","v":0},{"$f":"'17a2'!AV12","v":0},{"$f":"'17a2'!E158+'17a2'!F158+'17a2'!G158","v":1}]
[]
[]
[null,null,null,null,"Total",0,0,0,0,0,0,0,0,0,{"$f":"'17a2'!AT68","v":0.12324029168544087},{"$f":"'17a2'!AU68","v":5.8703357959327664E-2},{"$f":"'17a2'!AV68","v":0.8180563503552315},{"$f":"SUM(R4:R11)","v":140}]

{"sheet":"17c","index":65,"n_rows":205,"n_cols":53,"rows_kept":205,"cut":false,"hidden":true,"merged":[]}
["Stories where stereotypes are challenged/ supported by gender of rep"]
[null,null,null,null,null,null,null,null,null,null,null,null,null,null,null,null,null,null,null,null,null,null,null,null,null,null,null,null,null,null,null,null,null,null,null,null,null,null,null,null,null,null,null,null,null,{"$f":"E2","v":0},0,0,0,0,0,0,0]
[null,null,null,null,"Female","Male",null,null,null,null,null,null,null,null,null,null,null,null,null,null,null,null,null,null,null,null,null,null,null,null,null,null,null,null,null,null,null,null,null,null,null,null,null,null,null,"Female","Male",0,0,0,0,0,0]
[null,null,null,null,null,null,null,null,null,null,null,null,null,null,null,null,null,null,null,null,null,null,null,null,null,null,null,null,null,null,null,null,null,null,null,null,null,null,null,null,null,null,null,null,"TOTAL",0,0,0,0,0,0,0,0]
[null,null,1,"Disagree. The story definitely does not challenge stereotypes",1.4952999539673301E-2,6.7982499953359393E-2,null,null,null,null,null,null,null,null,null,null,null,null,null,null,null,null,null,null,null,null,null,null,null,null,null,null,null,null,null,null,null,null,null,null,null,null,null,null,{"$f":"SUM(E5:O5)","v":8.2935499493032694E-2},{"$f":"IF((E5+F5)>0,E5/(E5+F5),0)","v":0.18029673217232486},{"$f":"IF((E5+F5)>0,F5/(E5+F5),0)","v":0.81970326782767511},{"$f":"IF((G5+H5)>0,G5/(G5+H5),0)","v":0},{"$f":"IF((G5+H5)>0,H5/(G5+H5),0)","v":0},{"$f":"IF((I5+J5)>0,I5/(I5+J5),0)","v":0},{"$f":"IF((I5+J5)>0,J5/(I5+J5),0)","v":0},{"$f":"IF((K5+L5)>0,K5/(K5+L5),0)","v":0},{"$f":"IF((K5+L5)>0,L5/(K5+L5),0)","v":0}]
[null,null,2,"Agree. The story definitely challenges stereotypes",7.4764997698366599E-3,3.52529999800026E-2,null,null,null,null,null,null,null,null,null,null,null,null,null,null,null,null,null,null,null,null,null,null,null,null,null,null,null,null,null,null,null,null,null,null,null,null,null,null,4.2729499749839257E-2,0.17497278960923912,0.82502721039076099,0,0,0,0,0,0]
[null,null,3,"Neither agree nor disagree. The story neither clearly challenges nor reinforces stereotypes",0.113182499539107,0.249247499741614,null,null,null,null,null,null,null,null,null,null,null,null,null,null,null,null,null,null,null,null,null,null,null,null,null,null,null,null,null,null,null,null,null,null,null,null,null,null,0.362429999280721,0.31228788942341729,0.68771211057658277,0,0,0,0,0,0]
[null,null,4,"Do not know, cannot decide",5.1000001840293399E-3,7.4764997698366599E-3,null,null,null,null,null,null,null,null,null,null,null,null,null,null,null,null,null,null,null,null,null,null,null,null,null,null,null,null,null,null,null,null,null,null,null,null,null,null,1.2576499953866E-2,0.40551824456228036,0.59448175543771964,0,0,0,0,0,0]
[null,null,null,null,null,null,null,null,null,null,null,null,null,null,null,null,null,null,null,null,null,null,null,null,null,null,null,null,null,null,null,null,null,null,null,null,null,null,null,null,null,null,null,null,0,0,0,0,0,0,0,0,0]
[null,null,null,null,null,null,null,null,null,null,null,null,null,null,null,null,null,null,null,null,null,null,null,null,null,null,null,null,null,null,null,null,null,null,null,null,null,null,null,null,null,null,null,null,0,0,0,0,0,0,0,0,0]
[null,null,null,null,null,null,null,null,null,null,null,null,null,null,null,null,null,null,null,null,null,null,null,null,null,null,null,null,null,null,null,null,null,null,null,null,null,null,null,null,null,null,null,null,0,0,0,0,0,0,0,0,0]
[null,null,null,null,null,null,null,null,null,null,null,null,null,null,null,null,null,null,null,null,null,null,null,null,null,null,null,null,null,null,null,null,null,null,null,null,null,null,null,null,null,null,null,null,0,0,0,0,0,0,0,0,0]
[null,null,null,null,null,null,null,null,null,null,null,null,null,null,null,null,null,null,null,null,null,null,null,null,null,null,null,null,null,null,null,null,null,null,null,null,null,null,null,null,null,null,null,null,0,0,0,0,0,0,0,0,0]
[null,null,null,null,null,null,null,null,null,null,null,null,null,null,null,null,null,null,null,null,null,null,null,null,null,null,null,null,null,null,null,null,null,null,null,null,null,null,null,null,null,null,null,null,0,0,0,0,0,0,0,0,0]
[null,null,null,null,null,null,null,null,null,null,null,null,null,null,null,null,null,null,null,null,null,null,null,null,null,null,null,null,null,null,null,null,null,null,null,null,null,null,null,null,null,null,null,null,0,0,0,0,0,0,0,0,0]
[null,null,null,null,null,null,null,null,null,null,null,null,null,null,null,null,null,null,null,null,null,null,null,null,null,null,null,null,null,null,null,null,null,null,null,null,null,null,null,null,null,null,null,null,0,0,0,0,0,0,0,0,0]
[null,null,null,null,null,null,null,null,null,null,null,null,null,null,null,null,null,null,null,null,null,null,null,null,null,null,null,null,null,null,null,null,null,null,null,null,null,null,null,null,null,null,null,null,0,0,0,0,0,0,0,0,0]
[null,null,null,null,null,null,null,null,null,null,null,null,null,null,null,null,null,null,null,null,null,null,null,null,null,null,null,null,null,null,null,null,null,null,null,null,null,null,null,null,null,null,null,null,0,0,0,0,0,0,0,0,0]
[null,null,null,null,null,null,null,null,null,null,null,null,null,null,null,null,null,null,null,null,null,null,null,null,null,null,null,null,null,null,null,null,null,null,null,null,null,null,null,null,null,null,null,null,0,0,0,0,0,0,0,0,0]
[null,null,null,null,null,null,null,null,null,null,null,null,null,null,null,null,null,null,null,null,null,null,null,null,null,null,null,null,null,null,null,null,null,null,null,null,null,null,null,null,null,null,null,null,0,0,0,0,0,0,0,0,0]
[null,null,null,null,null,null,null,null,null,null,null,null,null,null,null,null,null,null,null,null,null,null,null,null,null,null,null,null,null,null,null,null,null,null,null,null,null,null,null,null,null,null,null,null,0,0,0,0,0,0,0,0,0]
[null,null,null,null,null,null,null,null,null,null,null,null,null,null,null,null,null,null,null,null,null,null,null,null,null,null,null,null,null,null,null,null,null,null,null,null,null,null,null,null,null,null,null,null,0,0,0,0,0,0,0,0,0]
[null,null,null,null,null,null,null,null,null,null,null,null,null,null,null,null,null,null,null,null,null,null,null,null,null,null,null,null,null,null,null,null,null,null,null,null,null,null,null,null,null,null,null,null,0,0,0,0,0,0,0,0,0]
[null,null,null,null,null,null,null,null,null,null,null,null,null,null,null,null,null,null,null,null,null,null,null,null,null,null,null,null,null,null,null,null,null,null,null,null,null,null,null,null,null,null,null,null,0,0,0,0,0,0,0,0,0]
[null,null,null,null,null,null,null,null,null,null,null,null,null,null,null,null,null,null,null,null,null,null,null,null,null,null,null,null,null,null,null,null,null,null,null,null,null,null,null,null,null,null,null,null,0,0,0,0,0,0,0,0,0]
[null,null,null,null,null,null,null,null,null,null,null,null,null,null,null,null,null,null,null,null,null,null,null,null,null,null,null,null,null,null,null,null,null,null,null,null,null,null,null,null,null,null,null,null,0,0,0,0,0,0,0,0,0]
[null,null,null,null,null,null,null,null,null,null,null,null,null,null,null,null,null,null,null,null,null,null,null,null,null,null,null,null,null,null,null,null,null,null,null,null,null,null,null,null,null,null,null,null,0,0,0,0,0,0,0,0,0]
[null,null,null,null,null,null,null,null,null,null,null,null,null,null,null,null,null,null,null,null,null,null,null,null,null,null,null,null,null,null,null,null,null,null,null,null,null,null,null,null,null,null,null,null,0,0,0,0,0,0,0,0,0]
[null,null,null,null,null,null,null,null,null,null,null,null,null,null,null,null,null,null,null,null,null,null,null,null,null,null,null,null,null,null,null,null,null,null,null,null,null,null,null,null,null,null,null,null,0,0,0,0,0,0,0,0,0]
[null,null,null,null,null,null,null,null,null,null,null,null,null,null,null,null,null,null,null,null,null,null,null,null,null,null,null,null,null,null,null,null,null,null,null,null,null,null,null,null,null,null,null,null,0,0,0,0,0,0,0,0,0]
[null,null,null,null,null,null,null,null,null,null,null,null,null,null,null,null,null,null,null,null,null,null,null,null,null,null,null,null,null,null,null,null,null,null,null,null,null,null,null,null,null,null,null,null,0,0,0,0,0,0,0,0,0]
[null,null,null,null,null,null,null,null,null,null,null,null,null,null,null,null,null,null,null,null,null,null,null,null,null,null,null,null,null,null,null,null,null,null,null,null,null,null,null,null,null,null,null,null,0,0,0,0,0,0,0,0,0]
[null,null,null,null,null,null,null,null,null,null,null,null,null,null,null,null,null,null,null,null,null,null,null,null,null,null,null,null,null,null,null,null,null,null,null,null,null,null,null,null,null,null,null,null,0,0,0,0,0,0,0,0,0]
[null,null,null,null,null,null,null,null,null,null,null,null,null,null,null,null,null,null,null,null,null,null,null,null,null,null,null,null,null,null,null,null,null,null,null,null,null,null,null,null,null,null,null,null,0,0,0,0,0,0,0,0,0]
[null,null,null,null,null,null,null,null,null,null,null,null,null,null,null,null,null,null,null,null,null,null,null,null,null,null,null,null,null,null,null,null,null,null,null,null,null,null,null,null,null,null,null,null,0,0,0,0,0,0,0,0,0]
[null,null,null,null,null,null,null,null,null,null,null,null,null,null,null,null,null,null,null,null,null,null,null,null,null,null,null,null,null,null,null,null,null,null,null,null,null,null,null,null,null,null,null,null,0,0,0,0,0,0,0,0,0]
[null,null,null,null,null,null,null,null,null,null,null,null,null,null,null,null,null,null,null,null,null,null,null,null,null,null,null,null,null,null,null,null,null,null,null,null,null,null,null,null,null,null,null,null,{"$f":"SUM(E37:O37)","v":0},{"$f":"IF((E37+F37)>0,E37/(E37+F37),0)","v":0},{"$f":"IF((E37+F37)>0,F37/(E37+F37),0)","v":0},{"$f":"IF((G37+H37)>0,G37/(G37+H37),0)","v":0},{"$f":"IF((G37+H37)>0,H37/(G37+H37),0)","v":0},{"$f":"IF((I37+J37)>0,I37/(I37+J37),0)","v":0},{"$f":"IF((I37+J37)>0,J37/(I37+J37),0)","v":0},{"$f":"IF((K37+L37)>0,K37/(K37+L37),0)","v":0},{"$f":"IF((K37+L37)>0,L37/(K37+L37),0)","v":0}]
[null,null,null,null,null,null,null,null,null,null,null,null,null,null,null,null,null,null,null,null,null,null,null,null,null,null,null,null,null,null,null,null,null,null,null,null,null,null,null,null,null,null,null,null,0,0,0,0,0,0,0,0,0]
[null,null,null,null,null,null,null,null,null,null,null,null,null,null,null,null,null,null,null,null,null,null,null,null,null,null,null,null,null,null,null,null,null,null,null,null,null,null,null,null,null,null,null,null,0,0,0,0,0,0,0,0,0]
[null,null,null,null,null,null,null,null,null,null,null,null,null,null,null,null,null,null,null,null,null,null,null,null,null,null,null,null,null,null,null,null,null,null,null,null,null,null,null,null,null,null,null,null,0,0,0,0,0,0,0,0,0]
[null,null,null,null,null,null,null,null,null,null,null,null,null,null,null,null,null,null,null,null,null,null,null,null,null,null,null,null,null,null,null,null,null,null,null,null,null,null,null,null,null,null,null,null,0,0,0,0,0,0,0,0,0]
[null,null,null,null,null,null,null,null,null,null,null,null,null,null,null,null,null,null,null,null,null,null,null,null,null,null,null,null,null,null,null,null,null,null,null,null,null,null,null,null,null,null,null,null,0,0,0,0,0,0,0,0,0]
[null,null,null,null,null,null,null,null,null,null,null,null,null,null,null,null,null,null,null,null,null,null,null,null,null,null,null,null,null,null,null,null,null,null,null,null,null,null,null,null,null,null,null,null,0,0,0,0,0,0,0,0,0]
[null,null,null,null,null,null,null,null,null,null,null,null,null,null,null,null,null,null,null,null,null,null,null,null,null,null,null,null,null,null,null,null,null,null,null,null,null,null,null,null,null,null,null,null,0,0,0,0,0,0,0,0,0]
[null,null,null,null,null,null,null,null,null,null,null,null,null,null,null,null,null,null,null,null,null,null,null,null,null,null,null,null,null,null,null,null,null,null,null,null,null,null,null,null,null,null,null,null,0,0,0,0,0,0,0,0,0]
[null,null,null,null,null,null,null,null,null,null,null,null,null,null,null,null,null,null,null,null,null,null,null,null,null,null,null,null,null,null,null,null,null,null,null,null,null,null,null,null,null,null,null,null,0,0,0,0,0,0,0,0,0]
[null,null,null,null,null,null,null,null,null,null,null,null,null,null,null,null,null,null,null,null,null,null,null,null,null,null,null,null,null,null,null,null,null,null,null,null,null,null,null,null,null,null,null,null,0,0,0,0,0,0,0,0,0]
[null,null,null,null,null,null,null,null,null,null,null,null,null,null,null,null,null,null,null,null,null,null,null,null,null,null,null,null,null,null,null,null,null,null,null,null,null,null,null,null,null,null,null,null,0,0,0,0,0,0,0,0,0]
[null,null,null,null,null,null,null,null,null,null,null,null,null,null,null,null,null,null,null,null,null,null,null,null,null,null,null,null,null,null,null,null,null,null,null,null,null,null,null,null,null,null,null,null,0,0,0,0,0,0,0,0,0]
[null,null,null,null,null,null,null,null,null,null,null,null,null,null,null,null,null,null,null,null,null,null,null,null,null,null,null,null,null,null,null,null,null,null,null,null,null,null,null,null,null,null,null,null,0,0,0,0,0,0,0,0,0]
[null,null,null,null,null,null,null,null,null,null,null,null,null,null,null,null,null,null,null,null,null,null,null,null,null,null,null,null,null,null,null,null,null,null,null,null,null,null,null,null,null,null,null,null,0,0,0,0,0,0,0,0,0]
[null,null,null,null,null,null,null,null,null,null,null,null,null,null,null,null,null,null,null,null,null,null,null,null,null,null,null,null,null,null,null,null,null,null,null,null,null,null,null,null,null,null,null,null,0,0,0,0,0,0,0,0,0]
[null,null,null,null,null,null,null,null,null,null,null,null,null,null,null,null,null,null,null,null,null,null,null,null,null,null,null,null,null,null,null,null,null,null,null,null,null,null,null,null,null,null,null,null,0,0,0,0,0,0,0,0,0]
[null,null,null,null,null,null,null,null,null,null,null,null,null,null,null,null,null,null,null,null,null,null,null,null,null,null,null,null,null,null,null,null,null,null,null,null,null,null,null,null,null,null,null,null,0,0,0,0,0,0,0,0,0]
[null,null,null,null,null,null,null,null,null,null,null,null,null,null,null,null,null,null,null,null,null,null,null,null,null,null,null,null,null,null,null,null,null,null,null,null,null,null,null,null,null,null,null,null,0,0,0,0,0,0,0,0,0]
[null,null,null,null,null,null,null,null,null,null,null,null,null,null,null,null,null,null,null,null,null,null,null,null,null,null,null,null,null,null,null,null,null,null,null,null,null,null,null,null,null,null,null,null,0,0,0,0,0,0,0,0,0]
[null,null,null,null,null,null,null,null,null,null,null,null,null,null,null,null,null,null,null,null,null,null,null,null,null,null,null,null,null,null,null,null,null,null,null,null,null,null,null,null,null,null,null,null,0,0,0,0,0,0,0,0,0]
[null,null,null,null,null,null,null,null,null,null,null,null,null,null,null,null,null,null,null,null,null,null,null,null,null,null,null,null,null,null,null,null,null,null,null,null,null,null,null,null,null,null,null,null,0,0,0,0,0,0,0,0,0]
[null,null,null,null,null,null,null,null,null,null,null,null,null,null,null,null,null,null,null,null,null,null,null,null,null,null,null,null,null,null,null,null,null,null,null,null,null,null,null,null,null,null,null,null,0,0,0,0,0,0,0,0,0]
[null,null,null,null,null,null,null,null,null,null,null,null,null,null,null,null,null,null,null,null,null,null,null,null,null,null,null,null,null,null,null,null,null,null,null,null,null,null,null,null,null,null,null,null,0,0,0,0,0,0,0,0,0]
[null,null,null,null,null,null,null,null,null,null,null,null,null,null,null,null,null,null,null,null,null,null,null,null,null,null,null,null,null,null,null,null,null,null,null,null,null,null,null,null,null,null,null,null,0,0,0,0,0,0,0,0,0]
[null,null,null,null,null,null,null,null,null,null,null,null,null,null,null,null,null,null,null,null,null,null,null,null,null,null,null,null,null,null,null,null,null,null,null,null,null,null,null,null,null,null,null,null,0,0,0,0,0,0,0,0,0]
[null,null,null,null,null,null,null,null,null,null,null,null,null,null,null,null,null,null,null,null,null,null,null,null,null,null,null,null,null,null,null,null,null,null,null,null,null,null,null,null,null,null,null,null,0,0,0,0,0,0,0,0,0]
[null,null,null,null,null,null,null,null,null,null,null,null,null,null,null,null,null,null,null,null,null,null,null,null,null,null,null,null,null,null,null,null,null,null,null,null,null,null,null,null,null,null,null,null,0,0,0,0,0,0,0,0,0]
[null,null,null,null,null,null,null,null,null,null,null,null,null,null,null,null,null,null,null,null,null,null,null,null,null,null,null,null,null,null,null,null,null,null,null,null,null,null,null,null,null,null,null,null,0,0,0,0,0,0,0,0,0]
[null,null,null,null,null,null,null,null,null,null,null,null,null,null,null,null,null,null,null,null,null,null,null,null,null,null,null,null,null,null,null,null,null,null,null,null,null,null,null,null,null,null,null,null,0,0,0,0,0,0,0,0,0]
[null,null,null,null,null,null,null,null,null,null,null,null,null,null,null,null,null,null,null,null,null,null,null,null,null,null,null,null,null,null,null,null,null,null,null,null,null,null,null,null,null,null,null,null,0,0,0,0,0,0,0,0,0]
[null,null,null,"TOTAL",{"$f":"SUM(E5:E67)","v":0.14071199903264631},0.35995949944481265,0,0,0,0,0,0,0,0,0,0,0,0,0,0,null,null,null,null,null,null,null,null,null,null,null,null,null,null,null,null,null,null,null,null,null,null,null,null,0.50067149847745895,0.28104655339988638,0.71895344660011362,0,0,0,0,0,0]
[]
[null,null,{"$f":"C5","v":1},"Disagree. The story definitely does not challenge stereotypes",{"$f":"IF(E$68>0,E5/E$68,0)","v":0.10626669823803786},0.1888615248610272,0,0,0,0,0,0,0,0,0,0,0,0,0,0]
[null,null,2,"Agree. The story definitely challenges stereotypes",{"$f":"IF(E$68>0,E6/E$68,0)","v":5.3133349119018999E-2},9.7936017897500796E-2,0,0,0,0,0,0,0,0,0,0,0,0,0,0]
[null,null,3,"Neither agree nor disagree. The story neither clearly challenges nor reinforces stereotypes",{"$f":"IF(E$68>0,E7/E$68,0)","v":0.80435570752461383},0.69243206562417026,0,0,0,0,0,0,0,0,0,0,0,0,0,0]
[null,null,4,"Do not know, cannot decide",{"$f":"IF(E$68>0,E8/E$68,0)","v":3.6244245118329244E-2},2.0770391617301719E-2,0,0,0,0,0,0,0,0,0,0,0,0,0,0]
[null,null,0,0,{"$f":"IF(E$68>0,E9/E$68,0)","v":0},0,0,0,0,0,0,0,0,0,0,0,0,0,0,0]
[null,null,0,0,{"$f":"IF(E$68>0,E10/E$68,0)","v":0},0,0,0,0,0,0,0,0,0,0,0,0,0,0,0]
[null,null,0,0,{"$f":"IF(E$68>0,E11/E$68,0)","v":0},0,0,0,0,0,0,0,0,0,0,0,0,0,0,0]
[null,null,0,0,{"$f":"IF(E$68>0,E12/E$68,0)","v":0},0,0,0,0,0,0,0,0,0,0,0,0,0,0,0]
[null,null,0,0,{"$f":"IF(E$68>0,E13/E$68,0)","v":0},0,0,0,0,0,0,0,0,0,0,0,0,0,0,0]
[null,null,0,0,{"$f":"IF(E$68>0,E14/E$68,0)","v":0},0,0,0,0,0,0,0,0,0,0,0,0,0,0,0]
[null,null,0,0,{"$f":"IF(E$68>0,E15/E$68,0)","v":0},0,0,0,0,0,0,0,0,0,0,0,0,0,0,0]
[null,null,0,0,{"$f":"IF(E$68>0,E16/E$68,0)","v":0},0,0,0,0,0,0,0,0,0,0,0,0,0,0,0]
[null,null,0,0,{"$f":"IF(E$68>0,E17/E$68,0)","v":0},0,0,0,0,0,0,0,0,0,0,0,0,0,0,0]
[null,null,0,0,{"$f":"IF(E$68>0,E18/E$68,0)","v":0},0,0,0,0,0,0,0,0,0,0,0,0,0,0,0]
[null,null,0,0,{"$f":"IF(E$68>0,E19/E$68,0)","v":0},0,0,0,0,0,0,0,0,0,0,0,0,0,0,0]
[null,null,0,0,{"$f":"IF(E$68>0,E20/E$68,0)","v":0},0,0,0,0,0,0,0,0,0,0,0,0,0,0,0]
[null,null,0,0,{"$f":"IF(E$68>0,E21/E$68,0)","v":0},0,0,0,0,0,0,0,0,0,0,0,0,0,0,0]
[null,null,0,0,{"$f":"IF(E$68>0,E22/E$68,0)","v":0},0,0,0,0,0,0,0,0,0,0,0,0,0,0,0]
[null,null,0,0,{"$f":"IF(E$68>0,E23/E$68,0)","v":0},0,0,0,0,0,0,0,0,0,0,0,0,0,0,0]
[null,null,0,0,{"$f":"IF(E$68>0,E24/E$68,0)","v":0},0,0,0,0,0,0,0,0,0,0,0,0,0,0,0]
[null,null,{"$f":"C25","v":0},0,{"$f":"IF(E$68>0,E25/E$68,0)","v":0},0,0,0,0,0,0,0,0,0,0,0,0,0,0,0]
[null,null,0,0,{"$f":"IF(E$68>0,E26/E$68,0)","v":0},0,0,0,0,0,0,0,0,0,0,0,0,0,0,0]
[null,null,0,0,{"$f":"IF(E$68>0,E27/E$68,0)","v":0},0,0,0,0,0,0,0,0,0,0,0,0,0,0,0]
[null,null,0,0,{"$f":"IF(E$68>0,E28/E$68,0)","v":0},0,0,0,0,0,0,0,0,0,0,0,0,0,0,0]
[null,null,0,0,{"$f":"IF(E$68>0,E29/E$68,0)","v":0},0,0,0,0,0,0,0,0,0,0,0,0,0,0,0]
[null,null,0,0,{"$f":"IF(E$68>0,E30/E$68,0)","v":0},0,0,0,0,0,0,0,0,0,0,0,0,0,0,0]
[null,null,0,0,{"$f":"IF(E$68>0,E31/E$68,0)","v":0},0,0,0,0,0,0,0,0,0,0,0,0,0,0,0]
[null,null,0,0,{"$f":"IF(E$68>0,E32/E$68,0)","v":0},0,0,0,0,0,0,0,0,0,0,0,0,0,0,0]
[null,null,0,0,{"$f":"IF(E$68>0,E33/E$68,0)","v":0},0,0,0,0,0,0,0,0,0,0,0,0,0,0,0]
[null,null,0,0,{"$f":"IF(E$68>0,E34/E$68,0)","v":0},0,0,0,0,0,0,0,0,0,0,0,0,0,0,0]
[null,null,0,0,{"$f":"IF(E$68>0,E35/E$68,0)","v":0},0,0,0,0,0,0,0,0,0,0,0,0,0,0,0]
[null,null,0,0,{"$f":"IF(E$68>0,E36/E$68,0)","v":0},0,0,0,0,0,0,0,0,0,0,0,0,0,0,0]
[null,null,0,0,{"$f":"IF(E$68>0,E37/E$68,0)","v":0},0,0,0,0,0,0,0,0,0,0,0,0,0,0,0]
[null,null,0,0,{"$f":"IF(E$68>0,E38/E$68,0)","v":0},0,0,0,0,0,0,0,0,0,0,0,0,0,0,0]
[null,null,0,0,{"$f":"IF(E$68>0,E39/E$68,0)","v":0},0,0,0,0,0,0,0,0,0,0,0,0,0,0,0]
[null,null,0,0,{"$f":"IF(E$68>0,E40/E$68,0)","v":0},0,0,0,0,0,0,0,0,0,0,0,0,0,0,0]
[null,null,0,0,{"$f":"IF(E$68>0,E41/E$68,0)","v":0},0,0,0,0,0,0,0,0,0,0,0,0,0,0,0]
[null,null,0,0,{"$f":"IF(E$68>0,E42/E$68,0)","v":0},0,0,0,0,0,0,0,0,0,0,0,0,0,0,0]
[null,null,0,0,{"$f":"IF(E$68>0,E43/E$68,0)","v":0},0,0,0,0,0,0,0,0,0,0,0,0,0,0,0]
[null,null,0,0,{"$f":"IF(E$68>0,E44/E$68,0)","v":0},0,0,0,0,0,0,0,0,0,0,0,0,0,0,0]
[null,null,{"$f":"C45","v":0},0,{"$f":"IF(E$68>0,E45/E$68,0)","v":0},0,0,0,0,0,0,0,0,0,0,0,0,0,0,0]
[null,null,0,0,{"$f":"IF(E$68>0,E46/E$68,0)","v":0},0,0,0,0,0,0,0,0,0,0,0,0,0,0,0]
[null,null,0,0,{"$f":"IF(E$68>0,E47/E$68,0)","v":0},0,0,0,0,0,0,0,0,0,0,0,0,0,0,0]
[null,null,0,0,{"$f":"IF(E$68>0,E48/E$68,0)","v":0},0,0,0,0,0,0,0,0,0,0,0,0,0,0,0]
[null,null,0,0,{"$f":"IF(E$68>0,E49/E$68,0)","v":0},0,0,0,0,0,0,0,0,0,0,0,0,0,0,0]
[null,null,0,0,{"$f":"IF(E$68>0,E50/E$68,0)","v":0},0,0,0,0,0,0,0,0,0,0,0,0,0,0,0]
[null,null,0,0,{"$f":"IF(E$68>0,E51/E$68,0)","v":0},0,0,0,0,0,0,0,0,0,0,0,0,0,0,0]
[null,null,0,0,{"$f":"IF(E$68>0,E52/E$68,0)","v":0},0,0,0,0,0,0,0,0,0,0,0,0,0,0,0]
[null,null,0,0,{"$f":"IF(E$68>0,E53/E$68,0)","v":0},0,0,0,0,0,0,0,0,0,0,0,0,0,0,0]
[null,null,0,0,{"$f":"IF(E$68>0,E54/E$68,0)","v":0},0,0,0,0,0,0,0,0,0,0,0,0,0,0,0]
[null,null,0,0,{"$f":"IF(E$68>0,E55/E$68,0)","v":0},0,0,0,0,0,0,0,0,0,0,0,0,0,0,0]
[null,null,0,0,{"$f":"IF(E$68>0,E56/E$68,0)","v":0},0,0,0,0,0,0,0,0,0,0,0,0,0,0,0]
[null,null,0,0,{"$f":"IF(E$68>0,E57/E$68,0)","v":0},0,0,0,0,0,0,0,0,0,0,0,0,0,0,0]
[null,null,0,0,{"$f":"IF(E$68>0,E58/E$68,0)","v":0},0,0,0,0,0,0,0,0,0,0,0,0,0,0,0]
[null,null,0,0,{"$f":"IF(E$68>0,E59/E$68,0)","v":0},0,0,0,0,0,0,0,0,0,0,0,0,0,0,0]
[null,null,0,0,{"$f":"IF(E$68>0,E60/E$68,0)","v":0},0,0,0,0,0,0,0,0,0,0,0,0,0,0,0]
[null,null,0,0,{"$f":"IF(E$68>0,E61/E$68,0)","v":0},0,0,0,0,0,0,0,0,0,0,0,0,0,0,0]
[null,null,0,0,{"$f":"IF(E$68>0,E62/E$68,0)","v":0},0,0,0,0,0,0,0,0,0,0,0,0,0,0,0]
[]
[]
[]
[]
[]
[]
[]
[]
[]
[]
[]
[]
[]
[]
[]
[]
[]
[]
[]
[]
["COUNT"]
[null,null,null,null,{"$f":"E3","v":"Female"},"Male",0,0,0,0,0,0,0,0,0,0,0,0,0,0]
[null,null,null,null,{"$f":"E4","v":0},0,0,0,0,0,0,0,0,0,0,0,0,0,0,0]
[null,null,{"$f":"C5","v":1},"Disagree. The story definitely does not challenge stereotypes",2,11,0,0,0,0]
[null,null,2,"Agree. The story definitely challenges stereotypes",1,6,0,0,0,0]
[null,null,3,"Neither agree nor disagree. The story neither clearly challenges nor reinforces stereotypes",20,42,0,0,0,0]
[null,null,4,"Do not know, cannot decide",1,1,0,0,0,0]
[null,null,0,0,0,0,0,0,0,0]
[null,null,0,0,0,0,0,0,0,0]
[null,null,0,0,0,0,0,0,0,0]
[null,null,0,0,0,0,0,0,0,0]
[null,null,0,0,0,0,0,0,0,0]
[null,null,0,0,0,0,0,0,0,0]
[null,null,0,0,0,0,0,0,0,0]
[null,null,0,0,0,0,0,0,0,0]
[null,null,0,0,0,0,0,0,0,0]
[null,null,0,0,0,0,0,0,0,0]
[null,null,0,0,0,0,0,0,0,0]
[null,null,0,0,0,0,0,0,0,0]
[null,null,0,0,0,0,0,0,0,0]
[null,null,0,0,0,0,0,0,0,0]
[null,null,0,0,0,0,0,0,0,0]
[null,null,0,0,0,0,0,0,0,0]
[null,null,{"$f":"C25","v":0},0,0,0,0,0,0,0]
[null,null,0,0,0,0,0,0,0,0]
[null,null,0,0,0,0,0,0,0,0]
[null,null,0,0,0,0,0,0,0,0]
[null,null,0,0,0,0,0,0,0,0]
[null,null,0,0,0,0,0,0,0,0]
[null,null,0,0,0,0,0,0,0,0]
[null,null,0,0,0,0,0,0,0,0]
[null,null,0,0,0,0,0,0,0,0]
[null,null,0,0,0,0,0,0,0,0]
[null,null,0,0,0,0,0,0,0,0]
[null,null,0,0,0,0,0,0,0,0]
[null,null,0,0,0,0,0,0,0,0]
[null,null,0,0,0,0,0,0,0,0]
[null,null,0,0,0,0,0,0,0,0]
[null,null,0,0,0,0,0,0,0,0]
[null,null,0,0,0,0,0,0,0,0]
[null,null,0,0,0,0,0,0,0,0]
[null,null,0,0,0,0,0,0,0,0]
[null,null,0,0,0,0,0,0,0,0]
[null,null,{"$f":"C45","v":0},0,0,0,0,0,0,0]
[null,null,0,0,0,0,0,0,0,0]
[null,null,0,0,0,0,0,0,0,0]
[null,null,0,0,0,0,0,0,0,0]
[null,null,0,0,0,0,0,0,0,0]
[null,null,0,0,0,0,0,0,0,0]
[null,null,0,0,0,0,0,0,0,0]
[null,null,0,0,0,0,0,0,0,0]
[null,null,0,0,0,0,0,0,0,0]
[null,null,0,0,0,0,0,0,0,0]
[null,null,0,0,0,0,0,0,0,0]
[null,null,0,0,0,0,0,0,0,0]
[null,null,0,0]
[null,null,0,0]
[null,null,0,0]

{"sheet":"17cF - stereotypes","index":66,"n_rows":7,"n_cols":14,"rows_kept":7,"cut":false,"hidden":false,"merged":[[1,5,1,12],[2,5,2,6],[2,7,2,8],[2,9,2,10],[2,11,2,13]]}
["Stories where stereotypes are challenged/ supported by gender of rep"]
[]
[null,null,null,null,null,1995,null,2000,null,2005,null,2010]
[null,null,null,null,null,"%F","%M","%F","%M","%F","%M","%F","%M","N"]
[null,null,null,null,"Disagree",0,0,0,0,"n/a","n/a",{"$f":"'17c'!E70","v":0.10626669823803786},{"$f":"'17c'!F70","v":0.1888615248610272},{"$f":"+'17c'!E151+'17c'!F151","v":13}]
[null,null,null,null,"Agree. ",0,0,0,0,"n/a","n/a",{"$f":"'17c'!E71","v":5.3133349119018999E-2},{"$f":"'17c'!F71","v":9.7936017897500796E-2},{"$f":"+'17c'!E152+'17c'!F152","v":7}]
[null,null,null,null,"Neither ",0,0,0,0,"n/a","n/a",{"$f":"'17c'!E72","v":0.80435570752461383},{"$f":"'17c'!F72","v":0.69243206562417026},{"$f":"+'17c'!E153+'17c'!F153","v":62}]

{"sheet":"18a","index":67,"n_rows":205,"n_cols":53,"rows_kept":205,"cut":false,"hidden":true,"merged":[]}
["Sex of news subjects on television, radio & in newspapers"]
[null,null,null,null,null,null,null,null,null,null,null,null,null,null,null,null,null,null,null,null,null,null,null,null,null,null,null,null,null,null,null,null,null,null,null,null,null,null,null,null,null,null,null,null,null,{"$f":"E2","v":0},0,0,0,0,0,0,0]
[null,null,null,null,"Female","Male",null,null,null,null,null,null,null,null,null,null,null,null,null,null,null,null,null,null,null,null,null,null,null,null,null,null,null,null,null,null,null,null,null,null,null,null,null,null,null,"Female","Male",0,0,0,0,0,0]
[null,null,null,null,null,null,null,null,null,null,null,null,null,null,null,null,null,null,null,null,null,null,null,null,null,null,null,null,null,null,null,null,null,null,null,null,null,null,null,null,null,null,null,null,"TOTAL",0,0,0,0,0,0,0,0]
[null,null,"PRINT","Newpaper",0.28410699125379302,0.84484447399154305,null,null,null,null,null,null,null,null,null,null,null,null,null,null,null,null,null,null,null,null,null,null,null,null,null,null,null,null,null,null,null,null,null,null,null,null,null,null,{"$f":"SUM(E5:O5)","v":1.1289514652453361},{"$f":"IF((E5+F5)>0,E5/(E5+F5),0)","v":0.25165562913907269},{"$f":"IF((E5+F5)>0,F5/(E5+F5),0)","v":0.74834437086092731},{"$f":"IF((G5+H5)>0,G5/(G5+H5),0)","v":0},{"$f":"IF((G5+H5)>0,H5/(G5+H5),0)","v":0},{"$f":"IF((I5+J5)>0,I5/(I5+J5),0)","v":0},{"$f":"IF((I5+J5)>0,J5/(I5+J5),0)","v":0},{"$f":"IF((K5+L5)>0,K5/(K5+L5),0)","v":0},{"$f":"IF((K5+L5)>0,L5/(K5+L5),0)","v":0}]
[null,null,"RADIO","Radio",5.4999998770654202E-2,0.189999995753169,null,null,null,null,null,null,null,null,null,null,null,null,null,null,null,null,null,null,null,null,null,null,null,null,null,null,null,null,null,null,null,null,null,null,null,null,null,null,0.24499999452382321,0.2244897959183674,0.77551020408163263,0,0,0,0,0,0]
[null,null,"TELEVISION","Television",0.22950000828132,0.43860001582652303,null,null,null,null,null,null,null,null,null,null,null,null,null,null,null,null,null,null,null,null,null,null,null,null,null,null,null,null,null,null,null,null,null,null,null,null,null,null,0.66810002410784297,0.34351145038167924,0.65648854961832082,0,0,0,0,0,0]
[null,null,null,null,null,null,null,null,null,null,null,null,null,null,null,null,null,null,null,null,null,null,null,null,null,null,null,null,null,null,null,null,null,null,null,null,null,null,null,null,null,null,null,null,0,0,0,0,0,0,0,0,0]
[null,null,null,null,null,null,null,null,null,null,null,null,null,null,null,null,null,null,null,null,null,null,null,null,null,null,null,null,null,null,null,null,null,null,null,null,null,null,null,null,null,null,null,null,0,0,0,0,0,0,0,0,0]
[null,null,null,null,null,null,null,null,null,null,null,null,null,null,null,null,null,null,null,null,null,null,null,null,null,null,null,null,null,null,null,null,null,null,null,null,null,null,null,null,null,null,null,null,0,0,0,0,0,0,0,0,0]
[null,null,null,null,null,null,null,null,null,null,null,null,null,null,null,null,null,null,null,null,null,null,null,null,null,null,null,null,null,null,null,null,null,null,null,null,null,null,null,null,null,null,null,null,0,0,0,0,0,0,0,0,0]
[null,null,null,null,null,null,null,null,null,null,null,null,null,null,null,null,null,null,null,null,null,null,null,null,null,null,null,null,null,null,null,null,null,null,null,null,null,null,null,null,null,null,null,null,0,0,0,0,0,0,0,0,0]
[null,null,null,null,null,null,null,null,null,null,null,null,null,null,null,null,null,null,null,null,null,null,null,null,null,null,null,null,null,null,null,null,null,null,null,null,null,null,null,null,null,null,null,null,0,0,0,0,0,0,0,0,0]
[null,null,null,null,null,null,null,null,null,null,null,null,null,null,null,null,null,null,null,null,null,null,null,null,null,null,null,null,null,null,null,null,null,null,null,null,null,null,null,null,null,null,null,null,0,0,0,0,0,0,0,0,0]
[null,null,null,null,null,null,null,null,null,null,null,null,null,null,null,null,null,null,null,null,null,null,null,null,null,null,null,null,null,null,null,null,null,null,null,null,null,null,null,null,null,null,null,null,0,0,0,0,0,0,0,0,0]
[null,null,null,null,null,null,null,null,null,null,null,null,null,null,null,null,null,null,null,null,null,null,null,null,null,null,null,null,null,null,null,null,null,null,null,null,null,null,null,null,null,null,null,null,0,0,0,0,0,0,0,0,0]
[null,null,null,null,null,null,null,null,null,null,null,null,null,null,null,null,null,null,null,null,null,null,null,null,null,null,null,null,null,null,null,null,null,null,null,null,null,null,null,null,null,null,null,null,0,0,0,0,0,0,0,0,0]
[null,null,null,null,null,null,null,null,null,null,null,null,null,null,null,null,null,null,null,null,null,null,null,null,null,null,null,null,null,null,null,null,null,null,null,null,null,null,null,null,null,null,null,null,0,0,0,0,0,0,0,0,0]
[null,null,null,null,null,null,null,null,null,null,null,null,null,null,null,null,null,null,null,null,null,null,null,null,null,null,null,null,null,null,null,null,null,null,null,null,null,null,null,null,null,null,null,null,0,0,0,0,0,0,0,0,0]
[null,null,null,null,null,null,null,null,null,null,null,null,null,null,null,null,null,null,null,null,null,null,null,null,null,null,null,null,null,null,null,null,null,null,null,null,null,null,null,null,null,null,null,null,0,0,0,0,0,0,0,0,0]
[null,null,null,null,null,null,null,null,null,null,null,null,null,null,null,null,null,null,null,null,null,null,null,null,null,null,null,null,null,null,null,null,null,null,null,null,null,null,null,null,null,null,null,null,0,0,0,0,0,0,0,0,0]
[null,null,null,null,null,null,null,null,null,null,null,null,null,null,null,null,null,null,null,null,null,null,null,null,null,null,null,null,null,null,null,null,null,null,null,null,null,null,null,null,null,null,null,null,0,0,0,0,0,0,0,0,0]
[null,null,null,null,null,null,null,null,null,null,null,null,null,null,null,null,null,null,null,null,null,null,null,null,null,null,null,null,null,null,null,null,null,null,null,null,null,null,null,null,null,null,null,null,0,0,0,0,0,0,0,0,0]
[null,null,null,null,null,null,null,null,null,null,null,null,null,null,null,null,null,null,null,null,null,null,null,null,null,null,null,null,null,null,null,null,null,null,null,null,null,null,null,null,null,null,null,null,0,0,0,0,0,0,0,0,0]
[null,null,null,null,null,null,null,null,null,null,null,null,null,null,null,null,null,null,null,null,null,null,null,null,null,null,null,null,null,null,null,null,null,null,null,null,null,null,null,null,null,null,null,null,0,0,0,0,0,0,0,0,0]
[null,null,null,null,null,null,null,null,null,null,null,null,null,null,null,null,null,null,null,null,null,null,null,null,null,null,null,null,null,null,null,null,null,null,null,null,null,null,null,null,null,null,null,null,0,0,0,0,0,0,0,0,0]
[null,null,null,null,null,null,null,null,null,null,null,null,null,null,null,null,null,null,null,null,null,null,null,null,null,null,null,null,null,null,null,null,null,null,null,null,null,null,null,null,null,null,null,null,0,0,0,0,0,0,0,0,0]
[null,null,null,null,null,null,null,null,null,null,null,null,null,null,null,null,null,null,null,null,null,null,null,null,null,null,null,null,null,null,null,null,null,null,null,null,null,null,null,null,null,null,null,null,0,0,0,0,0,0,0,0,0]
[null,null,null,null,null,null,null,null,null,null,null,null,null,null,null,null,null,null,null,null,null,null,null,null,null,null,null,null,null,null,null,null,null,null,null,null,null,null,null,null,null,null,null,null,0,0,0,0,0,0,0,0,0]
[null,null,null,null,null,null,null,null,null,null,null,null,null,null,null,null,null,null,null,null,null,null,null,null,null,null,null,null,null,null,null,null,null,null,null,null,null,null,null,null,null,null,null,null,0,0,0,0,0,0,0,0,0]
[null,null,null,null,null,null,null,null,null,null,null,null,null,null,null,null,null,null,null,null,null,null,null,null,null,null,null,null,null,null,null,null,null,null,null,null,null,null,null,null,null,null,null,null,0,0,0,0,0,0,0,0,0]
[null,null,null,null,null,null,null,null,null,null,null,null,null,null,null,null,null,null,null,null,null,null,null,null,null,null,null,null,null,null,null,null,null,null,null,null,null,null,null,null,null,null,null,null,0,0,0,0,0,0,0,0,0]
[null,null,null,null,null,null,null,null,null,null,null,null,null,null,null,null,null,null,null,null,null,null,null,null,null,null,null,null,null,null,null,null,null,null,null,null,null,null,null,null,null,null,null,null,0,0,0,0,0,0,0,0,0]
[null,null,null,null,null,null,null,null,null,null,null,null,null,null,null,null,null,null,null,null,null,null,null,null,null,null,null,null,null,null,null,null,null,null,null,null,null,null,null,null,null,null,null,null,0,0,0,0,0,0,0,0,0]
[null,null,null,null,null,null,null,null,null,null,null,null,null,null,null,null,null,null,null,null,null,null,null,null,null,null,null,null,null,null,null,null,null,null,null,null,null,null,null,null,null,null,null,null,0,0,0,0,0,0,0,0,0]
[null,null,null,null,null,null,null,null,null,null,null,null,null,null,null,null,null,null,null,null,null,null,null,null,null,null,null,null,null,null,null,null,null,null,null,null,null,null,null,null,null,null,null,null,0,0,0,0,0,0,0,0,0]
[null,null,null,null,null,null,null,null,null,null,null,null,null,null,null,null,null,null,null,null,null,null,null,null,null,null,null,null,null,null,null,null,null,null,null,null,null,null,null,null,null,null,null,null,{"$f":"SUM(E37:O37)","v":0},{"$f":"IF((E37+F37)>0,E37/(E37+F37),0)","v":0},{"$f":"IF((E37+F37)>0,F37/(E37+F37),0)","v":0},{"$f":"IF((G37+H37)>0,G37/(G37+H37),0)","v":0},{"$f":"IF((G37+H37)>0,H37/(G37+H37),0)","v":0},{"$f":"IF((I37+J37)>0,I37/(I37+J37),0)","v":0},{"$f":"IF((I37+J37)>0,J37/(I37+J37),0)","v":0},{"$f":"IF((K37+L37)>0,K37/(K37+L37),0)","v":0},{"$f":"IF((K37+L37)>0,L37/(K37+L37),0)","v":0}]
[null,null,null,null,null,null,null,null,null,null,null,null,null,null,null,null,null,null,null,null,null,null,null,null,null,null,null,null,null,null,null,null,null,null,null,null,null,null,null,null,null,null,null,null,0,0,0,0,0,0,0,0,0]
[null,null,null,null,null,null,null,null,null,null,null,null,null,null,null,null,null,null,null,null,null,null,null,null,null,null,null,null,null,null,null,null,null,null,null,null,null,null,null,null,null,null,null,null,0,0,0,0,0,0,0,0,0]
[null,null,null,null,null,null,null,null,null,null,null,null,null,null,null,null,null,null,null,null,null,null,null,null,null,null,null,null,null,null,null,null,null,null,null,null,null,null,null,null,null,null,null,null,0,0,0,0,0,0,0,0,0]
[null,null,null,null,null,null,null,null,null,null,null,null,null,null,null,null,null,null,null,null,null,null,null,null,null,null,null,null,null,null,null,null,null,null,null,null,null,null,null,null,null,null,null,null,0,0,0,0,0,0,0,0,0]
[null,null,null,null,null,null,null,null,null,null,null,null,null,null,null,null,null,null,null,null,null,null,null,null,null,null,null,null,null,null,null,null,null,null,null,null,null,null,null,null,null,null,null,null,0,0,0,0,0,0,0,0,0]
[null,null,null,null,null,null,null,null,null,null,null,null,null,null,null,null,null,null,null,null,null,null,null,null,null,null,null,null,null,null,null,null,null,null,null,null,null,null,null,null,null,null,null,null,0,0,0,0,0,0,0,0,0]
[null,null,null,null,null,null,null,null,null,null,null,null,null,null,null,null,null,null,null,null,null,null,null,null,null,null,null,null,null,null,null,null,null,null,null,null,null,null,null,null,null,null,null,null,0,0,0,0,0,0,0,0,0]
[null,null,null,null,null,null,null,null,null,null,null,null,null,null,null,null,null,null,null,null,null,null,null,null,null,null,null,null,null,null,null,null,null,null,null,null,null,null,null,null,null,null,null,null,0,0,0,0,0,0,0,0,0]
[null,null,null,null,null,null,null,null,null,null,null,null,null,null,null,null,null,null,null,null,null,null,null,null,null,null,null,null,null,null,null,null,null,null,null,null,null,null,null,null,null,null,null,null,0,0,0,0,0,0,0,0,0]
[null,null,null,null,null,null,null,null,null,null,null,null,null,null,null,null,null,null,null,null,null,null,null,null,null,null,null,null,null,null,null,null,null,null,null,null,null,null,null,null,null,null,null,null,0,0,0,0,0,0,0,0,0]
[null,null,null,null,null,null,null,null,null,null,null,null,null,null,null,null,null,null,null,null,null,null,null,null,null,null,null,null,null,null,null,null,null,null,null,null,null,null,null,null,null,null,null,null,0,0,0,0,0,0,0,0,0]
[null,null,null,null,null,null,null,null,null,null,null,null,null,null,null,null,null,null,null,null,null,null,null,null,null,null,null,null,null,null,null,null,null,null,null,null,null,null,null,null,null,null,null,null,0,0,0,0,0,0,0,0,0]
[null,null,null,null,null,null,null,null,null,null,null,null,null,null,null,null,null,null,null,null,null,null,null,null,null,null,null,null,null,null,null,null,null,null,null,null,null,null,null,null,null,null,null,null,0,0,0,0,0,0,0,0,0]
[null,null,null,null,null,null,null,null,null,null,null,null,null,null,null,null,null,null,null,null,null,null,null,null,null,null,null,null,null,null,null,null,null,null,null,null,null,null,null,null,null,null,null,null,0,0,0,0,0,0,0,0,0]
[null,null,null,null,null,null,null,null,null,null,null,null,null,null,null,null,null,null,null,null,null,null,null,null,null,null,null,null,null,null,null,null,null,null,null,null,null,null,null,null,null,null,null,null,0,0,0,0,0,0,0,0,0]
[null,null,null,null,null,null,null,null,null,null,null,null,null,null,null,null,null,null,null,null,null,null,null,null,null,null,null,null,null,null,null,null,null,null,null,null,null,null,null,null,null,null,null,null,0,0,0,0,0,0,0,0,0]
[null,null,null,null,null,null,null,null,null,null,null,null,null,null,null,null,null,null,null,null,null,null,null,null,null,null,null,null,null,null,null,null,null,null,null,null,null,null,null,null,null,null,null,null,0,0,0,0,0,0,0,0,0]
[null,null,null,null,null,null,null,null,null,null,null,null,null,null,null,null,null,null,null,null,null,null,null,null,null,null,null,null,null,null,null,null,null,null,null,null,null,null,null,null,null,null,null,null,0,0,0,0,0,0,0,0,0]
[null,null,null,null,null,null,null,null,null,null,null,null,null,null,null,null,null,null,null,null,null,null,null,null,null,null,null,null,null,null,null,null,null,null,null,null,null,null,null,null,null,null,null,null,0,0,0,0,0,0,0,0,0]
[null,null,null,null,null,null,null,null,null,null,null,null,null,null,null,null,null,null,null,null,null,null,null,null,null,null,null,null,null,null,null,null,null,null,null,null,null,null,null,null,null,null,null,null,0,0,0,0,0,0,0,0,0]
[null,null,null,null,null,null,null,null,null,null,null,null,null,null,null,null,null,null,null,null,null,null,null,null,null,null,null,null,null,null,null,null,null,null,null,null,null,null,null,null,null,null,null,null,0,0,0,0,0,0,0,0,0]
[null,null,null,null,null,null,null,null,null,null,null,null,null,null,null,null,null,null,null,null,null,null,null,null,null,null,null,null,null,null,null,null,null,null,null,null,null,null,null,null,null,null,null,null,0,0,0,0,0,0,0,0,0]
[null,null,null,null,null,null,null,null,null,null,null,null,null,null,null,null,null,null,null,null,null,null,null,null,null,null,null,null,null,null,null,null,null,null,null,null,null,null,null,null,null,null,null,null,0,0,0,0,0,0,0,0,0]
[null,null,null,null,null,null,null,null,null,null,null,null,null,null,null,null,null,null,null,null,null,null,null,null,null,null,null,null,null,null,null,null,null,null,null,null,null,null,null,null,null,null,null,null,0,0,0,0,0,0,0,0,0]
[null,null,null,null,null,null,null,null,null,null,null,null,null,null,null,null,null,null,null,null,null,null,null,null,null,null,null,null,null,null,null,null,null,null,null,null,null,null,null,null,null,null,null,null,0,0,0,0,0,0,0,0,0]
[null,null,null,null,null,null,null,null,null,null,null,null,null,null,null,null,null,null,null,null,null,null,null,null,null,null,null,null,null,null,null,null,null,null,null,null,null,null,null,null,null,null,null,null,0,0,0,0,0,0,0,0,0]
[null,null,null,null,null,null,null,null,null,null,null,null,null,null,null,null,null,null,null,null,null,null,null,null,null,null,null,null,null,null,null,null,null,null,null,null,null,null,null,null,null,null,null,null,0,0,0,0,0,0,0,0,0]
[null,null,null,null,null,null,null,null,null,null,null,null,null,null,null,null,null,null,null,null,null,null,null,null,null,null,null,null,null,null,null,null,null,null,null,null,null,null,null,null,null,null,null,null,0,0,0,0,0,0,0,0,0]
[null,null,null,null,null,null,null,null,null,null,null,null,null,null,null,null,null,null,null,null,null,null,null,null,null,null,null,null,null,null,null,null,null,null,null,null,null,null,null,null,null,null,null,null,0,0,0,0,0,0,0,0,0]
[null,null,null,null,null,null,null,null,null,null,null,null,null,null,null,null,null,null,null,null,null,null,null,null,null,null,null,null,null,null,null,null,null,null,null,null,null,null,null,null,null,null,null,null,0,0,0,0,0,0,0,0,0]
[null,null,null,"TOTAL",{"$f":"SUM(E5:E67)","v":0.56860699830576722},1.4734444855712352,0,0,0,0,0,0,0,0,0,0,0,0,0,0,null,null,null,null,null,null,null,null,null,null,null,null,null,null,null,null,null,null,null,null,null,null,null,null,2.0420514838770023,0.27844890434702468,0.72155109565297537,0,0,0,0,0,0]
[]
[null,null,{"$f":"C5","v":"PRINT"},"Newpaper",{"$f":"IF(E$68>0,E5/E$68,0)","v":0.49965440471243566},0.57338059374799444,0,0,0,0,0,0,0,0,0,0,0,0,0,0]
[null,null,"RADIO","Radio",{"$f":"IF(E$68>0,E6/E$68,0)","v":9.672761491598468E-2},0.12894954483440108,0,0,0,0,0,0,0,0,0,0,0,0,0,0]
[null,null,"TELEVISION","Television",{"$f":"IF(E$68>0,E7/E$68,0)","v":0.4036179803715797},0.29766986141760443,0,0,0,0,0,0,0,0,0,0,0,0,0,0]
[null,null,0,0,{"$f":"IF(E$68>0,E8/E$68,0)","v":0},0,0,0,0,0,0,0,0,0,0,0,0,0,0,0]
[null,null,0,0,{"$f":"IF(E$68>0,E9/E$68,0)","v":0},0,0,0,0,0,0,0,0,0,0,0,0,0,0,0]
[null,null,0,0,{"$f":"IF(E$68>0,E10/E$68,0)","v":0},0,0,0,0,0,0,0,0,0,0,0,0,0,0,0]
[null,null,0,0,{"$f":"IF(E$68>0,E11/E$68,0)","v":0},0,0,0,0,0,0,0,0,0,0,0,0,0,0,0]
[null,null,0,0,{"$f":"IF(E$68>0,E12/E$68,0)","v":0},0,0,0,0,0,0,0,0,0,0,0,0,0,0,0]
[null,null,0,0,{"$f":"IF(E$68>0,E13/E$68,0)","v":0},0,0,0,0,0,0,0,0,0,0,0,0,0,0,0]
[null,null,0,0,{"$f":"IF(E$68>0,E14/E$68,0)","v":0},0,0,0,0,0,0,0,0,0,0,0,0,0,0,0]
[null,null,0,0,{"$f":"IF(E$68>0,E15/E$68,0)","v":0},0,0,0,0,0,0,0,0,0,0,0,0,0,0,0]
[null,null,0,0,{"$f":"IF(E$68>0,E16/E$68,0)","v":0},0,0,0,0,0,0,0,0,0,0,0,0,0,0,0]
[null,null,0,0,{"$f":"IF(E$68>0,E17/E$68,0)","v":0},0,0,0,0,0,0,0,0,0,0,0,0,0,0,0]
[null,null,0,0,{"$f":"IF(E$68>0,E18/E$68,0)","v":0},0,0,0,0,0,0,0,0,0,0,0,0,0,0,0]
[null,null,0,0,{"$f":"IF(E$68>0,E19/E$68,0)","v":0},0,0,0,0,0,0,0,0,0,0,0,0,0,0,0]
[null,null,0,0,{"$f":"IF(E$68>0,E20/E$68,0)","v":0},0,0,0,0,0,0,0,0,0,0,0,0,0,0,0]
[null,null,0,0,{"$f":"IF(E$68>0,E21/E$68,0)","v":0},0,0,0,0,0,0,0,0,0,0,0,0,0,0,0]
[null,null,0,0,{"$f":"IF(E$68>0,E22/E$68,0)","v":0},0,0,0,0,0,0,0,0,0,0,0,0,0,0,0]
[null,null,0,0,{"$f":"IF(E$68>0,E23/E$68,0)","v":0},0,0,0,0,0,0,0,0,0,0,0,0,0,0,0]
[null,null,0,0,{"$f":"IF(E$68>0,E24/E$68,0)","v":0},0,0,0,0,0,0,0,0,0,0,0,0,0,0,0]
[null,null,{"$f":"C25","v":0},0,{"$f":"IF(E$68>0,E25/E$68,0)","v":0},0,0,0,0,0,0,0,0,0,0,0,0,0,0,0]
[null,null,0,0,{"$f":"IF(E$68>0,E26/E$68,0)","v":0},0,0,0,0,0,0,0,0,0,0,0,0,0,0,0]
[null,null,0,0,{"$f":"IF(E$68>0,E27/E$68,0)","v":0},0,0,0,0,0,0,0,0,0,0,0,0,0,0,0]
[null,null,0,0,{"$f":"IF(E$68>0,E28/E$68,0)","v":0},0,0,0,0,0,0,0,0,0,0,0,0,0,0,0]
[null,null,0,0,{"$f":"IF(E$68>0,E29/E$68,0)","v":0},0,0,0,0,0,0,0,0,0,0,0,0,0,0,0]
[null,null,0,0,{"$f":"IF(E$68>0,E30/E$68,0)","v":0},0,0,0,0,0,0,0,0,0,0,0,0,0,0,0]
[null,null,0,0,{"$f":"IF(E$68>0,E31/E$68,0)","v":0},0,0,0,0,0,0,0,0,0,0,0,0,0,0,0]
[null,null,0,0,{"$f":"IF(E$68>0,E32/E$68,0)","v":0},0,0,0,0,0,0,0,0,0,0,0,0,0,0,0]
[null,null,0,0,{"$f":"IF(E$68>0,E33/E$68,0)","v":0},0,0,0,0,0,0,0,0,0,0,0,0,0,0,0]
[null,null,0,0,{"$f":"IF(E$68>0,E34/E$68,0)","v":0},0,0,0,0,0,0,0,0,0,0,0,0,0,0,0]
[null,null,0,0,{"$f":"IF(E$68>0,E35/E$68,0)","v":0},0,0,0,0,0,0,0,0,0,0,0,0,0,0,0]
[null,null,0,0,{"$f":"IF(E$68>0,E36/E$68,0)","v":0},0,0,0,0,0,0,0,0,0,0,0,0,0,0,0]
[null,null,0,0,{"$f":"IF(E$68>0,E37/E$68,0)","v":0},0,0,0,0,0,0,0,0,0,0,0,0,0,0,0]
[null,null,0,0,{"$f":"IF(E$68>0,E38/E$68,0)","v":0},0,0,0,0,0,0,0,0,0,0,0,0,0,0,0]
[null,null,0,0,{"$f":"IF(E$68>0,E39/E$68,0)","v":0},0,0,0,0,0,0,0,0,0,0,0,0,0,0,0]
[null,null,0,0,{"$f":"IF(E$68>0,E40/E$68,0)","v":0},0,0,0,0,0,0,0,0,0,0,0,0,0,0,0]
[null,null,0,0,{"$f":"IF(E$68>0,E41/E$68,0)","v":0},0,0,0,0,0,0,0,0,0,0,0,0,0,0,0]
[null,null,0,0,{"$f":"IF(E$68>0,E42/E$68,0)","v":0},0,0,0,0,0,0,0,0,0,0,0,0,0,0,0]
[null,null,0,0,{"$f":"IF(E$68>0,E43/E$68,0)","v":0},0,0,0,0,0,0,0,0,0,0,0,0,0,0,0]
[null,null,0,0,{"$f":"IF(E$68>0,E44/E$68,0)","v":0},0,0,0,0,0,0,0,0,0,0,0,0,0,0,0]
[null,null,{"$f":"C45","v":0},0,{"$f":"IF(E$68>0,E45/E$68,0)","v":0},0,0,0,0,0,0,0,0,0,0,0,0,0,0,0]
[null,null,0,0,{"$f":"IF(E$68>0,E46/E$68,0)","v":0},0,0,0,0,0,0,0,0,0,0,0,0,0,0,0]
[null,null,0,0,{"$f":"IF(E$68>0,E47/E$68,0)","v":0},0,0,0,0,0,0,0,0,0,0,0,0,0,0,0]
[null,null,0,0,{"$f":"IF(E$68>0,E48/E$68,0)","v":0},0,0,0,0,0,0,0,0,0,0,0,0,0,0,0]
[null,null,0,0,{"$f":"IF(E$68>0,E49/E$68,0)","v":0},0,0,0,0,0,0,0,0,0,0,0,0,0,0,0]
[null,null,0,0,{"$f":"IF(E$68>0,E50/E$68,0)","v":0},0,0,0,0,0,0,0,0,0,0,0,0,0,0,0]
[null,null,0,0,{"$f":"IF(E$68>0,E51/E$68,0)","v":0},0,0,0,0,0,0,0,0,0,0,0,0,0,0,0]
[null,null,0,0,{"$f":"IF(E$68>0,E52/E$68,0)","v":0},0,0,0,0,0,0,0,0,0,0,0,0,0,0,0]
[null,null,0,0,{"$f":"IF(E$68>0,E53/E$68,0)","v":0},0,0,0,0,0,0,0,0,0,0,0,0,0,0,0]
[null,null,0,0,{"$f":"IF(E$68>0,E54/E$68,0)","v":0},0,0,0,0,0,0,0,0,0,0,0,0,0,0,0]
[null,null,0,0,{"$f":"IF(E$68>0,E55/E$68,0)","v":0},0,0,0,0,0,0,0,0,0,0,0,0,0,0,0]
[null,null,0,0,{"$f":"IF(E$68>0,E56/E$68,0)","v":0},0,0,0,0,0,0,0,0,0,0,0,0,0,0,0]
[null,null,0,0,{"$f":"IF(E$68>0,E57/E$68,0)","v":0},0,0,0,0,0,0,0,0,0,0,0,0,0,0,0]
[null,null,0,0,{"$f":"IF(E$68>0,E58/E$68,0)","v":0},0,0,0,0,0,0,0,0,0,0,0,0,0,0,0]
[null,null,0,0,{"$f":"IF(E$68>0,E59/E$68,0)","v":0},0,0,0,0,0,0,0,0,0,0,0,0,0,0,0]
[null,null,0,0,{"$f":"IF(E$68>0,E60/E$68,0)","v":0},0,0,0,0,0,0,0,0,0,0,0,0,0,0,0]
[null,null,0,0,{"$f":"IF(E$68>0,E61/E$68,0)","v":0},0,0,0,0,0,0,0,0,0,0,0,0,0,0,0]
[null,null,0,0,{"$f":"IF(E$68>0,E62/E$68,0)","v":0},0,0,0,0,0,0,0,0,0,0,0,0,0,0,0]
[]
[]
[]
[]
[]
[]
[]
[]
[]
[]
[]
[]
[]
[]
[]
[]
[]
[]
[]
[]
["COUNT"]
[null,null,null,null,{"$f":"E3","v":"Female"},"Male",0,0,0,0,0,0,0,0,0,0,0,0,0,0]
[null,null,null,null,{"$f":"E4","v":0},0,0,0,0,0,0,0,0,0,0,0,0,0,0,0]
[null,null,{"$f":"C5","v":"PRINT"},"Newpaper",38,113,0,0,0,0]
[null,null,"RADIO","Radio",11,38,0,0,0,0]
[null,null,"TELEVISION","Television",45,86,0,0,0,0]
[null,null,0,0,0,0,0,0,0,0]
[null,null,0,0,0,0,0,0,0,0]
[null,null,0,0,0,0,0,0,0,0]
[null,null,0,0,0,0,0,0,0,0]
[null,null,0,0,0,0,0,0,0,0]
[null,null,0,0,0,0,0,0,0,0]
[null,null,0,0,0,0,0,0,0,0]
[null,null,0,0,0,0,0,0,0,0]
[null,null,0,0,0,0,0,0,0,0]
[null,null,0,0,0,0,0,0,0,0]
[null,null,0,0,0,0,0,0,0,0]
[null,null,0,0,0,0,0,0,0,0]
[null,null,0,0,0,0,0,0,0,0]
[null,null,0,0,0,0,0,0,0,0]
[null,null,0,0,0,0,0,0,0,0]
[null,null,0,0,0,0,0,0,0,0]
[null,null,0,0,0,0,0,0,0,0]
[null,null,{"$f":"C25","v":0},0,0,0,0,0,0,0]
[null,null,0,0,0,0,0,0,0,0]
[null,null,0,0,0,0,0,0,0,0]
[null,null,0,0,0,0,0,0,0,0]
[null,null,0,0,0,0,0,0,0,0]
[null,null,0,0,0,0,0,0,0,0]
[null,null,0,0,0,0,0,0,0,0]
[null,null,0,0,0,0,0,0,0,0]
[null,null,0,0,0,0,0,0,0,0]
[null,null,0,0,0,0,0,0,0,0]
[null,null,0,0,0,0,0,0,0,0]
[null,null,0,0,0,0,0,0,0,0]
[null,null,0,0,0,0,0,0,0,0]
[null,null,0,0,0,0,0,0,0,0]
[null,null,0,0,0,0,0,0,0,0]
[null,null,0,0,0,0,0,0,0,0]
[null,null,0,0,0,0,0,0,0,0]
[null,null,0,0,0,0,0,0,0,0]
[null,null,0,0,0,0,0,0,0,0]
[null,null,0,0,0,0,0,0,0,0]
[null,null,{"$f":"C45","v":0},0,0,0,0,0,0,0]
[null,null,0,0,0,0,0,0,0,0]
[null,null,0,0,0,0,0,0,0,0]
[null,null,0,0,0,0,0,0,0,0]
[null,null,0,0,0,0,0,0,0,0]
[null,null,0,0,0,0,0,0,0,0]
[null,null,0,0,0,0,0,0,0,0]
[null,null,0,0,0,0,0,0,0,0]
[null,null,0,0,0,0,0,0,0,0]
[null,null,0,0,0,0,0,0,0,0]
[null,null,0,0,0,0,0,0,0,0]
[null,null,0,0,0,0,0,0,0,0]
[null,null,0,0]
[null,null,0,0]
[null,null,0,0]

{"sheet":"18aF - News Subject Sex","index":68,"n_rows":7,"n_cols":14,"rows_kept":7,"cut":false,"hidden":true,"merged":[[1,5,1,12],[2,5,2,6],[2,7,2,8],[2,9,2,10],[2,11,2,13]]}
[{"$f":"'18a'!$A$1","v":"Sex of news subjects on television, radio & in newspapers"}]
[]
[null,null,null,null,null,1995,null,2000,null,2005,null,2010]
[null,null,null,null,"Media Type","%F","%M","%F","%M","%F","%M","%F","%M","N"]
[null,null,null,null,{"$f":"'18a'!D5","v":"Newpaper"},0.16,{"$f":"1-F5","v":0.84},0.17,{"$f":"1-H5","v":0.83},0.21,{"$f":"1-J5","v":0.79},{"$f":"'18a'!AT5","v":0.25165562913907269},{"$f":"'18a'!AU5","v":0.74834437086092731},{"$f":"'18a'!E151","v":38}]
[null,null,null,null,{"$f":"'18a'!D6","v":"Radio"},0.15,{"$f":"1-F6","v":0.85},0.13,0.87,0.17,{"$f":"1-J6","v":0.83},{"$f":"'18a'!AT6","v":0.2244897959183674},{"$f":"'18a'!AU6","v":0.77551020408163263},{"$f":"'18a'!E152","v":11}]
[null,null,null,null,{"$f":"'18a'!D7","v":"Television"},0.21,0.79,0.22,0.78,0.22,{"$f":"1-J7","v":0.78},{"$f":"'18a'!AT7","v":0.34351145038167924},{"$f":"'18a'!AU7","v":0.65648854961832082},{"$f":"'18a'!E153","v":45}]

{"sheet":"18b","index":69,"n_rows":205,"n_cols":53,"rows_kept":205,"cut":false,"hidden":true,"merged":[]}
["Position or Occupation of News Subjects, by sex"]
[null,null,null,null,null,null,null,null,null,null,null,null,null,null,null,null,null,null,null,null,null,null,null,null,null,null,null,null,null,null,null,null,null,null,null,null,null,null,null,null,null,null,null,null,null,{"$f":"E2","v":0},0,0,0,0,0,0,0]
[null,null,null,null,"Female","Male",null,null,null,null,null,null,null,null,null,null,null,null,null,null,null,null,null,null,null,null,null,null,null,null,null,null,null,null,null,null,null,null,null,null,null,null,null,null,null,"Female","Male",0,0,0,0,0,0]
[null,null,null,null,null,null,null,null,null,null,null,null,null,null,null,null,null,null,null,null,null,null,null,null,null,null,null,null,null,null,null,null,null,null,null,null,null,null,null,null,null,null,null,null,"TOTAL",0,0,0,0,0,0,0,0]
[null,null,0,"Not stated. Story does not describe the person’s occupation or position.",5.7929500006139299E-2,4.25294991582632E-2,null,null,null,null,null,null,null,null,null,null,null,null,null,null,null,null,null,null,null,null,null,null,null,null,null,null,null,null,null,null,null,null,null,null,null,null,null,null,{"$f":"SUM(E5:O5)","v":0.1004589991644025},{"$f":"IF((E5+F5)>0,E5/(E5+F5),0)","v":0.57664818968917753},{"$f":"IF((E5+F5)>0,F5/(E5+F5),0)","v":0.42335181031082247},{"$f":"IF((G5+H5)>0,G5/(G5+H5),0)","v":0},{"$f":"IF((G5+H5)>0,H5/(G5+H5),0)","v":0},{"$f":"IF((I5+J5)>0,I5/(I5+J5),0)","v":0},{"$f":"IF((I5+J5)>0,J5/(I5+J5),0)","v":0},{"$f":"IF((K5+L5)>0,K5/(K5+L5),0)","v":0},{"$f":"IF((K5+L5)>0,L5/(K5+L5),0)","v":0}]
[null,null,1,"Royalty, ruling monarch, deposed monarch, any member of royal family …",null,null,null,null,null,null,null,null,null,null,null,null,null,null,null,null,null,null,null,null,null,null,null,null,null,null,null,null,null,null,null,null,null,null,null,null,null,null,null,null,0,0,0,0,0,0,0,0,0]
[null,null,2,"Government official, politician, president, government minister, political leader, political party staff, spokesperson …",0.190376996994019,0.57885449146851897,null,null,null,null,null,null,null,null,null,null,null,null,null,null,null,null,null,null,null,null,null,null,null,null,null,null,null,null,null,null,null,null,null,null,null,null,null,null,0.76923148846253797,0.24748986468887962,0.75251013531112032,0,0,0,0,0,0]
[null,null,3,"Government employee, public servant, bureaucrat, diplomat, intelligence officer …",5.1000001840293399E-3,1.2576499953866E-2,null,null,null,null,null,null,null,null,null,null,null,null,null,null,null,null,null,null,null,null,null,null,null,null,null,null,null,null,null,null,null,null,null,null,null,null,null,null,1.7676500137895339E-2,0.28851866287126754,0.71148133712873252,0,0,0,0,0,0]
[null,null,4,"Police, military, para-military group, militia, prison officer, security officer, fire officer …",7.4764997698366599E-3,3.762949956581E-2,null,null,null,null,null,null,null,null,null,null,null,null,null,null,null,null,null,null,null,null,null,null,null,null,null,null,null,null,null,null,null,null,null,null,null,null,null,null,4.5105999335646657E-2,0.16575399902354196,0.83424600097645807,0,0,0,0,0,0]
[null,null,5,"Academic expert, education professional, teacher or university lecturer (all disciplines), nursery or kindergarten teacher, child care worker  …",2.7529499493539299E-2,4.7582499217242002E-2,null,null,null,null,null,null,null,null,null,null,null,null,null,null,null,null,null,null,null,null,null,null,null,null,null,null,null,null,null,null,null,null,null,null,null,null,null,null,7.5111998710781308E-2,0.36651267395428544,0.63348732604571445,0,0,0,0,0,0]
[null,null,6,"Health or social service professional, doctor, nurse, laboratory technician, social worker, psychologist …",2.0300000440329299E-2,3.04000005125999E-2,null,null,null,null,null,null,null,null,null,null,null,null,null,null,null,null,null,null,null,null,null,null,null,null,null,null,null,null,null,null,null,null,null,null,null,null,null,null,5.0700000952929203E-2,0.40039447847695675,0.59960552152304314,0,0,0,0,0,0]
[null,null,7,"Science or technology professional, engineer, technician, computer specialist …",null,7.9864997882395997E-2,null,null,null,null,null,null,null,null,null,null,null,null,null,null,null,null,null,null,null,null,null,null,null,null,null,null,null,null,null,null,null,null,null,null,null,null,null,null,7.9864997882395997E-2,0,1,0,0,0,0,0,0]
[null,null,8,"Media professional, journalist, video or film-maker, theatre director ...",5.1000001840293399E-3,1.2576499953866E-2,null,null,null,null,null,null,null,null,null,null,null,null,null,null,null,null,null,null,null,null,null,null,null,null,null,null,null,null,null,null,null,null,null,null,null,null,null,null,1.7676500137895339E-2,0.28851866287126754,0.71148133712873252,0,0,0,0,0,0]
[null,null,9,"Lawyer, judge, magistrate, legal advocate, legal expert, legal clerk …",2.55000009201467E-2,6.2929499894380597E-2,null,null,null,null,null,null,null,null,null,null,null,null,null,null,null,null,null,null,null,null,null,null,null,null,null,null,null,null,null,null,null,null,null,null,null,null,null,null,8.8429500814527301E-2,0.28836531570646989,0.71163468429353005,0,0,0,0,0,0]
[null,null,10,"Business person, executive, manager, entrepreneur, economist, financial expert, stock broker …",null,2.5400000624358699E-2,null,null,null,null,null,null,null,null,null,null,null,null,null,null,null,null,null,null,null,null,null,null,null,null,null,null,null,null,null,null,null,null,null,null,null,null,null,null,2.5400000624358699E-2,0,1,0,0,0,0,0,0]
[null,null,11,"Office or service worker, non-management worker in office, store, restaurant, catering …",5.1000001840293399E-3,4.9999998882412902E-3,null,null,null,null,null,null,null,null,null,null,null,null,null,null,null,null,null,null,null,null,null,null,null,null,null,null,null,null,null,null,null,null,null,null,null,null,null,null,1.010000007227063E-2,0.50495050965705435,0.49504949034294571,0,0,0,0,0,0]
[null,null,12,"Tradesperson, artisan, labourer, truck driver, construction, factory, domestic worker …",7.4764997698366599E-3,2.5052999611943998E-2,null,null,null,null,null,null,null,null,null,null,null,null,null,null,null,null,null,null,null,null,null,null,null,null,null,null,null,null,null,null,null,null,null,null,null,null,null,null,3.2529499381780659E-2,0.229837529378769,0.770162470621231,0,0,0,0,0,0]
[null,null,13,"Agriculture, mining, fishing, forestry worker …",null,null,null,null,null,null,null,null,null,null,null,null,null,null,null,null,null,null,null,null,null,null,null,null,null,null,null,null,null,null,null,null,null,null,null,null,null,null,null,null,0,0,0,0,0,0,0,0,0]
[null,null,14,"Religious figure, priest, monk, rabbi, mullah, nun …",null,7.4764997698366599E-3,null,null,null,null,null,null,null,null,null,null,null,null,null,null,null,null,null,null,null,null,null,null,null,null,null,null,null,null,null,null,null,null,null,null,null,null,null,null,7.4764997698366599E-3,0,1,0,0,0,0,0,0]
[null,null,15,"Activist or worker in civil society organisation, non-governmental organisation, trade union, human rights, consumer issues, environment, aid agency, peasant leader, United Nations …",2.00529997237027E-2,5.56000005453825E-2,null,null,null,null,null,null,null,null,null,null,null,null,null,null,null,null,null,null,null,null,null,null,null,null,null,null,null,null,null,null,null,null,null,null,null,null,null,null,7.5653000269085197E-2,0.26506549181628619,0.73493450818371386,0,0,0,0,0,0]
[null,null,16,"Sex worker, prostitute …",null,null,null,null,null,null,null,null,null,null,null,null,null,null,null,null,null,null,null,null,null,null,null,null,null,null,null,null,null,null,null,null,null,null,null,null,null,null,null,null,0,0,0,0,0,0,0,0,0]
[null,null,17,"Celebrity, artist, actor, writer, singer, radio or television personality …",4.2729499749839299E-2,0.14997099665924901,null,null,null,null,null,null,null,null,null,null,null,null,null,null,null,null,null,null,null,null,null,null,null,null,null,null,null,null,null,null,null,null,null,null,null,null,null,null,0.19270049640908832,0.22174047574391226,0.77825952425608769,0,0,0,0,0,0]
[null,null,18,"Sportsperson, athlete, player, coach, referee …",5.1000001840293399E-3,0.112394497264177,null,null,null,null,null,null,null,null,null,null,null,null,null,null,null,null,null,null,null,null,null,null,null,null,null,null,null,null,null,null,null,null,null,null,null,null,null,null,0.11749449744820634,4.3406289611796593E-2,0.9565937103882034,0,0,0,0,0,0]
[null,null,19,"Student, pupil, schoolchild",1.2576499953866E-2,null,null,null,null,null,null,null,null,null,null,null,null,null,null,null,null,null,null,null,null,null,null,null,null,null,null,null,null,null,null,null,null,null,null,null,null,null,null,null,1.2576499953866E-2,1,0,0,0,0,0,0,0]
[null,null,20,"Homemaker, parent, either female or male. Code this only if no other occupation is given, e.g. a doctor who is also described as a mother is coded 6.",2.7776500210165998E-2,5.1000001840293399E-3,null,null,null,null,null,null,null,null,null,null,null,null,null,null,null,null,null,null,null,null,null,null,null,null,null,null,null,null,null,null,null,null,null,null,null,null,null,null,3.2876500394195339E-2,0.84487399440696564,0.15512600559303427,0,0,0,0,0,0]
[null,null,21,"Child, young person (up to 18 years). Code this only if no other occupation/position is given, e.g. a schoolchild is coded 19; a child labourer is coded 12.",5.1000001840293399E-3,2.55000009201467E-2,null,null,null,null,null,null,null,null,null,null,null,null,null,null,null,null,null,null,null,null,null,null,null,null,null,null,null,null,null,null,null,null,null,null,null,null,null,null,3.0600001104176041E-2,0.16666666666666666,0.83333333333333326,0,0,0,0,0,0]
[null,null,22,"Villager or resident engaged in unspecified occupation. Code this only if no other occupation is given, e.g. a teacher who is also described as a villager is coded 5.",5.80295003019273E-2,2.7876500505953999E-2,null,null,null,null,null,null,null,null,null,null,null,null,null,null,null,null,null,null,null,null,null,null,null,null,null,null,null,null,null,null,null,null,null,null,null,null,null,null,8.59060008078813E-2,0.67549996224016384,0.32450003775983616,0,0,0,0,0,0]
[null,null,23,"Retired person, pensioner. Code this only if no other occupation is given, e.g. a retired police officer is coded 4; a retired politician is coded 2.",3.2876500394195297E-2,1.5300000552088E-2,null,null,null,null,null,null,null,null,null,null,null,null,null,null,null,null,null,null,null,null,null,null,null,null,null,null,null,null,null,null,null,null,null,null,null,null,null,null,4.8176500946283299E-2,0.68241777107998214,0.31758222892001786,0,0,0,0,0,0]
[null,null,24,"Criminal, suspect. Code this only if no other occupation is given, e.g, a lawyer suspected of committing a crime is coded 9; a former politician who has committed a crime is coded 2.",7.4764997698366599E-3,6.0453000012785203E-2,null,null,null,null,null,null,null,null,null,null,null,null,null,null,null,null,null,null,null,null,null,null,null,null,null,null,null,null,null,null,null,null,null,null,null,null,null,null,6.7929499782621861E-2,0.11006263543470614,0.88993736456529393,0,0,0,0,0,0]
[null,null,25,"Unemployed. Code this only if no other occupation is given, e.g. an unemployed actor is coded 17; an unemployed person who commits a crime is coded 24.",4.9999998882412902E-3,null,null,null,null,null,null,null,null,null,null,null,null,null,null,null,null,null,null,null,null,null,null,null,null,null,null,null,null,null,null,null,null,null,null,null,null,null,null,null,4.9999998882412902E-3,1,0,0,0,0,0,0,0]
[null,null,26,"Other. Use only as a last resort (specify the occupation/position in 'Comments' section of coding sheet)",null,5.3376501426100703E-2,null,null,null,null,null,null,null,null,null,null,null,null,null,null,null,null,null,null,null,null,null,null,null,null,null,null,null,null,null,null,null,null,null,null,null,null,null,null,5.3376501426100703E-2,0,1,0,0,0,0,0,0]
[null,null,27,"NA – Use this where you are coding a secondary source only",null,null,null,null,null,null,null,null,null,null,null,null,null,null,null,null,null,null,null,null,null,null,null,null,null,null,null,null,null,null,null,null,null,null,null,null,null,null,null,null,0,0,0,0,0,0,0,0,0]
[null,null,null,null,null,null,null,null,null,null,null,null,null,null,null,null,null,null,null,null,null,null,null,null,null,null,null,null,null,null,null,null,null,null,null,null,null,null,null,null,null,null,null,null,0,0,0,0,0,0,0,0,0]
[null,null,null,null,null,null,null,null,null,null,null,null,null,null,null,null,null,null,null,null,null,null,null,null,null,null,null,null,null,null,null,null,null,null,null,null,null,null,null,null,null,null,null,null,0,0,0,0,0,0,0,0,0]
[null,null,null,null,null,null,null,null,null,null,null,null,null,null,null,null,null,null,null,null,null,null,null,null,null,null,null,null,null,null,null,null,null,null,null,null,null,null,null,null,null,null,null,null,0,0,0,0,0,0,0,0,0]
[null,null,null,null,null,null,null,null,null,null,null,null,null,null,null,null,null,null,null,null,null,null,null,null,null,null,null,null,null,null,null,null,null,null,null,null,null,null,null,null,null,null,null,null,0,0,0,0,0,0,0,0,0]
[null,null,null,null,null,null,null,null,null,null,null,null,null,null,null,null,null,null,null,null,null,null,null,null,null,null,null,null,null,null,null,null,null,null,null,null,null,null,null,null,null,null,null,null,{"$f":"SUM(E37:O37)","v":0},{"$f":"IF((E37+F37)>0,E37/(E37+F37),0)","v":0},{"$f":"IF((E37+F37)>0,F37/(E37+F37),0)","v":0},{"$f":"IF((G37+H37)>0,G37/(G37+H37),0)","v":0},{"$f":"IF((G37+H37)>0,H37/(G37+H37),0)","v":0},{"$f":"IF((I37+J37)>0,I37/(I37+J37),0)","v":0},{"$f":"IF((I37+J37)>0,J37/(I37+J37),0)","v":0},{"$f":"IF((K37+L37)>0,K37/(K37+L37),0)","v":0},{"$f":"IF((K37+L37)>0,L37/(K37+L37),0)","v":0}]
[null,null,null,null,null,null,null,null,null,null,null,null,null,null,null,null,null,null,null,null,null,null,null,null,null,null,null,null,null,null,null,null,null,null,null,null,null,null,null,null,null,null,null,null,0,0,0,0,0,0,0,0,0]
[null,null,null,null,null,null,null,null,null,null,null,null,null,null,null,null,null,null,null,null,null,null,null,null,null,null,null,null,null,null,null,null,null,null,null,null,null,null,null,null,null,null,null,null,0,0,0,0,0,0,0,0,0]
[null,null,null,null,null,null,null,null,null,null,null,null,null,null,null,null,null,null,null,null,null,null,null,null,null,null,null,null,null,null,null,null,null,null,null,null,null,null,null,null,null,null,null,null,0,0,0,0,0,0,0,0,0]
[null,null,null,null,null,null,null,null,null,null,null,null,null,null,null,null,null,null,null,null,null,null,null,null,null,null,null,null,null,null,null,null,null,null,null,null,null,null,null,null,null,null,null,null,0,0,0,0,0,0,0,0,0]
[null,null,null,null,null,null,null,null,null,null,null,null,null,null,null,null,null,null,null,null,null,null,null,null,null,null,null,null,null,null,null,null,null,null,null,null,null,null,null,null,null,null,null,null,0,0,0,0,0,0,0,0,0]
[null,null,null,null,null,null,null,null,null,null,null,null,null,null,null,null,null,null,null,null,null,null,null,null,null,null,null,null,null,null,null,null,null,null,null,null,null,null,null,null,null,null,null,null,0,0,0,0,0,0,0,0,0]
[null,null,null,null,null,null,null,null,null,null,null,null,null,null,null,null,null,null,null,null,null,null,null,null,null,null,null,null,null,null,null,null,null,null,null,null,null,null,null,null,null,null,null,null,0,0,0,0,0,0,0,0,0]
[null,null,null,null,null,null,null,null,null,null,null,null,null,null,null,null,null,null,null,null,null,null,null,null,null,null,null,null,null,null,null,null,null,null,null,null,null,null,null,null,null,null,null,null,0,0,0,0,0,0,0,0,0]
[null,null,null,null,null,null,null,null,null,null,null,null,null,null,null,null,null,null,null,null,null,null,null,null,null,null,null,null,null,null,null,null,null,null,null,null,null,null,null,null,null,null,null,null,0,0,0,0,0,0,0,0,0]
[null,null,null,null,null,null,null,null,null,null,null,null,null,null,null,null,null,null,null,null,null,null,null,null,null,null,null,null,null,null,null,null,null,null,null,null,null,null,null,null,null,null,null,null,0,0,0,0,0,0,0,0,0]
[null,null,null,null,null,null,null,null,null,null,null,null,null,null,null,null,null,null,null,null,null,null,null,null,null,null,null,null,null,null,null,null,null,null,null,null,null,null,null,null,null,null,null,null,0,0,0,0,0,0,0,0,0]
[null,null,null,null,null,null,null,null,null,null,null,null,null,null,null,null,null,null,null,null,null,null,null,null,null,null,null,null,null,null,null,null,null,null,null,null,null,null,null,null,null,null,null,null,0,0,0,0,0,0,0,0,0]
[null,null,null,null,null,null,null,null,null,null,null,null,null,null,null,null,null,null,null,null,null,null,null,null,null,null,null,null,null,null,null,null,null,null,null,null,null,null,null,null,null,null,null,null,0,0,0,0,0,0,0,0,0]
[null,null,null,null,null,null,null,null,null,null,null,null,null,null,null,null,null,null,null,null,null,null,null,null,null,null,null,null,null,null,null,null,null,null,null,null,null,null,null,null,null,null,null,null,0,0,0,0,0,0,0,0,0]
[null,null,null,null,null,null,null,null,null,null,null,null,null,null,null,null,null,null,null,null,null,null,null,null,null,null,null,null,null,null,null,null,null,null,null,null,null,null,null,null,null,null,null,null,0,0,0,0,0,0,0,0,0]
[null,null,null,null,null,null,null,null,null,null,null,null,null,null,null,null,null,null,null,null,null,null,null,null,null,null,null,null,null,null,null,null,null,null,null,null,null,null,null,null,null,null,null,null,0,0,0,0,0,0,0,0,0]
[null,null,null,null,null,null,null,null,null,null,null,null,null,null,null,null,null,null,null,null,null,null,null,null,null,null,null,null,null,null,null,null,null,null,null,null,null,null,null,null,null,null,null,null,0,0,0,0,0,0,0,0,0]
[null,null,null,null,null,null,null,null,null,null,null,null,null,null,null,null,null,null,null,null,null,null,null,null,null,null,null,null,null,null,null,null,null,null,null,null,null,null,null,null,null,null,null,null,0,0,0,0,0,0,0,0,0]
[null,null,null,null,null,null,null,null,null,null,null,null,null,null,null,null,null,null,null,null,null,null,null,null,null,null,null,null,null,null,null,null,null,null,null,null,null,null,null,null,null,null,null,null,0,0,0,0,0,0,0,0,0]
[null,null,null,null,null,null,null,null,null,null,null,null,null,null,null,null,null,null,null,null,null,null,null,null,null,null,null,null,null,null,null,null,null,null,null,null,null,null,null,null,null,null,null,null,0,0,0,0,0,0,0,0,0]
[null,null,null,null,null,null,null,null,null,null,null,null,null,null,null,null,null,null,null,null,null,null,null,null,null,null,null,null,null,null,null,null,null,null,null,null,null,null,null,null,null,null,null,null,0,0,0,0,0,0,0,0,0]
[null,null,null,null,null,null,null,null,null,null,null,null,null,null,null,null,null,null,null,null,null,null,null,null,null,null,null,null,null,null,null,null,null,null,null,null,null,null,null,null,null,null,null,null,{"$f":"SUM(E59:O59)","v":0},{"$f":"IF((E59+F59)>0,E59/(E59+F59),0)","v":0},{"$f":"IF((E59+F59)>0,F59/(E59+F59),0)","v":0},0,0,0,0,0,0]
[null,null,null,null,null,null,null,null,null,null,null,null,null,null,null,null,null,null,null,null,null,null,null,null,null,null,null,null,null,null,null,null,null,null,null,null,null,null,null,null,null,null,null,null,0,0,0,0,0,0,0,0,0]
[null,null,null,null,null,null,null,null,null,null,null,null,null,null,null,null,null,null,null,null,null,null,null,null,null,null,null,null,null,null,null,null,null,null,null,null,null,null,null,null,null,null,null,null,0,0,0,0,0,0,0,0,0]
[null,null,null,null,null,null,null,null,null,null,null,null,null,null,null,null,null,null,null,null,null,null,null,null,null,null,null,null,null,null,null,null,null,null,null,null,null,null,null,null,null,null,null,null,0,0,0,0,0,0,0,0,0]
[null,null,null,null,null,null,null,null,null,null,null,null,null,null,null,null,null,null,null,null,null,null,null,null,null,null,null,null,null,null,null,null,null,null,null,null,null,null,null,null,null,null,null,null,0,0,0,0,0,0,0,0,0]
[null,null,null,null,null,null,null,null,null,null,null,null,null,null,null,null,null,null,null,null,null,null,null,null,null,null,null,null,null,null,null,null,null,null,null,null,null,null,null,null,null,null,null,null,0,0,0,0,0,0,0,0,0]
[null,null,null,null,null,null,null,null,null,null,null,null,null,null,null,null,null,null,null,null,null,null,null,null,null,null,null,null,null,null,null,null,null,null,null,null,null,null,null,null,null,null,null,null,0,0,0,0,0,0,0,0,0]
[null,null,null,null,null,null,null,null,null,null,null,null,null,null,null,null,null,null,null,null,null,null,null,null,null,null,null,null,null,null,null,null,null,null,null,null,null,null,null,null,null,null,null,null,0,0,0,0,0,0,0,0,0]
[null,null,null,null,null,null,null,null,null,null,null,null,null,null,null,null,null,null,null,null,null,null,null,null,null,null,null,null,null,null,null,null,null,null,null,null,null,null,null,null,null,null,null,null,0,0,0,0,0,0,0,0,0]
[null,null,null,"TOTAL",{"$f":"SUM(E5:E30)","v":0.56860699830576822},{"$f":"SUM(F5:F30)","v":1.4200679841451351},0,0,0,0,0,0,0,0,0,0,0,0,0,0,null,null,null,null,null,null,null,null,null,null,null,null,null,null,null,null,null,null,null,null,null,null,null,null,1.9886749824509034,{"$f":"IF((E68+F68)>0,E68/(E68+F68),0)","v":0.285922538033339},{"$f":"IF((E68+F68)>0,F68/(E68+F68),0)","v":0.714077461966661},0,0,0,0,0,0]
[]
[null,null,{"$f":"C5","v":0},"Not stated. Story does not describe the person’s occupation or position.",{"$f":"IF(E$68>0,E5/E$68,0)","v":0.10187968171117678},{"$f":"IF(F$68>0,F5/F$68,0)","v":2.9948917680772499E-2},0,0,0,0,0,0,0,0,0,0,0,0,0,0]
[null,null,1,"Royalty, ruling monarch, deposed monarch, any member of royal family …",0,{"$f":"IF(F$68>0,F6/F$68,0)","v":0},0,0,0,0,0,0,0,0,0,0,0,0,0,0]
[null,null,2,"Government official, politician, president, government minister, political leader, political party staff, spokesperson …",0.33481296846727138,{"$f":"IF(F$68>0,F7/F$68,0)","v":0.40762449258158778},0,0,0,0,0,0,0,0,0,0,0,0,0,0]
[null,null,3,"Government employee, public servant, bureaucrat, diplomat, intelligence officer …",8.9692884527017673E-3,{"$f":"IF(F$68>0,F8/F$68,0)","v":8.8562661043562006E-3},0,0,0,0,0,0,0,0,0,0,0,0,0,0]
[null,null,4,"Police, military, para-military group, militia, prison officer, security officer, fire officer …",1.3148800124011444E-2,{"$f":"IF(F$68>0,F9/F$68,0)","v":2.6498378940964951E-2},0,0,0,0,0,0,0,0,0,0,0,0,0,0]
[null,null,5,"Academic expert, education professional, teacher or university lecturer (all disciplines), nursery or kindergarten teacher, child care worker  …",4.8415688824736063E-2,{"$f":"IF(F$68>0,F10/F$68,0)","v":3.350719806973617E-2},0,0,0,0,0,0,0,0,0,0,0,0,0,0]
[null,null,6,"Health or social service professional, doctor, nurse, laboratory technician, social worker, psychologist …",3.5701284895922052E-2,{"$f":"IF(F$68>0,F11/F$68,0)","v":2.1407426159882309E-2},0,0,0,0,0,0,0,0,0,0,0,0,0,0]
[null,null,7,"Science or technology professional, engineer, technician, computer specialist …",0,{"$f":"IF(F$68>0,F12/F$68,0)","v":5.6240263687427489E-2},0,0,0,0,0,0,0,0,0,0,0,0,0,0]
[null,null,8,"Media professional, journalist, video or film-maker, theatre director ...",8.9692884527017673E-3,{"$f":"IF(F$68>0,F13/F$68,0)","v":8.8562661043562006E-3},0,0,0,0,0,0,0,0,0,0,0,0,0,0]
[null,null,9,"Lawyer, judge, magistrate, legal advocate, legal expert, legal clerk …",4.4846442263508833E-2,{"$f":"IF(F$68>0,F14/F$68,0)","v":4.4314427616832332E-2},0,0,0,0,0,0,0,0,0,0,0,0,0,0]
[null,null,10,"Business person, executive, manager, entrepreneur, economist, financial expert, stock broker …",0,{"$f":"IF(F$68>0,F15/F$68,0)","v":1.7886468047971105E-2},0,0,0,0,0,0,0,0,0,0,0,0,0,0]
[null,null,11,"Office or service worker, non-management worker in office, store, restaurant, catering …",8.9692884527017673E-3,{"$f":"IF(F$68>0,F16/F$68,0)","v":3.5209581119112644E-3},0,0,0,0,0,0,0,0,0,0,0,0,0,0]
[null,null,12,"Tradesperson, artisan, labourer, truck driver, construction, factory, domestic worker …",1.3148800124011444E-2,{"$f":"IF(F$68>0,F17/F$68,0)","v":1.7642112836608749E-2},0,0,0,0,0,0,0,0,0,0,0,0,0,0]
[null,null,13,"Agriculture, mining, fishing, forestry worker …",0,{"$f":"IF(F$68>0,F18/F$68,0)","v":0},0,0,0,0,0,0,0,0,0,0,0,0,0,0]
[null,null,14,"Religious figure, priest, monk, rabbi, mullah, nun …",0,{"$f":"IF(F$68>0,F19/F$68,0)","v":5.2648886203412494E-3},0,0,0,0,0,0,0,0,0,0,0,0,0,0]
[null,null,15,"Activist or worker in civil society organisation, non-governmental organisation, trade union, human rights, consumer issues, environment, aid agency, peasant leader, United Nations …",3.5266888700724724E-2,{"$f":"IF(F$68>0,F20/F$68,0)","v":3.9153055463646037E-2},0,0,0,0,0,0,0,0,0,0,0,0,0,0]
[null,null,16,"Sex worker, prostitute …",0,{"$f":"IF(F$68>0,F21/F$68,0)","v":0},0,0,0,0,0,0,0,0,0,0,0,0,0,0]
[null,null,17,"Celebrity, artist, actor, writer, singer, radio or television personality …",7.5147685267956413E-2,{"$f":"IF(F$68>0,F22/F$68,0)","v":0.10560832180828994},0,0,0,0,0,0,0,0,0,0,0,0,0,0]
[null,null,18,"Sportsperson, athlete, player, coach, referee …",8.9692884527017673E-3,{"$f":"IF(F$68>0,F23/F$68,0)","v":7.9147265144377726E-2},0,0,0,0,0,0,0,0,0,0,0,0,0,0]
[null,null,19,"Student, pupil, schoolchild",2.2118088576713209E-2,{"$f":"IF(F$68>0,F24/F$68,0)","v":0},0,0,0,0,0,0,0,0,0,0,0,0,0,0]
[null,null,{"$f":"C25","v":20},"Homemaker, parent, either female or male. Code this only if no other occupation is given, e.g. a doctor who is also described as a mother is coded 6.",4.8850085019933563E-2,{"$f":"IF(F$68>0,F25/F$68,0)","v":3.591377484014952E-3},0,0,0,0,0,0,0,0,0,0,0,0,0,0]
[null,null,21,"Child, young person (up to 18 years). Code this only if no other occupation/position is given, e.g. a schoolchild is coded 19; a child labourer is coded 12.",8.9692884527017673E-3,{"$f":"IF(F$68>0,F26/F$68,0)","v":1.7956887420074761E-2},0,0,0,0,0,0,0,0,0,0,0,0,0,0]
[null,null,22,"Villager or resident engaged in unspecified occupation. Code this only if no other occupation is given, e.g. a teacher who is also described as a villager is coded 5.",0.10205555062606168,{"$f":"IF(F$68>0,F27/F$68,0)","v":1.9630398556401044E-2},0,0,0,0,0,0,0,0,0,0,0,0,0,0]
[null,null,23,"Retired person, pensioner. Code this only if no other occupation is given, e.g. a retired police officer is coded 4; a retired politician is coded 2.",5.7819373472635258E-2,{"$f":"IF(F$68>0,F28/F$68,0)","v":1.0774132452044841E-2},0,0,0,0,0,0,0,0,0,0,0,0,0,0]
[null,null,24,"Criminal, suspect. Code this only if no other occupation is given, e.g, a lawyer suspected of committing a crime is coded 9; a former politician who has committed a crime is coded 2.",1.3148800124011444E-2,{"$f":"IF(F$68>0,F29/F$68,0)","v":4.2570497108402335E-2},0,0,0,0,0,0,0,0,0,0,0,0,0,0]
[null,null,25,"Unemployed. Code this only if no other occupation is given, e.g. an unemployed actor is coded 17; an unemployed person who commits a crime is coded 24.",8.7934195378167723E-3,{"$f":"IF(F$68>0,F30/F$68,0)","v":0},0,0,0,0,0,0,0,0,0,0,0,0,0,0]
[null,null,26,"Other. Use only as a last resort (specify the occupation/position in 'Comments' section of coding sheet)",0,{"$f":"IF(F$68>0,F31/F$68,0)","v":3.7587285976475808E-2},0,0,0,0,0,0,0,0,0,0,0,0,0,0]
[null,null,27,"NA – Use this where you are coding a secondary source only",0,{"$f":"IF(F$68>0,F32/F$68,0)","v":0},0,0,0,0,0,0,0,0,0,0,0,0,0,0]
[null,null,0,0,0,{"$f":"IF(F$68>0,F33/F$68,0)","v":0},0,0,0,0,0,0,0,0,0,0,0,0,0,0]
[null,null,0,0,0,{"$f":"IF(F$68>0,F34/F$68,0)","v":0},0,0,0,0,0,0,0,0,0,0,0,0,0,0]
[null,null,0,0,0,{"$f":"IF(F$68>0,F35/F$68,0)","v":0},0,0,0,0,0,0,0,0,0,0,0,0,0,0]
[null,null,0,0,0,{"$f":"IF(F$68>0,F36/F$68,0)","v":0},0,0,0,0,0,0,0,0,0,0,0,0,0,0]
[null,null,0,0,{"$f":"IF(E$68>0,E37/E$68,0)","v":0},{"$f":"IF(F$68>0,F37/F$68,0)","v":0},0,0,0,0,0,0,0,0,0,0,0,0,0,0]
[null,null,0,0,0,{"$f":"IF(F$68>0,F38/F$68,0)","v":0},0,0,0,0,0,0,0,0,0,0,0,0,0,0]
[null,null,0,0,0,{"$f":"IF(F$68>0,F39/F$68,0)","v":0},0,0,0,0,0,0,0,0,0,0,0,0,0,0]
[null,null,0,0,0,{"$f":"IF(F$68>0,F40/F$68,0)","v":0},0,0,0,0,0,0,0,0,0,0,0,0,0,0]
[null,null,0,0,0,{"$f":"IF(F$68>0,F41/F$68,0)","v":0},0,0,0,0,0,0,0,0,0,0,0,0,0,0]
[null,null,0,0,0,{"$f":"IF(F$68>0,F42/F$68,0)","v":0},0,0,0,0,0,0,0,0,0,0,0,0,0,0]
[null,null,0,0,0,{"$f":"IF(F$68>0,F43/F$68,0)","v":0},0,0,0,0,0,0,0,0,0,0,0,0,0,0]
[null,null,0,0,0,{"$f":"IF(F$68>0,F44/F$68,0)","v":0},0,0,0,0,0,0,0,0,0,0,0,0,0,0]
[null,null,{"$f":"C45","v":0},0,0,{"$f":"IF(F$68>0,F45/F$68,0)","v":0},0,0,0,0,0,0,0,0,0,0,0,0,0,0]
[null,null,0,0,0,{"$f":"IF(F$68>0,F46/F$68,0)","v":0},0,0,0,0,0,0,0,0,0,0,0,0,0,0]
[null,null,0,0,0,{"$f":"IF(F$68>0,F47/F$68,0)","v":0},0,0,0,0,0,0,0,0,0,0,0,0,0,0]
[null,null,0,0,0,{"$f":"IF(F$68>0,F48/F$68,0)","v":0},0,0,0,0,0,0,0,0,0,0,0,0,0,0]
[null,null,0,0,0,{"$f":"IF(F$68>0,F49/F$68,0)","v":0},0,0,0,0,0,0,0,0,0,0,0,0,0,0]
[null,null,0,0,0,{"$f":"IF(F$68>0,F50/F$68,0)","v":0},0,0,0,0,0,0,0,0,0,0,0,0,0,0]
[null,null,0,0,0,{"$f":"IF(F$68>0,F51/F$68,0)","v":0},0,0,0,0,0,0,0,0,0,0,0,0,0,0]
[null,null,0,0,0,{"$f":"IF(F$68>0,F52/F$68,0)","v":0},0,0,0,0,0,0,0,0,0,0,0,0,0,0]
[null,null,0,0,0,{"$f":"IF(F$68>0,F53/F$68,0)","v":0},0,0,0,0,0,0,0,0,0,0,0,0,0,0]
[null,null,0,0,0,{"$f":"IF(F$68>0,F54/F$68,0)","v":0},0,0,0,0,0,0,0,0,0,0,0,0,0,0]
[null,null,0,0,0,{"$f":"IF(F$68>0,F55/F$68,0)","v":0},0,0,0,0,0,0,0,0,0,0,0,0,0,0]
[null,null,0,0,0,{"$f":"IF(F$68>0,F56/F$68,0)","v":0},0,0,0,0,0,0,0,0,0,0,0,0,0,0]
[null,null,0,0,0,{"$f":"IF(F$68>0,F57/F$68,0)","v":0},0,0,0,0,0,0,0,0,0,0,0,0,0,0]
[null,null,0,0,0,{"$f":"IF(F$68>0,F58/F$68,0)","v":0},0,0,0,0,0,0,0,0,0,0,0,0,0,0]
[null,null,0,0,0,{"$f":"IF(F$68>0,F59/F$68,0)","v":0},0,0,0,0,0,0,0,0,0,0,0,0,0,0]
[null,null,0,0,0,{"$f":"IF(F$68>0,F60/F$68,0)","v":0},0,0,0,0,0,0,0,0,0,0,0,0,0,0]
[null,null,0,0,0,{"$f":"IF(F$68>0,F61/F$68,0)","v":0},0,0,0,0,0,0,0,0,0,0,0,0,0,0]
[null,null,0,0,0,{"$f":"IF(F$68>0,F62/F$68,0)","v":0},0,0,0,0,0,0,0,0,0,0,0,0,0,0]
[]
[]
[]
[]
[]
[]
[]
[]
[]
[]
[]
[]
[]
[]
[]
[]
[]
[]
[]
[]
["COUNT"]
[null,null,null,null,{"$f":"E3","v":"Female"},"Male",0,0,0,0,0,0,0,0,0,0,0,0,0,0]
[null,null,null,null,{"$f":"E4","v":0},0,0,0,0,0,0,0,0,0,0,0,0,0,0,0]
[null,null,{"$f":"C5","v":0},"Not stated. Story does not describe the person’s occupation or position.",10,7,0,0,0,0]
[null,null,1,"Royalty, ruling monarch, deposed monarch, any member of royal family …",0,0,0,0,0,0]
[null,null,2,"Government official, politician, president, government minister, political leader, political party staff, spokesperson …",29,89,0,0,0,0]
[null,null,3,"Government employee, public servant, bureaucrat, diplomat, intelligence officer …",1,2,0,0,0,0]
[null,null,4,"Police, military, para-military group, militia, prison officer, security officer, fire officer …",1,6,0,0,0,0]
[null,null,5,"Academic expert, education professional, teacher or university lecturer (all disciplines), nursery or kindergarten teacher, child care worker  …",4,7,0,0,0,0]
[null,null,6,"Health or social service professional, doctor, nurse, laboratory technician, social worker, psychologist …",4,6,0,0,0,0]
[null,null,7,"Science or technology professional, engineer, technician, computer specialist …",0,11,0,0,0,0]
[null,null,8,"Media professional, journalist, video or film-maker, theatre director ...",1,2,0,0,0,0]
[null,null,9,"Lawyer, judge, magistrate, legal advocate, legal expert, legal clerk …",5,11,0,0,0,0]
[null,null,10,"Business person, executive, manager, entrepreneur, economist, financial expert, stock broker …",0,5,0,0,0,0]
[null,null,11,"Office or service worker, non-management worker in office, store, restaurant, catering …",1,1,0,0,0,0]
[null,null,12,"Tradesperson, artisan, labourer, truck driver, construction, factory, domestic worker …",1,4,0,0,0,0]
[null,null,13,"Agriculture, mining, fishing, forestry worker …",0,0,0,0,0,0]
[null,null,14,"Religious figure, priest, monk, rabbi, mullah, nun …",0,1,0,0,0,0]
[null,null,15,"Activist or worker in civil society organisation, non-governmental organisation, trade union, human rights, consumer issues, environment, aid agency, peasant leader, United Nations …",3,11,0,0,0,0]
[null,null,16,"Sex worker, prostitute …",0,0,0,0,0,0]
[null,null,17,"Celebrity, artist, actor, writer, singer, radio or television personality …",7,23,0,0,0,0]
[null,null,18,"Sportsperson, athlete, player, coach, referee …",1,16,0,0,0,0]
[null,null,19,"Student, pupil, schoolchild",2,0,0,0,0,0]
[null,null,{"$f":"C25","v":20},"Homemaker, parent, either female or male. Code this only if no other occupation is given, e.g. a doctor who is also described as a mother is coded 6.",5,1,0,0,0,0]
[null,null,21,"Child, young person (up to 18 years). Code this only if no other occupation/position is given, e.g. a schoolchild is coded 19; a child labourer is coded 12.",1,5,0,0,0,0]
[null,null,22,"Villager or resident engaged in unspecified occupation. Code this only if no other occupation is given, e.g. a teacher who is also described as a villager is coded 5.",10,5,0,0,0,0]
[null,null,23,"Retired person, pensioner. Code this only if no other occupation is given, e.g. a retired police officer is coded 4; a retired politician is coded 2.",6,3,0,0,0,0]
[null,null,24,"Criminal, suspect. Code this only if no other occupation is given, e.g, a lawyer suspected of committing a crime is coded 9; a former politician who has committed a crime is coded 2.",1,11,0,0,0,0]
[null,null,25,"Unemployed. Code this only if no other occupation is given, e.g. an unemployed actor is coded 17; an unemployed person who commits a crime is coded 24.",1,0,0,0,0,0]
[null,null,26,"Other. Use only as a last resort (specify the occupation/position in 'Comments' section of coding sheet)",0,10,0,0,0,0]
[null,null,27,"NA – Use this where you are coding a secondary source only",0,0,0,0,0,0]
[null,null,0,0,0,0,0,0,0,0]
[null,null,0,0,0,0,0,0,0,0]
[null,null,0,0,0,0,0,0,0,0]
[null,null,0,0,0,0,0,0,0,0]
[null,null,0,0,0,0,0,0,0,0]
[null,null,0,0,0,0,0,0,0,0]
[null,null,0,0,0,0,0,0,0,0]
[null,null,0,0,0,0,0,0,0,0]
[null,null,0,0,0,0,0,0,0,0]
[null,null,0,0,0,0,0,0,0,0]
[null,null,0,0,0,0,0,0,0,0]
[null,null,0,0,0,0,0,0,0,0]
[null,null,{"$f":"C45","v":0},0,0,0,0,0,0,0]
[null,null,0,0,0,0,0,0,0,0]
[null,null,0,0,0,0,0,0,0,0]
[null,null,0,0,0,0,0,0,0,0]
[null,null,0,0,0,0,0,0,0,0]
[null,null,0,0,0,0,0,0,0,0]
[null,null,0,0,0,0,0,0,0,0]
[null,null,0,0,0,0,0,0,0,0]
[null,null,0,0,0,0,0,0,0,0]
[null,null,0,0,0,0,0,0,0,0]
[null,null,0,0,0,0,0,0,0,0]
[null,null,0,0,0,0,0,0,0,0]
[null,null,0,0]
[null,null,0,0]
[null,null,0,0]

{"sheet":"18bF - Occupation","index":70,"n_rows":32,"n_cols":15,"rows_kept":32,"cut":false,"hidden":false,"merged":[[1,5,1,13],[2,5,2,6],[2,7,2,8],[2,9,2,10],[2,11,2,12]]}
[{"$f":"'18b'!$A$1","v":"Position or Occupation of News Subjects, by sex"}]
[]
[null,null,null,null,null,1995,null,2000,null,2005,null,"% Female",null,"% Male"]
[null,null,null,null,null,"%F","%M","%F","%M","%F","%M","%","N","%","N"]
[null,null,null,null,{"$f":"'18b'!D5","v":"Not stated. Story does not describe the person’s occupation or position."},0,0,0.44,0.56000000000000005,0.42,0.57999999999999996,{"$f":"'18b'!AT5","v":0.57664818968917753},{"$f":"'18b'!E151","v":10},{"$f":"'18b'!AU5","v":0.42335181031082247},{"$f":"'18b'!F151","v":7}]
[null,null,null,null,{"$f":"'18b'!D6","v":"Royalty, ruling monarch, deposed monarch, any member of royal family …"},0,0,"n/a","n/a",0.33,0.67,{"$f":"'18b'!AT6","v":0},{"$f":"'18b'!E152","v":0},{"$f":"'18b'!AU6","v":0},{"$f":"'18b'!F152","v":0}]
[null,null,null,null,{"$f":"'18b'!D7","v":"Government official, politician, president, government minister, political leader, political party staff, spokesperson …"},0,0,0.1,0.9,0.12,0.88,{"$f":"'18b'!AT7","v":0.24748986468887962},{"$f":"'18b'!E153","v":29},{"$f":"'18b'!AU7","v":0.75251013531112032},{"$f":"'18b'!F153","v":89}]
[null,null,null,null,{"$f":"'18b'!D8","v":"Government employee, public servant, bureaucrat, diplomat, intelligence officer …"},0,0,0.12,0.88,0.17,0.83,{"$f":"'18b'!AT8","v":0.28851866287126754},{"$f":"'18b'!E154","v":1},{"$f":"'18b'!AU8","v":0.71148133712873252},{"$f":"'18b'!F154","v":2}]
[null,null,null,null,{"$f":"'18b'!D9","v":"Police, military, para-military group, militia, prison officer, security officer, fire officer …"},0,0,0.04,0.96,0.05,0.95,{"$f":"'18b'!AT9","v":0.16575399902354196},{"$f":"'18b'!E155","v":1},{"$f":"'18b'!AU9","v":0.83424600097645807},{"$f":"'18b'!F155","v":6}]
[null,null,null,null,{"$f":"'18b'!D10","v":"Academic expert, education professional, teacher or university lecturer (all disciplines), nursery or kindergarten teacher, child care worker  …"},0,0,0.27,0.73,0.25,0.75,{"$f":"'18b'!AT10","v":0.36651267395428544},{"$f":"'18b'!E156","v":4},{"$f":"'18b'!AU10","v":0.63348732604571445},{"$f":"'18b'!F156","v":7}]
[null,null,null,null,{"$f":"'18b'!D11","v":"Health or social service professional, doctor, nurse, laboratory technician, social worker, psychologist …"},0,0,0.2,0.8,0.3,0.7,{"$f":"'18b'!AT11","v":0.40039447847695675},{"$f":"'18b'!E157","v":4},{"$f":"'18b'!AU11","v":0.59960552152304314},{"$f":"'18b'!F157","v":6}]
[null,null,null,null,{"$f":"'18b'!D12","v":"Science or technology professional, engineer, technician, computer specialist …"},0,0,0.12,0.88,0.1,0.9,{"$f":"'18b'!AT12","v":0},{"$f":"'18b'!E158","v":0},{"$f":"'18b'!AU12","v":1},{"$f":"'18b'!F158","v":11}]
[null,null,null,null,{"$f":"'18b'!D13","v":"Media professional, journalist, video or film-maker, theatre director ..."},0,0,"n/a","n/a",0.36,0.64,{"$f":"'18b'!AT13","v":0.28851866287126754},{"$f":"'18b'!E159","v":1},{"$f":"'18b'!AU13","v":0.71148133712873252},{"$f":"'18b'!F159","v":2}]
[null,null,null,null,{"$f":"'18b'!D14","v":"Lawyer, judge, magistrate, legal advocate, legal expert, legal clerk …"},0,0,"n/a","n/a",0.18,0.82,{"$f":"'18b'!AT14","v":0.28836531570646989},{"$f":"'18b'!E160","v":5},{"$f":"'18b'!AU14","v":0.71163468429353005},{"$f":"'18b'!F160","v":11}]
[null,null,null,null,{"$f":"'18b'!D15","v":"Business person, executive, manager, entrepreneur, economist, financial expert, stock broker …"},0,0,"n/a","n/a",0.12,0.88,{"$f":"'18b'!AT15","v":0},{"$f":"'18b'!E161","v":0},{"$f":"'18b'!AU15","v":1},{"$f":"'18b'!F161","v":5}]
[null,null,null,null,{"$f":"'18b'!D16","v":"Office or service worker, non-management worker in office, store, restaurant, catering …"},0,0,0.35,0.65,0.4,0.6,{"$f":"'18b'!AT16","v":0.50495050965705435},{"$f":"'18b'!E162","v":1},{"$f":"'18b'!AU16","v":0.49504949034294571},{"$f":"'18b'!F162","v":1}]
[null,null,null,null,{"$f":"'18b'!D17","v":"Tradesperson, artisan, labourer, truck driver, construction, factory, domestic worker …"},0,0,0.15,0.85,0.23,0.77,{"$f":"'18b'!AT17","v":0.229837529378769},{"$f":"'18b'!E163","v":1},{"$f":"'18b'!AU17","v":0.770162470621231},{"$f":"'18b'!F163","v":4}]
[null,null,null,null,{"$f":"'18b'!D18","v":"Agriculture, mining, fishing, forestry worker …"},0,0,0.15,0.85,0.13,0.87,{"$f":"'18b'!AT18","v":0},{"$f":"'18b'!E164","v":0},{"$f":"'18b'!AU18","v":0},{"$f":"'18b'!F164","v":0}]
[null,null,null,null,{"$f":"'18b'!D19","v":"Religious figure, priest, monk, rabbi, mullah, nun …"},0,0,0.09,0.81,0.21,0.79,{"$f":"'18b'!AT19","v":0},{"$f":"'18b'!E165","v":0},{"$f":"'18b'!AU19","v":1},{"$f":"'18b'!F165","v":1}]
[null,null,null,null,{"$f":"'18b'!D20","v":"Activist or worker in civil society organisation, non-governmental organisation, trade union, human rights, consumer issues, environment, aid agency, peasant leader, United Nations …"},0,0,0.24,0.76,0.23,0.77,{"$f":"'18b'!AT20","v":0.26506549181628619},{"$f":"'18b'!E166","v":3},{"$f":"'18b'!AU20","v":0.73493450818371386},{"$f":"'18b'!F166","v":11}]
[null,null,null,null,{"$f":"'18b'!D21","v":"Sex worker, prostitute …"},0,0,"n/a","n/a","n/a","n/a",{"$f":"'18b'!AT21","v":0},{"$f":"'18b'!E167","v":0},{"$f":"'18b'!AU21","v":0},{"$f":"'18b'!F167","v":0}]
[null,null,null,null,{"$f":"'18b'!D22","v":"Celebrity, artist, actor, writer, singer, radio or television personality …"},0,0,0.45,0.55000000000000004,0.42,0.57999999999999996,{"$f":"'18b'!AT22","v":0.22174047574391226},{"$f":"'18b'!E168","v":7},{"$f":"'18b'!AU22","v":0.77825952425608769},{"$f":"'18b'!F168","v":23}]
[null,null,null,null,{"$f":"'18b'!D23","v":"Sportsperson, athlete, player, coach, referee …"},0,0,0.09,0.91,0.16,0.84,{"$f":"'18b'!AT23","v":4.3406289611796593E-2},{"$f":"'18b'!E169","v":1},{"$f":"'18b'!AU23","v":0.9565937103882034},{"$f":"'18b'!F169","v":16}]
[null,null,null,null,{"$f":"'18b'!D24","v":"Student, pupil, schoolchild"},0,0,0.46,0.54,0.51,0.49,{"$f":"'18b'!AT24","v":1},{"$f":"'18b'!E170","v":2},{"$f":"'18b'!AU24","v":0},{"$f":"'18b'!F170","v":0}]
[null,null,null,null,{"$f":"'18b'!D25","v":"Homemaker, parent, either female or male. Code this only if no other occupation is given, e.g. a doctor who is also described as a mother is coded 6."},0,0,0.81,0.19,0.75,0.25,{"$f":"'18b'!AT25","v":0.84487399440696564},{"$f":"'18b'!E171","v":5},{"$f":"'18b'!AU25","v":0.15512600559303427},{"$f":"'18b'!F171","v":1}]
[null,null,null,null,{"$f":"'18b'!D26","v":"Child, young person (up to 18 years). Code this only if no other occupation/position is given, e.g. a schoolchild is coded 19; a child labourer is coded 12."},0,0,"n/a","n/a",0.44,0.56000000000000005,{"$f":"'18b'!AT26","v":0.16666666666666666},{"$f":"'18b'!E172","v":1},{"$f":"'18b'!AU26","v":0.83333333333333326},{"$f":"'18b'!F172","v":5}]
[null,null,null,null,{"$f":"'18b'!D27","v":"Villager or resident engaged in unspecified occupation. Code this only if no other occupation is given, e.g. a teacher who is also described as a villager is coded 5."},0,0,"n/a","n/a",0.39,0.61,{"$f":"'18b'!AT27","v":0.67549996224016384},{"$f":"'18b'!E173","v":10},{"$f":"'18b'!AU27","v":0.32450003775983616},{"$f":"'18b'!F173","v":5}]
[null,null,null,null,{"$f":"'18b'!D28","v":"Retired person, pensioner. Code this only if no other occupation is given, e.g. a retired police officer is coded 4; a retired politician is coded 2."},0,0,0.35,0.65,0.33,0.67,{"$f":"'18b'!AT28","v":0.68241777107998214},{"$f":"'18b'!E174","v":6},{"$f":"'18b'!AU28","v":0.31758222892001786},{"$f":"'18b'!F174","v":3}]
[null,null,null,null,{"$f":"'18b'!D29","v":"Criminal, suspect. Code this only if no other occupation is given, e.g, a lawyer suspected of committing a crime is coded 9; a former politician who has committed a crime is coded 2."},0,0,7.0000000000000007E-2,0.93,0.09,0.91,{"$f":"'18b'!AT29","v":0.11006263543470614},{"$f":"'18b'!E175","v":1},{"$f":"'18b'!AU29","v":0.88993736456529393},{"$f":"'18b'!F175","v":11}]
[null,null,null,null,{"$f":"'18b'!D30","v":"Unemployed. Code this only if no other occupation is given, e.g. an unemployed actor is coded 17; an unemployed person who commits a crime is coded 24."},0,0,0.33,0.67,0.19,0.81,{"$f":"'18b'!AT30","v":1},{"$f":"'18b'!E176","v":1},{"$f":"'18b'!AU30","v":0},{"$f":"'18b'!F176","v":0}]
[]
[null,null,null,null,"Total",null,null,null,null,null,null,null,{"$f":"SUM(M5:M31)","v":94},null,{"$f":"SUM(O5:O31)","v":227}]

{"sheet":"18c","index":71,"n_rows":205,"n_cols":53,"rows_kept":205,"cut":false,"hidden":true,"merged":[]}
["Age of news subjects by print, by sex"]
[null,null,null,null,null,null,null,null,null,null,null,null,null,null,null,null,null,null,null,null,null,null,null,null,null,null,null,null,null,null,null,null,null,null,null,null,null,null,null,null,null,null,null,null,null,{"$f":"E2","v":0},0,0,0,0,0,0,0]
[null,null,null,null,"Female","Male",null,null,null,null,null,null,null,null,null,null,null,null,null,null,null,null,null,null,null,null,null,null,null,null,null,null,null,null,null,null,null,null,null,null,null,null,null,null,null,"Female","Male",0,0,0,0,0,0]
[null,null,null,null,null,null,null,null,null,null,null,null,null,null,null,null,null,null,null,null,null,null,null,null,null,null,null,null,null,null,null,null,null,null,null,null,null,null,null,null,null,null,null,null,"TOTAL",0,0,0,0,0,0,0,0]
[null,null,0,"Do not know: (e.g., the person may not be seen clearly)",0.22429499309510001,0.74764997698366598,null,null,null,null,null,null,null,null,null,null,null,null,null,null,null,null,null,null,null,null,null,null,null,null,null,null,null,null,null,null,null,null,null,null,null,null,null,null,{"$f":"SUM(E5:O5)","v":0.97194497007876601},{"$f":"IF((E5+F5)>0,E5/(E5+F5),0)","v":0.23076923076923092},{"$f":"IF((E5+F5)>0,F5/(E5+F5),0)","v":0.76923076923076905},{"$f":"IF((G5+H5)>0,G5/(G5+H5),0)","v":0},{"$f":"IF((G5+H5)>0,H5/(G5+H5),0)","v":0},{"$f":"IF((I5+J5)>0,I5/(I5+J5),0)","v":0},{"$f":"IF((I5+J5)>0,J5/(I5+J5),0)","v":0},{"$f":"IF((K5+L5)>0,K5/(K5+L5),0)","v":0},{"$f":"IF((K5+L5)>0,L5/(K5+L5),0)","v":0}]
[null,null,1,"12 years or under",null,null,null,null,null,null,null,null,null,null,null,null,null,null,null,null,null,null,null,null,null,null,null,null,null,null,null,null,null,null,null,null,null,null,null,null,null,null,null,null,0,0,0,0,0,0,0,0,0]
[null,null,2,"13-18",null,null,null,null,null,null,null,null,null,null,null,null,null,null,null,null,null,null,null,null,null,null,null,null,null,null,null,null,null,null,null,null,null,null,null,null,null,null,null,null,0,0,0,0,0,0,0,0,0]
[null,null,3,"19-34",4.4858998619019999E-2,5.2335498388856601E-2,null,null,null,null,null,null,null,null,null,null,null,null,null,null,null,null,null,null,null,null,null,null,null,null,null,null,null,null,null,null,null,null,null,null,null,null,null,null,9.7194497007876607E-2,0.46153846153846179,0.5384615384615381,0,0,0,0,0,0]
[null,null,4,"35-49",null,2.242949930951E-2,null,null,null,null,null,null,null,null,null,null,null,null,null,null,null,null,null,null,null,null,null,null,null,null,null,null,null,null,null,null,null,null,null,null,null,null,null,null,2.242949930951E-2,0,1,0,0,0,0,0,0]
[null,null,5,"50-64",1.4952999539673301E-2,2.242949930951E-2,null,null,null,null,null,null,null,null,null,null,null,null,null,null,null,null,null,null,null,null,null,null,null,null,null,null,null,null,null,null,null,null,null,null,null,null,null,null,3.73824988491833E-2,0.39999999999999947,0.60000000000000053,0,0,0,0,0,0]
[null,null,6,"65 years or more",null,null,null,null,null,null,null,null,null,null,null,null,null,null,null,null,null,null,null,null,null,null,null,null,null,null,null,null,null,null,null,null,null,null,null,null,null,null,null,null,0,0,0,0,0,0,0,0,0]
[null,null,7,"NA – Use this where you are coding a secondary source only",null,null,null,null,null,null,null,null,null,null,null,null,null,null,null,null,null,null,null,null,null,null,null,null,null,null,null,null,null,null,null,null,null,null,null,null,null,null,null,null,0,0,0,0,0,0,0,0,0]
[null,null,null,null,null,null,null,null,null,null,null,null,null,null,null,null,null,null,null,null,null,null,null,null,null,null,null,null,null,null,null,null,null,null,null,null,null,null,null,null,null,null,null,null,0,0,0,0,0,0,0,0,0]
[null,null,null,null,null,null,null,null,null,null,null,null,null,null,null,null,null,null,null,null,null,null,null,null,null,null,null,null,null,null,null,null,null,null,null,null,null,null,null,null,null,null,null,null,0,0,0,0,0,0,0,0,0]
[null,null,null,null,null,null,null,null,null,null,null,null,null,null,null,null,null,null,null,null,null,null,null,null,null,null,null,null,null,null,null,null,null,null,null,null,null,null,null,null,null,null,null,null,0,0,0,0,0,0,0,0,0]
[null,null,null,null,null,null,null,null,null,null,null,null,null,null,null,null,null,null,null,null,null,null,null,null,null,null,null,null,null,null,null,null,null,null,null,null,null,null,null,null,null,null,null,null,0,0,0,0,0,0,0,0,0]
[null,null,null,null,null,null,null,null,null,null,null,null,null,null,null,null,null,null,null,null,null,null,null,null,null,null,null,null,null,null,null,null,null,null,null,null,null,null,null,null,null,null,null,null,0,0,0,0,0,0,0,0,0]
[null,null,null,null,null,null,null,null,null,null,null,null,null,null,null,null,null,null,null,null,null,null,null,null,null,null,null,null,null,null,null,null,null,null,null,null,null,null,null,null,null,null,null,null,0,0,0,0,0,0,0,0,0]
[null,null,null,null,null,null,null,null,null,null,null,null,null,null,null,null,null,null,null,null,null,null,null,null,null,null,null,null,null,null,null,null,null,null,null,null,null,null,null,null,null,null,null,null,0,0,0,0,0,0,0,0,0]
[null,null,null,null,null,null,null,null,null,null,null,null,null,null,null,null,null,null,null,null,null,null,null,null,null,null,null,null,null,null,null,null,null,null,null,null,null,null,null,null,null,null,null,null,0,0,0,0,0,0,0,0,0]
[null,null,null,null,null,null,null,null,null,null,null,null,null,null,null,null,null,null,null,null,null,null,null,null,null,null,null,null,null,null,null,null,null,null,null,null,null,null,null,null,null,null,null,null,0,0,0,0,0,0,0,0,0]
[null,null,null,null,null,null,null,null,null,null,null,null,null,null,null,null,null,null,null,null,null,null,null,null,null,null,null,null,null,null,null,null,null,null,null,null,null,null,null,null,null,null,null,null,0,0,0,0,0,0,0,0,0]
[null,null,null,null,null,null,null,null,null,null,null,null,null,null,null,null,null,null,null,null,null,null,null,null,null,null,null,null,null,null,null,null,null,null,null,null,null,null,null,null,null,null,null,null,0,0,0,0,0,0,0,0,0]
[null,null,null,null,null,null,null,null,null,null,null,null,null,null,null,null,null,null,null,null,null,null,null,null,null,null,null,null,null,null,null,null,null,null,null,null,null,null,null,null,null,null,null,null,0,0,0,0,0,0,0,0,0]
[null,null,null,null,null,null,null,null,null,null,null,null,null,null,null,null,null,null,null,null,null,null,null,null,null,null,null,null,null,null,null,null,null,null,null,null,null,null,null,null,null,null,null,null,0,0,0,0,0,0,0,0,0]
[null,null,null,null,null,null,null,null,null,null,null,null,null,null,null,null,null,null,null,null,null,null,null,null,null,null,null,null,null,null,null,null,null,null,null,null,null,null,null,null,null,null,null,null,0,0,0,0,0,0,0,0,0]
[null,null,null,null,null,null,null,null,null,null,null,null,null,null,null,null,null,null,null,null,null,null,null,null,null,null,null,null,null,null,null,null,null,null,null,null,null,null,null,null,null,null,null,null,0,0,0,0,0,0,0,0,0]
[null,null,null,null,null,null,null,null,null,null,null,null,null,null,null,null,null,null,null,null,null,null,null,null,null,null,null,null,null,null,null,null,null,null,null,null,null,null,null,null,null,null,null,null,0,0,0,0,0,0,0,0,0]
[null,null,null,null,null,null,null,null,null,null,null,null,null,null,null,null,null,null,null,null,null,null,null,null,null,null,null,null,null,null,null,null,null,null,null,null,null,null,null,null,null,null,null,null,0,0,0,0,0,0,0,0,0]
[null,null,null,null,null,null,null,null,null,null,null,null,null,null,null,null,null,null,null,null,null,null,null,null,null,null,null,null,null,null,null,null,null,null,null,null,null,null,null,null,null,null,null,null,0,0,0,0,0,0,0,0,0]
[null,null,null,null,null,null,null,null,null,null,null,null,null,null,null,null,null,null,null,null,null,null,null,null,null,null,null,null,null,null,null,null,null,null,null,null,null,null,null,null,null,null,null,null,0,0,0,0,0,0,0,0,0]
[null,null,null,null,null,null,null,null,null,null,null,null,null,null,null,null,null,null,null,null,null,null,null,null,null,null,null,null,null,null,null,null,null,null,null,null,null,null,null,null,null,null,null,null,0,0,0,0,0,0,0,0,0]
[null,null,null,null,null,null,null,null,null,null,null,null,null,null,null,null,null,null,null,null,null,null,null,null,null,null,null,null,null,null,null,null,null,null,null,null,null,null,null,null,null,null,null,null,0,0,0,0,0,0,0,0,0]
[null,null,null,null,null,null,null,null,null,null,null,null,null,null,null,null,null,null,null,null,null,null,null,null,null,null,null,null,null,null,null,null,null,null,null,null,null,null,null,null,null,null,null,null,0,0,0,0,0,0,0,0,0]
[null,null,null,null,null,null,null,null,null,null,null,null,null,null,null,null,null,null,null,null,null,null,null,null,null,null,null,null,null,null,null,null,null,null,null,null,null,null,null,null,null,null,null,null,0,0,0,0,0,0,0,0,0]
[null,null,null,null,null,null,null,null,null,null,null,null,null,null,null,null,null,null,null,null,null,null,null,null,null,null,null,null,null,null,null,null,null,null,null,null,null,null,null,null,null,null,null,null,0,0,0,0,0,0,0,0,0]
[null,null,null,null,null,null,null,null,null,null,null,null,null,null,null,null,null,null,null,null,null,null,null,null,null,null,null,null,null,null,null,null,null,null,null,null,null,null,null,null,null,null,null,null,{"$f":"SUM(E37:O37)","v":0},{"$f":"IF((E37+F37)>0,E37/(E37+F37),0)","v":0},{"$f":"IF((E37+F37)>0,F37/(E37+F37),0)","v":0},{"$f":"IF((G37+H37)>0,G37/(G37+H37),0)","v":0},{"$f":"IF((G37+H37)>0,H37/(G37+H37),0)","v":0},{"$f":"IF((I37+J37)>0,I37/(I37+J37),0)","v":0},{"$f":"IF((I37+J37)>0,J37/(I37+J37),0)","v":0},{"$f":"IF((K37+L37)>0,K37/(K37+L37),0)","v":0},{"$f":"IF((K37+L37)>0,L37/(K37+L37),0)","v":0}]
[null,null,null,null,null,null,null,null,null,null,null,null,null,null,null,null,null,null,null,null,null,null,null,null,null,null,null,null,null,null,null,null,null,null,null,null,null,null,null,null,null,null,null,null,0,0,0,0,0,0,0,0,0]
[null,null,null,null,null,null,null,null,null,null,null,null,null,null,null,null,null,null,null,null,null,null,null,null,null,null,null,null,null,null,null,null,null,null,null,null,null,null,null,null,null,null,null,null,0,0,0,0,0,0,0,0,0]
[null,null,null,null,null,null,null,null,null,null,null,null,null,null,null,null,null,null,null,null,null,null,null,null,null,null,null,null,null,null,null,null,null,null,null,null,null,null,null,null,null,null,null,null,0,0,0,0,0,0,0,0,0]
[null,null,null,null,null,null,null,null,null,null,null,null,null,null,null,null,null,null,null,null,null,null,null,null,null,null,null,null,null,null,null,null,null,null,null,null,null,null,null,null,null,null,null,null,0,0,0,0,0,0,0,0,0]
[null,null,null,null,null,null,null,null,null,null,null,null,null,null,null,null,null,null,null,null,null,null,null,null,null,null,null,null,null,null,null,null,null,null,null,null,null,null,null,null,null,null,null,null,0,0,0,0,0,0,0,0,0]
[null,null,null,null,null,null,null,null,null,null,null,null,null,null,null,null,null,null,null,null,null,null,null,null,null,null,null,null,null,null,null,null,null,null,null,null,null,null,null,null,null,null,null,null,0,0,0,0,0,0,0,0,0]
[null,null,null,null,null,null,null,null,null,null,null,null,null,null,null,null,null,null,null,null,null,null,null,null,null,null,null,null,null,null,null,null,null,null,null,null,null,null,null,null,null,null,null,null,0,0,0,0,0,0,0,0,0]
[null,null,null,null,null,null,null,null,null,null,null,null,null,null,null,null,null,null,null,null,null,null,null,null,null,null,null,null,null,null,null,null,null,null,null,null,null,null,null,null,null,null,null,null,0,0,0,0,0,0,0,0,0]
[null,null,null,null,null,null,null,null,null,null,null,null,null,null,null,null,null,null,null,null,null,null,null,null,null,null,null,null,null,null,null,null,null,null,null,null,null,null,null,null,null,null,null,null,0,0,0,0,0,0,0,0,0]
[null,null,null,null,null,null,null,null,null,null,null,null,null,null,null,null,null,null,null,null,null,null,null,null,null,null,null,null,null,null,null,null,null,null,null,null,null,null,null,null,null,null,null,null,0,0,0,0,0,0,0,0,0]
[null,null,null,null,null,null,null,null,null,null,null,null,null,null,null,null,null,null,null,null,null,null,null,null,null,null,null,null,null,null,null,null,null,null,null,null,null,null,null,null,null,null,null,null,0,0,0,0,0,0,0,0,0]
[null,null,null,null,null,null,null,null,null,null,null,null,null,null,null,null,null,null,null,null,null,null,null,null,null,null,null,null,null,null,null,null,null,null,null,null,null,null,null,null,null,null,null,null,0,0,0,0,0,0,0,0,0]
[null,null,null,null,null,null,null,null,null,null,null,null,null,null,null,null,null,null,null,null,null,null,null,null,null,null,null,null,null,null,null,null,null,null,null,null,null,null,null,null,null,null,null,null,0,0,0,0,0,0,0,0,0]
[null,null,null,null,null,null,null,null,null,null,null,null,null,null,null,null,null,null,null,null,null,null,null,null,null,null,null,null,null,null,null,null,null,null,null,null,null,null,null,null,null,null,null,null,0,0,0,0,0,0,0,0,0]
[null,null,null,null,null,null,null,null,null,null,null,null,null,null,null,null,null,null,null,null,null,null,null,null,null,null,null,null,null,null,null,null,null,null,null,null,null,null,null,null,null,null,null,null,0,0,0,0,0,0,0,0,0]
[null,null,null,null,null,null,null,null,null,null,null,null,null,null,null,null,null,null,null,null,null,null,null,null,null,null,null,null,null,null,null,null,null,null,null,null,null,null,null,null,null,null,null,null,0,0,0,0,0,0,0,0,0]
[null,null,null,null,null,null,null,null,null,null,null,null,null,null,null,null,null,null,null,null,null,null,null,null,null,null,null,null,null,null,null,null,null,null,null,null,null,null,null,null,null,null,null,null,0,0,0,0,0,0,0,0,0]
[null,null,null,null,null,null,null,null,null,null,null,null,null,null,null,null,null,null,null,null,null,null,null,null,null,null,null,null,null,null,null,null,null,null,null,null,null,null,null,null,null,null,null,null,0,0,0,0,0,0,0,0,0]
[null,null,null,null,null,null,null,null,null,null,null,null,null,null,null,null,null,null,null,null,null,null,null,null,null,null,null,null,null,null,null,null,null,null,null,null,null,null,null,null,null,null,null,null,0,0,0,0,0,0,0,0,0]
[null,null,null,null,null,null,null,null,null,null,null,null,null,null,null,null,null,null,null,null,null,null,null,null,null,null,null,null,null,null,null,null,null,null,null,null,null,null,null,null,null,null,null,null,0,0,0,0,0,0,0,0,0]
[null,null,null,null,null,null,null,null,null,null,null,null,null,null,null,null,null,null,null,null,null,null,null,null,null,null,null,null,null,null,null,null,null,null,null,null,null,null,null,null,null,null,null,null,0,0,0,0,0,0,0,0,0]
[null,null,null,null,null,null,null,null,null,null,null,null,null,null,null,null,null,null,null,null,null,null,null,null,null,null,null,null,null,null,null,null,null,null,null,null,null,null,null,null,null,null,null,null,0,0,0,0,0,0,0,0,0]
[null,null,null,null,null,null,null,null,null,null,null,null,null,null,null,null,null,null,null,null,null,null,null,null,null,null,null,null,null,null,null,null,null,null,null,null,null,null,null,null,null,null,null,null,0,0,0,0,0,0,0,0,0]
[null,null,null,null,null,null,null,null,null,null,null,null,null,null,null,null,null,null,null,null,null,null,null,null,null,null,null,null,null,null,null,null,null,null,null,null,null,null,null,null,null,null,null,null,0,0,0,0,0,0,0,0,0]
[null,null,null,null,null,null,null,null,null,null,null,null,null,null,null,null,null,null,null,null,null,null,null,null,null,null,null,null,null,null,null,null,null,null,null,null,null,null,null,null,null,null,null,null,0,0,0,0,0,0,0,0,0]
[null,null,null,null,null,null,null,null,null,null,null,null,null,null,null,null,null,null,null,null,null,null,null,null,null,null,null,null,null,null,null,null,null,null,null,null,null,null,null,null,null,null,null,null,0,0,0,0,0,0,0,0,0]
[null,null,null,null,null,null,null,null,null,null,null,null,null,null,null,null,null,null,null,null,null,null,null,null,null,null,null,null,null,null,null,null,null,null,null,null,null,null,null,null,null,null,null,null,0,0,0,0,0,0,0,0,0]
[null,null,null,null,null,null,null,null,null,null,null,null,null,null,null,null,null,null,null,null,null,null,null,null,null,null,null,null,null,null,null,null,null,null,null,null,null,null,null,null,null,null,null,null,0,0,0,0,0,0,0,0,0]
[null,null,null,null,null,null,null,null,null,null,null,null,null,null,null,null,null,null,null,null,null,null,null,null,null,null,null,null,null,null,null,null,null,null,null,null,null,null,null,null,null,null,null,null,0,0,0,0,0,0,0,0,0]
[null,null,null,null,null,null,null,null,null,null,null,null,null,null,null,null,null,null,null,null,null,null,null,null,null,null,null,null,null,null,null,null,null,null,null,null,null,null,null,null,null,null,null,null,0,0,0,0,0,0,0,0,0]
[null,null,null,"TOTAL",{"$f":"SUM(E6:E11)","v":5.98119981586933E-2},{"$f":"SUM(F6:F11)","v":9.7194497007876607E-2},0,0,0,0,0,0,0,0,0,0,0,0,0,0,null,null,null,null,null,null,null,null,null,null,null,null,null,null,null,null,null,null,null,null,null,null,null,null,0.15700649516656989,0.38095238095238099,0.61904761904761907,0,0,0,0,0,0]
[]
[null,null,{"$f":"C5","v":0},"Do not know: (e.g., the person may not be seen clearly)",{"$f":"IF(E$68>0,E5/E$68,0)","v":3.7500000000000022},7.6923076923076898,0,0,0,0,0,0,0,0,0,0,0,0,0,0]
[null,null,1,"12 years or under",{"$f":"IF(E$68>0,E6/E$68,0)","v":0},0,0,0,0,0,0,0,0,0,0,0,0,0,0,0]
[null,null,2,"13-18",{"$f":"IF(E$68>0,E7/E$68,0)","v":0},0,0,0,0,0,0,0,0,0,0,0,0,0,0,0]
[null,null,3,"19-34",{"$f":"IF(E$68>0,E8/E$68,0)","v":0.75000000000000044},0.5384615384615381,0,0,0,0,0,0,0,0,0,0,0,0,0,0]
[null,null,4,"35-49",{"$f":"IF(E$68>0,E9/E$68,0)","v":0},0.23076923076923089,0,0,0,0,0,0,0,0,0,0,0,0,0,0]
[null,null,5,"50-64",{"$f":"IF(E$68>0,E10/E$68,0)","v":0.24999999999999958},0.23076923076923089,0,0,0,0,0,0,0,0,0,0,0,0,0,0]
[null,null,6,"65 years or more",{"$f":"IF(E$68>0,E11/E$68,0)","v":0},0,0,0,0,0,0,0,0,0,0,0,0,0,0,0]
[null,null,7,"NA – Use this where you are coding a secondary source only",{"$f":"IF(E$68>0,E12/E$68,0)","v":0},0,0,0,0,0,0,0,0,0,0,0,0,0,0,0]
[null,null,0,0,{"$f":"IF(E$68>0,E13/E$68,0)","v":0},0,0,0,0,0,0,0,0,0,0,0,0,0,0,0]
[null,null,0,0,{"$f":"IF(E$68>0,E14/E$68,0)","v":0},0,0,0,0,0,0,0,0,0,0,0,0,0,0,0]
[null,null,0,0,{"$f":"IF(E$68>0,E15/E$68,0)","v":0},0,0,0,0,0,0,0,0,0,0,0,0,0,0,0]
[null,null,0,0,{"$f":"IF(E$68>0,E16/E$68,0)","v":0},0,0,0,0,0,0,0,0,0,0,0,0,0,0,0]
[null,null,0,0,{"$f":"IF(E$68>0,E17/E$68,0)","v":0},0,0,0,0,0,0,0,0,0,0,0,0,0,0,0]
[null,null,0,0,{"$f":"IF(E$68>0,E18/E$68,0)","v":0},0,0,0,0,0,0,0,0,0,0,0,0,0,0,0]
[null,null,0,0,{"$f":"IF(E$68>0,E19/E$68,0)","v":0},0,0,0,0,0,0,0,0,0,0,0,0,0,0,0]
[null,null,0,0,{"$f":"IF(E$68>0,E20/E$68,0)","v":0},0,0,0,0,0,0,0,0,0,0,0,0,0,0,0]
[null,null,0,0,{"$f":"IF(E$68>0,E21/E$68,0)","v":0},0,0,0,0,0,0,0,0,0,0,0,0,0,0,0]
[null,null,0,0,{"$f":"IF(E$68>0,E22/E$68,0)","v":0},0,0,0,0,0,0,0,0,0,0,0,0,0,0,0]
[null,null,0,0,{"$f":"IF(E$68>0,E23/E$68,0)","v":0},0,0,0,0,0,0,0,0,0,0,0,0,0,0,0]
[null,null,0,0,{"$f":"IF(E$68>0,E24/E$68,0)","v":0},0,0,0,0,0,0,0,0,0,0,0,0,0,0,0]
[null,null,{"$f":"C25","v":0},0,{"$f":"IF(E$68>0,E25/E$68,0)","v":0},0,0,0,0,0,0,0,0,0,0,0,0,0,0,0]
[null,null,0,0,{"$f":"IF(E$68>0,E26/E$68,0)","v":0},0,0,0,0,0,0,0,0,0,0,0,0,0,0,0]
[null,null,0,0,{"$f":"IF(E$68>0,E27/E$68,0)","v":0},0,0,0,0,0,0,0,0,0,0,0,0,0,0,0]
[null,null,0,0,{"$f":"IF(E$68>0,E28/E$68,0)","v":0},0,0,0,0,0,0,0,0,0,0,0,0,0,0,0]
[null,null,0,0,{"$f":"IF(E$68>0,E29/E$68,0)","v":0},0,0,0,0,0,0,0,0,0,0,0,0,0,0,0]
[null,null,0,0,{"$f":"IF(E$68>0,E30/E$68,0)","v":0},0,0,0,0,0,0,0,0,0,0,0,0,0,0,0]
[null,null,0,0,{"$f":"IF(E$68>0,E31/E$68,0)","v":0},0,0,0,0,0,0,0,0,0,0,0,0,0,0,0]
[null,null,0,0,{"$f":"IF(E$68>0,E32/E$68,0)","v":0},0,0,0,0,0,0,0,0,0,0,0,0,0,0,0]
[null,null,0,0,{"$f":"IF(E$68>0,E33/E$68,0)","v":0},0,0,0,0,0,0,0,0,0,0,0,0,0,0,0]
[null,null,0,0,{"$f":"IF(E$68>0,E34/E$68,0)","v":0},0,0,0,0,0,0,0,0,0,0,0,0,0,0,0]
[null,null,0,0,{"$f":"IF(E$68>0,E35/E$68,0)","v":0},0,0,0,0,0,0,0,0,0,0,0,0,0,0,0]
[null,null,0,0,{"$f":"IF(E$68>0,E36/E$68,0)","v":0},0,0,0,0,0,0,0,0,0,0,0,0,0,0,0]
[null,null,0,0,{"$f":"IF(E$68>0,E37/E$68,0)","v":0},0,0,0,0,0,0,0,0,0,0,0,0,0,0,0]
[null,null,0,0,{"$f":"IF(E$68>0,E38/E$68,0)","v":0},0,0,0,0,0,0,0,0,0,0,0,0,0,0,0]
[null,null,0,0,{"$f":"IF(E$68>0,E39/E$68,0)","v":0},0,0,0,0,0,0,0,0,0,0,0,0,0,0,0]
[null,null,0,0,{"$f":"IF(E$68>0,E40/E$68,0)","v":0},0,0,0,0,0,0,0,0,0,0,0,0,0,0,0]
[null,null,0,0,{"$f":"IF(E$68>0,E41/E$68,0)","v":0},0,0,0,0,0,0,0,0,0,0,0,0,0,0,0]
[null,null,0,0,{"$f":"IF(E$68>0,E42/E$68,0)","v":0},0,0,0,0,0,0,0,0,0,0,0,0,0,0,0]
[null,null,0,0,{"$f":"IF(E$68>0,E43/E$68,0)","v":0},0,0,0,0,0,0,0,0,0,0,0,0,0,0,0]
[null,null,0,0,{"$f":"IF(E$68>0,E44/E$68,0)","v":0},0,0,0,0,0,0,0,0,0,0,0,0,0,0,0]
[null,null,{"$f":"C45","v":0},0,{"$f":"IF(E$68>0,E45/E$68,0)","v":0},0,0,0,0,0,0,0,0,0,0,0,0,0,0,0]
[null,null,0,0,{"$f":"IF(E$68>0,E46/E$68,0)","v":0},0,0,0,0,0,0,0,0,0,0,0,0,0,0,0]
[null,null,0,0,{"$f":"IF(E$68>0,E47/E$68,0)","v":0},0,0,0,0,0,0,0,0,0,0,0,0,0,0,0]
[null,null,0,0,{"$f":"IF(E$68>0,E48/E$68,0)","v":0},0,0,0,0,0,0,0,0,0,0,0,0,0,0,0]
[null,null,0,0,{"$f":"IF(E$68>0,E49/E$68,0)","v":0},0,0,0,0,0,0,0,0,0,0,0,0,0,0,0]
[null,null,0,0,{"$f":"IF(E$68>0,E50/E$68,0)","v":0},0,0,0,0,0,0,0,0,0,0,0,0,0,0,0]
[null,null,0,0,{"$f":"IF(E$68>0,E51/E$68,0)","v":0},0,0,0,0,0,0,0,0,0,0,0,0,0,0,0]
[null,null,0,0,{"$f":"IF(E$68>0,E52/E$68,0)","v":0},0,0,0,0,0,0,0,0,0,0,0,0,0,0,0]
[null,null,0,0,{"$f":"IF(E$68>0,E53/E$68,0)","v":0},0,0,0,0,0,0,0,0,0,0,0,0,0,0,0]
[null,null,0,0,{"$f":"IF(E$68>0,E54/E$68,0)","v":0},0,0,0,0,0,0,0,0,0,0,0,0,0,0,0]
[null,null,0,0,{"$f":"IF(E$68>0,E55/E$68,0)","v":0},0,0,0,0,0,0,0,0,0,0,0,0,0,0,0]
[null,null,0,0,{"$f":"IF(E$68>0,E56/E$68,0)","v":0},0,0,0,0,0,0,0,0,0,0,0,0,0,0,0]
[null,null,0,0,{"$f":"IF(E$68>0,E57/E$68,0)","v":0},0,0,0,0,0,0,0,0,0,0,0,0,0,0,0]
[null,null,0,0,{"$f":"IF(E$68>0,E58/E$68,0)","v":0},0,0,0,0,0,0,0,0,0,0,0,0,0,0,0]
[null,null,0,0,{"$f":"IF(E$68>0,E59/E$68,0)","v":0},0,0,0,0,0,0,0,0,0,0,0,0,0,0,0]
[null,null,0,0,{"$f":"IF(E$68>0,E60/E$68,0)","v":0},0,0,0,0,0,0,0,0,0,0,0,0,0,0,0]
[null,null,0,0,{"$f":"IF(E$68>0,E61/E$68,0)","v":0},0,0,0,0,0,0,0,0,0,0,0,0,0,0,0]
[null,null,0,0,{"$f":"IF(E$68>0,E62/E$68,0)","v":0},0,0,0,0,0,0,0,0,0,0,0,0,0,0,0]
[]
[]
[]
[]
[]
[]
[]
[]
[]
[]
[]
[]
[]
[]
[]
[]
[]
[]
[]
[]
["COUNT"]
[null,null,null,null,{"$f":"E3","v":"Female"},"Male",0,0,0,0,0,0,0,0,0,0,0,0,0,0]
[null,null,null,null,{"$f":"E4","v":0},0,0,0,0,0,0,0,0,0,0,0,0,0,0,0]
[null,null,{"$f":"C5","v":0},"Do not know: (e.g., the person may not be seen clearly)",30,100,0,0,0,0]
[null,null,1,"12 years or under",0,0,0,0,0,0]
[null,null,2,"13-18",0,0,0,0,0,0]
[null,null,3,"19-34",6,7,0,0,0,0]
[null,null,4,"35-49",0,3,0,0,0,0]
[null,null,5,"50-64",2,3,0,0,0,0]
[null,null,6,"65 years or more",0,0,0,0,0,0]
[null,null,7,"NA – Use this where you are coding a secondary source only",0,0,0,0,0,0]
[null,null,0,0,0,0,0,0,0,0]
[null,null,0,0,0,0,0,0,0,0]
[null,null,0,0,0,0,0,0,0,0]
[null,null,0,0,0,0,0,0,0,0]
[null,null,0,0,0,0,0,0,0,0]
[null,null,0,0,0,0,0,0,0,0]
[null,null,0,0,0,0,0,0,0,0]
[null,null,0,0,0,0,0,0,0,0]
[null,null,0,0,0,0,0,0,0,0]
[null,null,0,0,0,0,0,0,0,0]
[null,null,0,0,0,0,0,0,0,0]
[null,null,0,0,0,0,0,0,0,0]
[null,null,{"$f":"C25","v":0},0,0,0,0,0,0,0]
[null,null,0,0,0,0,0,0,0,0]
[null,null,0,0,0,0,0,0,0,0]
[null,null,0,0,0,0,0,0,0,0]
[null,null,0,0,0,0,0,0,0,0]
[null,null,0,0,0,0,0,0,0,0]
[null,null,0,0,0,0,0,0,0,0]
[null,null,0,0,0,0,0,0,0,0]
[null,null,0,0,0,0,0,0,0,0]
[null,null,0,0,0,0,0,0,0,0]
[null,null,0,0,0,0,0,0,0,0]
[null,null,0,0,0,0,0,0,0,0]
[null,null,0,0,0,0,0,0,0,0]
[null,null,0,0,0,0,0,0,0,0]
[null,null,0,0,0,0,0,0,0,0]
[null,null,0,0,0,0,0,0,0,0]
[null,null,0,0,0,0,0,0,0,0]
[null,null,0,0,0,0,0,0,0,0]
[null,null,0,0,0,0,0,0,0,0]
[null,null,0,0,0,0,0,0,0,0]
[null,null,{"$f":"C45","v":0},0,0,0,0,0,0,0]
[null,null,0,0,0,0,0,0,0,0]
[null,null,0,0,0,0,0,0,0,0]
[null,null,0,0,0,0,0,0,0,0]
[null,null,0,0,0,0,0,0,0,0]
[null,null,0,0,0,0,0,0,0,0]
[null,null,0,0,0,0,0,0,0,0]
[null,null,0,0,0,0,0,0,0,0]
[null,null,0,0,0,0,0,0,0,0]
[null,null,0,0,0,0,0,0,0,0]
[null,null,0,0,0,0,0,0,0,0]
[null,null,0,0,0,0,0,0,0,0]
[null,null,0,0]
[null,null,0,0]
[null,null,0,0]

{"sheet":"18cF - Age","index":72,"n_rows":13,"n_cols":14,"rows_kept":13,"cut":false,"hidden":false,"merged":[[1,5,1,12],[2,5,2,6],[2,7,2,8],[2,9,2,10],[2,11,2,13]]}
["Age of news subjects in newspapers, by sex"]
[]
[null,null,null,null,null,1995,null,2000,null,2005,null,2010]
[null,null,null,null,null,"%F","%M","%F","%M","%F","%M","%F","%M","N"]
[]
[null,null,null,null,{"$f":"'18c'!D6","v":"12 years or under"},0,0,0,0,0.41,0.59,{"$f":"'18c'!AT6","v":0},{"$f":"'18c'!AU6","v":0},{"$f":"'18c'!E152+'18c'!F152","v":0}]
[null,null,null,null,{"$f":"'18c'!D7","v":"13-18"},0,0,0,0,0.38,0.62,{"$f":"'18c'!AT7","v":0},{"$f":"'18c'!AU7","v":0},{"$f":"'18c'!E153+'18c'!F153","v":0}]
[null,null,null,null,{"$f":"'18c'!D8","v":"19-34"},0,0,0,0,0.36,0.64,{"$f":"'18c'!AT8","v":0.46153846153846179},{"$f":"'18c'!AU8","v":0.5384615384615381},{"$f":"'18c'!E154+'18c'!F154","v":13}]
[null,null,null,null,{"$f":"'18c'!D9","v":"35-49"},0,0,0,0,0.33,0.67,{"$f":"'18c'!AT9","v":0},{"$f":"'18c'!AU9","v":1},{"$f":"'18c'!E155+'18c'!F155","v":3}]
[null,null,null,null,{"$f":"'18c'!D10","v":"50-64"},0,0,0,0,0.22,0.78,{"$f":"'18c'!AT10","v":0.39999999999999947},{"$f":"'18c'!AU10","v":0.60000000000000053},{"$f":"'18c'!E156+'18c'!F156","v":5}]
[null,null,null,null,{"$f":"'18c'!D11","v":"65 years or more"},0,0,0,0,0.43,0.56999999999999995,{"$f":"'18c'!AT11","v":0},{"$f":"'18c'!AU11","v":0},{"$f":"'18c'!E157+'18c'!F157","v":0}]
[]
[null,null,null,null,"Total",null,null,null,null,null,null,{"$f":"'18c'!AT68","v":0.38095238095238099},{"$f":"'18c'!AU68","v":0.61904761904761907},{"$f":"SUM(N6:N11)","v":21}]

{"sheet":"18d","index":73,"n_rows":205,"n_cols":53,"rows_kept":205,"cut":false,"hidden":true,"merged":[[1,4,1,5],[1,6,1,7]]}
["Age of news subjects by broadcast, by sex"]
[null,null,null,null,"RADIO",null,"TELEVISION",null,null,null,null,null,null,null,null,null,null,null,null,null,null,null,null,null,null,null,null,null,null,null,null,null,null,null,null,null,null,null,null,null,null,null,null,null,null,{"$f":"E2","v":"RADIO"},0,"TELEVISION",0,0,0,0,0]
[null,null,null,null,"Female","Male","Female","Male",null,null,null,null,null,null,null,null,null,null,null,null,null,null,null,null,null,null,null,null,null,null,null,null,null,null,null,null,null,null,null,null,null,null,null,null,null,"Female","Male","Female","Male",0,0,0,0]
[null,null,null,null,null,null,null,null,null,null,null,null,null,null,null,null,null,null,null,null,null,null,null,null,null,null,null,null,null,null,null,null,null,null,null,null,null,null,null,null,null,null,null,null,"TOTAL",0,0,0,0,0,0,0,0]
[null,null,0,"Do not know: (e.g., the person may not be seen clearly)",null,null,2.55000009201467E-2,2.55000009201467E-2,null,null,null,null,null,null,null,null,null,null,null,null,null,null,null,null,null,null,null,null,null,null,null,null,null,null,null,null,null,null,null,null,null,null,null,null,{"$f":"SUM(E5:O5)","v":5.1000001840293401E-2},{"$f":"IF((E5+F5)>0,E5/(E5+F5),0)","v":0},{"$f":"IF((E5+F5)>0,F5/(E5+F5),0)","v":0},{"$f":"IF((G5+H5)>0,G5/(G5+H5),0)","v":0.5},{"$f":"IF((G5+H5)>0,H5/(G5+H5),0)","v":0.5},{"$f":"IF((I5+J5)>0,I5/(I5+J5),0)","v":0},{"$f":"IF((I5+J5)>0,J5/(I5+J5),0)","v":0},{"$f":"IF((K5+L5)>0,K5/(K5+L5),0)","v":0},{"$f":"IF((K5+L5)>0,L5/(K5+L5),0)","v":0}]
[null,null,1,"12 years or under",null,null,5.1000001840293399E-3,2.0400000736117401E-2,null,null,null,null,null,null,null,null,null,null,null,null,null,null,null,null,null,null,null,null,null,null,null,null,null,null,null,null,null,null,null,null,null,null,null,null,2.5500000920146742E-2,0,0,0.19999999999999968,0.80000000000000027,0,0,0,0]
[null,null,2,"13-18",null,null,1.5300000552088E-2,1.0200000368058701E-2,null,null,null,null,null,null,null,null,null,null,null,null,null,null,null,null,null,null,null,null,null,null,null,null,null,null,null,null,null,null,null,null,null,null,null,null,2.55000009201467E-2,0,0,0.5999999999999992,0.4000000000000008,0,0,0,0]
[null,null,3,"19-34",null,null,7.1400002576410798E-2,4.0800001472234698E-2,null,null,null,null,null,null,null,null,null,null,null,null,null,null,null,null,null,null,null,null,null,null,null,null,null,null,null,null,null,null,null,null,null,null,null,null,0.1122000040486455,0,0,0.63636363636363658,0.36363636363636337,0,0,0,0]
[null,null,4,"35-49",null,null,5.61000020243227E-2,0.132600004784763,null,null,null,null,null,null,null,null,null,null,null,null,null,null,null,null,null,null,null,null,null,null,null,null,null,null,null,null,null,null,null,null,null,null,null,null,0.18870000680908569,0,0,0.29729729729729693,0.70270270270270307,0,0,0,0]
[null,null,5,"50-64",null,null,4.0800001472234698E-2,0.188700006809086,null,null,null,null,null,null,null,null,null,null,null,null,null,null,null,null,null,null,null,null,null,null,null,null,null,null,null,null,null,null,null,null,null,null,null,null,0.22950000828132069,0,0,0.17777777777777737,0.82222222222222263,0,0,0,0]
[null,null,6,"65 years or more",null,null,1.5300000552088E-2,2.0400000736117401E-2,null,null,null,null,null,null,null,null,null,null,null,null,null,null,null,null,null,null,null,null,null,null,null,null,null,null,null,null,null,null,null,null,null,null,null,null,3.5700001288205399E-2,0,0,0.42857142857142777,0.57142857142857229,0,0,0,0]
[null,null,7,"NA – Use this where you are coding a secondary source only",null,null,null,null,null,null,null,null,null,null,null,null,null,null,null,null,null,null,null,null,null,null,null,null,null,null,null,null,null,null,null,null,null,null,null,null,null,null,null,null,0,0,0,0,0,0,0,0,0]
[null,null,null,null,null,null,null,null,null,null,null,null,null,null,null,null,null,null,null,null,null,null,null,null,null,null,null,null,null,null,null,null,null,null,null,null,null,null,null,null,null,null,null,null,0,0,0,0,0,0,0,0,0]
[null,null,null,null,null,null,null,null,null,null,null,null,null,null,null,null,null,null,null,null,null,null,null,null,null,null,null,null,null,null,null,null,null,null,null,null,null,null,null,null,null,null,null,null,0,0,0,0,0,0,0,0,0]
[null,null,null,null,null,null,null,null,null,null,null,null,null,null,null,null,null,null,null,null,null,null,null,null,null,null,null,null,null,null,null,null,null,null,null,null,null,null,null,null,null,null,null,null,0,0,0,0,0,0,0,0,0]
[null,null,null,null,null,null,null,null,null,null,null,null,null,null,null,null,null,null,null,null,null,null,null,null,null,null,null,null,null,null,null,null,null,null,null,null,null,null,null,null,null,null,null,null,0,0,0,0,0,0,0,0,0]
[null,null,null,null,null,null,null,null,null,null,null,null,null,null,null,null,null,null,null,null,null,null,null,null,null,null,null,null,null,null,null,null,null,null,null,null,null,null,null,null,null,null,null,null,0,0,0,0,0,0,0,0,0]
[null,null,null,null,null,null,null,null,null,null,null,null,null,null,null,null,null,null,null,null,null,null,null,null,null,null,null,null,null,null,null,null,null,null,null,null,null,null,null,null,null,null,null,null,0,0,0,0,0,0,0,0,0]
[null,null,null,null,null,null,null,null,null,null,null,null,null,null,null,null,null,null,null,null,null,null,null,null,null,null,null,null,null,null,null,null,null,null,null,null,null,null,null,null,null,null,null,null,0,0,0,0,0,0,0,0,0]
[null,null,null,null,null,null,null,null,null,null,null,null,null,null,null,null,null,null,null,null,null,null,null,null,null,null,null,null,null,null,null,null,null,null,null,null,null,null,null,null,null,null,null,null,0,0,0,0,0,0,0,0,0]
[null,null,null,null,null,null,null,null,null,null,null,null,null,null,null,null,null,null,null,null,null,null,null,null,null,null,null,null,null,null,null,null,null,null,null,null,null,null,null,null,null,null,null,null,0,0,0,0,0,0,0,0,0]
[null,null,null,null,null,null,null,null,null,null,null,null,null,null,null,null,null,null,null,null,null,null,null,null,null,null,null,null,null,null,null,null,null,null,null,null,null,null,null,null,null,null,null,null,0,0,0,0,0,0,0,0,0]
[null,null,null,null,null,null,null,null,null,null,null,null,null,null,null,null,null,null,null,null,null,null,null,null,null,null,null,null,null,null,null,null,null,null,null,null,null,null,null,null,null,null,null,null,0,0,0,0,0,0,0,0,0]
[null,null,null,null,null,null,null,null,null,null,null,null,null,null,null,null,null,null,null,null,null,null,null,null,null,null,null,null,null,null,null,null,null,null,null,null,null,null,null,null,null,null,null,null,0,0,0,0,0,0,0,0,0]
[null,null,null,null,null,null,null,null,null,null,null,null,null,null,null,null,null,null,null,null,null,null,null,null,null,null,null,null,null,null,null,null,null,null,null,null,null,null,null,null,null,null,null,null,0,0,0,0,0,0,0,0,0]
[null,null,null,null,null,null,null,null,null,null,null,null,null,null,null,null,null,null,null,null,null,null,null,null,null,null,null,null,null,null,null,null,null,null,null,null,null,null,null,null,null,null,null,null,0,0,0,0,0,0,0,0,0]
[null,null,null,null,null,null,null,null,null,null,null,null,null,null,null,null,null,null,null,null,null,null,null,null,null,null,null,null,null,null,null,null,null,null,null,null,null,null,null,null,null,null,null,null,0,0,0,0,0,0,0,0,0]
[null,null,null,null,null,null,null,null,null,null,null,null,null,null,null,null,null,null,null,null,null,null,null,null,null,null,null,null,null,null,null,null,null,null,null,null,null,null,null,null,null,null,null,null,0,0,0,0,0,0,0,0,0]
[null,null,null,null,null,null,null,null,null,null,null,null,null,null,null,null,null,null,null,null,null,null,null,null,null,null,null,null,null,null,null,null,null,null,null,null,null,null,null,null,null,null,null,null,0,0,0,0,0,0,0,0,0]
[null,null,null,null,null,null,null,null,null,null,null,null,null,null,null,null,null,null,null,null,null,null,null,null,null,null,null,null,null,null,null,null,null,null,null,null,null,null,null,null,null,null,null,null,0,0,0,0,0,0,0,0,0]
[null,null,null,null,null,null,null,null,null,null,null,null,null,null,null,null,null,null,null,null,null,null,null,null,null,null,null,null,null,null,null,null,null,null,null,null,null,null,null,null,null,null,null,null,0,0,0,0,0,0,0,0,0]
[null,null,null,null,null,null,null,null,null,null,null,null,null,null,null,null,null,null,null,null,null,null,null,null,null,null,null,null,null,null,null,null,null,null,null,null,null,null,null,null,null,null,null,null,0,0,0,0,0,0,0,0,0]
[null,null,null,null,null,null,null,null,null,null,null,null,null,null,null,null,null,null,null,null,null,null,null,null,null,null,null,null,null,null,null,null,null,null,null,null,null,null,null,null,null,null,null,null,0,0,0,0,0,0,0,0,0]
[null,null,null,null,null,null,null,null,null,null,null,null,null,null,null,null,null,null,null,null,null,null,null,null,null,null,null,null,null,null,null,null,null,null,null,null,null,null,null,null,null,null,null,null,0,0,0,0,0,0,0,0,0]
[null,null,null,null,null,null,null,null,null,null,null,null,null,null,null,null,null,null,null,null,null,null,null,null,null,null,null,null,null,null,null,null,null,null,null,null,null,null,null,null,null,null,null,null,0,0,0,0,0,0,0,0,0]
[null,null,null,null,null,null,null,null,null,null,null,null,null,null,null,null,null,null,null,null,null,null,null,null,null,null,null,null,null,null,null,null,null,null,null,null,null,null,null,null,null,null,null,null,0,0,0,0,0,0,0,0,0]
[null,null,null,null,null,null,null,null,null,null,null,null,null,null,null,null,null,null,null,null,null,null,null,null,null,null,null,null,null,null,null,null,null,null,null,null,null,null,null,null,null,null,null,null,{"$f":"SUM(E37:O37)","v":0},{"$f":"IF((E37+F37)>0,E37/(E37+F37),0)","v":0},{"$f":"IF((E37+F37)>0,F37/(E37+F37),0)","v":0},{"$f":"IF((G37+H37)>0,G37/(G37+H37),0)","v":0},{"$f":"IF((G37+H37)>0,H37/(G37+H37),0)","v":0},{"$f":"IF((I37+J37)>0,I37/(I37+J37),0)","v":0},{"$f":"IF((I37+J37)>0,J37/(I37+J37),0)","v":0},{"$f":"IF((K37+L37)>0,K37/(K37+L37),0)","v":0},{"$f":"IF((K37+L37)>0,L37/(K37+L37),0)","v":0}]
[null,null,null,null,null,null,null,null,null,null,null,null,null,null,null,null,null,null,null,null,null,null,null,null,null,null,null,null,null,null,null,null,null,null,null,null,null,null,null,null,null,null,null,null,0,0,0,0,0,0,0,0,0]
[null,null,null,null,null,null,null,null,null,null,null,null,null,null,null,null,null,null,null,null,null,null,null,null,null,null,null,null,null,null,null,null,null,null,null,null,null,null,null,null,null,null,null,null,0,0,0,0,0,0,0,0,0]
[null,null,null,null,null,null,null,null,null,null,null,null,null,null,null,null,null,null,null,null,null,null,null,null,null,null,null,null,null,null,null,null,null,null,null,null,null,null,null,null,null,null,null,null,0,0,0,0,0,0,0,0,0]
[null,null,null,null,null,null,null,null,null,null,null,null,null,null,null,null,null,null,null,null,null,null,null,null,null,null,null,null,null,null,null,null,null,null,null,null,null,null,null,null,null,null,null,null,0,0,0,0,0,0,0,0,0]
[null,null,null,null,null,null,null,null,null,null,null,null,null,null,null,null,null,null,null,null,null,null,null,null,null,null,null,null,null,null,null,null,null,null,null,null,null,null,null,null,null,null,null,null,0,0,0,0,0,0,0,0,0]
[null,null,null,null,null,null,null,null,null,null,null,null,null,null,null,null,null,null,null,null,null,null,null,null,null,null,null,null,null,null,null,null,null,null,null,null,null,null,null,null,null,null,null,null,0,0,0,0,0,0,0,0,0]
[null,null,null,null,null,null,null,null,null,null,null,null,null,null,null,null,null,null,null,null,null,null,null,null,null,null,null,null,null,null,null,null,null,null,null,null,null,null,null,null,null,null,null,null,0,0,0,0,0,0,0,0,0]
[null,null,null,null,null,null,null,null,null,null,null,null,null,null,null,null,null,null,null,null,null,null,null,null,null,null,null,null,null,null,null,null,null,null,null,null,null,null,null,null,null,null,null,null,0,0,0,0,0,0,0,0,0]
[null,null,null,null,null,null,null,null,null,null,null,null,null,null,null,null,null,null,null,null,null,null,null,null,null,null,null,null,null,null,null,null,null,null,null,null,null,null,null,null,null,null,null,null,0,0,0,0,0,0,0,0,0]
[null,null,null,null,null,null,null,null,null,null,null,null,null,null,null,null,null,null,null,null,null,null,null,null,null,null,null,null,null,null,null,null,null,null,null,null,null,null,null,null,null,null,null,null,0,0,0,0,0,0,0,0,0]
[null,null,null,null,null,null,null,null,null,null,null,null,null,null,null,null,null,null,null,null,null,null,null,null,null,null,null,null,null,null,null,null,null,null,null,null,null,null,null,null,null,null,null,null,0,0,0,0,0,0,0,0,0]
[null,null,null,null,null,null,null,null,null,null,null,null,null,null,null,null,null,null,null,null,null,null,null,null,null,null,null,null,null,null,null,null,null,null,null,null,null,null,null,null,null,null,null,null,0,0,0,0,0,0,0,0,0]
[null,null,null,null,null,null,null,null,null,null,null,null,null,null,null,null,null,null,null,null,null,null,null,null,null,null,null,null,null,null,null,null,null,null,null,null,null,null,null,null,null,null,null,null,0,0,0,0,0,0,0,0,0]
[null,null,null,null,null,null,null,null,null,null,null,null,null,null,null,null,null,null,null,null,null,null,null,null,null,null,null,null,null,null,null,null,null,null,null,null,null,null,null,null,null,null,null,null,0,0,0,0,0,0,0,0,0]
[null,null,null,null,null,null,null,null,null,null,null,null,null,null,null,null,null,null,null,null,null,null,null,null,null,null,null,null,null,null,null,null,null,null,null,null,null,null,null,null,null,null,null,null,0,0,0,0,0,0,0,0,0]
[null,null,null,null,null,null,null,null,null,null,null,null,null,null,null,null,null,null,null,null,null,null,null,null,null,null,null,null,null,null,null,null,null,null,null,null,null,null,null,null,null,null,null,null,0,0,0,0,0,0,0,0,0]
[null,null,null,null,null,null,null,null,null,null,null,null,null,null,null,null,null,null,null,null,null,null,null,null,null,null,null,null,null,null,null,null,null,null,null,null,null,null,null,null,null,null,null,null,0,0,0,0,0,0,0,0,0]
[null,null,null,null,null,null,null,null,null,null,null,null,null,null,null,null,null,null,null,null,null,null,null,null,null,null,null,null,null,null,null,null,null,null,null,null,null,null,null,null,null,null,null,null,0,0,0,0,0,0,0,0,0]
[null,null,null,null,null,null,null,null,null,null,null,null,null,null,null,null,null,null,null,null,null,null,null,null,null,null,null,null,null,null,null,null,null,null,null,null,null,null,null,null,null,null,null,null,0,0,0,0,0,0,0,0,0]
[null,null,null,null,null,null,null,null,null,null,null,null,null,null,null,null,null,null,null,null,null,null,null,null,null,null,null,null,null,null,null,null,null,null,null,null,null,null,null,null,null,null,null,null,0,0,0,0,0,0,0,0,0]
[null,null,null,null,null,null,null,null,null,null,null,null,null,null,null,null,null,null,null,null,null,null,null,null,null,null,null,null,null,null,null,null,null,null,null,null,null,null,null,null,null,null,null,null,0,0,0,0,0,0,0,0,0]
[null,null,null,null,null,null,null,null,null,null,null,null,null,null,null,null,null,null,null,null,null,null,null,null,null,null,null,null,null,null,null,null,null,null,null,null,null,null,null,null,null,null,null,null,0,0,0,0,0,0,0,0,0]
[null,null,null,null,null,null,null,null,null,null,null,null,null,null,null,null,null,null,null,null,null,null,null,null,null,null,null,null,null,null,null,null,null,null,null,null,null,null,null,null,null,null,null,null,0,0,0,0,0,0,0,0,0]
[null,null,null,null,null,null,null,null,null,null,null,null,null,null,null,null,null,null,null,null,null,null,null,null,null,null,null,null,null,null,null,null,null,null,null,null,null,null,null,null,null,null,null,null,0,0,0,0,0,0,0,0,0]
[null,null,null,null,null,null,null,null,null,null,null,null,null,null,null,null,null,null,null,null,null,null,null,null,null,null,null,null,null,null,null,null,null,null,null,null,null,null,null,null,null,null,null,null,0,0,0,0,0,0,0,0,0]
[null,null,null,null,null,null,null,null,null,null,null,null,null,null,null,null,null,null,null,null,null,null,null,null,null,null,null,null,null,null,null,null,null,null,null,null,null,null,null,null,null,null,null,null,0,0,0,0,0,0,0,0,0]
[null,null,null,null,null,null,null,null,null,null,null,null,null,null,null,null,null,null,null,null,null,null,null,null,null,null,null,null,null,null,null,null,null,null,null,null,null,null,null,null,null,null,null,null,0,0,0,0,0,0,0,0,0]
[null,null,null,null,null,null,null,null,null,null,null,null,null,null,null,null,null,null,null,null,null,null,null,null,null,null,null,null,null,null,null,null,null,null,null,null,null,null,null,null,null,null,null,null,0,0,0,0,0,0,0,0,0]
[null,null,null,null,null,null,null,null,null,null,null,null,null,null,null,null,null,null,null,null,null,null,null,null,null,null,null,null,null,null,null,null,null,null,null,null,null,null,null,null,null,null,null,null,0,0,0,0,0,0,0,0,0]
[null,null,null,null,null,null,null,null,null,null,null,null,null,null,null,null,null,null,null,null,null,null,null,null,null,null,null,null,null,null,null,null,null,null,null,null,null,null,null,null,null,null,null,null,0,0,0,0,0,0,0,0,0]
[null,null,null,"TOTAL",{"$f":"SUM(E6:E11)","v":0},{"$f":"SUM(F6:F11)","v":0},0.20400000736117352,0.41310001490637721,0,0,0,0,0,0,0,0,0,0,0,0,null,null,null,null,null,null,null,null,null,null,null,null,null,null,null,null,null,null,null,null,null,null,null,null,0.61710002226755067,0,0,0.33057851239669378,0.66942148760330633,0,0,0,0]
[]
[null,null,{"$f":"C5","v":0},"Do not know: (e.g., the person may not be seen clearly)",{"$f":"IF(E$68>0,E5/E$68,0)","v":0},0,0.12500000000000006,6.1728395061728294E-2,0,0,0,0,0,0,0,0,0,0,0,0]
[null,null,1,"12 years or under",{"$f":"IF(E$68>0,E6/E$68,0)","v":0},0,2.5000000000000008E-2,4.9382716049382734E-2,0,0,0,0,0,0,0,0,0,0,0,0]
[null,null,2,"13-18",{"$f":"IF(E$68>0,E7/E$68,0)","v":0},0,7.4999999999999928E-2,2.4691358024691367E-2,0,0,0,0,0,0,0,0,0,0,0,0]
[null,null,3,"19-34",{"$f":"IF(E$68>0,E8/E$68,0)","v":0},0,0.35000000000000031,9.8765432098765218E-2,0,0,0,0,0,0,0,0,0,0,0,0]
[null,null,4,"35-49",{"$f":"IF(E$68>0,E9/E$68,0)","v":0},0,0.27499999999999991,0.32098765432098753,0,0,0,0,0,0,0,0,0,0,0,0]
[null,null,5,"50-64",{"$f":"IF(E$68>0,E10/E$68,0)","v":0},0,0.19999999999999998,0.45679012345679038,0,0,0,0,0,0,0,0,0,0,0,0]
[null,null,6,"65 years or more",{"$f":"IF(E$68>0,E11/E$68,0)","v":0},0,7.4999999999999928E-2,4.9382716049382734E-2,0,0,0,0,0,0,0,0,0,0,0,0]
[null,null,7,"NA – Use this where you are coding a secondary source only",{"$f":"IF(E$68>0,E12/E$68,0)","v":0},0,0,0,0,0,0,0,0,0,0,0,0,0,0,0]
[null,null,0,0,{"$f":"IF(E$68>0,E13/E$68,0)","v":0},0,0,0,0,0,0,0,0,0,0,0,0,0,0,0]
[null,null,0,0,{"$f":"IF(E$68>0,E14/E$68,0)","v":0},0,0,0,0,0,0,0,0,0,0,0,0,0,0,0]
[null,null,0,0,{"$f":"IF(E$68>0,E15/E$68,0)","v":0},0,0,0,0,0,0,0,0,0,0,0,0,0,0,0]
[null,null,0,0,{"$f":"IF(E$68>0,E16/E$68,0)","v":0},0,0,0,0,0,0,0,0,0,0,0,0,0,0,0]
[null,null,0,0,{"$f":"IF(E$68>0,E17/E$68,0)","v":0},0,0,0,0,0,0,0,0,0,0,0,0,0,0,0]
[null,null,0,0,{"$f":"IF(E$68>0,E18/E$68,0)","v":0},0,0,0,0,0,0,0,0,0,0,0,0,0,0,0]
[null,null,0,0,{"$f":"IF(E$68>0,E19/E$68,0)","v":0},0,0,0,0,0,0,0,0,0,0,0,0,0,0,0]
[null,null,0,0,{"$f":"IF(E$68>0,E20/E$68,0)","v":0},0,0,0,0,0,0,0,0,0,0,0,0,0,0,0]
[null,null,0,0,{"$f":"IF(E$68>0,E21/E$68,0)","v":0},0,0,0,0,0,0,0,0,0,0,0,0,0,0,0]
[null,null,0,0,{"$f":"IF(E$68>0,E22/E$68,0)","v":0},0,0,0,0,0,0,0,0,0,0,0,0,0,0,0]
[null,null,0,0,{"$f":"IF(E$68>0,E23/E$68,0)","v":0},0,0,0,0,0,0,0,0,0,0,0,0,0,0,0]
[null,null,0,0,{"$f":"IF(E$68>0,E24/E$68,0)","v":0},0,0,0,0,0,0,0,0,0,0,0,0,0,0,0]
[null,null,{"$f":"C25","v":0},0,{"$f":"IF(E$68>0,E25/E$68,0)","v":0},0,0,0,0,0,0,0,0,0,0,0,0,0,0,0]
[null,null,0,0,{"$f":"IF(E$68>0,E26/E$68,0)","v":0},0,0,0,0,0,0,0,0,0,0,0,0,0,0,0]
[null,null,0,0,{"$f":"IF(E$68>0,E27/E$68,0)","v":0},0,0,0,0,0,0,0,0,0,0,0,0,0,0,0]
[null,null,0,0,{"$f":"IF(E$68>0,E28/E$68,0)","v":0},0,0,0,0,0,0,0,0,0,0,0,0,0,0,0]
[null,null,0,0,{"$f":"IF(E$68>0,E29/E$68,0)","v":0},0,0,0,0,0,0,0,0,0,0,0,0,0,0,0]
[null,null,0,0,{"$f":"IF(E$68>0,E30/E$68,0)","v":0},0,0,0,0,0,0,0,0,0,0,0,0,0,0,0]
[null,null,0,0,{"$f":"IF(E$68>0,E31/E$68,0)","v":0},0,0,0,0,0,0,0,0,0,0,0,0,0,0,0]
[null,null,0,0,{"$f":"IF(E$68>0,E32/E$68,0)","v":0},0,0,0,0,0,0,0,0,0,0,0,0,0,0,0]
[null,null,0,0,{"$f":"IF(E$68>0,E33/E$68,0)","v":0},0,0,0,0,0,0,0,0,0,0,0,0,0,0,0]
[null,null,0,0,{"$f":"IF(E$68>0,E34/E$68,0)","v":0},0,0,0,0,0,0,0,0,0,0,0,0,0,0,0]
[null,null,0,0,{"$f":"IF(E$68>0,E35/E$68,0)","v":0},0,0,0,0,0,0,0,0,0,0,0,0,0,0,0]
[null,null,0,0,{"$f":"IF(E$68>0,E36/E$68,0)","v":0},0,0,0,0,0,0,0,0,0,0,0,0,0,0,0]
[null,null,0,0,{"$f":"IF(E$68>0,E37/E$68,0)","v":0},0,0,0,0,0,0,0,0,0,0,0,0,0,0,0]
[null,null,0,0,{"$f":"IF(E$68>0,E38/E$68,0)","v":0},0,0,0,0,0,0,0,0,0,0,0,0,0,0,0]
[null,null,0,0,{"$f":"IF(E$68>0,E39/E$68,0)","v":0},0,0,0,0,0,0,0,0,0,0,0,0,0,0,0]
[null,null,0,0,{"$f":"IF(E$68>0,E40/E$68,0)","v":0},0,0,0,0,0,0,0,0,0,0,0,0,0,0,0]
[null,null,0,0,{"$f":"IF(E$68>0,E41/E$68,0)","v":0},0,0,0,0,0,0,0,0,0,0,0,0,0,0,0]
[null,null,0,0,{"$f":"IF(E$68>0,E42/E$68,0)","v":0},0,0,0,0,0,0,0,0,0,0,0,0,0,0,0]
[null,null,0,0,{"$f":"IF(E$68>0,E43/E$68,0)","v":0},0,0,0,0,0,0,0,0,0,0,0,0,0,0,0]
[null,null,0,0,{"$f":"IF(E$68>0,E44/E$68,0)","v":0},0,0,0,0,0,0,0,0,0,0,0,0,0,0,0]
[null,null,{"$f":"C45","v":0},0,{"$f":"IF(E$68>0,E45/E$68,0)","v":0},0,0,0,0,0,0,0,0,0,0,0,0,0,0,0]
[null,null,0,0,{"$f":"IF(E$68>0,E46/E$68,0)","v":0},0,0,0,0,0,0,0,0,0,0,0,0,0,0,0]
[null,null,0,0,{"$f":"IF(E$68>0,E47/E$68,0)","v":0},0,0,0,0,0,0,0,0,0,0,0,0,0,0,0]
[null,null,0,0,{"$f":"IF(E$68>0,E48/E$68,0)","v":0},0,0,0,0,0,0,0,0,0,0,0,0,0,0,0]
[null,null,0,0,{"$f":"IF(E$68>0,E49/E$68,0)","v":0},0,0,0,0,0,0,0,0,0,0,0,0,0,0,0]
[null,null,0,0,{"$f":"IF(E$68>0,E50/E$68,0)","v":0},0,0,0,0,0,0,0,0,0,0,0,0,0,0,0]
[null,null,0,0,{"$f":"IF(E$68>0,E51/E$68,0)","v":0},0,0,0,0,0,0,0,0,0,0,0,0,0,0,0]
[null,null,0,0,{"$f":"IF(E$68>0,E52/E$68,0)","v":0},0,0,0,0,0,0,0,0,0,0,0,0,0,0,0]
[null,null,0,0,{"$f":"IF(E$68>0,E53/E$68,0)","v":0},0,0,0,0,0,0,0,0,0,0,0,0,0,0,0]
[null,null,0,0,{"$f":"IF(E$68>0,E54/E$68,0)","v":0},0,0,0,0,0,0,0,0,0,0,0,0,0,0,0]
[null,null,0,0,{"$f":"IF(E$68>0,E55/E$68,0)","v":0},0,0,0,0,0,0,0,0,0,0,0,0,0,0,0]
[null,null,0,0,{"$f":"IF(E$68>0,E56/E$68,0)","v":0},0,0,0,0,0,0,0,0,0,0,0,0,0,0,0]
[null,null,0,0,{"$f":"IF(E$68>0,E57/E$68,0)","v":0},0,0,0,0,0,0,0,0,0,0,0,0,0,0,0]
[null,null,0,0,{"$f":"IF(E$68>0,E58/E$68,0)","v":0},0,0,0,0,0,0,0,0,0,0,0,0,0,0,0]
[null,null,0,0,{"$f":"IF(E$68>0,E59/E$68,0)","v":0},0,0,0,0,0,0,0,0,0,0,0,0,0,0,0]
[null,null,0,0,{"$f":"IF(E$68>0,E60/E$68,0)","v":0},0,0,0,0,0,0,0,0,0,0,0,0,0,0,0]
[null,null,0,0,{"$f":"IF(E$68>0,E61/E$68,0)","v":0},0,0,0,0,0,0,0,0,0,0,0,0,0,0,0]
[null,null,0,0,{"$f":"IF(E$68>0,E62/E$68,0)","v":0},0,0,0,0,0,0,0,0,0,0,0,0,0,0,0]
[]
[]
[]
[]
[]
[]
[]
[]
[]
[]
[]
[]
[]
[]
[]
[]
[]
[]
[]
[]
["COUNT"]
[null,null,null,null,{"$f":"E3","v":"Female"},"Male","Female","Male",0,0,0,0,0,0,0,0,0,0,0,0]
[null,null,null,null,{"$f":"E4","v":0},0,0,0,0,0,0,0,0,0,0,0,0,0,0,0]
[null,null,{"$f":"C5","v":0},"Do not know: (e.g., the person may not be seen clearly)",0,0,5,5,0,0]
[null,null,1,"12 years or under",0,0,1,4,0,0]
[null,null,2,"13-18",0,0,3,2,0,0]
[null,null,3,"19-34",0,0,14,8,0,0]
[null,null,4,"35-49",0,0,11,26,0,0]
[null,null,5,"50-64",0,0,8,37,0,0]
[null,null,6,"65 years or more",0,0,3,4,0,0]
[null,null,7,"NA – Use this where you are coding a secondary source only",0,0,0,0,0,0]
[null,null,0,0,0,0,0,0,0,0]
[null,null,0,0,0,0,0,0,0,0]
[null,null,0,0,0,0,0,0,0,0]
[null,null,0,0,0,0,0,0,0,0]
[null,null,0,0,0,0,0,0,0,0]
[null,null,0,0,0,0,0,0,0,0]
[null,null,0,0,0,0,0,0,0,0]
[null,null,0,0,0,0,0,0,0,0]
[null,null,0,0,0,0,0,0,0,0]
[null,null,0,0,0,0,0,0,0,0]
[null,null,0,0,0,0,0,0,0,0]
[null,null,0,0,0,0,0,0,0,0]
[null,null,{"$f":"C25","v":0},0,0,0,0,0,0,0]
[null,null,0,0,0,0,0,0,0,0]
[null,null,0,0,0,0,0,0,0,0]
[null,null,0,0,0,0,0,0,0,0]
[null,null,0,0,0,0,0,0,0,0]
[null,null,0,0,0,0,0,0,0,0]
[null,null,0,0,0,0,0,0,0,0]
[null,null,0,0,0,0,0,0,0,0]
[null,null,0,0,0,0,0,0,0,0]
[null,null,0,0,0,0,0,0,0,0]
[null,null,0,0,0,0,0,0,0,0]
[null,null,0,0,0,0,0,0,0,0]
[null,null,0,0,0,0,0,0,0,0]
[null,null,0,0,0,0,0,0,0,0]
[null,null,0,0,0,0,0,0,0,0]
[null,null,0,0,0,0,0,0,0,0]
[null,null,0,0,0,0,0,0,0,0]
[null,null,0,0,0,0,0,0,0,0]
[null,null,0,0,0,0,0,0,0,0]
[null,null,0,0,0,0,0,0,0,0]
[null,null,{"$f":"C45","v":0},0,0,0,0,0,0,0]
[null,null,0,0,0,0,0,0,0,0]
[null,null,0,0,0,0,0,0,0,0]
[null,null,0,0,0,0,0,0,0,0]
[null,null,0,0,0,0,0,0,0,0]
[null,null,0,0,0,0,0,0,0,0]
[null,null,0,0,0,0,0,0,0,0]
[null,null,0,0,0,0,0,0,0,0]
[null,null,0,0,0,0,0,0,0,0]
[null,null,0,0,0,0,0,0,0,0]
[null,null,0,0,0,0,0,0,0,0]
[null,null,0,0,0,0,0,0,0,0]
[null,null,0,0]
[null,null,0,0]
[null,null,0,0]

{"sheet":"18dF - Age","index":74,"n_rows":13,"n_cols":22,"rows_kept":13,"cut":false,"hidden":false,"merged":[[2,19,2,21],[1,13,1,21],[1,5,1,12],[2,5,2,6],[2,7,2,8],[2,9,2,10],[2,11,2,12]]}
[{"$f":"'18d'!$A$1","v":"Age of news subjects by broadcast, by sex"}]
[null,null,null,null,null,"RADIO",null,null,null,null,null,null,null,"TELEVISION"]
[null,null,null,null,null,1995,null,2000,null,2005,null,2010,null,1995,null,2000,null,2005,null,2010]
[null,null,null,null,"Topic","%F","%M","%F","%M","%F","%M","%F","%M","%F","%M","%F","%M","%F","%M","%F","%M","N"]
[]
[null,null,null,null,{"$f":"'18d'!D6","v":"12 years or under"},0,0,0,0,0,0,{"$f":"'18d'!AT5","v":0},{"$f":"'18d'!AU5","v":0},0,0,0,0,0.43,0.56999999999999995,{"$f":"'18d'!AV6","v":0.19999999999999968},{"$f":"'18d'!AW6","v":0.80000000000000027},{"$f":"'18d'!G152+'18d'!H152","v":5}]
[null,null,null,null,{"$f":"'18d'!D7","v":"13-18"},0,0,0,0,0,0,{"$f":"'18d'!AT6","v":0},{"$f":"'18d'!AU6","v":0},0,0,0,0,0.4,0.6,{"$f":"'18d'!AV7","v":0.5999999999999992},{"$f":"'18d'!AW7","v":0.4000000000000008},{"$f":"'18d'!G153+'18d'!H153","v":5}]
[null,null,null,null,{"$f":"'18d'!D8","v":"19-34"},0,0,0,0,0,0,{"$f":"'18d'!AT7","v":0},{"$f":"'18d'!AU7","v":0},0,0,0,0,0.35,0.65,{"$f":"'18d'!AV8","v":0.63636363636363658},{"$f":"'18d'!AW8","v":0.36363636363636337},{"$f":"'18d'!G154+'18d'!H154","v":22}]
[null,null,null,null,{"$f":"'18d'!D9","v":"35-49"},0,0,0,0,0,0,{"$f":"'18d'!AT8","v":0},{"$f":"'18d'!AU8","v":0},0,0,0,0,0.25,0.75,{"$f":"'18d'!AV9","v":0.29729729729729693},{"$f":"'18d'!AW9","v":0.70270270270270307},{"$f":"'18d'!G155+'18d'!H155","v":37}]
[null,null,null,null,{"$f":"'18d'!D10","v":"50-64"},0,0,0,0,0,0,{"$f":"'18d'!AT9","v":0},{"$f":"'18d'!AU9","v":0},0,0,0,0,0.15,0.85,{"$f":"'18d'!AV10","v":0.17777777777777737},{"$f":"'18d'!AW10","v":0.82222222222222263},{"$f":"'18d'!G156+'18d'!H156","v":45}]
[null,null,null,null,{"$f":"'18d'!D11","v":"65 years or more"},0,0,0,0,0,0,{"$f":"'18d'!AT10","v":0},{"$f":"'18d'!AU10","v":0},0,0,0,0,0.12,0.88,{"$f":"'18d'!AV11","v":0.42857142857142777},{"$f":"'18d'!AW11","v":0.57142857142857229},{"$f":"'18d'!G157+'18d'!H157","v":7}]
[]
[null,null,null,null,"Total",null,null,null,null,null,null,{"$f":"'18d'!AT68","v":0},{"$f":"'18d'!AU68","v":0},null,null,null,null,null,null,{"$f":"'18d'!AV68","v":0.33057851239669378},{"$f":"'18d'!AW68","v":0.66942148760330633},{"$f":"SUM(V6:V12)","v":121}]

{"sheet":"19a","index":75,"n_rows":205,"n_cols":53,"rows_kept":205,"cut":false,"hidden":true,"merged":[]}
["Proportion of female & male news subjects who are victims"]
[null,null,null,null,null,null,null,null,null,null,null,null,null,null,null,null,null,null,null,null,null,null,null,null,null,null,null,null,null,null,null,null,null,null,null,null,null,null,null,null,null,null,null,null,null,{"$f":"E2","v":0},0,0,0,0,0,0,0]
[null,null,null,null,"Female","Male",null,null,null,null,null,null,null,null,null,null,null,null,null,null,null,null,null,null,null,null,null,null,null,null,null,null,null,null,null,null,null,null,null,null,null,null,null,null,null,"Female","Male",0,0,0,0,0,0]
[null,null,null,null,null,null,null,null,null,null,null,null,null,null,null,null,null,null,null,null,null,null,null,null,null,null,null,null,null,null,null,null,null,null,null,null,null,null,null,null,null,null,null,null,"TOTAL",0,0,0,0,0,0,0,0]
[null,null,0,"Not a victim",0.48290099808946302,1.3850149847567099,null,null,null,null,null,null,null,null,null,null,null,null,null,null,null,null,null,null,null,null,null,null,null,null,null,null,null,null,null,null,null,null,null,null,null,null,null,null,{"$f":"SUM(E5:O5)","v":1.8679159828461729},{"$f":"IF((E5+F5)>0,E5/(E5+F5),0)","v":0.25852393925858441},{"$f":"IF((E5+F5)>0,F5/(E5+F5),0)","v":0.74147606074141559},{"$f":"IF((G5+H5)>0,G5/(G5+H5),0)","v":0},{"$f":"IF((G5+H5)>0,H5/(G5+H5),0)","v":0},{"$f":"IF((I5+J5)>0,I5/(I5+J5),0)","v":0},{"$f":"IF((I5+J5)>0,J5/(I5+J5),0)","v":0},{"$f":"IF((K5+L5)>0,K5/(K5+L5),0)","v":0},{"$f":"IF((K5+L5)>0,L5/(K5+L5),0)","v":0}]
[null,null,1,"Victim of an accident, natural disaster, poverty, disease, illness …",1.5300000552088E-2,4.2976500466465999E-2,null,null,null,null,null,null,null,null,null,null,null,null,null,null,null,null,null,null,null,null,null,null,null,null,null,null,null,null,null,null,null,null,null,null,null,null,null,null,5.8276501018554E-2,0.26254150960808037,0.73745849039191957,0,0,0,0,0,0]
[null,null,2,"Victim of domestic violence (by husband/wife/partner/other family member), psychological violence, physical assault, marital rape, murder …",3.2776500098407303E-2,5.1000001840293399E-3,null,null,null,null,null,null,null,null,null,null,null,null,null,null,null,null,null,null,null,null,null,null,null,null,null,null,null,null,null,null,null,null,null,null,null,null,null,null,3.7876500282436644E-2,0.86535186339815529,0.13464813660184474,0,0,0,0,0,0]
[null,null,3,"Victim of non-domestic sexual violence or abuse, sexual harassment, rape, trafficking …",null,7.4764997698366599E-3,null,null,null,null,null,null,null,null,null,null,null,null,null,null,null,null,null,null,null,null,null,null,null,null,null,null,null,null,null,null,null,null,null,null,null,null,null,null,7.4764997698366599E-3,0,1,0,0,0,0,0,0]
[null,null,4,"Victim of other crime, robbery, assault, murder …",null,2.2676500026136599E-2,null,null,null,null,null,null,null,null,null,null,null,null,null,null,null,null,null,null,null,null,null,null,null,null,null,null,null,null,null,null,null,null,null,null,null,null,null,null,2.2676500026136599E-2,0,1,0,0,0,0,0,0]
[null,null,5,"Victim of violation based on religion, tradition, cultural belief, genital mutilation, bride-burning …",null,null,null,null,null,null,null,null,null,null,null,null,null,null,null,null,null,null,null,null,null,null,null,null,null,null,null,null,null,null,null,null,null,null,null,null,null,null,null,null,0,0,0,0,0,0,0,0,0]
[null,null,6,"Victim of war, terrorism, vigilantism, state-based violence …",3.2529499381780597E-2,null,null,null,null,null,null,null,null,null,null,null,null,null,null,null,null,null,null,null,null,null,null,null,null,null,null,null,null,null,null,null,null,null,null,null,null,null,null,null,3.2529499381780597E-2,1,0,0,0,0,0,0,0]
[null,null,7,"Victim of discrimination based on gender, race, ethnicity, age, religion, ability …",null,null,null,null,null,null,null,null,null,null,null,null,null,null,null,null,null,null,null,null,null,null,null,null,null,null,null,null,null,null,null,null,null,null,null,null,null,null,null,null,0,0,0,0,0,0,0,0,0]
[null,null,8,"Other victim: describe in 'Comments' section of coding sheet …",5.1000001840293399E-3,1.0200000368058701E-2,null,null,null,null,null,null,null,null,null,null,null,null,null,null,null,null,null,null,null,null,null,null,null,null,null,null,null,null,null,null,null,null,null,null,null,null,null,null,1.530000055208804E-2,0.33333333333333293,0.66666666666666718,0,0,0,0,0,0]
[null,null,9,"Do not know, cannot decide",null,null,null,null,null,null,null,null,null,null,null,null,null,null,null,null,null,null,null,null,null,null,null,null,null,null,null,null,null,null,null,null,null,null,null,null,null,null,null,null,0,0,0,0,0,0,0,0,0]
[null,null,10,"NA – Use this where you are coding a secondary source only",null,null,null,null,null,null,null,null,null,null,null,null,null,null,null,null,null,null,null,null,null,null,null,null,null,null,null,null,null,null,null,null,null,null,null,null,null,null,null,null,0,0,0,0,0,0,0,0,0]
[null,null,null,null,null,null,null,null,null,null,null,null,null,null,null,null,null,null,null,null,null,null,null,null,null,null,null,null,null,null,null,null,null,null,null,null,null,null,null,null,null,null,null,null,0,0,0,0,0,0,0,0,0]
[null,null,null,null,null,null,null,null,null,null,null,null,null,null,null,null,null,null,null,null,null,null,null,null,null,null,null,null,null,null,null,null,null,null,null,null,null,null,null,null,null,null,null,null,0,0,0,0,0,0,0,0,0]
[null,null,null,null,null,null,null,null,null,null,null,null,null,null,null,null,null,null,null,null,null,null,null,null,null,null,null,null,null,null,null,null,null,null,null,null,null,null,null,null,null,null,null,null,0,0,0,0,0,0,0,0,0]
[null,null,null,null,null,null,null,null,null,null,null,null,null,null,null,null,null,null,null,null,null,null,null,null,null,null,null,null,null,null,null,null,null,null,null,null,null,null,null,null,null,null,null,null,0,0,0,0,0,0,0,0,0]
[null,null,null,null,null,null,null,null,null,null,null,null,null,null,null,null,null,null,null,null,null,null,null,null,null,null,null,null,null,null,null,null,null,null,null,null,null,null,null,null,null,null,null,null,0,0,0,0,0,0,0,0,0]
[null,null,null,null,null,null,null,null,null,null,null,null,null,null,null,null,null,null,null,null,null,null,null,null,null,null,null,null,null,null,null,null,null,null,null,null,null,null,null,null,null,null,null,null,0,0,0,0,0,0,0,0,0]
[null,null,null,null,null,null,null,null,null,null,null,null,null,null,null,null,null,null,null,null,null,null,null,null,null,null,null,null,null,null,null,null,null,null,null,null,null,null,null,null,null,null,null,null,0,0,0,0,0,0,0,0,0]
[null,null,null,null,null,null,null,null,null,null,null,null,null,null,null,null,null,null,null,null,null,null,null,null,null,null,null,null,null,null,null,null,null,null,null,null,null,null,null,null,null,null,null,null,0,0,0,0,0,0,0,0,0]
[null,null,null,null,null,null,null,null,null,null,null,null,null,null,null,null,null,null,null,null,null,null,null,null,null,null,null,null,null,null,null,null,null,null,null,null,null,null,null,null,null,null,null,null,0,0,0,0,0,0,0,0,0]
[null,null,null,null,null,null,null,null,null,null,null,null,null,null,null,null,null,null,null,null,null,null,null,null,null,null,null,null,null,null,null,null,null,null,null,null,null,null,null,null,null,null,null,null,0,0,0,0,0,0,0,0,0]
[null,null,null,null,null,null,null,null,null,null,null,null,null,null,null,null,null,null,null,null,null,null,null,null,null,null,null,null,null,null,null,null,null,null,null,null,null,null,null,null,null,null,null,null,0,0,0,0,0,0,0,0,0]
[null,null,null,null,null,null,null,null,null,null,null,null,null,null,null,null,null,null,null,null,null,null,null,null,null,null,null,null,null,null,null,null,null,null,null,null,null,null,null,null,null,null,null,null,0,0,0,0,0,0,0,0,0]
[null,null,null,null,null,null,null,null,null,null,null,null,null,null,null,null,null,null,null,null,null,null,null,null,null,null,null,null,null,null,null,null,null,null,null,null,null,null,null,null,null,null,null,null,0,0,0,0,0,0,0,0,0]
[null,null,null,null,null,null,null,null,null,null,null,null,null,null,null,null,null,null,null,null,null,null,null,null,null,null,null,null,null,null,null,null,null,null,null,null,null,null,null,null,null,null,null,null,0,0,0,0,0,0,0,0,0]
[null,null,null,null,null,null,null,null,null,null,null,null,null,null,null,null,null,null,null,null,null,null,null,null,null,null,null,null,null,null,null,null,null,null,null,null,null,null,null,null,null,null,null,null,0,0,0,0,0,0,0,0,0]
[null,null,null,null,null,null,null,null,null,null,null,null,null,null,null,null,null,null,null,null,null,null,null,null,null,null,null,null,null,null,null,null,null,null,null,null,null,null,null,null,null,null,null,null,0,0,0,0,0,0,0,0,0]
[null,null,null,null,null,null,null,null,null,null,null,null,null,null,null,null,null,null,null,null,null,null,null,null,null,null,null,null,null,null,null,null,null,null,null,null,null,null,null,null,null,null,null,null,0,0,0,0,0,0,0,0,0]
[null,null,null,null,null,null,null,null,null,null,null,null,null,null,null,null,null,null,null,null,null,null,null,null,null,null,null,null,null,null,null,null,null,null,null,null,null,null,null,null,null,null,null,null,0,0,0,0,0,0,0,0,0]
[null,null,null,null,null,null,null,null,null,null,null,null,null,null,null,null,null,null,null,null,null,null,null,null,null,null,null,null,null,null,null,null,null,null,null,null,null,null,null,null,null,null,null,null,0,0,0,0,0,0,0,0,0]
[null,null,null,null,null,null,null,null,null,null,null,null,null,null,null,null,null,null,null,null,null,null,null,null,null,null,null,null,null,null,null,null,null,null,null,null,null,null,null,null,null,null,null,null,0,0,0,0,0,0,0,0,0]
[null,null,null,null,null,null,null,null,null,null,null,null,null,null,null,null,null,null,null,null,null,null,null,null,null,null,null,null,null,null,null,null,null,null,null,null,null,null,null,null,null,null,null,null,0,0,0,0,0,0,0,0,0]
[null,null,null,null,null,null,null,null,null,null,null,null,null,null,null,null,null,null,null,null,null,null,null,null,null,null,null,null,null,null,null,null,null,null,null,null,null,null,null,null,null,null,null,null,{"$f":"SUM(E37:O37)","v":0},{"$f":"IF((E37+F37)>0,E37/(E37+F37),0)","v":0},{"$f":"IF((E37+F37)>0,F37/(E37+F37),0)","v":0},{"$f":"IF((G37+H37)>0,G37/(G37+H37),0)","v":0},{"$f":"IF((G37+H37)>0,H37/(G37+H37),0)","v":0},{"$f":"IF((I37+J37)>0,I37/(I37+J37),0)","v":0},{"$f":"IF((I37+J37)>0,J37/(I37+J37),0)","v":0},{"$f":"IF((K37+L37)>0,K37/(K37+L37),0)","v":0},{"$f":"IF((K37+L37)>0,L37/(K37+L37),0)","v":0}]
[null,null,null,null,null,null,null,null,null,null,null,null,null,null,null,null,null,null,null,null,null,null,null,null,null,null,null,null,null,null,null,null,null,null,null,null,null,null,null,null,null,null,null,null,0,0,0,0,0,0,0,0,0]
[null,null,null,null,null,null,null,null,null,null,null,null,null,null,null,null,null,null,null,null,null,null,null,null,null,null,null,null,null,null,null,null,null,null,null,null,null,null,null,null,null,null,null,null,0,0,0,0,0,0,0,0,0]
[null,null,null,null,null,null,null,null,null,null,null,null,null,null,null,null,null,null,null,null,null,null,null,null,null,null,null,null,null,null,null,null,null,null,null,null,null,null,null,null,null,null,null,null,0,0,0,0,0,0,0,0,0]
[null,null,null,null,null,null,null,null,null,null,null,null,null,null,null,null,null,null,null,null,null,null,null,null,null,null,null,null,null,null,null,null,null,null,null,null,null,null,null,null,null,null,null,null,0,0,0,0,0,0,0,0,0]
[null,null,null,null,null,null,null,null,null,null,null,null,null,null,null,null,null,null,null,null,null,null,null,null,null,null,null,null,null,null,null,null,null,null,null,null,null,null,null,null,null,null,null,null,0,0,0,0,0,0,0,0,0]
[null,null,null,null,null,null,null,null,null,null,null,null,null,null,null,null,null,null,null,null,null,null,null,null,null,null,null,null,null,null,null,null,null,null,null,null,null,null,null,null,null,null,null,null,0,0,0,0,0,0,0,0,0]
[null,null,null,null,null,null,null,null,null,null,null,null,null,null,null,null,null,null,null,null,null,null,null,null,null,null,null,null,null,null,null,null,null,null,null,null,null,null,null,null,null,null,null,null,0,0,0,0,0,0,0,0,0]
[null,null,null,null,null,null,null,null,null,null,null,null,null,null,null,null,null,null,null,null,null,null,null,null,null,null,null,null,null,null,null,null,null,null,null,null,null,null,null,null,null,null,null,null,0,0,0,0,0,0,0,0,0]
[null,null,null,null,null,null,null,null,null,null,null,null,null,null,null,null,null,null,null,null,null,null,null,null,null,null,null,null,null,null,null,null,null,null,null,null,null,null,null,null,null,null,null,null,0,0,0,0,0,0,0,0,0]
[null,null,null,null,null,null,null,null,null,null,null,null,null,null,null,null,null,null,null,null,null,null,null,null,null,null,null,null,null,null,null,null,null,null,null,null,null,null,null,null,null,null,null,null,0,0,0,0,0,0,0,0,0]
[null,null,null,null,null,null,null,null,null,null,null,null,null,null,null,null,null,null,null,null,null,null,null,null,null,null,null,null,null,null,null,null,null,null,null,null,null,null,null,null,null,null,null,null,0,0,0,0,0,0,0,0,0]
[null,null,null,null,null,null,null,null,null,null,null,null,null,null,null,null,null,null,null,null,null,null,null,null,null,null,null,null,null,null,null,null,null,null,null,null,null,null,null,null,null,null,null,null,0,0,0,0,0,0,0,0,0]
[null,null,null,null,null,null,null,null,null,null,null,null,null,null,null,null,null,null,null,null,null,null,null,null,null,null,null,null,null,null,null,null,null,null,null,null,null,null,null,null,null,null,null,null,0,0,0,0,0,0,0,0,0]
[null,null,null,null,null,null,null,null,null,null,null,null,null,null,null,null,null,null,null,null,null,null,null,null,null,null,null,null,null,null,null,null,null,null,null,null,null,null,null,null,null,null,null,null,0,0,0,0,0,0,0,0,0]
[null,null,null,null,null,null,null,null,null,null,null,null,null,null,null,null,null,null,null,null,null,null,null,null,null,null,null,null,null,null,null,null,null,null,null,null,null,null,null,null,null,null,null,null,0,0,0,0,0,0,0,0,0]
[null,null,null,null,null,null,null,null,null,null,null,null,null,null,null,null,null,null,null,null,null,null,null,null,null,null,null,null,null,null,null,null,null,null,null,null,null,null,null,null,null,null,null,null,0,0,0,0,0,0,0,0,0]
[null,null,null,null,null,null,null,null,null,null,null,null,null,null,null,null,null,null,null,null,null,null,null,null,null,null,null,null,null,null,null,null,null,null,null,null,null,null,null,null,null,null,null,null,0,0,0,0,0,0,0,0,0]
[null,null,null,null,null,null,null,null,null,null,null,null,null,null,null,null,null,null,null,null,null,null,null,null,null,null,null,null,null,null,null,null,null,null,null,null,null,null,null,null,null,null,null,null,0,0,0,0,0,0,0,0,0]
[null,null,null,null,null,null,null,null,null,null,null,null,null,null,null,null,null,null,null,null,null,null,null,null,null,null,null,null,null,null,null,null,null,null,null,null,null,null,null,null,null,null,null,null,0,0,0,0,0,0,0,0,0]
[null,null,null,null,null,null,null,null,null,null,null,null,null,null,null,null,null,null,null,null,null,null,null,null,null,null,null,null,null,null,null,null,null,null,null,null,null,null,null,null,null,null,null,null,0,0,0,0,0,0,0,0,0]
[null,null,null,null,null,null,null,null,null,null,null,null,null,null,null,null,null,null,null,null,null,null,null,null,null,null,null,null,null,null,null,null,null,null,null,null,null,null,null,null,null,null,null,null,0,0,0,0,0,0,0,0,0]
[null,null,null,null,null,null,null,null,null,null,null,null,null,null,null,null,null,null,null,null,null,null,null,null,null,null,null,null,null,null,null,null,null,null,null,null,null,null,null,null,null,null,null,null,0,0,0,0,0,0,0,0,0]
[null,null,null,null,null,null,null,null,null,null,null,null,null,null,null,null,null,null,null,null,null,null,null,null,null,null,null,null,null,null,null,null,null,null,null,null,null,null,null,null,null,null,null,null,0,0,0,0,0,0,0,0,0]
[null,null,null,null,null,null,null,null,null,null,null,null,null,null,null,null,null,null,null,null,null,null,null,null,null,null,null,null,null,null,null,null,null,null,null,null,null,null,null,null,null,null,null,null,0,0,0,0,0,0,0,0,0]
[null,null,null,null,null,null,null,null,null,null,null,null,null,null,null,null,null,null,null,null,null,null,null,null,null,null,null,null,null,null,null,null,null,null,null,null,null,null,null,null,null,null,null,null,0,0,0,0,0,0,0,0,0]
[null,null,null,null,null,null,null,null,null,null,null,null,null,null,null,null,null,null,null,null,null,null,null,null,null,null,null,null,null,null,null,null,null,null,null,null,null,null,null,null,null,null,null,null,0,0,0,0,0,0,0,0,0]
[null,null,null,null,null,null,null,null,null,null,null,null,null,null,null,null,null,null,null,null,null,null,null,null,null,null,null,null,null,null,null,null,null,null,null,null,null,null,null,null,null,null,null,null,0,0,0,0,0,0,0,0,0]
[null,null,null,null,null,null,null,null,null,null,null,null,null,null,null,null,null,null,null,null,null,null,null,null,null,null,null,null,null,null,null,null,null,null,null,null,null,null,null,null,null,null,null,null,0,0,0,0,0,0,0,0,0]
[null,null,null,null,null,null,null,null,null,null,null,null,null,null,null,null,null,null,null,null,null,null,null,null,null,null,null,null,null,null,null,null,null,null,null,null,null,null,null,null,null,null,null,null,0,0,0,0,0,0,0,0,0]
[null,null,null,null,null,null,null,null,null,null,null,null,null,null,null,null,null,null,null,null,null,null,null,null,null,null,null,null,null,null,null,null,null,null,null,null,null,null,null,null,null,null,null,null,0,0,0,0,0,0,0,0,0]
[null,null,null,"TOTAL",{"$f":"SUM(E6:E13)","v":8.5706000216305242E-2},{"$f":"SUM(F6:F13)","v":8.8429500814527287E-2},0,0,0,0,0,0,0,0,0,0,0,0,0,0,null,null,null,null,null,null,null,null,null,null,null,null,null,null,null,null,null,null,null,null,null,null,null,null,0.17413550103083253,0.49217993866242182,0.50782006133757818,0,0,0,0,0,0]
[]
[null,null,{"$f":"C5","v":0},"Not a victim",{"$f":"IF(E$68>0,E5/E$68,0)","v":5.6343896211550533},15.662363487289733,0,0,0,0,0,0,0,0,0,0,0,0,0,0]
[null,null,1,"Victim of an accident, natural disaster, poverty, disease, illness …",{"$f":"IF(E$68>0,E6/E$68,0)","v":0.17851726265925116},0.48599732069736817,0,0,0,0,0,0,0,0,0,0,0,0,0,0]
[null,null,2,"Victim of domestic violence (by husband/wife/partner/other family member), psychological violence, physical assault, marital rape, murder …",{"$f":"IF(E$68>0,E7/E$68,0)","v":0.38242946836494301},5.767306314129398E-2,0,0,0,0,0,0,0,0,0,0,0,0,0,0]
[null,null,3,"Victim of non-domestic sexual violence or abuse, sexual harassment, rape, trafficking …",{"$f":"IF(E$68>0,E8/E$68,0)","v":0},8.4547574067142223E-2,0,0,0,0,0,0,0,0,0,0,0,0,0,0]
[null,null,4,"Victim of other crime, robbery, assault, murder …",{"$f":"IF(E$68>0,E9/E$68,0)","v":0},0.25643591581160752,0,0,0,0,0,0,0,0,0,0,0,0,0,0]
[null,null,5,"Victim of violation based on religion, tradition, cultural belief, genital mutilation, bride-burning …",{"$f":"IF(E$68>0,E10/E$68,0)","v":0},0,0,0,0,0,0,0,0,0,0,0,0,0,0,0]
[null,null,6,"Victim of war, terrorism, vigilantism, state-based violence …",{"$f":"IF(E$68>0,E11/E$68,0)","v":0.37954751475605536},0,0,0,0,0,0,0,0,0,0,0,0,0,0,0]
[null,null,7,"Victim of discrimination based on gender, race, ethnicity, age, religion, ability …",{"$f":"IF(E$68>0,E12/E$68,0)","v":0},0,0,0,0,0,0,0,0,0,0,0,0,0,0,0]
[null,null,8,"Other victim: describe in 'Comments' section of coding sheet …",{"$f":"IF(E$68>0,E13/E$68,0)","v":5.9505754219750462E-2},0.1153461262825882,0,0,0,0,0,0,0,0,0,0,0,0,0,0]
[null,null,9,"Do not know, cannot decide",{"$f":"IF(E$68>0,E14/E$68,0)","v":0},0,0,0,0,0,0,0,0,0,0,0,0,0,0,0]
[null,null,10,"NA – Use this where you are coding a secondary source only",{"$f":"IF(E$68>0,E15/E$68,0)","v":0},0,0,0,0,0,0,0,0,0,0,0,0,0,0,0]
[null,null,0,0,{"$f":"IF(E$68>0,E16/E$68,0)","v":0},0,0,0,0,0,0,0,0,0,0,0,0,0,0,0]
[null,null,0,0,{"$f":"IF(E$68>0,E17/E$68,0)","v":0},0,0,0,0,0,0,0,0,0,0,0,0,0,0,0]
[null,null,0,0,{"$f":"IF(E$68>0,E18/E$68,0)","v":0},0,0,0,0,0,0,0,0,0,0,0,0,0,0,0]
[null,null,0,0,{"$f":"IF(E$68>0,E19/E$68,0)","v":0},0,0,0,0,0,0,0,0,0,0,0,0,0,0,0]
[null,null,0,0,{"$f":"IF(E$68>0,E20/E$68,0)","v":0},0,0,0,0,0,0,0,0,0,0,0,0,0,0,0]
[null,null,0,0,{"$f":"IF(E$68>0,E21/E$68,0)","v":0},0,0,0,0,0,0,0,0,0,0,0,0,0,0,0]
[null,null,0,0,{"$f":"IF(E$68>0,E22/E$68,0)","v":0},0,0,0,0,0,0,0,0,0,0,0,0,0,0,0]
[null,null,0,0,{"$f":"IF(E$68>0,E23/E$68,0)","v":0},0,0,0,0,0,0,0,0,0,0,0,0,0,0,0]
[null,null,0,0,{"$f":"IF(E$68>0,E24/E$68,0)","v":0},0,0,0,0,0,0,0,0,0,0,0,0,0,0,0]
[null,null,{"$f":"C25","v":0},0,{"$f":"IF(E$68>0,E25/E$68,0)","v":0},0,0,0,0,0,0,0,0,0,0,0,0,0,0,0]
[null,null,0,0,{"$f":"IF(E$68>0,E26/E$68,0)","v":0},0,0,0,0,0,0,0,0,0,0,0,0,0,0,0]
[null,null,0,0,{"$f":"IF(E$68>0,E27/E$68,0)","v":0},0,0,0,0,0,0,0,0,0,0,0,0,0,0,0]
[null,null,0,0,{"$f":"IF(E$68>0,E28/E$68,0)","v":0},0,0,0,0,0,0,0,0,0,0,0,0,0,0,0]
[null,null,0,0,{"$f":"IF(E$68>0,E29/E$68,0)","v":0},0,0,0,0,0,0,0,0,0,0,0,0,0,0,0]
[null,null,0,0,{"$f":"IF(E$68>0,E30/E$68,0)","v":0},0,0,0,0,0,0,0,0,0,0,0,0,0,0,0]
[null,null,0,0,{"$f":"IF(E$68>0,E31/E$68,0)","v":0},0,0,0,0,0,0,0,0,0,0,0,0,0,0,0]
[null,null,0,0,{"$f":"IF(E$68>0,E32/E$68,0)","v":0},0,0,0,0,0,0,0,0,0,0,0,0,0,0,0]
[null,null,0,0,{"$f":"IF(E$68>0,E33/E$68,0)","v":0},0,0,0,0,0,0,0,0,0,0,0,0,0,0,0]
[null,null,0,0,{"$f":"IF(E$68>0,E34/E$68,0)","v":0},0,0,0,0,0,0,0,0,0,0,0,0,0,0,0]
[null,null,0,0,{"$f":"IF(E$68>0,E35/E$68,0)","v":0},0,0,0,0,0,0,0,0,0,0,0,0,0,0,0]
[null,null,0,0,{"$f":"IF(E$68>0,E36/E$68,0)","v":0},0,0,0,0,0,0,0,0,0,0,0,0,0,0,0]
[null,null,0,0,{"$f":"IF(E$68>0,E37/E$68,0)","v":0},0,0,0,0,0,0,0,0,0,0,0,0,0,0,0]
[null,null,0,0,{"$f":"IF(E$68>0,E38/E$68,0)","v":0},0,0,0,0,0,0,0,0,0,0,0,0,0,0,0]
[null,null,0,0,{"$f":"IF(E$68>0,E39/E$68,0)","v":0},0,0,0,0,0,0,0,0,0,0,0,0,0,0,0]
[null,null,0,0,{"$f":"IF(E$68>0,E40/E$68,0)","v":0},0,0,0,0,0,0,0,0,0,0,0,0,0,0,0]
[null,null,0,0,{"$f":"IF(E$68>0,E41/E$68,0)","v":0},0,0,0,0,0,0,0,0,0,0,0,0,0,0,0]
[null,null,0,0,{"$f":"IF(E$68>0,E42/E$68,0)","v":0},0,0,0,0,0,0,0,0,0,0,0,0,0,0,0]
[null,null,0,0,{"$f":"IF(E$68>0,E43/E$68,0)","v":0},0,0,0,0,0,0,0,0,0,0,0,0,0,0,0]
[null,null,0,0,{"$f":"IF(E$68>0,E44/E$68,0)","v":0},0,0,0,0,0,0,0,0,0,0,0,0,0,0,0]
[null,null,{"$f":"C45","v":0},0,{"$f":"IF(E$68>0,E45/E$68,0)","v":0},0,0,0,0,0,0,0,0,0,0,0,0,0,0,0]
[null,null,0,0,{"$f":"IF(E$68>0,E46/E$68,0)","v":0},0,0,0,0,0,0,0,0,0,0,0,0,0,0,0]
[null,null,0,0,{"$f":"IF(E$68>0,E47/E$68,0)","v":0},0,0,0,0,0,0,0,0,0,0,0,0,0,0,0]
[null,null,0,0,{"$f":"IF(E$68>0,E48/E$68,0)","v":0},0,0,0,0,0,0,0,0,0,0,0,0,0,0,0]
[null,null,0,0,{"$f":"IF(E$68>0,E49/E$68,0)","v":0},0,0,0,0,0,0,0,0,0,0,0,0,0,0,0]
[null,null,0,0,{"$f":"IF(E$68>0,E50/E$68,0)","v":0},0,0,0,0,0,0,0,0,0,0,0,0,0,0,0]
[null,null,0,0,{"$f":"IF(E$68>0,E51/E$68,0)","v":0},0,0,0,0,0,0,0,0,0,0,0,0,0,0,0]
[null,null,0,0,{"$f":"IF(E$68>0,E52/E$68,0)","v":0},0,0,0,0,0,0,0,0,0,0,0,0,0,0,0]
[null,null,0,0,{"$f":"IF(E$68>0,E53/E$68,0)","v":0},0,0,0,0,0,0,0,0,0,0,0,0,0,0,0]
[null,null,0,0,{"$f":"IF(E$68>0,E54/E$68,0)","v":0},0,0,0,0,0,0,0,0,0,0,0,0,0,0,0]
[null,null,0,0,{"$f":"IF(E$68>0,E55/E$68,0)","v":0},0,0,0,0,0,0,0,0,0,0,0,0,0,0,0]
[null,null,0,0,{"$f":"IF(E$68>0,E56/E$68,0)","v":0},0,0,0,0,0,0,0,0,0,0,0,0,0,0,0]
[null,null,0,0,{"$f":"IF(E$68>0,E57/E$68,0)","v":0},0,0,0,0,0,0,0,0,0,0,0,0,0,0,0]
[null,null,0,0,{"$f":"IF(E$68>0,E58/E$68,0)","v":0},0,0,0,0,0,0,0,0,0,0,0,0,0,0,0]
[null,null,0,0,{"$f":"IF(E$68>0,E59/E$68,0)","v":0},0,0,0,0,0,0,0,0,0,0,0,0,0,0,0]
[null,null,0,0,{"$f":"IF(E$68>0,E60/E$68,0)","v":0},0,0,0,0,0,0,0,0,0,0,0,0,0,0,0]
[null,null,0,0,{"$f":"IF(E$68>0,E61/E$68,0)","v":0},0,0,0,0,0,0,0,0,0,0,0,0,0,0,0]
[null,null,0,0,{"$f":"IF(E$68>0,E62/E$68,0)","v":0},0,0,0,0,0,0,0,0,0,0,0,0,0,0,0]
[]
[]
[]
[]
[]
[]
[]
[]
[]
[]
[]
[]
[]
[]
[]
[]
[]
[]
[]
[]
["COUNT"]
[null,null,null,null,{"$f":"E3","v":"Female"},"Male",0,0,0,0,0,0,0,0,0,0,0,0,0,0]
[null,null,null,null,{"$f":"E4","v":0},0,0,0,0,0,0,0,0,0,0,0,0,0,0,0]
[null,null,{"$f":"C5","v":0},"Not a victim",79,221,0,0,0,0]
[null,null,1,"Victim of an accident, natural disaster, poverty, disease, illness …",3,8,0,0,0,0]
[null,null,2,"Victim of domestic violence (by husband/wife/partner/other family member), psychological violence, physical assault, marital rape, murder …",6,1,0,0,0,0]
[null,null,3,"Victim of non-domestic sexual violence or abuse, sexual harassment, rape, trafficking …",0,1,0,0,0,0]
[null,null,4,"Victim of other crime, robbery, assault, murder …",0,4,0,0,0,0]
[null,null,5,"Victim of violation based on religion, tradition, cultural belief, genital mutilation, bride-burning …",0,0,0,0,0,0]
[null,null,6,"Victim of war, terrorism, vigilantism, state-based violence …",5,0,0,0,0,0]
[null,null,7,"Victim of discrimination based on gender, race, ethnicity, age, religion, ability …",0,0,0,0,0,0]
[null,null,8,"Other victim: describe in 'Comments' section of coding sheet …",1,2,0,0,0,0]
[null,null,9,"Do not know, cannot decide",0,0,0,0,0,0]
[null,null,10,"NA – Use this where you are coding a secondary source only",0,0,0,0,0,0]
[null,null,0,0,0,0,0,0,0,0]
[null,null,0,0,0,0,0,0,0,0]
[null,null,0,0,0,0,0,0,0,0]
[null,null,0,0,0,0,0,0,0,0]
[null,null,0,0,0,0,0,0,0,0]
[null,null,0,0,0,0,0,0,0,0]
[null,null,0,0,0,0,0,0,0,0]
[null,null,0,0,0,0,0,0,0,0]
[null,null,0,0,0,0,0,0,0,0]
[null,null,{"$f":"C25","v":0},0,0,0,0,0,0,0]
[null,null,0,0,0,0,0,0,0,0]
[null,null,0,0,0,0,0,0,0,0]
[null,null,0,0,0,0,0,0,0,0]
[null,null,0,0,0,0,0,0,0,0]
[null,null,0,0,0,0,0,0,0,0]
[null,null,0,0,0,0,0,0,0,0]
[null,null,0,0,0,0,0,0,0,0]
[null,null,0,0,0,0,0,0,0,0]
[null,null,0,0,0,0,0,0,0,0]
[null,null,0,0,0,0,0,0,0,0]
[null,null,0,0,0,0,0,0,0,0]
[null,null,0,0,0,0,0,0,0,0]
[null,null,0,0,0,0,0,0,0,0]
[null,null,0,0,0,0,0,0,0,0]
[null,null,0,0,0,0,0,0,0,0]
[null,null,0,0,0,0,0,0,0,0]
[null,null,0,0,0,0,0,0,0,0]
[null,null,0,0,0,0,0,0,0,0]
[null,null,0,0,0,0,0,0,0,0]
[null,null,{"$f":"C45","v":0},0,0,0,0,0,0,0]
[null,null,0,0,0,0,0,0,0,0]
[null,null,0,0,0,0,0,0,0,0]
[null,null,0,0,0,0,0,0,0,0]
[null,null,0,0,0,0,0,0,0,0]
[null,null,0,0,0,0,0,0,0,0]
[null,null,0,0,0,0,0,0,0,0]
[null,null,0,0,0,0,0,0,0,0]
[null,null,0,0,0,0,0,0,0,0]
[null,null,0,0,0,0,0,0,0,0]
[null,null,0,0,0,0,0,0,0,0]
[null,null,0,0,0,0,0,0,0,0]
[null,null,0,0]
[null,null,0,0]
[null,null,0,0]

{"sheet":"19aF -Victims","index":76,"n_rows":15,"n_cols":14,"rows_kept":15,"cut":false,"hidden":false,"merged":[[1,5,1,12],[2,5,2,6],[2,7,2,8],[2,9,2,10],[2,11,2,13]]}
[{"$f":"'19a'!$A$1","v":"Proportion of female & male news subjects who are victims"}]
[]
[null,null,null,null,null,1995,null,2000,null,2005,null,2010]
[null,null,null,null,null,"%F","%M","%F","%M","%F","%M","%F","%M","N"]
[]
[null,null,null,null,{"$f":"'19a'!D6","v":"Victim of an accident, natural disaster, poverty, disease, illness …"},0,0,"n/a","n/a",0.35,0.65,{"$f":"'19a'!AT6","v":0.26254150960808037},{"$f":"'19a'!AU6","v":0.73745849039191957},{"$f":"+'19a'!E152+'19a'!F152","v":11}]
[null,null,null,null,{"$f":"'19a'!D7","v":"Victim of domestic violence (by husband/wife/partner/other family member), psychological violence, physical assault, marital rape, murder …"},0,0,"n/a","n/a",0.47,0.53,{"$f":"'19a'!AT7","v":0.86535186339815529},{"$f":"'19a'!AU7","v":0.13464813660184474},{"$f":"+'19a'!E153+'19a'!F153","v":7}]
[null,null,null,null,{"$f":"'19a'!D8","v":"Victim of non-domestic sexual violence or abuse, sexual harassment, rape, trafficking …"},0,0,"n/a","n/a",0.7,0.3,{"$f":"'19a'!AT8","v":0},{"$f":"'19a'!AU8","v":1},{"$f":"+'19a'!E154+'19a'!F154","v":1}]
[null,null,null,null,{"$f":"'19a'!D9","v":"Victim of other crime, robbery, assault, murder …"},0,0,"n/a","n/a",0.35,0.65,{"$f":"'19a'!AT9","v":0},{"$f":"'19a'!AU9","v":1},{"$f":"+'19a'!E155+'19a'!F155","v":4}]
[null,null,null,null,{"$f":"'19a'!D10","v":"Victim of violation based on religion, tradition, cultural belief, genital mutilation, bride-burning …"},0,0,"n/a","n/a",0.52,0.48,{"$f":"'19a'!AT10","v":0},{"$f":"'19a'!AU10","v":0},{"$f":"+'19a'!E156+'19a'!F156","v":0}]
[null,null,null,null,{"$f":"'19a'!D11","v":"Victim of war, terrorism, vigilantism, state-based violence …"},0,0,"n/a","n/a",0.25,0.75,{"$f":"'19a'!AT11","v":1},{"$f":"'19a'!AU11","v":0},{"$f":"+'19a'!E157+'19a'!F157","v":5}]
[null,null,null,null,{"$f":"'19a'!D12","v":"Victim of discrimination based on gender, race, ethnicity, age, religion, ability …"},0,0,"n/a","n/a",0.42,0.57999999999999996,{"$f":"'19a'!AT12","v":0},{"$f":"'19a'!AU12","v":0},{"$f":"+'19a'!E158+'19a'!F158","v":0}]
[null,null,null,null,{"$f":"'19a'!D13","v":"Other victim: describe in 'Comments' section of coding sheet …"},0,0,"n/a","n/a",0.46,0.54,{"$f":"'19a'!AT13","v":0.33333333333333293},{"$f":"'19a'!AU13","v":0.66666666666666718},{"$f":"+'19a'!E159+'19a'!F159","v":3}]
[]
[null,null,null,null,"Total",null,null,0.19,"7&",0.37,0.63,{"$f":"'19a'!AT68","v":0.49217993866242182},{"$f":"'19a'!AU68","v":0.50782006133757818},{"$f":"SUM(N6:N14)","v":31}]

{"sheet":"19b","index":77,"n_rows":205,"n_cols":53,"rows_kept":205,"cut":false,"hidden":true,"merged":[]}
["Proportion of female & male news subjects who are survivors"]
[null,null,null,null,null,null,null,null,null,null,null,null,null,null,null,null,null,null,null,null,null,null,null,null,null,null,null,null,null,null,null,null,null,null,null,null,null,null,null,null,null,null,null,null,null,{"$f":"E2","v":0},0,0,0,0,0,0,0]
[null,null,null,null,"Female","Male",null,null,null,null,null,null,null,null,null,null,null,null,null,null,null,null,null,null,null,null,null,null,null,null,null,null,null,null,null,null,null,null,null,null,null,null,null,null,null,"Female","Male",0,0,0,0,0,0]
[null,null,null,null,null,null,null,null,null,null,null,null,null,null,null,null,null,null,null,null,null,null,null,null,null,null,null,null,null,null,null,null,null,null,null,null,null,null,null,null,null,null,null,null,"TOTAL",0,0,0,0,0,0,0,0]
[null,null,0,"Not a survivor",0.54320699768140901,1.4330914854072001,null,null,null,null,null,null,null,null,null,null,null,null,null,null,null,null,null,null,null,null,null,null,null,null,null,null,null,null,null,null,null,null,null,null,null,null,null,null,{"$f":"SUM(E5:O5)","v":1.976298483088609},{"$f":"IF((E5+F5)>0,E5/(E5+F5),0)","v":0.27486080788387363},{"$f":"IF((E5+F5)>0,F5/(E5+F5),0)","v":0.72513919211612643},{"$f":"IF((G5+H5)>0,G5/(G5+H5),0)","v":0},{"$f":"IF((G5+H5)>0,H5/(G5+H5),0)","v":0},{"$f":"IF((I5+J5)>0,I5/(I5+J5),0)","v":0},{"$f":"IF((I5+J5)>0,J5/(I5+J5),0)","v":0},{"$f":"IF((K5+L5)>0,K5/(K5+L5),0)","v":0},{"$f":"IF((K5+L5)>0,L5/(K5+L5),0)","v":0}]
[null,null,1,"Survivor of an accident, natural disaster, poverty, disease, illness …",1.0200000368058701E-2,2.0300000440329299E-2,null,null,null,null,null,null,null,null,null,null,null,null,null,null,null,null,null,null,null,null,null,null,null,null,null,null,null,null,null,null,null,null,null,null,null,null,null,null,3.0500000808388002E-2,0.33442623271188676,0.66557376728811313,0,0,0,0,0,0]
[null,null,2,"Survivor of domestic violence (by husband/wife/partner/other family member), psychological violence, physical assault, marital rape, murder …",1.52000002563E-2,5.1000001840293399E-3,null,null,null,null,null,null,null,null,null,null,null,null,null,null,null,null,null,null,null,null,null,null,null,null,null,null,null,null,null,null,null,null,null,null,null,null,null,null,2.0300000440329341E-2,0.74876846929040752,0.25123153070959237,0,0,0,0,0,0]
[null,null,3,"Survivor of non-domestic sexual violence or abuse, sexual harassment, rape, trafficking …",null,null,null,null,null,null,null,null,null,null,null,null,null,null,null,null,null,null,null,null,null,null,null,null,null,null,null,null,null,null,null,null,null,null,null,null,null,null,null,null,0,0,0,0,0,0,0,0,0]
[null,null,4,"Survivor of other crime, robbery, assault, murder …",null,null,null,null,null,null,null,null,null,null,null,null,null,null,null,null,null,null,null,null,null,null,null,null,null,null,null,null,null,null,null,null,null,null,null,null,null,null,null,null,0,0,0,0,0,0,0,0,0]
[null,null,5,"Survivor of violation based on religion, tradition, cultural belief, genital mutilation, bride-burning …",null,null,null,null,null,null,null,null,null,null,null,null,null,null,null,null,null,null,null,null,null,null,null,null,null,null,null,null,null,null,null,null,null,null,null,null,null,null,null,null,0,0,0,0,0,0,0,0,0]
[null,null,6,"Survivor of war, terrorism, vigilantism, state-based violence …",null,1.4952999539673301E-2,null,null,null,null,null,null,null,null,null,null,null,null,null,null,null,null,null,null,null,null,null,null,null,null,null,null,null,null,null,null,null,null,null,null,null,null,null,null,1.4952999539673301E-2,0,1,0,0,0,0,0,0]
[null,null,7,"Survivor of discrimination based on gender, race, ethnicity, age, religion …",null,null,null,null,null,null,null,null,null,null,null,null,null,null,null,null,null,null,null,null,null,null,null,null,null,null,null,null,null,null,null,null,null,null,null,null,null,null,null,null,0,0,0,0,0,0,0,0,0]
[null,null,8,"Other survivor: describe in 'Comments' section of coding sheet …",null,null,null,null,null,null,null,null,null,null,null,null,null,null,null,null,null,null,null,null,null,null,null,null,null,null,null,null,null,null,null,null,null,null,null,null,null,null,null,null,0,0,0,0,0,0,0,0,0]
[null,null,9,"Do not know, cannot decide",null,null,null,null,null,null,null,null,null,null,null,null,null,null,null,null,null,null,null,null,null,null,null,null,null,null,null,null,null,null,null,null,null,null,null,null,null,null,null,null,0,0,0,0,0,0,0,0,0]
[null,null,10,"NA – Use this where you are coding a secondary source only",null,null,null,null,null,null,null,null,null,null,null,null,null,null,null,null,null,null,null,null,null,null,null,null,null,null,null,null,null,null,null,null,null,null,null,null,null,null,null,null,0,0,0,0,0,0,0,0,0]
[null,null,null,null,null,null,null,null,null,null,null,null,null,null,null,null,null,null,null,null,null,null,null,null,null,null,null,null,null,null,null,null,null,null,null,null,null,null,null,null,null,null,null,null,0,0,0,0,0,0,0,0,0]
[null,null,null,null,null,null,null,null,null,null,null,null,null,null,null,null,null,null,null,null,null,null,null,null,null,null,null,null,null,null,null,null,null,null,null,null,null,null,null,null,null,null,null,null,0,0,0,0,0,0,0,0,0]
[null,null,null,null,null,null,null,null,null,null,null,null,null,null,null,null,null,null,null,null,null,null,null,null,null,null,null,null,null,null,null,null,null,null,null,null,null,null,null,null,null,null,null,null,0,0,0,0,0,0,0,0,0]
[null,null,null,null,null,null,null,null,null,null,null,null,null,null,null,null,null,null,null,null,null,null,null,null,null,null,null,null,null,null,null,null,null,null,null,null,null,null,null,null,null,null,null,null,0,0,0,0,0,0,0,0,0]
[null,null,null,null,null,null,null,null,null,null,null,null,null,null,null,null,null,null,null,null,null,null,null,null,null,null,null,null,null,null,null,null,null,null,null,null,null,null,null,null,null,null,null,null,0,0,0,0,0,0,0,0,0]
[null,null,null,null,null,null,null,null,null,null,null,null,null,null,null,null,null,null,null,null,null,null,null,null,null,null,null,null,null,null,null,null,null,null,null,null,null,null,null,null,null,null,null,null,0,0,0,0,0,0,0,0,0]
[null,null,null,null,null,null,null,null,null,null,null,null,null,null,null,null,null,null,null,null,null,null,null,null,null,null,null,null,null,null,null,null,null,null,null,null,null,null,null,null,null,null,null,null,0,0,0,0,0,0,0,0,0]
[null,null,null,null,null,null,null,null,null,null,null,null,null,null,null,null,null,null,null,null,null,null,null,null,null,null,null,null,null,null,null,null,null,null,null,null,null,null,null,null,null,null,null,null,0,0,0,0,0,0,0,0,0]
[null,null,null,null,null,null,null,null,null,null,null,null,null,null,null,null,null,null,null,null,null,null,null,null,null,null,null,null,null,null,null,null,null,null,null,null,null,null,null,null,null,null,null,null,0,0,0,0,0,0,0,0,0]
[null,null,null,null,null,null,null,null,null,null,null,null,null,null,null,null,null,null,null,null,null,null,null,null,null,null,null,null,null,null,null,null,null,null,null,null,null,null,null,null,null,null,null,null,0,0,0,0,0,0,0,0,0]
[null,null,null,null,null,null,null,null,null,null,null,null,null,null,null,null,null,null,null,null,null,null,null,null,null,null,null,null,null,null,null,null,null,null,null,null,null,null,null,null,null,null,null,null,0,0,0,0,0,0,0,0,0]
[null,null,null,null,null,null,null,null,null,null,null,null,null,null,null,null,null,null,null,null,null,null,null,null,null,null,null,null,null,null,null,null,null,null,null,null,null,null,null,null,null,null,null,null,0,0,0,0,0,0,0,0,0]
[null,null,null,null,null,null,null,null,null,null,null,null,null,null,null,null,null,null,null,null,null,null,null,null,null,null,null,null,null,null,null,null,null,null,null,null,null,null,null,null,null,null,null,null,0,0,0,0,0,0,0,0,0]
[null,null,null,null,null,null,null,null,null,null,null,null,null,null,null,null,null,null,null,null,null,null,null,null,null,null,null,null,null,null,null,null,null,null,null,null,null,null,null,null,null,null,null,null,0,0,0,0,0,0,0,0,0]
[null,null,null,null,null,null,null,null,null,null,null,null,null,null,null,null,null,null,null,null,null,null,null,null,null,null,null,null,null,null,null,null,null,null,null,null,null,null,null,null,null,null,null,null,0,0,0,0,0,0,0,0,0]
[null,null,null,null,null,null,null,null,null,null,null,null,null,null,null,null,null,null,null,null,null,null,null,null,null,null,null,null,null,null,null,null,null,null,null,null,null,null,null,null,null,null,null,null,0,0,0,0,0,0,0,0,0]
[null,null,null,null,null,null,null,null,null,null,null,null,null,null,null,null,null,null,null,null,null,null,null,null,null,null,null,null,null,null,null,null,null,null,null,null,null,null,null,null,null,null,null,null,0,0,0,0,0,0,0,0,0]
[null,null,null,null,null,null,null,null,null,null,null,null,null,null,null,null,null,null,null,null,null,null,null,null,null,null,null,null,null,null,null,null,null,null,null,null,null,null,null,null,null,null,null,null,0,0,0,0,0,0,0,0,0]
[null,null,null,null,null,null,null,null,null,null,null,null,null,null,null,null,null,null,null,null,null,null,null,null,null,null,null,null,null,null,null,null,null,null,null,null,null,null,null,null,null,null,null,null,0,0,0,0,0,0,0,0,0]
[null,null,null,null,null,null,null,null,null,null,null,null,null,null,null,null,null,null,null,null,null,null,null,null,null,null,null,null,null,null,null,null,null,null,null,null,null,null,null,null,null,null,null,null,0,0,0,0,0,0,0,0,0]
[null,null,null,null,null,null,null,null,null,null,null,null,null,null,null,null,null,null,null,null,null,null,null,null,null,null,null,null,null,null,null,null,null,null,null,null,null,null,null,null,null,null,null,null,0,0,0,0,0,0,0,0,0]
[null,null,null,null,null,null,null,null,null,null,null,null,null,null,null,null,null,null,null,null,null,null,null,null,null,null,null,null,null,null,null,null,null,null,null,null,null,null,null,null,null,null,null,null,{"$f":"SUM(E37:O37)","v":0},{"$f":"IF((E37+F37)>0,E37/(E37+F37),0)","v":0},{"$f":"IF((E37+F37)>0,F37/(E37+F37),0)","v":0},{"$f":"IF((G37+H37)>0,G37/(G37+H37),0)","v":0},{"$f":"IF((G37+H37)>0,H37/(G37+H37),0)","v":0},{"$f":"IF((I37+J37)>0,I37/(I37+J37),0)","v":0},{"$f":"IF((I37+J37)>0,J37/(I37+J37),0)","v":0},{"$f":"IF((K37+L37)>0,K37/(K37+L37),0)","v":0},{"$f":"IF((K37+L37)>0,L37/(K37+L37),0)","v":0}]
[null,null,null,null,null,null,null,null,null,null,null,null,null,null,null,null,null,null,null,null,null,null,null,null,null,null,null,null,null,null,null,null,null,null,null,null,null,null,null,null,null,null,null,null,0,0,0,0,0,0,0,0,0]
[null,null,null,null,null,null,null,null,null,null,null,null,null,null,null,null,null,null,null,null,null,null,null,null,null,null,null,null,null,null,null,null,null,null,null,null,null,null,null,null,null,null,null,null,0,0,0,0,0,0,0,0,0]
[null,null,null,null,null,null,null,null,null,null,null,null,null,null,null,null,null,null,null,null,null,null,null,null,null,null,null,null,null,null,null,null,null,null,null,null,null,null,null,null,null,null,null,null,0,0,0,0,0,0,0,0,0]
[null,null,null,null,null,null,null,null,null,null,null,null,null,null,null,null,null,null,null,null,null,null,null,null,null,null,null,null,null,null,null,null,null,null,null,null,null,null,null,null,null,null,null,null,0,0,0,0,0,0,0,0,0]
[null,null,null,null,null,null,null,null,null,null,null,null,null,null,null,null,null,null,null,null,null,null,null,null,null,null,null,null,null,null,null,null,null,null,null,null,null,null,null,null,null,null,null,null,0,0,0,0,0,0,0,0,0]
[null,null,null,null,null,null,null,null,null,null,null,null,null,null,null,null,null,null,null,null,null,null,null,null,null,null,null,null,null,null,null,null,null,null,null,null,null,null,null,null,null,null,null,null,0,0,0,0,0,0,0,0,0]
[null,null,null,null,null,null,null,null,null,null,null,null,null,null,null,null,null,null,null,null,null,null,null,null,null,null,null,null,null,null,null,null,null,null,null,null,null,null,null,null,null,null,null,null,0,0,0,0,0,0,0,0,0]
[null,null,null,null,null,null,null,null,null,null,null,null,null,null,null,null,null,null,null,null,null,null,null,null,null,null,null,null,null,null,null,null,null,null,null,null,null,null,null,null,null,null,null,null,0,0,0,0,0,0,0,0,0]
[null,null,null,null,null,null,null,null,null,null,null,null,null,null,null,null,null,null,null,null,null,null,null,null,null,null,null,null,null,null,null,null,null,null,null,null,null,null,null,null,null,null,null,null,0,0,0,0,0,0,0,0,0]
[null,null,null,null,null,null,null,null,null,null,null,null,null,null,null,null,null,null,null,null,null,null,null,null,null,null,null,null,null,null,null,null,null,null,null,null,null,null,null,null,null,null,null,null,0,0,0,0,0,0,0,0,0]
[null,null,null,null,null,null,null,null,null,null,null,null,null,null,null,null,null,null,null,null,null,null,null,null,null,null,null,null,null,null,null,null,null,null,null,null,null,null,null,null,null,null,null,null,0,0,0,0,0,0,0,0,0]
[null,null,null,null,null,null,null,null,null,null,null,null,null,null,null,null,null,null,null,null,null,null,null,null,null,null,null,null,null,null,null,null,null,null,null,null,null,null,null,null,null,null,null,null,0,0,0,0,0,0,0,0,0]
[null,null,null,null,null,null,null,null,null,null,null,null,null,null,null,null,null,null,null,null,null,null,null,null,null,null,null,null,null,null,null,null,null,null,null,null,null,null,null,null,null,null,null,null,0,0,0,0,0,0,0,0,0]
[null,null,null,null,null,null,null,null,null,null,null,null,null,null,null,null,null,null,null,null,null,null,null,null,null,null,null,null,null,null,null,null,null,null,null,null,null,null,null,null,null,null,null,null,0,0,0,0,0,0,0,0,0]
[null,null,null,null,null,null,null,null,null,null,null,null,null,null,null,null,null,null,null,null,null,null,null,null,null,null,null,null,null,null,null,null,null,null,null,null,null,null,null,null,null,null,null,null,0,0,0,0,0,0,0,0,0]
[null,null,null,null,null,null,null,null,null,null,null,null,null,null,null,null,null,null,null,null,null,null,null,null,null,null,null,null,null,null,null,null,null,null,null,null,null,null,null,null,null,null,null,null,0,0,0,0,0,0,0,0,0]
[null,null,null,null,null,null,null,null,null,null,null,null,null,null,null,null,null,null,null,null,null,null,null,null,null,null,null,null,null,null,null,null,null,null,null,null,null,null,null,null,null,null,null,null,0,0,0,0,0,0,0,0,0]
[null,null,null,null,null,null,null,null,null,null,null,null,null,null,null,null,null,null,null,null,null,null,null,null,null,null,null,null,null,null,null,null,null,null,null,null,null,null,null,null,null,null,null,null,0,0,0,0,0,0,0,0,0]
[null,null,null,null,null,null,null,null,null,null,null,null,null,null,null,null,null,null,null,null,null,null,null,null,null,null,null,null,null,null,null,null,null,null,null,null,null,null,null,null,null,null,null,null,0,0,0,0,0,0,0,0,0]
[null,null,null,null,null,null,null,null,null,null,null,null,null,null,null,null,null,null,null,null,null,null,null,null,null,null,null,null,null,null,null,null,null,null,null,null,null,null,null,null,null,null,null,null,0,0,0,0,0,0,0,0,0]
[null,null,null,null,null,null,null,null,null,null,null,null,null,null,null,null,null,null,null,null,null,null,null,null,null,null,null,null,null,null,null,null,null,null,null,null,null,null,null,null,null,null,null,null,0,0,0,0,0,0,0,0,0]
[null,null,null,null,null,null,null,null,null,null,null,null,null,null,null,null,null,null,null,null,null,null,null,null,null,null,null,null,null,null,null,null,null,null,null,null,null,null,null,null,null,null,null,null,0,0,0,0,0,0,0,0,0]
[null,null,null,null,null,null,null,null,null,null,null,null,null,null,null,null,null,null,null,null,null,null,null,null,null,null,null,null,null,null,null,null,null,null,null,null,null,null,null,null,null,null,null,null,0,0,0,0,0,0,0,0,0]
[null,null,null,null,null,null,null,null,null,null,null,null,null,null,null,null,null,null,null,null,null,null,null,null,null,null,null,null,null,null,null,null,null,null,null,null,null,null,null,null,null,null,null,null,0,0,0,0,0,0,0,0,0]
[null,null,null,null,null,null,null,null,null,null,null,null,null,null,null,null,null,null,null,null,null,null,null,null,null,null,null,null,null,null,null,null,null,null,null,null,null,null,null,null,null,null,null,null,0,0,0,0,0,0,0,0,0]
[null,null,null,null,null,null,null,null,null,null,null,null,null,null,null,null,null,null,null,null,null,null,null,null,null,null,null,null,null,null,null,null,null,null,null,null,null,null,null,null,null,null,null,null,0,0,0,0,0,0,0,0,0]
[null,null,null,null,null,null,null,null,null,null,null,null,null,null,null,null,null,null,null,null,null,null,null,null,null,null,null,null,null,null,null,null,null,null,null,null,null,null,null,null,null,null,null,null,0,0,0,0,0,0,0,0,0]
[null,null,null,null,null,null,null,null,null,null,null,null,null,null,null,null,null,null,null,null,null,null,null,null,null,null,null,null,null,null,null,null,null,null,null,null,null,null,null,null,null,null,null,null,0,0,0,0,0,0,0,0,0]
[null,null,null,null,null,null,null,null,null,null,null,null,null,null,null,null,null,null,null,null,null,null,null,null,null,null,null,null,null,null,null,null,null,null,null,null,null,null,null,null,null,null,null,null,0,0,0,0,0,0,0,0,0]
[null,null,null,null,null,null,null,null,null,null,null,null,null,null,null,null,null,null,null,null,null,null,null,null,null,null,null,null,null,null,null,null,null,null,null,null,null,null,null,null,null,null,null,null,{"$f":"SUM(E67:O67)","v":0},0,0,0,0,0,0,0,0]
[null,null,null,"TOTAL",{"$f":"SUM(E6:E13)","v":2.5400000624358703E-2},{"$f":"SUM(F6:F13)","v":4.0353000164031941E-2},{"$f":"SUM(G6:G67)","v":0},0,0,0,0,0,0,0,0,0,0,0,0,0,null,null,null,null,null,null,null,null,null,null,null,null,null,null,null,null,null,null,null,null,null,null,null,null,6.5753000788390636E-2,0.38629416634690433,0.61370583365309583,0,0,0,0,0,0]
[]
[null,null,{"$f":"C5","v":0},"Not a survivor",{"$f":"IF(E$68>0,E5/E$68,0)","v":21.38610174522875},{"$f":"IF(F$68>0,F5/F$68,0)","v":35.513877024800884},0,0,0,0,0,0,0,0,0,0,0,0,0,0]
[null,null,1,"Survivor of an accident, natural disaster, poverty, disease, illness …",{"$f":"IF(E$68>0,E6/E$68,0)","v":0.40157480776897536},{"$f":"IF(F$68>0,F6/F$68,0)","v":0.50306050003249592},0,0,0,0,0,0,0,0,0,0,0,0,0,0]
[null,null,2,"Survivor of domestic violence (by husband/wife/partner/other family member), psychological violence, physical assault, marital rape, murder …",0.59842519223102453,{"$f":"IF(F$68>0,F7/F$68,0)","v":0.12638465946269717},0,0,0,0,0,0,0,0,0,0,0,0,0,0]
[null,null,3,"Survivor of non-domestic sexual violence or abuse, sexual harassment, rape, trafficking …",0,{"$f":"IF(F$68>0,F8/F$68,0)","v":0},0,0,0,0,0,0,0,0,0,0,0,0,0,0]
[null,null,4,"Survivor of other crime, robbery, assault, murder …",0,{"$f":"IF(F$68>0,F9/F$68,0)","v":0},0,0,0,0,0,0,0,0,0,0,0,0,0,0]
[null,null,5,"Survivor of violation based on religion, tradition, cultural belief, genital mutilation, bride-burning …",0,{"$f":"IF(F$68>0,F10/F$68,0)","v":0},0,0,0,0,0,0,0,0,0,0,0,0,0,0]
[null,null,6,"Survivor of war, terrorism, vigilantism, state-based violence …",0,{"$f":"IF(F$68>0,F11/F$68,0)","v":0.37055484050480686},0,0,0,0,0,0,0,0,0,0,0,0,0,0]
[null,null,7,"Survivor of discrimination based on gender, race, ethnicity, age, religion …",0,{"$f":"IF(F$68>0,F12/F$68,0)","v":0},0,0,0,0,0,0,0,0,0,0,0,0,0,0]
[null,null,8,"Other survivor: describe in 'Comments' section of coding sheet …",0,{"$f":"IF(F$68>0,F13/F$68,0)","v":0},0,0,0,0,0,0,0,0,0,0,0,0,0,0]
[null,null,9,"Do not know, cannot decide",0,{"$f":"IF(F$68>0,F14/F$68,0)","v":0},0,0,0,0,0,0,0,0,0,0,0,0,0,0]
[null,null,10,"NA – Use this where you are coding a secondary source only",0,{"$f":"IF(F$68>0,F15/F$68,0)","v":0},0,0,0,0,0,0,0,0,0,0,0,0,0,0]
[null,null,0,0,{"$f":"IF(E$67>0,E16/E$67,0)","v":0},{"$f":"IF(F$68>0,F16/F$68,0)","v":0},0,0,0,0,0,0,0,0,0,0,0,0,0,0]
[null,null,0,0,0,{"$f":"IF(F$68>0,F17/F$68,0)","v":0},0,0,0,0,0,0,0,0,0,0,0,0,0,0]
[null,null,0,0,0,{"$f":"IF(F$68>0,F18/F$68,0)","v":0},0,0,0,0,0,0,0,0,0,0,0,0,0,0]
[null,null,0,0,0,{"$f":"IF(F$68>0,F19/F$68,0)","v":0},0,0,0,0,0,0,0,0,0,0,0,0,0,0]
[null,null,0,0,0,{"$f":"IF(F$68>0,F20/F$68,0)","v":0},0,0,0,0,0,0,0,0,0,0,0,0,0,0]
[null,null,0,0,0,{"$f":"IF(F$68>0,F21/F$68,0)","v":0},0,0,0,0,0,0,0,0,0,0,0,0,0,0]
[null,null,0,0,0,{"$f":"IF(F$68>0,F22/F$68,0)","v":0},0,0,0,0,0,0,0,0,0,0,0,0,0,0]
[null,null,0,0,0,{"$f":"IF(F$68>0,F23/F$68,0)","v":0},0,0,0,0,0,0,0,0,0,0,0,0,0,0]
[null,null,0,0,0,{"$f":"IF(F$68>0,F24/F$68,0)","v":0},0,0,0,0,0,0,0,0,0,0,0,0,0,0]
[null,null,{"$f":"C25","v":0},0,0,{"$f":"IF(F$68>0,F25/F$68,0)","v":0},0,0,0,0,0,0,0,0,0,0,0,0,0,0]
[null,null,0,0,0,{"$f":"IF(F$68>0,F26/F$68,0)","v":0},0,0,0,0,0,0,0,0,0,0,0,0,0,0]
[null,null,0,0,0,{"$f":"IF(F$68>0,F27/F$68,0)","v":0},0,0,0,0,0,0,0,0,0,0,0,0,0,0]
[null,null,0,0,0,{"$f":"IF(F$68>0,F28/F$68,0)","v":0},0,0,0,0,0,0,0,0,0,0,0,0,0,0]
[null,null,0,0,0,{"$f":"IF(F$68>0,F29/F$68,0)","v":0},0,0,0,0,0,0,0,0,0,0,0,0,0,0]
[null,null,0,0,0,{"$f":"IF(F$68>0,F30/F$68,0)","v":0},0,0,0,0,0,0,0,0,0,0,0,0,0,0]
[null,null,0,0,0,{"$f":"IF(F$68>0,F31/F$68,0)","v":0},0,0,0,0,0,0,0,0,0,0,0,0,0,0]
[null,null,0,0,0,{"$f":"IF(F$68>0,F32/F$68,0)","v":0},0,0,0,0,0,0,0,0,0,0,0,0,0,0]
[null,null,0,0,0,{"$f":"IF(F$68>0,F33/F$68,0)","v":0},0,0,0,0,0,0,0,0,0,0,0,0,0,0]
[null,null,0,0,0,{"$f":"IF(F$68>0,F34/F$68,0)","v":0},0,0,0,0,0,0,0,0,0,0,0,0,0,0]
[null,null,0,0,0,{"$f":"IF(F$68>0,F35/F$68,0)","v":0},0,0,0,0,0,0,0,0,0,0,0,0,0,0]
[null,null,0,0,0,{"$f":"IF(F$68>0,F36/F$68,0)","v":0},0,0,0,0,0,0,0,0,0,0,0,0,0,0]
[null,null,0,0,{"$f":"IF(E$67>0,E37/E$67,0)","v":0},{"$f":"IF(F$68>0,F37/F$68,0)","v":0},0,0,0,0,0,0,0,0,0,0,0,0,0,0]
[null,null,0,0,0,{"$f":"IF(F$68>0,F38/F$68,0)","v":0},0,0,0,0,0,0,0,0,0,0,0,0,0,0]
[null,null,0,0,0,{"$f":"IF(F$68>0,F39/F$68,0)","v":0},0,0,0,0,0,0,0,0,0,0,0,0,0,0]
[null,null,0,0,0,{"$f":"IF(F$68>0,F40/F$68,0)","v":0},0,0,0,0,0,0,0,0,0,0,0,0,0,0]
[null,null,0,0,0,{"$f":"IF(F$68>0,F41/F$68,0)","v":0},0,0,0,0,0,0,0,0,0,0,0,0,0,0]
[null,null,0,0,0,{"$f":"IF(F$68>0,F42/F$68,0)","v":0},0,0,0,0,0,0,0,0,0,0,0,0,0,0]
[null,null,0,0,0,{"$f":"IF(F$68>0,F43/F$68,0)","v":0},0,0,0,0,0,0,0,0,0,0,0,0,0,0]
[null,null,0,0,0,{"$f":"IF(F$68>0,F44/F$68,0)","v":0},0,0,0,0,0,0,0,0,0,0,0,0,0,0]
[null,null,{"$f":"C45","v":0},0,0,{"$f":"IF(F$68>0,F45/F$68,0)","v":0},0,0,0,0,0,0,0,0,0,0,0,0,0,0]
[null,null,0,0,0,{"$f":"IF(F$68>0,F46/F$68,0)","v":0},0,0,0,0,0,0,0,0,0,0,0,0,0,0]
[null,null,0,0,0,{"$f":"IF(F$68>0,F47/F$68,0)","v":0},0,0,0,0,0,0,0,0,0,0,0,0,0,0]
[null,null,0,0,0,{"$f":"IF(F$68>0,F48/F$68,0)","v":0},0,0,0,0,0,0,0,0,0,0,0,0,0,0]
[null,null,0,0,0,{"$f":"IF(F$68>0,F49/F$68,0)","v":0},0,0,0,0,0,0,0,0,0,0,0,0,0,0]
[null,null,0,0,0,{"$f":"IF(F$68>0,F50/F$68,0)","v":0},0,0,0,0,0,0,0,0,0,0,0,0,0,0]
[null,null,0,0,0,{"$f":"IF(F$68>0,F51/F$68,0)","v":0},0,0,0,0,0,0,0,0,0,0,0,0,0,0]
[null,null,0,0,0,{"$f":"IF(F$68>0,F52/F$68,0)","v":0},0,0,0,0,0,0,0,0,0,0,0,0,0,0]
[null,null,0,0,0,{"$f":"IF(F$68>0,F53/F$68,0)","v":0},0,0,0,0,0,0,0,0,0,0,0,0,0,0]
[null,null,0,0,0,{"$f":"IF(F$68>0,F54/F$68,0)","v":0},0,0,0,0,0,0,0,0,0,0,0,0,0,0]
[null,null,0,0,0,{"$f":"IF(F$68>0,F55/F$68,0)","v":0},0,0,0,0,0,0,0,0,0,0,0,0,0,0]
[null,null,0,0,0,{"$f":"IF(F$68>0,F56/F$68,0)","v":0},0,0,0,0,0,0,0,0,0,0,0,0,0,0]
[null,null,0,0,0,{"$f":"IF(F$68>0,F57/F$68,0)","v":0},0,0,0,0,0,0,0,0,0,0,0,0,0,0]
[null,null,0,0,0,{"$f":"IF(F$68>0,F58/F$68,0)","v":0},0,0,0,0,0,0,0,0,0,0,0,0,0,0]
[null,null,0,0,0,{"$f":"IF(F$68>0,F59/F$68,0)","v":0},0,0,0,0,0,0,0,0,0,0,0,0,0,0]
[null,null,0,0,0,{"$f":"IF(F$68>0,F60/F$68,0)","v":0},0,0,0,0,0,0,0,0,0,0,0,0,0,0]
[null,null,0,0,0,{"$f":"IF(F$68>0,F61/F$68,0)","v":0},0,0,0,0,0,0,0,0,0,0,0,0,0,0]
[null,null,0,0,0,{"$f":"IF(F$68>0,F62/F$68,0)","v":0},0,0,0,0,0,0,0,0,0,0,0,0,0,0]
[]
[]
[]
[]
[]
[]
[]
[]
[]
[]
[]
[]
[]
[]
[]
[]
[]
[]
[]
[]
["COUNT"]
[null,null,null,null,{"$f":"E3","v":"Female"},"Male",0,0,0,0,0,0,0,0,0,0,0,0,0,0]
[null,null,null,null,{"$f":"E4","v":0},0,0,0,0,0,0,0,0,0,0,0,0,0,0,0]
[null,null,{"$f":"C5","v":0},"Not a survivor",89,230,0,0,0,0]
[null,null,1,"Survivor of an accident, natural disaster, poverty, disease, illness …",2,4,0,0,0,0]
[null,null,2,"Survivor of domestic violence (by husband/wife/partner/other family member), psychological violence, physical assault, marital rape, murder …",3,1,0,0,0,0]
[null,null,3,"Survivor of non-domestic sexual violence or abuse, sexual harassment, rape, trafficking …",0,0,0,0,0,0]
[null,null,4,"Survivor of other crime, robbery, assault, murder …",0,0,0,0,0,0]
[null,null,5,"Survivor of violation based on religion, tradition, cultural belief, genital mutilation, bride-burning …",0,0,0,0,0,0]
[null,null,6,"Survivor of war, terrorism, vigilantism, state-based violence …",0,2,0,0,0,0]
[null,null,7,"Survivor of discrimination based on gender, race, ethnicity, age, religion …",0,0,0,0,0,0]
[null,null,8,"Other survivor: describe in 'Comments' section of coding sheet …",0,0,0,0,0,0]
[null,null,9,"Do not know, cannot decide",0,0,0,0,0,0]
[null,null,10,"NA – Use this where you are coding a secondary source only",0,0,0,0,0,0]
[null,null,0,0,0,0,0,0,0,0]
[null,null,0,0,0,0,0,0,0,0]
[null,null,0,0,0,0,0,0,0,0]
[null,null,0,0,0,0,0,0,0,0]
[null,null,0,0,0,0,0,0,0,0]
[null,null,0,0,0,0,0,0,0,0]
[null,null,0,0,0,0,0,0,0,0]
[null,null,0,0,0,0,0,0,0,0]
[null,null,0,0,0,0,0,0,0,0]
[null,null,{"$f":"C25","v":0},0,0,0,0,0,0,0]
[null,null,0,0,0,0,0,0,0,0]
[null,null,0,0,0,0,0,0,0,0]
[null,null,0,0,0,0,0,0,0,0]
[null,null,0,0,0,0,0,0,0,0]
[null,null,0,0,0,0,0,0,0,0]
[null,null,0,0,0,0,0,0,0,0]
[null,null,0,0,0,0,0,0,0,0]
[null,null,0,0,0,0,0,0,0,0]
[null,null,0,0,0,0,0,0,0,0]
[null,null,0,0,0,0,0,0,0,0]
[null,null,0,0,0,0,0,0,0,0]
[null,null,0,0,0,0,0,0,0,0]
[null,null,0,0,0,0,0,0,0,0]
[null,null,0,0,0,0,0,0,0,0]
[null,null,0,0,0,0,0,0,0,0]
[null,null,0,0,0,0,0,0,0,0]
[null,null,0,0,0,0,0,0,0,0]
[null,null,0,0,0,0,0,0,0,0]
[null,null,0,0,0,0,0,0,0,0]
[null,null,{"$f":"C45","v":0},0,0,0,0,0,0,0]
[null,null,0,0,0,0,0,0,0,0]
[null,null,0,0,0,0,0,0,0,0]
[null,null,0,0,0,0,0,0,0,0]
[null,null,0,0,0,0,0,0,0,0]
[null,null,0,0,0,0,0,0,0,0]
[null,null,0,0,0,0,0,0,0,0]
[null,null,0,0,0,0,0,0,0,0]
[null,null,0,0,0,0,0,0,0,0]
[null,null,0,0,0,0,0,0,0,0]
[null,null,0,0,0,0,0,0,0,0]
[null,null,0,0,0,0,0,0,0,0]
[null,null,0,0]
[null,null,0,0]
[null,null,0,0]

{"sheet":"19bF - Survivors","index":78,"n_rows":15,"n_cols":14,"rows_kept":15,"cut":false,"hidden":false,"merged":[[1,5,1,12],[2,5,2,6],[2,7,2,8],[2,9,2,10],[2,11,2,13]]}
[{"$f":"'19b'!A1","v":"Proportion of female & male news subjects who are survivors"}]
[]
[null,null,null,null,null,1995,null,2000,null,2005,null,2010]
[null,null,null,null,null,"%F","%M","%F","%M","%F","%M","%F","%M","N"]
[]
[null,null,null,null,{"$f":"'19b'!D6","v":"Survivor of an accident, natural disaster, poverty, disease, illness …"},0,0,"n/a","n/a",0.32,0.68,{"$f":"'19b'!AT6","v":0.33442623271188676},{"$f":"'19b'!AU6","v":0.66557376728811313},{"$f":"'19b'!E152+'19b'!F152","v":6}]
[null,null,null,null,{"$f":"'19b'!D7","v":"Survivor of domestic violence (by husband/wife/partner/other family member), psychological violence, physical assault, marital rape, murder …"},0,0,"n/a","n/a",0.48,0.52,{"$f":"'19b'!AT7","v":0.74876846929040752},{"$f":"'19b'!AU7","v":0.25123153070959237},{"$f":"'19b'!E153+'19b'!F153","v":4}]
[null,null,null,null,{"$f":"'19b'!D8","v":"Survivor of non-domestic sexual violence or abuse, sexual harassment, rape, trafficking …"},0,0,"n/a","n/a",0.68,0.42,{"$f":"'19b'!AT8","v":0},{"$f":"'19b'!AU8","v":0},{"$f":"'19b'!E154+'19b'!F154","v":0}]
[null,null,null,null,{"$f":"'19b'!D9","v":"Survivor of other crime, robbery, assault, murder …"},0,0,"n/a","n/a",0.4,0.6,{"$f":"'19b'!AT9","v":0},{"$f":"'19b'!AU9","v":0},{"$f":"'19b'!E155+'19b'!F155","v":0}]
[null,null,null,null,{"$f":"'19b'!D10","v":"Survivor of violation based on religion, tradition, cultural belief, genital mutilation, bride-burning …"},0,0,"n/a","n/a","n/a","n/a",{"$f":"'19b'!AT10","v":0},{"$f":"'19b'!AU10","v":0},{"$f":"'19b'!E156+'19b'!F156","v":0}]
[null,null,null,null,{"$f":"'19b'!D11","v":"Survivor of war, terrorism, vigilantism, state-based violence …"},0,0,"n/a","n/a",0.27,0.73,{"$f":"'19b'!AT11","v":0},{"$f":"'19b'!AU11","v":1},{"$f":"'19b'!E157+'19b'!F157","v":2}]
[null,null,null,null,{"$f":"'19b'!D12","v":"Survivor of discrimination based on gender, race, ethnicity, age, religion …"},0,0,"n/a","n/a",0,0,{"$f":"'19b'!AT12","v":0},{"$f":"'19b'!AU12","v":0},{"$f":"'19b'!E158+'19b'!F158","v":0}]
[null,null,null,null,{"$f":"'19b'!D13","v":"Other survivor: describe in 'Comments' section of coding sheet …"},0,0,"n/a","n/a",0.5,0.5,{"$f":"'19b'!AT13","v":0},{"$f":"'19b'!AU13","v":0},{"$f":"'19b'!E159+'19b'!F159","v":0}]
[]
[null,null,null,null,"Total",null,null,null,null,null,null,{"$f":"'19b'!AT68","v":0.38629416634690433},{"$f":"'19b'!AU68","v":0.61370583365309583},{"$f":"SUM(N6:N14)","v":12}]

{"sheet":"20a","index":79,"n_rows":205,"n_cols":63,"rows_kept":205,"cut":false,"hidden":true,"merged":[]}
["Function of news subjects by sex - by occupation"]
[null,null,null,null,"Do not know: the person's function is not clear.",null,"Subject: the story is about this person, or about something the person has done, said etc.",null,"Spokesperson: the person represents, or speaks on behalf of another person, a group or an organisation",null,"Expert or commentator: the person provides additional information, opinion or comment, based on specialist knowledge or expertise",null,"Personal experience: the person provides opinion or comment, based on individual personal experience; the opinion is not necessarily meant to reflect the views of a wider group",null,"Eye witness: the person gives testimony or comment, based on direct observation (e.g. being present at an event)",null,"Popular opinion: the person's opinion is assumed to reflect that of the 'ordinary citizen' (e.g., in a street interview, vox populi etc); it is implied that the person's point of view is shared by a wider group of people.",null,"Other. Use only as a last resort (describe the function in 'Comments' section of coding sheet).",null,"NA – Use this where you are coding a secondary source only",null,null,null,null,null,null,null,null,null,null,null,null,null,null,null,null,null,null,null,null,null,null,null,null,{"$f":"E2","v":"Do not know: the person's function is not clear."},0,"Subject: the story is about this person, or about something the person has done, said etc.",0,"Spokesperson: the person represents, or speaks on behalf of another person, a group or an organisation",0,"Expert or commentator: the person provides additional information, opinion or comment, based on specialist knowledge or expertise",0,{"$f":"M2","v":"Personal experience: the person provides opinion or comment, based on individual personal experience; the opinion is not necessarily meant to reflect the views of a wider group"},0,"Eye witness: the person gives testimony or comment, based on direct observation (e.g. being present at an event)",0,"Popular opinion: the person's opinion is assumed to reflect that of the 'ordinary citizen' (e.g., in a street interview, vox populi etc); it is implied that the person's point of view is shared by a wider group of people.",0,"Other. Use only as a last resort (describe the function in 'Comments' section of coding sheet).",0,"NA – Use this where you are coding a secondary source only",0]
[null,null,null,null,"Female","Male","Female","Male","Female","Male","Female","Male","Female","Male","Female","Male","Female","Male","Female","Male","Female","Male",null,null,null,null,null,null,null,null,null,null,null,null,null,null,null,null,null,null,null,null,null,null,null,"Female","Male","Female","Male","Female","Male","Female","Male","Female","Male","Female","Male","Female","Male","Female","Male","Female","Male"]
[null,null,null,null,null,null,null,null,null,null,null,null,null,null,null,null,null,null,null,null,null,null,null,null,null,null,null,null,null,null,null,null,null,null,null,null,null,null,null,null,null,null,null,null,"TOTAL",0,0,0,0,0,0,0,0,0,0,0,0,0,0,0,0,0,0]
[null,null,0,"Not stated. Story does not describe the person’s occupation or position.",5.1000001840293399E-3,null,3.762949956581E-2,2.7429499197751301E-2,null,null,null,null,5.1000001840293399E-3,null,4.9999998882412902E-3,9.9999997764825804E-3,5.1000001840293399E-3,5.1000001840293399E-3,null,null,null,null,null,null,null,null,null,null,null,null,null,null,null,null,null,null,null,null,null,null,null,null,null,null,{"$f":"SUM(E5:O5)","v":8.0258999019861277E-2},{"$f":"IF((E5+F5)>0,E5/(E5+F5),0)","v":1},{"$f":"IF((E5+F5)>0,F5/(E5+F5),0)","v":0},{"$f":"IF((G5+H5)>0,G5/(G5+H5),0)","v":0.5783903884313355},{"$f":"IF((G5+H5)>0,H5/(G5+H5),0)","v":0.42160961156866444},{"$f":"IF((I5+J5)>0,I5/(I5+J5),0)","v":0},{"$f":"IF((I5+J5)>0,J5/(I5+J5),0)","v":0},{"$f":"IF((K5+L5)>0,K5/(K5+L5),0)","v":0},{"$f":"IF((K5+L5)>0,L5/(K5+L5),0)","v":0},{"$f":"IF((M5+N5)>0,M5/(M5+N5),0)","v":1},{"$f":"IF((M5+N5)>0,N5/(M5+N5),0)","v":0},{"$f":"IF((O5+P5)>0,O5/(O5+P5),0)","v":0.33333333333333337},{"$f":"IF((O5+P5)>0,P5/(O5+P5),0)","v":0.66666666666666674},{"$f":"IF((Q5+R5)>0,Q5/(Q5+R5),0)","v":0.5},{"$f":"IF((Q5+R5)>0,R5/(Q5+R5),0)","v":0.5},{"$f":"IF((S5+T5)>0,S5/(S5+T5),0)","v":0},{"$f":"IF((S5+T5)>0,T5/(S5+T5),0)","v":0},{"$f":"IF((U5+V5)>0,U5/(U5+V5),0)","v":0},{"$f":"IF((U5+V5)>0,V5/(U5+V5),0)","v":0}]
[null,null,1,"Royalty, ruling monarch, deposed monarch, any member of royal family …",null,null,null,null,null,null,null,null,null,null,null,null,null,null,null,null,null,null,null,null,null,null,null,null,null,null,null,null,null,null,null,null,null,null,null,null,null,null,null,null,0,0,0,0,0,0,0,0,0,0,0,0,0,0,0,0,0,0,0]
[null,null,2,"Government official, politician, president, government minister, political leader, political party staff, spokesperson …",null,null,0.155023996718228,0.46507199015468398,2.27765003219247E-2,3.5600000992417301E-2,5.1000001840293399E-3,3.5353000275790698E-2,7.4764997698366599E-3,4.2829500045627397E-2,null,null,null,null,null,null,null,null,null,null,null,null,null,null,null,null,null,null,null,null,null,null,null,null,null,null,null,null,null,null,0.76923148846253808,0,0,0.25,0.75,0.39016555992760299,0.60983444007239695,0.1260722350890861,0.87392776491091384,0.14862043885942974,0.85137956114057034,0,0,0,0,0,0,0,0]
[null,null,3,"Government employee, public servant, bureaucrat, diplomat, intelligence officer …",null,null,null,null,5.1000001840293399E-3,7.4764997698366599E-3,null,5.1000001840293399E-3,null,null,null,null,null,null,null,null,null,null,null,null,null,null,null,null,null,null,null,null,null,null,null,null,null,null,null,null,null,null,null,null,1.7676500137895339E-2,0,0,0,0,0.40551824456228036,0.59448175543771964,0,1,0,0,0,0,0,0,0,0,0,0]
[null,null,4,"Police, military, para-military group, militia, prison officer, security officer, fire officer …",null,null,7.4764997698366599E-3,1.2576499953866E-2,null,1.2576499953866E-2,null,7.4764997698366599E-3,null,4.9999998882412902E-3,null,null,null,null,null,null,null,null,null,null,null,null,null,null,null,null,null,null,null,null,null,null,null,null,null,null,null,null,null,null,4.5105999335646609E-2,0,0,0.37283697565703511,0.62716302434296489,0,1,0,1,0,1,0,0,0,0,0,0,0,0]
[null,null,5,"Academic expert, education professional, teacher or university lecturer (all disciplines), nursery or kindergarten teacher, child care worker  …",null,null,null,null,null,null,2.00529997237027E-2,4.7582499217242002E-2,7.4764997698366599E-3,null,null,null,null,null,null,null,null,null,null,null,null,null,null,null,null,null,null,null,null,null,null,null,null,null,null,null,null,null,null,null,7.5111998710781364E-2,0,0,0,0,0,0,0.2964863132186219,0.70351368678137816,1,0,0,0,0,0,0,0,0,0]
[null,null,6,"Health or social service professional, doctor, nurse, laboratory technician, social worker, psychologist …",null,null,1.0100000072270601E-2,null,5.1000001840293399E-3,4.9999998882412902E-3,5.1000001840293399E-3,1.5300000552088E-2,null,1.0100000072270601E-2,null,null,null,null,null,null,null,null,null,null,null,null,null,null,null,null,null,null,null,null,null,null,null,null,null,null,null,null,null,null,5.0700000952929175E-2,0,0,1,0,0.50495050965705435,0.49504949034294571,0.25000000000000028,0.74999999999999978,0,1,0,0,0,0,0,0,0,0]
[null,null,7,"Science or technology professional, engineer, technician, computer specialist …",null,null,null,7.47649976983666E-2,null,null,null,5.1000001840293399E-3,null,null,null,null,null,null,null,null,null,null,null,null,null,null,null,null,null,null,null,null,null,null,null,null,null,null,null,null,null,null,null,null,7.9864997882395941E-2,0,0,0,1,0,0,0,1,0,0,0,0,0,0,0,0,0,0]
[null,null,8,"Media professional, journalist, video or film-maker, theatre director ...",null,null,null,null,null,null,5.1000001840293399E-3,5.1000001840293399E-3,null,7.4764997698366599E-3,null,null,null,null,null,null,null,null,null,null,null,null,null,null,null,null,null,null,null,null,null,null,null,null,null,null,null,null,null,null,1.7676500137895339E-2,0,0,0,0,0,0,0.5,0.5,0,1,0,0,0,0,0,0,0,0]
[null,null,9,"Lawyer, judge, magistrate, legal advocate, legal expert, legal clerk …",null,null,1.0200000368058701E-2,3.7729499861598001E-2,5.1000001840293399E-3,null,1.0200000368058701E-2,2.52000000327826E-2,null,null,null,null,null,null,null,null,null,null,null,null,null,null,null,null,null,null,null,null,null,null,null,null,null,null,null,null,null,null,null,null,8.8429500814527343E-2,0,0,0.21281257511939131,0.78718742488060867,1,0,0.28813560035486024,0.71186439964513981,0,0,0,0,0,0,0,0,0,0]
[null,null,10,"Business person, executive, manager, entrepreneur, economist, financial expert, stock broker …",null,null,null,4.9999998882412902E-3,null,2.0400000736117401E-2,null,null,null,null,null,null,null,null,null,null,null,null,null,null,null,null,null,null,null,null,null,null,null,null,null,null,null,null,null,null,null,null,null,null,2.5400000624358692E-2,0,0,0,1,0,1,0,0,0,0,0,0,0,0,0,0,0,0]
[null,null,11,"Office or service worker, non-management worker in office, store, restaurant, catering …",null,null,5.1000001840293399E-3,4.9999998882412902E-3,null,null,null,null,null,null,null,null,null,null,null,null,null,null,null,null,null,null,null,null,null,null,null,null,null,null,null,null,null,null,null,null,null,null,null,null,1.010000007227063E-2,0,0,0.50495050965705435,0.49504949034294571,0,0,0,0,0,0,0,0,0,0,0,0,0,0]
[null,null,12,"Tradesperson, artisan, labourer, truck driver, construction, factory, domestic worker …",null,null,7.4764997698366599E-3,1.2476499658078E-2,null,null,null,5.1000001840293399E-3,null,7.4764997698366599E-3,null,null,null,null,null,null,null,null,null,null,null,null,null,null,null,null,null,null,null,null,null,null,null,null,null,null,null,null,null,null,3.2529499381780659E-2,0,0,0.37470555726959431,0.62529444273040558,0,0,0,1,0,1,0,0,0,0,0,0,0,0]
[null,null,13,"Agriculture, mining, fishing, forestry worker …",null,null,null,null,null,null,null,null,null,null,null,null,null,null,null,null,null,null,null,null,null,null,null,null,null,null,null,null,null,null,null,null,null,null,null,null,null,null,null,null,0,0,0,0,0,0,0,0,0,0,0,0,0,0,0,0,0,0,0]
[null,null,14,"Religious figure, priest, monk, rabbi, mullah, nun …",null,null,null,7.4764997698366599E-3,null,null,null,null,null,null,null,null,null,null,null,null,null,null,null,null,null,null,null,null,null,null,null,null,null,null,null,null,null,null,null,null,null,null,null,null,7.4764997698366599E-3,0,0,0,1,0,0,0,0,0,0,0,0,0,0,0,0,0,0]
[null,null,15,"Activist or worker in civil society organisation, non-governmental organisation, trade union, human rights, consumer issues, environment, aid agency, peasant leader, United Nations …",null,null,null,null,7.4764997698366599E-3,5.0600000657141202E-2,1.2576499953866E-2,4.9999998882412902E-3,null,null,null,null,null,null,null,null,null,null,null,null,null,null,null,null,null,null,null,null,null,null,null,null,null,null,null,null,null,null,null,null,7.5653000269085155E-2,0,0,0,0,0.12873536998389207,0.87126463001610799,0.71552926161880093,0.28447073838119913,0,0,0,0,0,0,0,0,0,0]
[null,null,16,"Sex worker, prostitute …",null,null,null,null,null,null,null,null,null,null,null,null,null,null,null,null,null,null,null,null,null,null,null,null,null,null,null,null,null,null,null,null,null,null,null,null,null,null,null,null,0,0,0,0,0,0,0,0,0,0,0,0,0,0,0,0,0,0,0]
[null,null,17,"Celebrity, artist, actor, writer, singer, radio or television personality …",null,null,3.762949956581E-2,0.14997099665924901,null,null,5.1000001840293399E-3,null,null,null,null,null,null,null,null,null,null,null,null,null,null,null,null,null,null,null,null,null,null,null,null,null,null,null,null,null,null,null,null,null,0.19270049640908835,0,0,0.20058315581781275,0.79941684418218728,0,0,1,0,0,0,0,0,0,0,0,0,0,0]
[null,null,18,"Sportsperson, athlete, player, coach, referee …",null,null,5.1000001840293399E-3,9.9917997606098694E-2,null,null,null,4.9999998882412902E-3,null,7.4764997698366599E-3,null,null,null,null,null,null,null,null,null,null,null,null,null,null,null,null,null,null,null,null,null,null,null,null,null,null,null,null,null,null,0.11749449744820599,0,0,4.856310624224025E-2,0.95143689375775975,0,0,0,1,0,1,0,0,0,0,0,0,0,0]
[null,null,19,"Student, pupil, schoolchild",null,null,5.1000001840293399E-3,null,null,null,null,null,null,null,null,null,7.4764997698366599E-3,null,null,null,null,null,null,null,null,null,null,null,null,null,null,null,null,null,null,null,null,null,null,null,null,null,null,null,5.1000001840293399E-3,0,0,1,0,0,0,0,0,0,0,0,0,1,0,0,0,0,0]
[null,null,20,"Homemaker, parent, either female or male. Code this only if no other occupation is given, e.g. a doctor who is also described as a mother is coded 6.",null,null,2.2676500026136599E-2,null,null,null,null,null,5.1000001840293399E-3,5.1000001840293399E-3,null,null,null,null,null,null,null,null,null,null,null,null,null,null,null,null,null,null,null,null,null,null,null,null,null,null,null,null,null,null,3.2876500394195277E-2,0,0,1,0,0,0,0,0,0.5,0.5,0,0,0,0,0,0,0,0]
[null,null,21,"Child, young person (up to 18 years). Code this only if no other occupation/position is given, e.g. a schoolchild is coded 19; a child labourer is coded 12.",null,null,5.1000001840293399E-3,2.55000009201467E-2,null,null,null,null,null,null,null,null,null,null,null,null,null,null,null,null,null,null,null,null,null,null,null,null,null,null,null,null,null,null,null,null,null,null,null,null,3.0600001104176041E-2,0,0,0.16666666666666666,0.83333333333333326,0,0,0,0,0,0,0,0,0,0,0,0,0,0]
[null,null,22,"Villager or resident engaged in unspecified occupation. Code this only if no other occupation is given, e.g. a teacher who is also described as a villager is coded 5.",null,null,1.2576499953866E-2,null,null,null,null,null,1.0200000368058701E-2,1.0200000368058701E-2,2.7776500210165998E-2,7.4764997698366599E-3,7.4764997698366599E-3,1.0200000368058701E-2,null,null,null,null,null,null,null,null,null,null,null,null,null,null,null,null,null,null,null,null,null,null,null,null,null,null,6.0753000900149401E-2,0,0,1,0,0,0,0,0,0.5,0.5,0.78791876509580128,0.21208123490419883,0.42296267425746442,0.57703732574253563,0,0,0,0]
[null,null,23,"Retired person, pensioner. Code this only if no other occupation is given, e.g. a retired police officer is coded 4; a retired politician is coded 2.",null,null,1.0100000072270601E-2,null,null,null,null,null,1.5300000552088E-2,1.5300000552088E-2,7.4764997698366599E-3,null,null,null,null,null,null,null,null,null,null,null,null,null,null,null,null,null,null,null,null,null,null,null,null,null,null,null,null,null,4.8176500946283257E-2,0,0,1,0,0,0,0,0,0.5,0.5,1,0,0,0,0,0,0,0]
[null,null,24,"Criminal, suspect. Code this only if no other occupation is given, e.g, a lawyer suspected of committing a crime is coded 9; a former politician who has committed a crime is coded 2.",null,null,7.4764997698366599E-3,6.0453000012785203E-2,null,null,null,null,null,null,null,null,null,null,null,null,null,null,null,null,null,null,null,null,null,null,null,null,null,null,null,null,null,null,null,null,null,null,null,null,6.7929499782621861E-2,0,0,0.11006263543470614,0.88993736456529393,0,0,0,0,0,0,0,0,0,0,0,0,0,0]
[null,null,25,"Unemployed. Code this only if no other occupation is given, e.g. an unemployed actor is coded 17; an unemployed person who commits a crime is coded 24.",null,null,null,null,null,null,null,null,4.9999998882412902E-3,null,null,null,null,null,null,null,null,null,null,null,null,null,null,null,null,null,null,null,null,null,null,null,null,null,null,null,null,null,null,null,4.9999998882412902E-3,0,0,0,0,0,0,0,0,1,0,0,0,0,0,0,0,0,0]
[null,null,26,"Other. Use only as a last resort (specify the occupation/position in 'Comments' section of coding sheet)",null,null,null,2.0400000736117401E-2,null,5.1000001840293399E-3,null,1.5300000552088E-2,null,1.2576499953866E-2,null,null,null,null,null,null,null,null,null,null,null,null,null,null,null,null,null,null,null,null,null,null,null,null,null,null,null,null,null,null,5.3376501426100738E-2,0,0,0,1,0,1,0,1,0,1,0,0,0,0,0,0,0,0]
[null,null,27,"NA – Use this where you are coding a secondary source only",null,null,null,null,null,null,null,null,null,null,null,null,null,null,null,null,null,null,null,null,null,null,null,null,null,null,null,null,null,null,null,null,null,null,null,null,null,null,null,null,0,0,0,0,0,0,0,0,0,0,0,0,0,0,0,0,0,0,0]
[null,null,null,null,null,null,null,null,null,null,null,null,null,null,null,null,null,null,null,null,null,null,null,null,null,null,null,null,null,null,null,null,null,null,null,null,null,null,null,null,null,null,null,null,0,0,0,0,0,0,0,0,0,0,0,0,0,0,0,0,0,0,0]
[null,null,null,null,null,null,null,null,null,null,null,null,null,null,null,null,null,null,null,null,null,null,null,null,null,null,null,null,null,null,null,null,null,null,null,null,null,null,null,null,null,null,null,null,0,0,0,0,0,0,0,0,0,0,0,0,0,0,0,0,0,0,0]
[null,null,null,null,null,null,null,null,null,null,null,null,null,null,null,null,null,null,null,null,null,null,null,null,null,null,null,null,null,null,null,null,null,null,null,null,null,null,null,null,null,null,null,null,0,0,0,0,0,0,0,0,0,0,0,0,0,0,0,0,0,0,0]
[null,null,null,null,null,null,null,null,null,null,null,null,null,null,null,null,null,null,null,null,null,null,null,null,null,null,null,null,null,null,null,null,null,null,null,null,null,null,null,null,null,null,null,null,0,0,0,0,0,0,0,0,0,0,0,0,0,0,0,0,0,0,0]
[null,null,null,null,null,null,null,null,null,null,null,null,null,null,null,null,null,null,null,null,null,null,null,null,null,null,null,null,null,null,null,null,null,null,null,null,null,null,null,null,null,null,null,null,{"$f":"SUM(E37:O37)","v":0},{"$f":"IF((E37+F37)>0,E37/(E37+F37),0)","v":0},{"$f":"IF((E37+F37)>0,F37/(E37+F37),0)","v":0},{"$f":"IF((G37+H37)>0,G37/(G37+H37),0)","v":0},{"$f":"IF((G37+H37)>0,H37/(G37+H37),0)","v":0},{"$f":"IF((I37+J37)>0,I37/(I37+J37),0)","v":0},{"$f":"IF((I37+J37)>0,J37/(I37+J37),0)","v":0},{"$f":"IF((K37+L37)>0,K37/(K37+L37),0)","v":0},{"$f":"IF((K37+L37)>0,L37/(K37+L37),0)","v":0},0,0,0,0,0,0,0,0,0,0]
[null,null,null,null,null,null,null,null,null,null,null,null,null,null,null,null,null,null,null,null,null,null,null,null,null,null,null,null,null,null,null,null,null,null,null,null,null,null,null,null,null,null,null,null,0,0,0,0,0,0,0,0,0,0,0,0,0,0,0,0,0,0,0]
[null,null,null,null,null,null,null,null,null,null,null,null,null,null,null,null,null,null,null,null,null,null,null,null,null,null,null,null,null,null,null,null,null,null,null,null,null,null,null,null,null,null,null,null,0,0,0,0,0,0,0,0,0,0,0,0,0,0,0,0,0,0,0]
[null,null,null,null,null,null,null,null,null,null,null,null,null,null,null,null,null,null,null,null,null,null,null,null,null,null,null,null,null,null,null,null,null,null,null,null,null,null,null,null,null,null,null,null,0,0,0,0,0,0,0,0,0,0,0,0,0,0,0,0,0,0,0]
[null,null,null,null,null,null,null,null,null,null,null,null,null,null,null,null,null,null,null,null,null,null,null,null,null,null,null,null,null,null,null,null,null,null,null,null,null,null,null,null,null,null,null,null,0,0,0,0,0,0,0,0,0,0,0,0,0,0,0,0,0,0,0]
[null,null,null,null,null,null,null,null,null,null,null,null,null,null,null,null,null,null,null,null,null,null,null,null,null,null,null,null,null,null,null,null,null,null,null,null,null,null,null,null,null,null,null,null,0,0,0,0,0,0,0,0,0,0,0,0,0,0,0,0,0,0,0]
[null,null,null,null,null,null,null,null,null,null,null,null,null,null,null,null,null,null,null,null,null,null,null,null,null,null,null,null,null,null,null,null,null,null,null,null,null,null,null,null,null,null,null,null,0,0,0,0,0,0,0,0,0,0,0,0,0,0,0,0,0,0,0]
[null,null,null,null,null,null,null,null,null,null,null,null,null,null,null,null,null,null,null,null,null,null,null,null,null,null,null,null,null,null,null,null,null,null,null,null,null,null,null,null,null,null,null,null,0,0,0,0,0,0,0,0,0,0,0,0,0,0,0,0,0,0,0]
[null,null,null,null,null,null,null,null,null,null,null,null,null,null,null,null,null,null,null,null,null,null,null,null,null,null,null,null,null,null,null,null,null,null,null,null,null,null,null,null,null,null,null,null,0,0,0,0,0,0,0,0,0,0,0,0,0,0,0,0,0,0,0]
[null,null,null,null,null,null,null,null,null,null,null,null,null,null,null,null,null,null,null,null,null,null,null,null,null,null,null,null,null,null,null,null,null,null,null,null,null,null,null,null,null,null,null,null,0,0,0,0,0,0,0,0,0,0,0,0,0,0,0,0,0,0,0]
[null,null,null,null,null,null,null,null,null,null,null,null,null,null,null,null,null,null,null,null,null,null,null,null,null,null,null,null,null,null,null,null,null,null,null,null,null,null,null,null,null,null,null,null,0,0,0,0,0,0,0,0,0,0,0,0,0,0,0,0,0,0,0]
[null,null,null,null,null,null,null,null,null,null,null,null,null,null,null,null,null,null,null,null,null,null,null,null,null,null,null,null,null,null,null,null,null,null,null,null,null,null,null,null,null,null,null,null,0,0,0,0,0,0,0,0,0,0,0,0,0,0,0,0,0,0,0]
[null,null,null,null,null,null,null,null,null,null,null,null,null,null,null,null,null,null,null,null,null,null,null,null,null,null,null,null,null,null,null,null,null,null,null,null,null,null,null,null,null,null,null,null,0,0,0,0,0,0,0,0,0,0,0,0,0,0,0,0,0,0,0]
[null,null,null,null,null,null,null,null,null,null,null,null,null,null,null,null,null,null,null,null,null,null,null,null,null,null,null,null,null,null,null,null,null,null,null,null,null,null,null,null,null,null,null,null,0,0,0,0,0,0,0,0,0,0,0,0,0,0,0,0,0,0,0]
[null,null,null,null,null,null,null,null,null,null,null,null,null,null,null,null,null,null,null,null,null,null,null,null,null,null,null,null,null,null,null,null,null,null,null,null,null,null,null,null,null,null,null,null,0,0,0,0,0,0,0,0,0,0,0,0,0,0,0,0,0,0,0]
[null,null,null,null,null,null,null,null,null,null,null,null,null,null,null,null,null,null,null,null,null,null,null,null,null,null,null,null,null,null,null,null,null,null,null,null,null,null,null,null,null,null,null,null,0,0,0,0,0,0,0,0,0,0,0,0,0,0,0,0,0,0,0]
[null,null,null,null,null,null,null,null,null,null,null,null,null,null,null,null,null,null,null,null,null,null,null,null,null,null,null,null,null,null,null,null,null,null,null,null,null,null,null,null,null,null,null,null,0,0,0,0,0,0,0,0,0,0,0,0,0,0,0,0,0,0,0]
[null,null,null,null,null,null,null,null,null,null,null,null,null,null,null,null,null,null,null,null,null,null,null,null,null,null,null,null,null,null,null,null,null,null,null,null,null,null,null,null,null,null,null,null,0,0,0,0,0,0,0,0,0,0,0,0,0,0,0,0,0,0,0]
[null,null,null,null,null,null,null,null,null,null,null,null,null,null,null,null,null,null,null,null,null,null,null,null,null,null,null,null,null,null,null,null,null,null,null,null,null,null,null,null,null,null,null,null,0,0,0,0,0,0,0,0,0,0,0,0,0,0,0,0,0,0,0]
[null,null,null,null,null,null,null,null,null,null,null,null,null,null,null,null,null,null,null,null,null,null,null,null,null,null,null,null,null,null,null,null,null,null,null,null,null,null,null,null,null,null,null,null,0,0,0,0,0,0,0,0,0,0,0,0,0,0,0,0,0,0,0]
[null,null,null,null,null,null,null,null,null,null,null,null,null,null,null,null,null,null,null,null,null,null,null,null,null,null,null,null,null,null,null,null,null,null,null,null,null,null,null,null,null,null,null,null,0,0,0,0,0,0,0,0,0,0,0,0,0,0,0,0,0,0,0]
[null,null,null,null,null,null,null,null,null,null,null,null,null,null,null,null,null,null,null,null,null,null,null,null,null,null,null,null,null,null,null,null,null,null,null,null,null,null,null,null,null,null,null,null,0,0,0,0,0,0,0,0,0,0,0,0,0,0,0,0,0,0,0]
[null,null,null,null,null,null,null,null,null,null,null,null,null,null,null,null,null,null,null,null,null,null,null,null,null,null,null,null,null,null,null,null,null,null,null,null,null,null,null,null,null,null,null,null,0,0,0,0,0,0,0,0,0,0,0,0,0,0,0,0,0,0,0]
[null,null,null,null,null,null,null,null,null,null,null,null,null,null,null,null,null,null,null,null,null,null,null,null,null,null,null,null,null,null,null,null,null,null,null,null,null,null,null,null,null,null,null,null,0,0,0,0,0,0,0,0,0,0,0,0,0,0,0,0,0,0,0]
[null,null,null,null,null,null,null,null,null,null,null,null,null,null,null,null,null,null,null,null,null,null,null,null,null,null,null,null,null,null,null,null,null,null,null,null,null,null,null,null,null,null,null,null,0,0,0,0,0,0,0,0,0,0,0,0,0,0,0,0,0,0,0]
[null,null,null,null,null,null,null,null,null,null,null,null,null,null,null,null,null,null,null,null,null,null,null,null,null,null,null,null,null,null,null,null,null,null,null,null,null,null,null,null,null,null,null,null,0,0,0,0,0,0,0,0,0,0,0,0,0,0,0,0,0,0,0]
[null,null,null,null,null,null,null,null,null,null,null,null,null,null,null,null,null,null,null,null,null,null,null,null,null,null,null,null,null,null,null,null,null,null,null,null,null,null,null,null,null,null,null,null,0,0,0,0,0,0,0,0,0,0,0,0,0,0,0,0,0,0,0]
[null,null,null,null,null,null,null,null,null,null,null,null,null,null,null,null,null,null,null,null,null,null,null,null,null,null,null,null,null,null,null,null,null,null,null,null,null,null,null,null,null,null,null,null,0,0,0,0,0,0,0,0,0,0,0,0,0,0,0,0,0,0,0]
[null,null,null,null,null,null,null,null,null,null,null,null,null,null,null,null,null,null,null,null,null,null,null,null,null,null,null,null,null,null,null,null,null,null,null,null,null,null,null,null,null,null,null,null,0,0,0,0,0,0,0,0,0,0,0,0,0,0,0,0,0,0,0]
[null,null,null,null,null,null,null,null,null,null,null,null,null,null,null,null,null,null,null,null,null,null,null,null,null,null,null,null,null,null,null,null,null,null,null,null,null,null,null,null,null,null,null,null,0,0,0,0,0,0,0,0,0,0,0,0,0,0,0,0,0,0,0]
[null,null,null,null,null,null,null,null,null,null,null,null,null,null,null,null,null,null,null,null,null,null,null,null,null,null,null,null,null,null,null,null,null,null,null,null,null,null,null,null,null,null,null,null,0,0,0,0,0,0,0,0,0,0,0,0,0,0,0,0,0,0,0]
[null,null,null,"TOTAL",null,null,{"$f":"SUM(G6:G30)","v":0.30113599682226783},{"$f":"SUM(H6:H30)","v":0.95593798207119129},4.555300064384938E-2,0.13165300199761984,6.322950078174476E-2,0.16131200036033991,5.055300053209065E-2,0.11095900041982532,3.5252999980002656E-2,7.4764997698366599E-3,1.495299953967332E-2,1.0200000368058701E-2,0,0,null,null,null,null,null,null,null,null,null,null,null,null,null,null,null,null,null,null,null,null,null,null,null,null,1.8555864836089315,0,0,0.23955312247203078,0.76044687752796924,0.25706240175178585,0.74293759824821426,0.28159382768949515,0.71840617231050496,0.31299841642814441,0.68700158357185548,0.82502721039076121,0.1749727896092389,0.59448175543771919,0.40551824456228081,0,0,0,0]
[]
[null,null,{"$f":"C5","v":0},"Not stated. Story does not describe the person’s occupation or position.",{"$f":"IF(E$68>0,E5/E$68,0)","v":0},0,0.12495849039269505,2.8693806201026701E-2,0,0,0,0,0.10088422309951513,0,0.14183189774139934,1.3375242539064576,0.34106870467681166,0.499999999999999,0,0,{"$f":"IF(U$68>0,U5/U$68,0)","v":0},0,0,0,0,0,0]
[null,null,1,"Royalty, ruling monarch, deposed monarch, any member of royal family …",{"$f":"IF(E$68>0,E6/E$68,0)","v":0},0,0,0,0,0,0,0,0,0,0,0,0,0,0,0,{"$f":"IF(U$68>0,U6/U$68,0)","v":0},0,0,0,0,0,0]
[null,null,2,"Government official, politician, president, government minister, political leader, political party staff, spokesperson …",{"$f":"IF(E$68>0,E7/E$68,0)","v":0},0,0.51479729542172281,0.48650853808217948,0.50000000000000022,0.27040781791714036,8.0658555278389624E-2,0.21915914623102381,0.14789428305231134,0.38599392463502175,0,0,0,0,0,0,{"$f":"IF(U$68>0,U7/U$68,0)","v":0},0,0,0,0,0,0]
[null,null,3,"Government employee, public servant, bureaucrat, diplomat, intelligence officer …",{"$f":"IF(E$68>0,E8/E$68,0)","v":0},0,0,0,0.11195750251236079,5.6789436293840284E-2,0,3.1615751913291773E-2,0,0,0,0,0,0,0,0,{"$f":"IF(U$68>0,U8/U$68,0)","v":0},0,0,0,0,0,0]
[null,null,4,"Police, military, para-military group, militia, prison officer, security officer, fire officer …",{"$f":"IF(E$68>0,E9/E$68,0)","v":0},0,2.482765211974752E-2,1.3156188152098547E-2,0,9.552763524597313E-2,0,4.6348069288928297E-2,0,4.5061688275157968E-2,0,0,0,0,0,0,{"$f":"IF(U$68>0,U9/U$68,0)","v":0},0,0,0,0,0,0]
[null,null,5,"Academic expert, education professional, teacher or university lecturer (all disciplines), nursery or kindergarten teacher, child care worker  …",{"$f":"IF(E$68>0,E10/E$68,0)","v":0},0,0,0,0,0,0.31714626046031164,0.29497185027122513,0.14789428305231134,0,0,0,0,0,0,0,{"$f":"IF(U$68>0,U10/U$68,0)","v":0},0,0,0,0,0,0]
[null,null,6,"Health or social service professional, doctor, nurse, laboratory technician, social worker, psychologist …",{"$f":"IF(E$68>0,E11/E$68,0)","v":0},0,3.3539663736154655E-2,0,0.11195750251236079,3.7978624204343517E-2,8.0658555278389624E-2,9.4847255739875194E-2,0,9.1024613001704807E-2,0,0,0,0,0,0,{"$f":"IF(U$68>0,U11/U$68,0)","v":0},0,0,0,0,0,0]
[null,null,7,"Science or technology professional, engineer, technician, computer specialist …",{"$f":"IF(E$68>0,E12/E$68,0)","v":0},0,0,7.8211138275284739E-2,0,0,0,3.1615751913291773E-2,0,0,0,0,0,0,0,0,{"$f":"IF(U$68>0,U12/U$68,0)","v":0},0,0,0,0,0,0]
[null,null,8,"Media professional, journalist, video or film-maker, theatre director ...",{"$f":"IF(E$68>0,E13/E$68,0)","v":0},0,0,0,0,0,8.0658555278389624E-2,3.1615751913291773E-2,0,6.7380741909610922E-2,0,0,0,0,0,0,{"$f":"IF(U$68>0,U13/U$68,0)","v":0},0,0,0,0,0,0]
[null,null,9,"Lawyer, judge, magistrate, legal advocate, legal expert, legal clerk …",{"$f":"IF(E$68>0,E14/E$68,0)","v":0},0,3.3871740594595204E-2,3.9468564456295645E-2,0.11195750251236079,0,0.16131711055677958,0.15621900402010178,0,0,0,0,0,0,0,0,{"$f":"IF(U$68>0,U14/U$68,0)","v":0},0,0,0,0,0,0]
[null,null,10,"Business person, executive, manager, entrepreneur, economist, financial expert, stock broker …",{"$f":"IF(E$68>0,E15/E$68,0)","v":0},0,0,5.2304647184412498E-3,0,0.15495279580853169,0,0,0,0,0,0,0,0,0,0,{"$f":"IF(U$68>0,U15/U$68,0)","v":0},0,0,0,0,0,0]
[null,null,11,"Office or service worker, non-management worker in office, store, restaurant, catering …",{"$f":"IF(E$68>0,E16/E$68,0)","v":0},0,1.6935870297297567E-2,5.2304647184412498E-3,0,0,0,0,0,0,0,0,0,0,0,0,{"$f":"IF(U$68>0,U16/U$68,0)","v":0},0,0,0,0,0,0]
[null,null,12,"Tradesperson, artisan, labourer, truck driver, construction, factory, domestic worker …",{"$f":"IF(E$68>0,E17/E$68,0)","v":0},0,2.482765211974752E-2,1.3051578545969776E-2,0,0,0,3.1615751913291773E-2,0,6.7380741909610922E-2,0,0,0,0,0,0,{"$f":"IF(U$68>0,U17/U$68,0)","v":0},0,0,0,0,0,0]
[null,null,13,"Agriculture, mining, fishing, forestry worker …",{"$f":"IF(E$68>0,E18/E$68,0)","v":0},0,0,0,0,0,0,0,0,0,0,0,0,0,0,0,{"$f":"IF(U$68>0,U18/U$68,0)","v":0},0,0,0,0,0,0]
[null,null,14,"Religious figure, priest, monk, rabbi, mullah, nun …",{"$f":"IF(E$68>0,E19/E$68,0)","v":0},0,0,7.8211138275284739E-3,0,0,0,0,0,0,0,0,0,0,0,0,{"$f":"IF(U$68>0,U19/U$68,0)","v":0},0,0,0,0,0,0]
[null,null,15,"Activist or worker in civil society organisation, non-governmental organisation, trade union, human rights, consumer issues, environment, aid agency, peasant leader, United Nations …",{"$f":"IF(E$68>0,E20/E$68,0)","v":0},0,0,0,0.16412749246291738,0.38434369053017114,0.19890240786935029,3.0995833397839307E-2,0,0,0,0,0,0,0,0,{"$f":"IF(U$68>0,U20/U$68,0)","v":0},0,0,0,0,0,0]
[null,null,16,"Sex worker, prostitute …",{"$f":"IF(E$68>0,E21/E$68,0)","v":0},0,0,0,0,0,0,0,0,0,0,0,0,0,0,0,{"$f":"IF(U$68>0,U21/U$68,0)","v":0},0,0,0,0,0,0]
[null,null,17,"Celebrity, artist, actor, writer, singer, radio or television personality …",{"$f":"IF(E$68>0,E22/E$68,0)","v":0},0,0.12495849039269505,0.15688360486975636,0,0,8.0658555278389624E-2,0,0,0,0,0,0,0,0,0,{"$f":"IF(U$68>0,U22/U$68,0)","v":0},0,0,0,0,0,0]
[null,null,18,"Sportsperson, athlete, player, coach, referee …",{"$f":"IF(E$68>0,E23/E$68,0)","v":0},0,1.6935870297297567E-2,0.10452351457948192,0,0,0,3.0995833397839307E-2,0,6.7380741909610922E-2,0,0,0,0,0,0,{"$f":"IF(U$68>0,U23/U$68,0)","v":0},0,0,0,0,0,0]
[null,null,19,"Student, pupil, schoolchild",{"$f":"IF(E$68>0,E24/E$68,0)","v":0},0,1.6935870297297567E-2,0,0,0,0,0,0,0,0,0,0.5,0,0,0,{"$f":"IF(U$68>0,U24/U$68,0)","v":0},0,0,0,0,0,0]
[null,null,{"$f":"C25","v":20},"Homemaker, parent, either female or male. Code this only if no other occupation is given, e.g. a doctor who is also described as a mother is coded 6.",{"$f":"IF(E$68>0,E25/E$68,0)","v":0},0,7.5303186153199739E-2,0,0,0,0,0,0.10088422309951513,4.5962924726547109E-2,0,0,0,0,0,0,{"$f":"IF(U$68>0,U25/U$68,0)","v":0},0,0,0,0,0,0]
[null,null,21,"Child, young person (up to 18 years). Code this only if no other occupation/position is given, e.g. a schoolchild is coded 19; a child labourer is coded 12.",{"$f":"IF(E$68>0,E26/E$68,0)","v":0},0,1.6935870297297567E-2,2.6675371622850368E-2,0,0,0,0,0,0,0,0,0,0,0,0,{"$f":"IF(U$68>0,U26/U$68,0)","v":0},0,0,0,0,0,0]
[null,null,22,"Villager or resident engaged in unspecified occupation. Code this only if no other occupation is given, e.g. a teacher who is also described as a villager is coded 5.",{"$f":"IF(E$68>0,E27/E$68,0)","v":0},0,4.1763522417045083E-2,0,0,0,0,0,0.20176844619903067,9.1925849453094399E-2,0.78791876509580128,1,0.5,1,0,0,{"$f":"IF(U$68>0,U27/U$68,0)","v":0},0,0,0,0,0,0]
[null,null,23,"Retired person, pensioner. Code this only if no other occupation is given, e.g. a retired police officer is coded 4; a retired politician is coded 2.",{"$f":"IF(E$68>0,E28/E$68,0)","v":0},0,3.3539663736154655E-2,0,0,0,0,0,0.30265266929854495,0.13788877417964115,0.21208123490419883,0,0,0,0,0,{"$f":"IF(U$68>0,U28/U$68,0)","v":0},0,0,0,0,0,0]
[null,null,24,"Criminal, suspect. Code this only if no other occupation is given, e.g, a lawyer suspected of committing a crime is coded 9; a former politician who has committed a crime is coded 2.",{"$f":"IF(E$68>0,E29/E$68,0)","v":0},0,2.482765211974752E-2,6.323945815167234E-2,0,0,0,0,0,0,0,0,0,0,0,0,{"$f":"IF(U$68>0,U29/U$68,0)","v":0},0,0,0,0,0,0]
[null,null,25,"Unemployed. Code this only if no other occupation is given, e.g. an unemployed actor is coded 17; an unemployed person who commits a crime is coded 24.",{"$f":"IF(E$68>0,E30/E$68,0)","v":0},0,0,0,0,0,0,0,9.8906095298286589E-2,0,0,0,0,0,0,0,{"$f":"IF(U$68>0,U30/U$68,0)","v":0},0,0,0,0,0,0]
[null,null,26,"Other. Use only as a last resort (specify the occupation/position in 'Comments' section of coding sheet)",{"$f":"IF(E$68>0,E31/E$68,0)","v":0},0,0,2.1340297298280339E-2,0,3.8738198952132839E-2,0,9.4847255739875194E-2,0,0.11334366663615804,0,0,0,0,0,0,{"$f":"IF(U$68>0,U31/U$68,0)","v":0},0,0,0,0,0,0]
[null,null,27,"NA – Use this where you are coding a secondary source only",{"$f":"IF(E$68>0,E32/E$68,0)","v":0},0,0,0,0,0,0,0,0,0,0,0,0,0,0,0,{"$f":"IF(U$68>0,U32/U$68,0)","v":0},0,0,0,0,0,0]
[null,null,0,0,{"$f":"IF(E$68>0,E33/E$68,0)","v":0},0,0,0,0,0,0,0,0,0,0,0,0,0,0,0,{"$f":"IF(U$68>0,U33/U$68,0)","v":0},0,0,0,0,0,0]
[null,null,0,0,{"$f":"IF(E$68>0,E34/E$68,0)","v":0},0,0,0,0,0,0,0,0,0,0,0,0,0,0,0,{"$f":"IF(U$68>0,U34/U$68,0)","v":0},0,0,0,0,0,0]
[null,null,0,0,{"$f":"IF(E$68>0,E35/E$68,0)","v":0},0,0,0,0,0,0,0,0,0,0,0,0,0,0,0,{"$f":"IF(U$68>0,U35/U$68,0)","v":0},0,0,0,0,0,0]
[null,null,0,0,{"$f":"IF(E$68>0,E36/E$68,0)","v":0},0,0,0,0,0,0,0,0,0,0,0,0,0,0,0,{"$f":"IF(U$68>0,U36/U$68,0)","v":0},0,0,0,0,0,0]
[null,null,0,0,{"$f":"IF(E$68>0,E37/E$68,0)","v":0},0,0,0,0,0,0,0,0,0,0,0,0,0,0,0,{"$f":"IF(U$68>0,U37/U$68,0)","v":0},0,0,0,0,0,0]
[null,null,0,0,{"$f":"IF(E$68>0,E38/E$68,0)","v":0},0,0,0,0,0,0,0,0,0,0,0,0,0,0,0,{"$f":"IF(U$68>0,U38/U$68,0)","v":0},0,0,0,0,0,0]
[null,null,0,0,{"$f":"IF(E$68>0,E39/E$68,0)","v":0},0,0,0,0,0,0,0,0,0,0,0,0,0,0,0,{"$f":"IF(U$68>0,U39/U$68,0)","v":0},0,0,0,0,0,0]
[null,null,0,0,{"$f":"IF(E$68>0,E40/E$68,0)","v":0},0,0,0,0,0,0,0,0,0,0,0,0,0,0,0,{"$f":"IF(U$68>0,U40/U$68,0)","v":0},0,0,0,0,0,0]
[null,null,0,0,{"$f":"IF(E$68>0,E41/E$68,0)","v":0},0,0,0,0,0,0,0,0,0,0,0,0,0,0,0,{"$f":"IF(U$68>0,U41/U$68,0)","v":0},0,0,0,0,0,0]
[null,null,0,0,{"$f":"IF(E$68>0,E42/E$68,0)","v":0},0,0,0,0,0,0,0,0,0,0,0,0,0,0,0,{"$f":"IF(U$68>0,U42/U$68,0)","v":0},0,0,0,0,0,0]
[null,null,0,0,{"$f":"IF(E$68>0,E43/E$68,0)","v":0},0,0,0,0,0,0,0,0,0,0,0,0,0,0,0,{"$f":"IF(U$68>0,U43/U$68,0)","v":0},0,0,0,0,0,0]
[null,null,0,0,{"$f":"IF(E$68>0,E44/E$68,0)","v":0},0,0,0,0,0,0,0,0,0,0,0,0,0,0,0,{"$f":"IF(U$68>0,U44/U$68,0)","v":0},0,0,0,0,0,0]
[null,null,{"$f":"C45","v":0},0,{"$f":"IF(E$68>0,E45/E$68,0)","v":0},0,0,0,0,0,0,0,0,0,0,0,0,0,0,0,{"$f":"IF(U$68>0,U45/U$68,0)","v":0},0,0,0,0,0,0]
[null,null,0,0,{"$f":"IF(E$68>0,E46/E$68,0)","v":0},0,0,0,0,0,0,0,0,0,0,0,0,0,0,0,{"$f":"IF(U$68>0,U46/U$68,0)","v":0},0,0,0,0,0,0]
[null,null,0,0,{"$f":"IF(E$68>0,E47/E$68,0)","v":0},0,0,0,0,0,0,0,0,0,0,0,0,0,0,0,{"$f":"IF(U$68>0,U47/U$68,0)","v":0},0,0,0,0,0,0]
[null,null,0,0,{"$f":"IF(E$68>0,E48/E$68,0)","v":0},0,0,0,0,0,0,0,0,0,0,0,0,0,0,0,{"$f":"IF(U$68>0,U48/U$68,0)","v":0},0,0,0,0,0,0]
[null,null,0,0,{"$f":"IF(E$68>0,E49/E$68,0)","v":0},0,0,0,0,0,0,0,0,0,0,0,0,0,0,0,{"$f":"IF(U$68>0,U49/U$68,0)","v":0},0,0,0,0,0,0]
[null,null,0,0,{"$f":"IF(E$68>0,E50/E$68,0)","v":0},0,0,0,0,0,0,0,0,0,0,0,0,0,0,0,{"$f":"IF(U$68>0,U50/U$68,0)","v":0},0,0,0,0,0,0]
[null,null,0,0,{"$f":"IF(E$68>0,E51/E$68,0)","v":0},0,0,0,0,0,0,0,0,0,0,0,0,0,0,0,{"$f":"IF(U$68>0,U51/U$68,0)","v":0},0,0,0,0,0,0]
[null,null,0,0,{"$f":"IF(E$68>0,E52/E$68,0)","v":0},0,0,0,0,0,0,0,0,0,0,0,0,0,0,0,{"$f":"IF(U$68>0,U52/U$68,0)","v":0},0,0,0,0,0,0]
[null,null,0,0,{"$f":"IF(E$68>0,E53/E$68,0)","v":0},0,0,0,0,0,0,0,0,0,0,0,0,0,0,0,{"$f":"IF(U$68>0,U53/U$68,0)","v":0},0,0,0,0,0,0]
[null,null,0,0,{"$f":"IF(E$68>0,E54/E$68,0)","v":0},0,0,0,0,0,0,0,0,0,0,0,0,0,0,0,{"$f":"IF(U$68>0,U54/U$68,0)","v":0},0,0,0,0,0,0]
[null,null,0,0,{"$f":"IF(E$68>0,E55/E$68,0)","v":0},0,0,0,0,0,0,0,0,0,0,0,0,0,0,0,{"$f":"IF(U$68>0,U55/U$68,0)","v":0},0,0,0,0,0,0]
[null,null,0,0,{"$f":"IF(E$68>0,E56/E$68,0)","v":0},0,0,0,0,0,0,0,0,0,0,0,0,0,0,0,{"$f":"IF(U$68>0,U56/U$68,0)","v":0},0,0,0,0,0,0]
[null,null,0,0,{"$f":"IF(E$68>0,E57/E$68,0)","v":0},0,0,0,0,0,0,0,0,0,0,0,0,0,0,0,{"$f":"IF(U$68>0,U57/U$68,0)","v":0},0,0,0,0,0,0]
[null,null,0,0,{"$f":"IF(E$68>0,E58/E$68,0)","v":0},0,0,0,0,0,0,0,0,0,0,0,0,0,0,0,{"$f":"IF(U$68>0,U58/U$68,0)","v":0},0,0,0,0,0,0]
[null,null,0,0,{"$f":"IF(E$68>0,E59/E$68,0)","v":0},0,0,0,0,0,0,0,0,0,0,0,0,0,0,0,{"$f":"IF(U$68>0,U59/U$68,0)","v":0},0,0,0,0,0,0]
[null,null,0,0,{"$f":"IF(E$68>0,E60/E$68,0)","v":0},0,0,0,0,0,0,0,0,0,0,0,0,0,0,0,{"$f":"IF(U$68>0,U60/U$68,0)","v":0},0,0,0,0,0,0]
[null,null,0,0,{"$f":"IF(E$68>0,E61/E$68,0)","v":0},0,0,0,0,0,0,0,0,0,0,0,0,0,0,0,{"$f":"IF(U$68>0,U61/U$68,0)","v":0},0,0,0,0,0,0]
[null,null,0,0,{"$f":"IF(E$68>0,E62/E$68,0)","v":0},0,0,0,0,0,0,0,0,0,0,0,0,0,0,0,{"$f":"IF(U$68>0,U62/U$68,0)","v":0},0,0,0,0,0,0]
[]
[]
[]
[]
[]
[]
[]
[]
[]
[]
[]
[]
[]
[]
[]
[]
[]
[]
[]
[]
["COUNT"]
[null,null,null,null,{"$f":"E3","v":"Female"},"Male","Female","Male","Female","Male","Female","Male","Female","Male","Female","Male","Female","Male","Female","Male"]
[null,null,null,null,{"$f":"E4","v":0},0,0,0,0,0,0,0,0,0,0,0,0,0,0,0]
[null,null,{"$f":"C5","v":0},"Not stated. Story does not describe the person’s occupation or position.",1,0,6,4,0,0,0,0,1,0,1,2,1,1,0,0,0,0,null,{"$f":"SUM(E151:V151)","v":17}]
[null,null,1,"Royalty, ruling monarch, deposed monarch, any member of royal family …",0,0,0,0,0,0,0,0,0,0,0,0,0,0,0,0,0,0,null,{"$f":"SUM(E152:V152)","v":0}]
[null,null,2,"Government official, politician, president, government minister, political leader, political party staff, spokesperson …",0,0,23,69,4,7,1,6,1,7,0,0,0,0,0,0,0,0,null,118]
[null,null,3,"Government employee, public servant, bureaucrat, diplomat, intelligence officer …",0,0,0,0,1,1,0,1,0,0,0,0,0,0,0,0,0,0,null,3]
[null,null,4,"Police, military, para-military group, militia, prison officer, security officer, fire officer …",0,0,1,2,0,2,0,1,0,1,0,0,0,0,0,0,0,0,null,7]
[null,null,5,"Academic expert, education professional, teacher or university lecturer (all disciplines), nursery or kindergarten teacher, child care worker  …",0,0,0,0,0,0,3,7,1,0,0,0,0,0,0,0,0,0,null,11]
[null,null,6,"Health or social service professional, doctor, nurse, laboratory technician, social worker, psychologist …",0,0,2,0,1,1,1,3,0,2,0,0,0,0,0,0,0,0,null,10]
[null,null,7,"Science or technology professional, engineer, technician, computer specialist …",0,0,0,10,0,0,0,1,0,0,0,0,0,0,0,0,0,0,null,11]
[null,null,8,"Media professional, journalist, video or film-maker, theatre director ...",0,0,0,0,0,0,1,1,0,1,0,0,0,0,0,0,0,0,null,3]
[null,null,9,"Lawyer, judge, magistrate, legal advocate, legal expert, legal clerk …",0,0,2,6,1,0,2,5,0,0,0,0,0,0,0,0,0,0,null,16]
[null,null,10,"Business person, executive, manager, entrepreneur, economist, financial expert, stock broker …",0,0,0,1,0,4,0,0,0,0,0,0,0,0,0,0,0,0,null,5]
[null,null,11,"Office or service worker, non-management worker in office, store, restaurant, catering …",0,0,1,1,0,0,0,0,0,0,0,0,0,0,0,0,0,0,null,2]
[null,null,12,"Tradesperson, artisan, labourer, truck driver, construction, factory, domestic worker …",0,0,1,2,0,0,0,1,0,1,0,0,0,0,0,0,0,0,null,5]
[null,null,13,"Agriculture, mining, fishing, forestry worker …",0,0,0,0,0,0,0,0,0,0,0,0,0,0,0,0,0,0,null,0]
[null,null,14,"Religious figure, priest, monk, rabbi, mullah, nun …",0,0,0,1,0,0,0,0,0,0,0,0,0,0,0,0,0,0,null,1]
[null,null,15,"Activist or worker in civil society organisation, non-governmental organisation, trade union, human rights, consumer issues, environment, aid agency, peasant leader, United Nations …",0,0,0,0,1,10,2,1,0,0,0,0,0,0,0,0,0,0,null,14]
[null,null,16,"Sex worker, prostitute …",0,0,0,0,0,0,0,0,0,0,0,0,0,0,0,0,0,0,null,0]
[null,null,17,"Celebrity, artist, actor, writer, singer, radio or television personality …",0,0,6,23,0,0,1,0,0,0,0,0,0,0,0,0,0,0,null,30]
[null,null,18,"Sportsperson, athlete, player, coach, referee …",0,0,1,14,0,0,0,1,0,1,0,0,0,0,0,0,0,0,null,17]
[null,null,19,"Student, pupil, schoolchild",0,0,1,0,0,0,0,0,0,0,0,0,1,0,0,0,0,0,null,2]
[null,null,{"$f":"C25","v":20},"Homemaker, parent, either female or male. Code this only if no other occupation is given, e.g. a doctor who is also described as a mother is coded 6.",0,0,4,0,0,0,0,0,1,1,0,0,0,0,0,0,0,0,null,6]
[null,null,21,"Child, young person (up to 18 years). Code this only if no other occupation/position is given, e.g. a schoolchild is coded 19; a child labourer is coded 12.",0,0,1,5,0,0,0,0,0,0,0,0,0,0,0,0,0,0,null,6]
[null,null,22,"Villager or resident engaged in unspecified occupation. Code this only if no other occupation is given, e.g. a teacher who is also described as a villager is coded 5.",0,0,2,0,0,0,0,0,2,2,5,1,1,2,0,0,0,0,null,15]
[null,null,23,"Retired person, pensioner. Code this only if no other occupation is given, e.g. a retired police officer is coded 4; a retired politician is coded 2.",0,0,2,0,0,0,0,0,3,3,1,0,0,0,0,0,0,0,null,9]
[null,null,24,"Criminal, suspect. Code this only if no other occupation is given, e.g, a lawyer suspected of committing a crime is coded 9; a former politician who has committed a crime is coded 2.",0,0,1,11,0,0,0,0,0,0,0,0,0,0,0,0,0,0,null,12]
[null,null,25,"Unemployed. Code this only if no other occupation is given, e.g. an unemployed actor is coded 17; an unemployed person who commits a crime is coded 24.",0,0,0,0,0,0,0,0,1,0,0,0,0,0,0,0,0,0,null,1]
[null,null,26,"Other. Use only as a last resort (specify the occupation/position in 'Comments' section of coding sheet)",0,0,0,4,0,1,0,3,0,2,0,0,0,0,0,0,0,0,null,10]
[null,null,27,"NA – Use this where you are coding a secondary source only",0,0,0,0,0,0,0,0,0,0,0,0,0,0,0,0,0,0,null,0]
[null,null,0,0,0,0,0,0,0,0,null,null,null,null,null,null,null,null,null,null,null,null,null,0]
[null,null,0,0,0,0,0,0,0,0,null,null,null,null,null,null,null,null,null,null,null,null,null,0]
[null,null,0,0,0,0,0,0,0,0]
[null,null,0,0,0,0,0,0,0,0]
[null,null,0,0,0,0,0,0,0,0]
[null,null,0,0,0,0,0,0,0,0]
[null,null,0,0,0,0,0,0,0,0]
[null,null,0,0,0,0,0,0,0,0]
[null,null,0,0,0,0,0,0,0,0]
[null,null,0,0,0,0,0,0,0,0]
[null,null,0,0,0,0,0,0,0,0]
[null,null,0,0,0,0,0,0,0,0]
[null,null,{"$f":"C45","v":0},0,0,0,0,0,0,0]
[null,null,0,0,0,0,0,0,0,0]
[null,null,0,0,0,0,0,0,0,0]
[null,null,0,0,0,0,0,0,0,0]
[null,null,0,0,0,0,0,0,0,0]
[null,null,0,0,0,0,0,0,0,0]
[null,null,0,0,0,0,0,0,0,0]
[null,null,0,0,0,0,0,0,0,0]
[null,null,0,0,0,0,0,0,0,0]
[null,null,0,0,0,0,0,0,0,0]
[null,null,0,0,0,0,0,0,0,0]
[null,null,0,0,0,0,0,0,0,0]
[null,null,0,0]
[null,null,0,0]
[null,null,0,0]

{"sheet":"20aF - Occupation","index":80,"n_rows":35,"n_cols":62,"rows_kept":35,"cut":false,"hidden":false,"merged":[[2,15,2,16],[2,17,2,18],[2,5,2,6],[1,5,1,18],[2,7,2,8],[2,9,2,10],[2,11,2,12],[2,13,2,14],[1,19,1,32],[2,19,2,20],[2,21,2,22],[2,23,2,24],[2,25,2,26],[2,27,2,28],[2,29,2,30],[2,31,2,32],[1,33,1,46],[2,33,2,34],[2,35,2,36],[2,37,2,38],[2,39,2,40],[2,41,2,42],[2,43,2,44],[2,45,2,46],[2,55,2,56],[2,57,2,58],[2,59,2,60],[1,47,1,61],[2,47,2,48],[2,49,2,50],[2,51,2,52],[2,53,2,54]]}
[{"$f":"'20a'!A1","v":"Function of news subjects by sex - by occupation"}]
[null,null,null,null,null,1995,null,null,null,null,null,null,null,null,null,null,null,null,null,2000,null,null,null,null,null,null,null,null,null,null,null,null,null,2005,null,null,null,null,null,null,null,null,null,null,null,null,null,2010]
[null,null,null,null,null,{"$f":"'20a'!G2","v":"Subject: the story is about this person, or about something the person has done, said etc."},null,{"$f":"'20a'!I2","v":"Spokesperson: the person represents, or speaks on behalf of another person, a group or an organisation"},null,{"$f":"'20a'!K2","v":"Expert or commentator: the person provides additional information, opinion or comment, based on specialist knowledge or expertise"},null,{"$f":"'20a'!M2","v":"Personal experience: the person provides opinion or comment, based on individual personal experience; the opinion is not necessarily meant to reflect the views of a wider group"},null,{"$f":"'20a'!O2","v":"Eye witness: the person gives testimony or comment, based on direct observation (e.g. being present at an event)"},null,{"$f":"'20a'!Q2","v":"Popular opinion: the person's opinion is assumed to reflect that of the 'ordinary citizen' (e.g., in a street interview, vox populi etc); it is implied that the person's point of view is shared by a wider group of people."},null,{"$f":"'20a'!S2","v":"Other. Use only as a last resort (describe the function in 'Comments' section of coding sheet)."},null,{"$f":"F3","v":"Subject: the story is about this person, or about something the person has done, said etc."},null,"Spokesperson: the person represents, or speaks on behalf of another person, a group or an organisation",null,"Expert or commentator: the person provides additional information, opinion or comment, based on specialist knowledge or expertise",null,"Personal experience: the person provides opinion or comment, based on individual personal experience; the opinion is not necessarily meant to reflect the views of a wider group",null,"Eye witness: the person gives testimony or comment, based on direct observation (e.g. being present at an event)",null,"Popular opinion: the person's opinion is assumed to reflect that of the 'ordinary citizen' (e.g., in a street interview, vox populi etc); it is implied that the person's point of view is shared by a wider group of people.",null,"Other. Use only as a last resort (describe the function in 'Comments' section of coding sheet).",null,{"$f":"F3","v":"Subject: the story is about this person, or about something the person has done, said etc."},null,"Spokesperson: the person represents, or speaks on behalf of another person, a group or an organisation",null,"Expert or commentator: the person provides additional information, opinion or comment, based on specialist knowledge or expertise",null,"Personal experience: the person provides opinion or comment, based on individual personal experience; the opinion is not necessarily meant to reflect the views of a wider group",null,"Eye witness: the person gives testimony or comment, based on direct observation (e.g. being present at an event)",null,"Popular opinion: the person's opinion is assumed to reflect that of the 'ordinary citizen' (e.g., in a street interview, vox populi etc); it is implied that the person's point of view is shared by a wider group of people.",null,"Other. Use only as a last resort (describe the function in 'Comments' section of coding sheet).",null,{"$f":"F3","v":"Subject: the story is about this person, or about something the person has done, said etc."},null,"Spokesperson: the person represents, or speaks on behalf of another person, a group or an organisation",null,"Expert or commentator: the person provides additional information, opinion or comment, based on specialist knowledge or expertise",null,"Personal experience: the person provides opinion or comment, based on individual personal experience; the opinion is not necessarily meant to reflect the views of a wider group",null,"Eye witness: the person gives testimony or comment, based on direct observation (e.g. being present at an event)",null,"Popular opinion: the person's opinion is assumed to reflect that of the 'ordinary citizen' (e.g., in a street interview, vox populi etc); it is implied that the person's point of view is shared by a wider group of people.",null,"Other. Use only as a last resort (describe the function in 'Comments' section of coding sheet)."]
[null,null,null,null,null,"%F","%M","%F","%M","%F","%M","%F","%M","%F","%M","%F","%M","%F","%M","%F","%M","%F","%M","%F","%M","%F","%M","%F","%M","%F","%M","%F","%M","%F","%M","%F","%M","%F","%M","%F","%M","%F","%M","%F","%M","%F","%M","%F","%M","%F","%M","%F","%M","%F","%M","%F","%M","%F","%M","%F","%M","N"]
[]
[]
[null,null,null,null,{"$f":"'20a'!D6","v":"Royalty, ruling monarch, deposed monarch, any member of royal family …"},0,0,0,0,0,0,0,0,0,0,0,0,0,0,0,0,0,0,0,0,0,0,0,0,0,0,0,0,"n/a","n/a","n/a","n/a","n/a","n/a","n/a","n/a","n/a","n/a","n/a","n/a","n/a","n/a",{"$f":"'20a'!G71","v":0},{"$f":"'20a'!H71","v":0},{"$f":"'20a'!I71","v":0},{"$f":"'20a'!J71","v":0},{"$f":"'20a'!K71","v":0},{"$f":"'20a'!L71","v":0},{"$f":"'20a'!M71","v":0},{"$f":"'20a'!N71","v":0},{"$f":"'20a'!O71","v":0},{"$f":"'20a'!P71","v":0},{"$f":"'20a'!Q71","v":0},{"$f":"'20a'!R71","v":0},{"$f":"'20a'!S71","v":0},{"$f":"'20a'!T71","v":0},{"$f":"'20a'!X152","v":0}]
[null,null,null,null,{"$f":"'20a'!D7","v":"Government official, politician, president, government minister, political leader, political party staff, spokesperson …"},0,0,0,0,0,0,0,0,0,0,0,0,0,0,0,0,0,0,0,0,0,0,0,0,0,0,0,0,"n/a","n/a","n/a","n/a","n/a","n/a","n/a","n/a","n/a","n/a","n/a","n/a","n/a","n/a",{"$f":"'20a'!G72","v":0.51479729542172281},{"$f":"'20a'!H72","v":0.48650853808217948},{"$f":"'20a'!I72","v":0.50000000000000022},{"$f":"'20a'!J72","v":0.27040781791714036},{"$f":"'20a'!K72","v":8.0658555278389624E-2},{"$f":"'20a'!L72","v":0.21915914623102381},{"$f":"'20a'!M72","v":0.14789428305231134},{"$f":"'20a'!N72","v":0.38599392463502175},{"$f":"'20a'!O72","v":0},{"$f":"'20a'!P72","v":0},{"$f":"'20a'!Q72","v":0},{"$f":"'20a'!R72","v":0},{"$f":"'20a'!S72","v":0},{"$f":"'20a'!T72","v":0},{"$f":"'20a'!X153","v":118}]
[null,null,null,null,{"$f":"'20a'!D8","v":"Government employee, public servant, bureaucrat, diplomat, intelligence officer …"},0,0,0,0,0,0,0,0,0,0,0,0,0,0,0,0,0,0,0,0,0,0,0,0,0,0,0,0,"n/a","n/a","n/a","n/a","n/a","n/a","n/a","n/a","n/a","n/a","n/a","n/a","n/a","n/a",{"$f":"'20a'!G73","v":0},{"$f":"'20a'!H73","v":0},{"$f":"'20a'!I73","v":0.11195750251236079},{"$f":"'20a'!J73","v":5.6789436293840284E-2},{"$f":"'20a'!K73","v":0},{"$f":"'20a'!L73","v":3.1615751913291773E-2},{"$f":"'20a'!M73","v":0},{"$f":"'20a'!N73","v":0},{"$f":"'20a'!O73","v":0},{"$f":"'20a'!P73","v":0},{"$f":"'20a'!Q73","v":0},{"$f":"'20a'!R73","v":0},{"$f":"'20a'!S73","v":0},{"$f":"'20a'!T73","v":0},{"$f":"'20a'!X154","v":3}]
[null,null,null,null,{"$f":"'20a'!D9","v":"Police, military, para-military group, militia, prison officer, security officer, fire officer …"},0,0,0,0,0,0,0,0,0,0,0,0,0,0,0,0,0,0,0,0,0,0,0,0,0,0,0,0,"n/a","n/a","n/a","n/a","n/a","n/a","n/a","n/a","n/a","n/a","n/a","n/a","n/a","n/a",{"$f":"'20a'!G74","v":2.482765211974752E-2},{"$f":"'20a'!H74","v":1.3156188152098547E-2},{"$f":"'20a'!I74","v":0},{"$f":"'20a'!J74","v":9.552763524597313E-2},{"$f":"'20a'!K74","v":0},{"$f":"'20a'!L74","v":4.6348069288928297E-2},{"$f":"'20a'!M74","v":0},{"$f":"'20a'!N74","v":4.5061688275157968E-2},{"$f":"'20a'!O74","v":0},{"$f":"'20a'!P74","v":0},{"$f":"'20a'!Q74","v":0},{"$f":"'20a'!R74","v":0},{"$f":"'20a'!S74","v":0},{"$f":"'20a'!T74","v":0},{"$f":"'20a'!X155","v":7}]
[null,null,null,null,{"$f":"'20a'!D10","v":"Academic expert, education professional, teacher or university lecturer (all disciplines), nursery or kindergarten teacher, child care worker  …"},0,0,0,0,0,0,0,0,0,0,0,0,0,0,0,0,0,0,0,0,0,0,0,0,0,0,0,0,"n/a","n/a","n/a","n/a","n/a","n/a","n/a","n/a","n/a","n/a","n/a","n/a","n/a","n/a",{"$f":"'20a'!G75","v":0},{"$f":"'20a'!H75","v":0},{"$f":"'20a'!I75","v":0},{"$f":"'20a'!J75","v":0},{"$f":"'20a'!K75","v":0.31714626046031164},{"$f":"'20a'!L75","v":0.29497185027122513},{"$f":"'20a'!M75","v":0.14789428305231134},{"$f":"'20a'!N75","v":0},{"$f":"'20a'!O75","v":0},{"$f":"'20a'!P75","v":0},{"$f":"'20a'!Q75","v":0},{"$f":"'20a'!R75","v":0},{"$f":"'20a'!S75","v":0},{"$f":"'20a'!T75","v":0},{"$f":"'20a'!X156","v":11}]
[null,null,null,null,{"$f":"'20a'!D11","v":"Health or social service professional, doctor, nurse, laboratory technician, social worker, psychologist …"},0,0,0,0,0,0,0,0,0,0,0,0,0,0,0,0,0,0,0,0,0,0,0,0,0,0,0,0,"n/a","n/a","n/a","n/a","n/a","n/a","n/a","n/a","n/a","n/a","n/a","n/a","n/a","n/a",{"$f":"'20a'!G76","v":3.3539663736154655E-2},{"$f":"'20a'!H76","v":0},{"$f":"'20a'!I76","v":0.11195750251236079},{"$f":"'20a'!J76","v":3.7978624204343517E-2},{"$f":"'20a'!K76","v":8.0658555278389624E-2},{"$f":"'20a'!L76","v":9.4847255739875194E-2},{"$f":"'20a'!M76","v":0},{"$f":"'20a'!N76","v":9.1024613001704807E-2},{"$f":"'20a'!O76","v":0},{"$f":"'20a'!P76","v":0},{"$f":"'20a'!Q76","v":0},{"$f":"'20a'!R76","v":0},{"$f":"'20a'!S76","v":0},{"$f":"'20a'!T76","v":0},{"$f":"'20a'!X157","v":10}]
[null,null,null,null,{"$f":"'20a'!D12","v":"Science or technology professional, engineer, technician, computer specialist …"},0,0,0,0,0,0,0,0,0,0,0,0,0,0,0,0,0,0,0,0,0,0,0,0,0,0,0,0,"n/a","n/a","n/a","n/a","n/a","n/a","n/a","n/a","n/a","n/a","n/a","n/a","n/a","n/a",{"$f":"'20a'!G77","v":0},{"$f":"'20a'!H77","v":7.8211138275284739E-2},{"$f":"'20a'!I77","v":0},{"$f":"'20a'!J77","v":0},{"$f":"'20a'!K77","v":0},{"$f":"'20a'!L77","v":3.1615751913291773E-2},{"$f":"'20a'!M77","v":0},{"$f":"'20a'!N77","v":0},{"$f":"'20a'!O77","v":0},{"$f":"'20a'!P77","v":0},{"$f":"'20a'!Q77","v":0},{"$f":"'20a'!R77","v":0},{"$f":"'20a'!S77","v":0},{"$f":"'20a'!T77","v":0},{"$f":"'20a'!X158","v":11}]
[null,null,null,null,{"$f":"'20a'!D13","v":"Media professional, journalist, video or film-maker, theatre director ..."},0,0,0,0,0,0,0,0,0,0,0,0,0,0,0,0,0,0,0,0,0,0,0,0,0,0,0,0,"n/a","n/a","n/a","n/a","n/a","n/a","n/a","n/a","n/a","n/a","n/a","n/a","n/a","n/a",{"$f":"'20a'!G78","v":0},{"$f":"'20a'!H78","v":0},{"$f":"'20a'!I78","v":0},{"$f":"'20a'!J78","v":0},{"$f":"'20a'!K78","v":8.0658555278389624E-2},{"$f":"'20a'!L78","v":3.1615751913291773E-2},{"$f":"'20a'!M78","v":0},{"$f":"'20a'!N78","v":6.7380741909610922E-2},{"$f":"'20a'!O78","v":0},{"$f":"'20a'!P78","v":0},{"$f":"'20a'!Q78","v":0},{"$f":"'20a'!R78","v":0},{"$f":"'20a'!S78","v":0},{"$f":"'20a'!T78","v":0},{"$f":"'20a'!X159","v":3}]
[null,null,null,null,{"$f":"'20a'!D14","v":"Lawyer, judge, magistrate, legal advocate, legal expert, legal clerk …"},0,0,0,0,0,0,0,0,0,0,0,0,0,0,0,0,0,0,0,0,0,0,0,0,0,0,0,0,"n/a","n/a","n/a","n/a","n/a","n/a","n/a","n/a","n/a","n/a","n/a","n/a","n/a","n/a",{"$f":"'20a'!G79","v":3.3871740594595204E-2},{"$f":"'20a'!H79","v":3.9468564456295645E-2},{"$f":"'20a'!I79","v":0.11195750251236079},{"$f":"'20a'!J79","v":0},{"$f":"'20a'!K79","v":0.16131711055677958},{"$f":"'20a'!L79","v":0.15621900402010178},{"$f":"'20a'!M79","v":0},{"$f":"'20a'!N79","v":0},{"$f":"'20a'!O79","v":0},{"$f":"'20a'!P79","v":0},{"$f":"'20a'!Q79","v":0},{"$f":"'20a'!R79","v":0},{"$f":"'20a'!S79","v":0},{"$f":"'20a'!T79","v":0},{"$f":"'20a'!X160","v":16}]
[null,null,null,null,{"$f":"'20a'!D15","v":"Business person, executive, manager, entrepreneur, economist, financial expert, stock broker …"},0,0,0,0,0,0,0,0,0,0,0,0,0,0,0,0,0,0,0,0,0,0,0,0,0,0,0,0,"n/a","n/a","n/a","n/a","n/a","n/a","n/a","n/a","n/a","n/a","n/a","n/a","n/a","n/a",{"$f":"'20a'!G80","v":0},{"$f":"'20a'!H80","v":5.2304647184412498E-3},{"$f":"'20a'!I80","v":0},{"$f":"'20a'!J80","v":0.15495279580853169},{"$f":"'20a'!K80","v":0},{"$f":"'20a'!L80","v":0},{"$f":"'20a'!M80","v":0},{"$f":"'20a'!N80","v":0},{"$f":"'20a'!O80","v":0},{"$f":"'20a'!P80","v":0},{"$f":"'20a'!Q80","v":0},{"$f":"'20a'!R80","v":0},{"$f":"'20a'!S80","v":0},{"$f":"'20a'!T80","v":0},{"$f":"'20a'!X161","v":5}]
[null,null,null,null,{"$f":"'20a'!D16","v":"Office or service worker, non-management worker in office, store, restaurant, catering …"},0,0,0,0,0,0,0,0,0,0,0,0,0,0,0,0,0,0,0,0,0,0,0,0,0,0,0,0,"n/a","n/a","n/a","n/a","n/a","n/a","n/a","n/a","n/a","n/a","n/a","n/a","n/a","n/a",{"$f":"'20a'!G81","v":1.6935870297297567E-2},{"$f":"'20a'!H81","v":5.2304647184412498E-3},{"$f":"'20a'!I81","v":0},{"$f":"'20a'!J81","v":0},{"$f":"'20a'!K81","v":0},{"$f":"'20a'!L81","v":0},{"$f":"'20a'!M81","v":0},{"$f":"'20a'!N81","v":0},{"$f":"'20a'!O81","v":0},{"$f":"'20a'!P81","v":0},{"$f":"'20a'!Q81","v":0},{"$f":"'20a'!R81","v":0},{"$f":"'20a'!S81","v":0},{"$f":"'20a'!T81","v":0},{"$f":"'20a'!X162","v":2}]
[null,null,null,null,{"$f":"'20a'!D17","v":"Tradesperson, artisan, labourer, truck driver, construction, factory, domestic worker …"},0,0,0,0,0,0,0,0,0,0,0,0,0,0,0,0,0,0,0,0,0,0,0,0,0,0,0,0,"n/a","n/a","n/a","n/a","n/a","n/a","n/a","n/a","n/a","n/a","n/a","n/a","n/a","n/a",{"$f":"'20a'!G82","v":2.482765211974752E-2},{"$f":"'20a'!H82","v":1.3051578545969776E-2},{"$f":"'20a'!I82","v":0},{"$f":"'20a'!J82","v":0},{"$f":"'20a'!K82","v":0},{"$f":"'20a'!L82","v":3.1615751913291773E-2},{"$f":"'20a'!M82","v":0},{"$f":"'20a'!N82","v":6.7380741909610922E-2},{"$f":"'20a'!O82","v":0},{"$f":"'20a'!P82","v":0},{"$f":"'20a'!Q82","v":0},{"$f":"'20a'!R82","v":0},{"$f":"'20a'!S82","v":0},{"$f":"'20a'!T82","v":0},{"$f":"'20a'!X163","v":5}]
[null,null,null,null,{"$f":"'20a'!D18","v":"Agriculture, mining, fishing, forestry worker …"},0,0,0,0,0,0,0,0,0,0,0,0,0,0,0,0,0,0,0,0,0,0,0,0,0,0,0,0,"n/a","n/a","n/a","n/a","n/a","n/a","n/a","n/a","n/a","n/a","n/a","n/a","n/a","n/a",{"$f":"'20a'!G83","v":0},{"$f":"'20a'!H83","v":0},{"$f":"'20a'!I83","v":0},{"$f":"'20a'!J83","v":0},{"$f":"'20a'!K83","v":0},{"$f":"'20a'!L83","v":0},{"$f":"'20a'!M83","v":0},{"$f":"'20a'!N83","v":0},{"$f":"'20a'!O83","v":0},{"$f":"'20a'!P83","v":0},{"$f":"'20a'!Q83","v":0},{"$f":"'20a'!R83","v":0},{"$f":"'20a'!S83","v":0},{"$f":"'20a'!T83","v":0},{"$f":"'20a'!X164","v":0}]
[null,null,null,null,{"$f":"'20a'!D19","v":"Religious figure, priest, monk, rabbi, mullah, nun …"},0,0,0,0,0,0,0,0,0,0,0,0,0,0,0,0,0,0,0,0,0,0,0,0,0,0,0,0,"n/a","n/a","n/a","n/a","n/a","n/a","n/a","n/a","n/a","n/a","n/a","n/a","n/a","n/a",{"$f":"'20a'!G84","v":0},{"$f":"'20a'!H84","v":7.8211138275284739E-3},{"$f":"'20a'!I84","v":0},{"$f":"'20a'!J84","v":0},{"$f":"'20a'!K84","v":0},{"$f":"'20a'!L84","v":0},{"$f":"'20a'!M84","v":0},{"$f":"'20a'!N84","v":0},{"$f":"'20a'!O84","v":0},{"$f":"'20a'!P84","v":0},{"$f":"'20a'!Q84","v":0},{"$f":"'20a'!R84","v":0},{"$f":"'20a'!S84","v":0},{"$f":"'20a'!T84","v":0},{"$f":"'20a'!X165","v":1}]
[null,null,null,null,{"$f":"'20a'!D20","v":"Activist or worker in civil society organisation, non-governmental organisation, trade union, human rights, consumer issues, environment, aid agency, peasant leader, United Nations …"},0,0,0,0,0,0,0,0,0,0,0,0,0,0,0,0,0,0,0,0,0,0,0,0,0,0,0,0,"n/a","n/a","n/a","n/a","n/a","n/a","n/a","n/a","n/a","n/a","n/a","n/a","n/a","n/a",{"$f":"'20a'!G85","v":0},{"$f":"'20a'!H85","v":0},{"$f":"'20a'!I85","v":0.16412749246291738},{"$f":"'20a'!J85","v":0.38434369053017114},{"$f":"'20a'!K85","v":0.19890240786935029},{"$f":"'20a'!L85","v":3.0995833397839307E-2},{"$f":"'20a'!M85","v":0},{"$f":"'20a'!N85","v":0},{"$f":"'20a'!O85","v":0},{"$f":"'20a'!P85","v":0},{"$f":"'20a'!Q85","v":0},{"$f":"'20a'!R85","v":0},{"$f":"'20a'!S85","v":0},{"$f":"'20a'!T85","v":0},{"$f":"'20a'!X166","v":14}]
[null,null,null,null,{"$f":"'20a'!D21","v":"Sex worker, prostitute …"},0,0,0,0,0,0,0,0,0,0,0,0,0,0,0,0,0,0,0,0,0,0,0,0,0,0,0,0,"n/a","n/a","n/a","n/a","n/a","n/a","n/a","n/a","n/a","n/a","n/a","n/a","n/a","n/a",{"$f":"'20a'!G86","v":0},{"$f":"'20a'!H86","v":0},{"$f":"'20a'!I86","v":0},{"$f":"'20a'!J86","v":0},{"$f":"'20a'!K86","v":0},{"$f":"'20a'!L86","v":0},{"$f":"'20a'!M86","v":0},{"$f":"'20a'!N86","v":0},{"$f":"'20a'!O86","v":0},{"$f":"'20a'!P86","v":0},{"$f":"'20a'!Q86","v":0},{"$f":"'20a'!R86","v":0},{"$f":"'20a'!S86","v":0},{"$f":"'20a'!T86","v":0},{"$f":"'20a'!X167","v":0}]
[null,null,null,null,{"$f":"'20a'!D22","v":"Celebrity, artist, actor, writer, singer, radio or television personality …"},0,0,0,0,0,0,0,0,0,0,0,0,0,0,0,0,0,0,0,0,0,0,0,0,0,0,0,0,"n/a","n/a","n/a","n/a","n/a","n/a","n/a","n/a","n/a","n/a","n/a","n/a","n/a","n/a",{"$f":"'20a'!G87","v":0.12495849039269505},{"$f":"'20a'!H87","v":0.15688360486975636},{"$f":"'20a'!I87","v":0},{"$f":"'20a'!J87","v":0},{"$f":"'20a'!K87","v":8.0658555278389624E-2},{"$f":"'20a'!L87","v":0},{"$f":"'20a'!M87","v":0},{"$f":"'20a'!N87","v":0},{"$f":"'20a'!O87","v":0},{"$f":"'20a'!P87","v":0},{"$f":"'20a'!Q87","v":0},{"$f":"'20a'!R87","v":0},{"$f":"'20a'!S87","v":0},{"$f":"'20a'!T87","v":0},{"$f":"'20a'!X168","v":30}]
[null,null,null,null,{"$f":"'20a'!D23","v":"Sportsperson, athlete, player, coach, referee …"},0,0,0,0,0,0,0,0,0,0,0,0,0,0,0,0,0,0,0,0,0,0,0,0,0,0,0,0,"n/a","n/a","n/a","n/a","n/a","n/a","n/a","n/a","n/a","n/a","n/a","n/a","n/a","n/a",{"$f":"'20a'!G88","v":1.6935870297297567E-2},{"$f":"'20a'!H88","v":0.10452351457948192},{"$f":"'20a'!I88","v":0},{"$f":"'20a'!J88","v":0},{"$f":"'20a'!K88","v":0},{"$f":"'20a'!L88","v":3.0995833397839307E-2},{"$f":"'20a'!M88","v":0},{"$f":"'20a'!N88","v":6.7380741909610922E-2},{"$f":"'20a'!O88","v":0},{"$f":"'20a'!P88","v":0},{"$f":"'20a'!Q88","v":0},{"$f":"'20a'!R88","v":0},{"$f":"'20a'!S88","v":0},{"$f":"'20a'!T88","v":0},{"$f":"'20a'!X169","v":17}]
[null,null,null,null,{"$f":"'20a'!D24","v":"Student, pupil, schoolchild"},0,0,0,0,0,0,0,0,0,0,0,0,0,0,0,0,0,0,0,0,0,0,0,0,0,0,0,0,"n/a","n/a","n/a","n/a","n/a","n/a","n/a","n/a","n/a","n/a","n/a","n/a","n/a","n/a",{"$f":"'20a'!G89","v":1.6935870297297567E-2},{"$f":"'20a'!H89","v":0},{"$f":"'20a'!I89","v":0},{"$f":"'20a'!J89","v":0},{"$f":"'20a'!K89","v":0},{"$f":"'20a'!L89","v":0},{"$f":"'20a'!M89","v":0},{"$f":"'20a'!N89","v":0},{"$f":"'20a'!O89","v":0},{"$f":"'20a'!P89","v":0},{"$f":"'20a'!Q89","v":0.5},{"$f":"'20a'!R89","v":0},{"$f":"'20a'!S89","v":0},{"$f":"'20a'!T89","v":0},{"$f":"'20a'!X170","v":2}]
[null,null,null,null,{"$f":"'20a'!D25","v":"Homemaker, parent, either female or male. Code this only if no other occupation is given, e.g. a doctor who is also described as a mother is coded 6."},0,0,0,0,0,0,0,0,0,0,0,0,0,0,0,0,0,0,0,0,0,0,0,0,0,0,0,0,"n/a","n/a","n/a","n/a","n/a","n/a","n/a","n/a","n/a","n/a","n/a","n/a","n/a","n/a",{"$f":"'20a'!G90","v":7.5303186153199739E-2},{"$f":"'20a'!H90","v":0},{"$f":"'20a'!I90","v":0},{"$f":"'20a'!J90","v":0},{"$f":"'20a'!K90","v":0},{"$f":"'20a'!L90","v":0},{"$f":"'20a'!M90","v":0.10088422309951513},{"$f":"'20a'!N90","v":4.5962924726547109E-2},{"$f":"'20a'!O90","v":0},{"$f":"'20a'!P90","v":0},{"$f":"'20a'!Q90","v":0},{"$f":"'20a'!R90","v":0},{"$f":"'20a'!S90","v":0},{"$f":"'20a'!T90","v":0},{"$f":"'20a'!X171","v":6}]
[null,null,null,null,{"$f":"'20a'!D26","v":"Child, young person (up to 18 years). Code this only if no other occupation/position is given, e.g. a schoolchild is coded 19; a child labourer is coded 12."},0,0,0,0,0,0,0,0,0,0,0,0,0,0,0,0,0,0,0,0,0,0,0,0,0,0,0,0,"n/a","n/a","n/a","n/a","n/a","n/a","n/a","n/a","n/a","n/a","n/a","n/a","n/a","n/a",{"$f":"'20a'!G91","v":1.6935870297297567E-2},{"$f":"'20a'!H91","v":2.6675371622850368E-2},{"$f":"'20a'!I91","v":0},{"$f":"'20a'!J91","v":0},{"$f":"'20a'!K91","v":0},{"$f":"'20a'!L91","v":0},{"$f":"'20a'!M91","v":0},{"$f":"'20a'!N91","v":0},{"$f":"'20a'!O91","v":0},{"$f":"'20a'!P91","v":0},{"$f":"'20a'!Q91","v":0},{"$f":"'20a'!R91","v":0},{"$f":"'20a'!S91","v":0},{"$f":"'20a'!T91","v":0},{"$f":"'20a'!X172","v":6}]
[null,null,null,null,{"$f":"'20a'!D27","v":"Villager or resident engaged in unspecified occupation. Code this only if no other occupation is given, e.g. a teacher who is also described as a villager is coded 5."},0,0,0,0,0,0,0,0,0,0,0,0,0,0,0,0,0,0,0,0,0,0,0,0,0,0,0,0,"n/a","n/a","n/a","n/a","n/a","n/a","n/a","n/a","n/a","n/a","n/a","n/a","n/a","n/a",{"$f":"'20a'!G92","v":4.1763522417045083E-2},{"$f":"'20a'!H92","v":0},{"$f":"'20a'!I92","v":0},{"$f":"'20a'!J92","v":0},{"$f":"'20a'!K92","v":0},{"$f":"'20a'!L92","v":0},{"$f":"'20a'!M92","v":0.20176844619903067},{"$f":"'20a'!N92","v":9.1925849453094399E-2},{"$f":"'20a'!O92","v":0.78791876509580128},{"$f":"'20a'!P92","v":1},{"$f":"'20a'!Q92","v":0.5},{"$f":"'20a'!R92","v":1},{"$f":"'20a'!S92","v":0},{"$f":"'20a'!T92","v":0},{"$f":"'20a'!X173","v":15}]
[null,null,null,null,{"$f":"'20a'!D28","v":"Retired person, pensioner. Code this only if no other occupation is given, e.g. a retired police officer is coded 4; a retired politician is coded 2."},0,0,0,0,0,0,0,0,0,0,0,0,0,0,0,0,0,0,0,0,0,0,0,0,0,0,0,0,"n/a","n/a","n/a","n/a","n/a","n/a","n/a","n/a","n/a","n/a","n/a","n/a","n/a","n/a",{"$f":"'20a'!G93","v":3.3539663736154655E-2},{"$f":"'20a'!H93","v":0},{"$f":"'20a'!I93","v":0},{"$f":"'20a'!J93","v":0},{"$f":"'20a'!K93","v":0},{"$f":"'20a'!L93","v":0},{"$f":"'20a'!M93","v":0.30265266929854495},{"$f":"'20a'!N93","v":0.13788877417964115},{"$f":"'20a'!O93","v":0.21208123490419883},{"$f":"'20a'!P93","v":0},{"$f":"'20a'!Q93","v":0},{"$f":"'20a'!R93","v":0},{"$f":"'20a'!S93","v":0},{"$f":"'20a'!T93","v":0},{"$f":"'20a'!X174","v":9}]
[null,null,null,null,{"$f":"'20a'!D29","v":"Criminal, suspect. Code this only if no other occupation is given, e.g, a lawyer suspected of committing a crime is coded 9; a former politician who has committed a crime is coded 2."},0,0,0,0,0,0,0,0,0,0,0,0,0,0,0,0,0,0,0,0,0,0,0,0,0,0,0,0,"n/a","n/a","n/a","n/a","n/a","n/a","n/a","n/a","n/a","n/a","n/a","n/a","n/a","n/a",{"$f":"'20a'!G94","v":2.482765211974752E-2},{"$f":"'20a'!H94","v":6.323945815167234E-2},{"$f":"'20a'!I94","v":0},{"$f":"'20a'!J94","v":0},{"$f":"'20a'!K94","v":0},{"$f":"'20a'!L94","v":0},{"$f":"'20a'!M94","v":0},{"$f":"'20a'!N94","v":0},{"$f":"'20a'!O94","v":0},{"$f":"'20a'!P94","v":0},{"$f":"'20a'!Q94","v":0},{"$f":"'20a'!R94","v":0},{"$f":"'20a'!S94","v":0},{"$f":"'20a'!T94","v":0},{"$f":"'20a'!X175","v":12}]
[null,null,null,null,{"$f":"'20a'!D30","v":"Unemployed. Code this only if no other occupation is given, e.g. an unemployed actor is coded 17; an unemployed person who commits a crime is coded 24."},0,0,0,0,0,0,0,0,0,0,0,0,0,0,0,0,0,0,0,0,0,0,0,0,0,0,0,0,"n/a","n/a","n/a","n/a","n/a","n/a","n/a","n/a","n/a","n/a","n/a","n/a","n/a","n/a",{"$f":"'20a'!G95","v":0},{"$f":"'20a'!H95","v":0},{"$f":"'20a'!I95","v":0},{"$f":"'20a'!J95","v":0},{"$f":"'20a'!K95","v":0},{"$f":"'20a'!L95","v":0},{"$f":"'20a'!M95","v":9.8906095298286589E-2},{"$f":"'20a'!N95","v":0},{"$f":"'20a'!O95","v":0},{"$f":"'20a'!P95","v":0},{"$f":"'20a'!Q95","v":0},{"$f":"'20a'!R95","v":0},{"$f":"'20a'!S95","v":0},{"$f":"'20a'!T95","v":0},{"$f":"'20a'!X176","v":1}]
[]
[]
[]
[null,null,null,null,"Total",0,0,0,0,0,0,0,0,0,0,0,0,0,0,0,0,0,0,0,0,0,0,0,0,0,0,0,0,0,0,0,0,0,0,0,0,0,0,0,0,0,0,{"$f":"SUM(AV7:AV31)","v":1},1.0000000000000002,1,1,1,1,1,1,1,1,1,1,0,0,{"$f":"SUM(BJ7:BJ32)","v":304}]

{"sheet":"20b","index":81,"n_rows":205,"n_cols":63,"rows_kept":205,"cut":false,"hidden":true,"merged":[]}
["Function of news subjects by sex - by age"]
[null,null,null,null,"Do not know: (e.g., the person may not be seen clearly)",null,"12 years or under",null,"13-18",null,"19-34",null,"35-49",null,"50-64",null,"65 years or more",null,"NA – Use this where you are coding a secondary source only",null,null,null,null,null,null,null,null,null,null,null,null,null,null,null,null,null,null,null,null,null,null,null,null,null,null,{"$f":"E2","v":"Do not know: (e.g., the person may not be seen clearly)"},0,"12 years or under",0,"13-18",0,"19-34",0,"35-49",0,{"$f":"O2","v":"50-64"},0,"65 years or more",0,"NA – Use this where you are coding a secondary source only",0,0,0]
[null,null,null,null,"Female","Male","Female","Male","Female","Male","Female","Male","Female","Male","Female","Male","Female","Male","Female","Male",null,null,null,null,null,null,null,null,null,null,null,null,null,null,null,null,null,null,null,null,null,null,null,null,null,"Female","Male","Female","Male","Female","Male","Female","Male","Female","Male","Female","Male","Female","Male","Female","Male",0,0]
[null,null,null,null,null,null,null,null,null,null,null,null,null,null,null,null,null,null,null,null,null,null,null,null,null,null,null,null,null,null,null,null,null,null,null,null,null,null,null,null,null,null,null,null,"TOTAL",0,0,0,0,0,0,0,0,0,0,0,0,0,0,0,0,0,0]
[null,null,0,"Do not know: the person's function is not clear.",null,null,5.1000001840293399E-3,null,null,null,null,null,null,null,null,null,null,null,null,null,null,null,null,null,null,null,null,null,null,null,null,null,null,null,null,null,null,null,null,null,null,null,null,null,{"$f":"SUM(E5:O5)","v":5.1000001840293399E-3},{"$f":"IF((E5+F5)>0,E5/(E5+F5),0)","v":0},{"$f":"IF((E5+F5)>0,F5/(E5+F5),0)","v":0},{"$f":"IF((G5+H5)>0,G5/(G5+H5),0)","v":1},{"$f":"IF((G5+H5)>0,H5/(G5+H5),0)","v":0},{"$f":"IF((I5+J5)>0,I5/(I5+J5),0)","v":0},{"$f":"IF((I5+J5)>0,J5/(I5+J5),0)","v":0},{"$f":"IF((K5+L5)>0,K5/(K5+L5),0)","v":0},{"$f":"IF((K5+L5)>0,L5/(K5+L5),0)","v":0},{"$f":"IF((M5+N5)>0,M5/(M5+N5),0)","v":0},{"$f":"IF((M5+N5)>0,N5/(M5+N5),0)","v":0},{"$f":"IF((O5+P5)>0,O5/(O5+P5),0)","v":0},{"$f":"IF((O5+P5)>0,P5/(O5+P5),0)","v":0},{"$f":"IF((Q5+R5)>0,Q5/(Q5+R5),0)","v":0},{"$f":"IF((Q5+R5)>0,R5/(Q5+R5),0)","v":0},{"$f":"IF((S5+T5)>0,S5/(S5+T5),0)","v":0},{"$f":"IF((S5+T5)>0,T5/(S5+T5),0)","v":0},{"$f":"IF((U5+V5)>0,U5/(U5+V5),0)","v":0},{"$f":"IF((U5+V5)>0,V5/(U5+V5),0)","v":0}]
[null,null,1,"Subject: the story is about this person, or about something the person has done, said etc.",0.17740649590268701,0.65352598158642705,null,2.0400000736117401E-2,1.5300000552088E-2,5.1000001840293399E-3,8.5659000091254697E-2,7.0358999539166703E-2,1.5300000552088E-2,7.8529501333832699E-2,5.1000001840293399E-3,5.5753001011908103E-2,null,5.1000001840293399E-3,null,null,null,null,null,null,null,null,null,null,null,null,null,null,null,null,null,null,null,null,null,null,null,null,null,null,1.1266799806617203,0.21350290271330885,0.78649709728669115,0,1,0.74999999999999978,0.25000000000000028,0.54903280579269997,0.45096719420729997,0.16306172626483692,0.83693827373516316,8.3808523553474581E-2,0.91619147644652543,0,1,0,0,0,0]
[null,null,2,"Spokesperson: the person represents, or speaks on behalf of another person, a group or an organisation",2.00529997237027E-2,1.4952999539673301E-2,null,null,null,null,1.0200000368058701E-2,5.1000001840293399E-3,1.0200000368058701E-2,4.0800001472234698E-2,5.1000001840293399E-3,4.5900001656264101E-2,null,null,null,null,null,null,null,null,null,null,null,null,null,null,null,null,null,null,null,null,null,null,null,null,null,null,null,null,0.10640600183978678,0.57284465936336126,0.42715534063663879,0,0,0,0,0.66666666666666718,0.33333333333333293,0.2000000000000004,0.7999999999999996,9.9999999999999908E-2,0.9,0,0,0,0,0,0]
[null,null,3,"Expert or commentator: the person provides additional information, opinion or comment, based on specialist knowledge or expertise",2.242949930951E-2,5.98119981586933E-2,null,null,null,5.1000001840293399E-3,1.0200000368058701E-2,null,2.55000009201467E-2,3.0600001104175999E-2,5.1000001840293399E-3,5.61000020243227E-2,null,null,null,null,null,null,null,null,null,null,null,null,null,null,null,null,null,null,null,null,null,null,null,null,null,null,null,null,0.15874150022864339,0.27272727272727282,0.72727272727272707,0,0,0,1,1,0,0.45454545454545486,0.54545454545454508,8.3333333333333384E-2,0.91666666666666663,0,0,0,0,0,0]
[null,null,4,"Personal experience: the person provides opinion or comment, based on individual personal experience; the opinion is not necessarily meant to reflect the views of a wider group",1.4952999539673301E-2,4.4858998619019999E-2,null,null,null,null,null,1.7676500137895301E-2,5.1000001840293399E-3,null,1.5300000552088E-2,3.5700001288205399E-2,1.5300000552088E-2,1.5300000552088E-2,null,null,null,null,null,null,null,null,null,null,null,null,null,null,null,null,null,null,null,null,null,null,null,null,null,null,9.7888499032705939E-2,0.24999999999999958,0.75000000000000044,0,0,0,0,0,1,1,0,0.2999999999999996,0.7000000000000004,0.5,0.5,0,0,0,0]
[null,null,5,"Eye witness: the person gives testimony or comment, based on direct observation (e.g. being present at an event)",null,null,null,null,null,null,1.0200000368058701E-2,null,null,null,2.00529997237027E-2,7.4764997698366599E-3,null,null,null,null,null,null,null,null,null,null,null,null,null,null,null,null,null,null,null,null,null,null,null,null,null,null,null,null,3.0253000091761399E-2,0,0,0,0,0,0,1,0,0,0,0.72841860886024279,0.27158139113975716,0,0,0,0,0,0]
[null,null,6,"Popular opinion: the person's opinion is assumed to reflect that of the 'ordinary citizen' (e.g., in a street interview, vox populi etc); it is implied that the person's point of view is shared by a wider group of people.",1.4952999539673301E-2,null,null,null,null,null,null,null,null,5.1000001840293399E-3,5.1000001840293399E-3,1.0200000368058701E-2,null,null,null,null,null,null,null,null,null,null,null,null,null,null,null,null,null,null,null,null,null,null,null,null,null,null,null,null,2.5152999907731982E-2,1,0,0,0,0,0,0,0,0,1,0.33333333333333293,0.66666666666666718,0,0,0,0,0,0]
[null,null,7,"Other. Use only as a last resort (describe the function in 'Comments' section of coding sheet).",null,null,null,null,null,null,null,null,null,null,null,null,null,null,null,null,null,null,null,null,null,null,null,null,null,null,null,null,null,null,null,null,null,null,null,null,null,null,null,null,0,0,0,0,0,0,0,0,0,0,0,0,0,0,0,0,0,0,0]
[null,null,8,"NA – Use this where you are coding a secondary source only",null,null,null,null,null,null,null,null,null,null,null,null,null,null,null,null,null,null,null,null,null,null,null,null,null,null,null,null,null,null,null,null,null,null,null,null,null,null,null,null,0,0,0,0,0,0,0,0,0,0,0,0,0,0,0,0,0,0,0]
[null,null,null,null,null,null,null,null,null,null,null,null,null,null,null,null,null,null,null,null,null,null,null,null,null,null,null,null,null,null,null,null,null,null,null,null,null,null,null,null,null,null,null,null,0,0,0,0,0,0,0,0,0,0,0,0,0,0,0,0,0,0,0]
[null,null,null,null,null,null,null,null,null,null,null,null,null,null,null,null,null,null,null,null,null,null,null,null,null,null,null,null,null,null,null,null,null,null,null,null,null,null,null,null,null,null,null,null,0,0,0,0,0,0,0,0,0,0,0,0,0,0,0,0,0,0,0]
[null,null,null,null,null,null,null,null,null,null,null,null,null,null,null,null,null,null,null,null,null,null,null,null,null,null,null,null,null,null,null,null,null,null,null,null,null,null,null,null,null,null,null,null,0,0,0,0,0,0,0,0,0,0,0,0,0,0,0,0,0,0,0]
[null,null,null,null,null,null,null,null,null,null,null,null,null,null,null,null,null,null,null,null,null,null,null,null,null,null,null,null,null,null,null,null,null,null,null,null,null,null,null,null,null,null,null,null,0,0,0,0,0,0,0,0,0,0,0,0,0,0,0,0,0,0,0]
[null,null,null,null,null,null,null,null,null,null,null,null,null,null,null,null,null,null,null,null,null,null,null,null,null,null,null,null,null,null,null,null,null,null,null,null,null,null,null,null,null,null,null,null,0,0,0,0,0,0,0,0,0,0,0,0,0,0,0,0,0,0,0]
[null,null,null,null,null,null,null,null,null,null,null,null,null,null,null,null,null,null,null,null,null,null,null,null,null,null,null,null,null,null,null,null,null,null,null,null,null,null,null,null,null,null,null,null,0,0,0,0,0,0,0,0,0,0,0,0,0,0,0,0,0,0,0]
[null,null,null,null,null,null,null,null,null,null,null,null,null,null,null,null,null,null,null,null,null,null,null,null,null,null,null,null,null,null,null,null,null,null,null,null,null,null,null,null,null,null,null,null,0,0,0,0,0,0,0,0,0,0,0,0,0,0,0,0,0,0,0]
[null,null,null,null,null,null,null,null,null,null,null,null,null,null,null,null,null,null,null,null,null,null,null,null,null,null,null,null,null,null,null,null,null,null,null,null,null,null,null,null,null,null,null,null,0,0,0,0,0,0,0,0,0,0,0,0,0,0,0,0,0,0,0]
[null,null,null,null,null,null,null,null,null,null,null,null,null,null,null,null,null,null,null,null,null,null,null,null,null,null,null,null,null,null,null,null,null,null,null,null,null,null,null,null,null,null,null,null,0,0,0,0,0,0,0,0,0,0,0,0,0,0,0,0,0,0,0]
[null,null,null,null,null,null,null,null,null,null,null,null,null,null,null,null,null,null,null,null,null,null,null,null,null,null,null,null,null,null,null,null,null,null,null,null,null,null,null,null,null,null,null,null,0,0,0,0,0,0,0,0,0,0,0,0,0,0,0,0,0,0,0]
[null,null,null,null,null,null,null,null,null,null,null,null,null,null,null,null,null,null,null,null,null,null,null,null,null,null,null,null,null,null,null,null,null,null,null,null,null,null,null,null,null,null,null,null,0,0,0,0,0,0,0,0,0,0,0,0,0,0,0,0,0,0,0]
[null,null,null,null,null,null,null,null,null,null,null,null,null,null,null,null,null,null,null,null,null,null,null,null,null,null,null,null,null,null,null,null,null,null,null,null,null,null,null,null,null,null,null,null,0,0,0,0,0,0,0,0,0,0,0,0,0,0,0,0,0,0,0]
[null,null,null,null,null,null,null,null,null,null,null,null,null,null,null,null,null,null,null,null,null,null,null,null,null,null,null,null,null,null,null,null,null,null,null,null,null,null,null,null,null,null,null,null,0,0,0,0,0,0,0,0,0,0,0,0,0,0,0,0,0,0,0]
[null,null,null,null,null,null,null,null,null,null,null,null,null,null,null,null,null,null,null,null,null,null,null,null,null,null,null,null,null,null,null,null,null,null,null,null,null,null,null,null,null,null,null,null,0,0,0,0,0,0,0,0,0,0,0,0,0,0,0,0,0,0,0]
[null,null,null,null,null,null,null,null,null,null,null,null,null,null,null,null,null,null,null,null,null,null,null,null,null,null,null,null,null,null,null,null,null,null,null,null,null,null,null,null,null,null,null,null,0,0,0,0,0,0,0,0,0,0,0,0,0,0,0,0,0,0,0]
[null,null,null,null,null,null,null,null,null,null,null,null,null,null,null,null,null,null,null,null,null,null,null,null,null,null,null,null,null,null,null,null,null,null,null,null,null,null,null,null,null,null,null,null,0,0,0,0,0,0,0,0,0,0,0,0,0,0,0,0,0,0,0]
[null,null,null,null,null,null,null,null,null,null,null,null,null,null,null,null,null,null,null,null,null,null,null,null,null,null,null,null,null,null,null,null,null,null,null,null,null,null,null,null,null,null,null,null,0,0,0,0,0,0,0,0,0,0,0,0,0,0,0,0,0,0,0]
[null,null,null,null,null,null,null,null,null,null,null,null,null,null,null,null,null,null,null,null,null,null,null,null,null,null,null,null,null,null,null,null,null,null,null,null,null,null,null,null,null,null,null,null,0,0,0,0,0,0,0,0,0,0,0,0,0,0,0,0,0,0,0]
[null,null,null,null,null,null,null,null,null,null,null,null,null,null,null,null,null,null,null,null,null,null,null,null,null,null,null,null,null,null,null,null,null,null,null,null,null,null,null,null,null,null,null,null,0,0,0,0,0,0,0,0,0,0,0,0,0,0,0,0,0,0,0]
[null,null,null,null,null,null,null,null,null,null,null,null,null,null,null,null,null,null,null,null,null,null,null,null,null,null,null,null,null,null,null,null,null,null,null,null,null,null,null,null,null,null,null,null,0,0,0,0,0,0,0,0,0,0,0,0,0,0,0,0,0,0,0]
[null,null,null,null,null,null,null,null,null,null,null,null,null,null,null,null,null,null,null,null,null,null,null,null,null,null,null,null,null,null,null,null,null,null,null,null,null,null,null,null,null,null,null,null,0,0,0,0,0,0,0,0,0,0,0,0,0,0,0,0,0,0,0]
[null,null,null,null,null,null,null,null,null,null,null,null,null,null,null,null,null,null,null,null,null,null,null,null,null,null,null,null,null,null,null,null,null,null,null,null,null,null,null,null,null,null,null,null,0,0,0,0,0,0,0,0,0,0,0,0,0,0,0,0,0,0,0]
[null,null,null,null,null,null,null,null,null,null,null,null,null,null,null,null,null,null,null,null,null,null,null,null,null,null,null,null,null,null,null,null,null,null,null,null,null,null,null,null,null,null,null,null,0,0,0,0,0,0,0,0,0,0,0,0,0,0,0,0,0,0,0]
[null,null,null,null,null,null,null,null,null,null,null,null,null,null,null,null,null,null,null,null,null,null,null,null,null,null,null,null,null,null,null,null,null,null,null,null,null,null,null,null,null,null,null,null,{"$f":"SUM(E37:O37)","v":0},{"$f":"IF((E37+F37)>0,E37/(E37+F37),0)","v":0},{"$f":"IF((E37+F37)>0,F37/(E37+F37),0)","v":0},{"$f":"IF((G37+H37)>0,G37/(G37+H37),0)","v":0},{"$f":"IF((G37+H37)>0,H37/(G37+H37),0)","v":0},{"$f":"IF((I37+J37)>0,I37/(I37+J37),0)","v":0},{"$f":"IF((I37+J37)>0,J37/(I37+J37),0)","v":0},{"$f":"IF((K37+L37)>0,K37/(K37+L37),0)","v":0},{"$f":"IF((K37+L37)>0,L37/(K37+L37),0)","v":0},{"$f":"IF((M37+N37)>0,M37/(M37+N37),0)","v":0},{"$f":"IF((M37+N37)>0,N37/(M37+N37),0)","v":0},{"$f":"IF((O37+P37)>0,O37/(O37+P37),0)","v":0},{"$f":"IF((O37+P37)>0,P37/(O37+P37),0)","v":0},{"$f":"IF((Q37+R37)>0,Q37/(Q37+R37),0)","v":0},{"$f":"IF((Q37+R37)>0,R37/(Q37+R37),0)","v":0},{"$f":"IF((S37+T37)>0,S37/(S37+T37),0)","v":0},{"$f":"IF((S37+T37)>0,T37/(S37+T37),0)","v":0},{"$f":"IF((U37+V37)>0,U37/(U37+V37),0)","v":0},{"$f":"IF((U37+V37)>0,V37/(U37+V37),0)","v":0}]
[null,null,null,null,null,null,null,null,null,null,null,null,null,null,null,null,null,null,null,null,null,null,null,null,null,null,null,null,null,null,null,null,null,null,null,null,null,null,null,null,null,null,null,null,0,0,0,0,0,0,0,0,0,0,0,0,0,0,0,0,0,0,0]
[null,null,null,null,null,null,null,null,null,null,null,null,null,null,null,null,null,null,null,null,null,null,null,null,null,null,null,null,null,null,null,null,null,null,null,null,null,null,null,null,null,null,null,null,0,0,0,0,0,0,0,0,0,0,0,0,0,0,0,0,0,0,0]
[null,null,null,null,null,null,null,null,null,null,null,null,null,null,null,null,null,null,null,null,null,null,null,null,null,null,null,null,null,null,null,null,null,null,null,null,null,null,null,null,null,null,null,null,0,0,0,0,0,0,0,0,0,0,0,0,0,0,0,0,0,0,0]
[null,null,null,null,null,null,null,null,null,null,null,null,null,null,null,null,null,null,null,null,null,null,null,null,null,null,null,null,null,null,null,null,null,null,null,null,null,null,null,null,null,null,null,null,0,0,0,0,0,0,0,0,0,0,0,0,0,0,0,0,0,0,0]
[null,null,null,null,null,null,null,null,null,null,null,null,null,null,null,null,null,null,null,null,null,null,null,null,null,null,null,null,null,null,null,null,null,null,null,null,null,null,null,null,null,null,null,null,0,0,0,0,0,0,0,0,0,0,0,0,0,0,0,0,0,0,0]
[null,null,null,null,null,null,null,null,null,null,null,null,null,null,null,null,null,null,null,null,null,null,null,null,null,null,null,null,null,null,null,null,null,null,null,null,null,null,null,null,null,null,null,null,0,0,0,0,0,0,0,0,0,0,0,0,0,0,0,0,0,0,0]
[null,null,null,null,null,null,null,null,null,null,null,null,null,null,null,null,null,null,null,null,null,null,null,null,null,null,null,null,null,null,null,null,null,null,null,null,null,null,null,null,null,null,null,null,0,0,0,0,0,0,0,0,0,0,0,0,0,0,0,0,0,0,0]
[null,null,null,null,null,null,null,null,null,null,null,null,null,null,null,null,null,null,null,null,null,null,null,null,null,null,null,null,null,null,null,null,null,null,null,null,null,null,null,null,null,null,null,null,0,0,0,0,0,0,0,0,0,0,0,0,0,0,0,0,0,0,0]
[null,null,null,null,null,null,null,null,null,null,null,null,null,null,null,null,null,null,null,null,null,null,null,null,null,null,null,null,null,null,null,null,null,null,null,null,null,null,null,null,null,null,null,null,0,0,0,0,0,0,0,0,0,0,0,0,0,0,0,0,0,0,0]
[null,null,null,null,null,null,null,null,null,null,null,null,null,null,null,null,null,null,null,null,null,null,null,null,null,null,null,null,null,null,null,null,null,null,null,null,null,null,null,null,null,null,null,null,0,0,0,0,0,0,0,0,0,0,0,0,0,0,0,0,0,0,0]
[null,null,null,null,null,null,null,null,null,null,null,null,null,null,null,null,null,null,null,null,null,null,null,null,null,null,null,null,null,null,null,null,null,null,null,null,null,null,null,null,null,null,null,null,0,0,0,0,0,0,0,0,0,0,0,0,0,0,0,0,0,0,0]
[null,null,null,null,null,null,null,null,null,null,null,null,null,null,null,null,null,null,null,null,null,null,null,null,null,null,null,null,null,null,null,null,null,null,null,null,null,null,null,null,null,null,null,null,0,0,0,0,0,0,0,0,0,0,0,0,0,0,0,0,0,0,0]
[null,null,null,null,null,null,null,null,null,null,null,null,null,null,null,null,null,null,null,null,null,null,null,null,null,null,null,null,null,null,null,null,null,null,null,null,null,null,null,null,null,null,null,null,0,0,0,0,0,0,0,0,0,0,0,0,0,0,0,0,0,0,0]
[null,null,null,null,null,null,null,null,null,null,null,null,null,null,null,null,null,null,null,null,null,null,null,null,null,null,null,null,null,null,null,null,null,null,null,null,null,null,null,null,null,null,null,null,0,0,0,0,0,0,0,0,0,0,0,0,0,0,0,0,0,0,0]
[null,null,null,null,null,null,null,null,null,null,null,null,null,null,null,null,null,null,null,null,null,null,null,null,null,null,null,null,null,null,null,null,null,null,null,null,null,null,null,null,null,null,null,null,0,0,0,0,0,0,0,0,0,0,0,0,0,0,0,0,0,0,0]
[null,null,null,null,null,null,null,null,null,null,null,null,null,null,null,null,null,null,null,null,null,null,null,null,null,null,null,null,null,null,null,null,null,null,null,null,null,null,null,null,null,null,null,null,0,0,0,0,0,0,0,0,0,0,0,0,0,0,0,0,0,0,0]
[null,null,null,null,null,null,null,null,null,null,null,null,null,null,null,null,null,null,null,null,null,null,null,null,null,null,null,null,null,null,null,null,null,null,null,null,null,null,null,null,null,null,null,null,0,0,0,0,0,0,0,0,0,0,0,0,0,0,0,0,0,0,0]
[null,null,null,null,null,null,null,null,null,null,null,null,null,null,null,null,null,null,null,null,null,null,null,null,null,null,null,null,null,null,null,null,null,null,null,null,null,null,null,null,null,null,null,null,0,0,0,0,0,0,0,0,0,0,0,0,0,0,0,0,0,0,0]
[null,null,null,null,null,null,null,null,null,null,null,null,null,null,null,null,null,null,null,null,null,null,null,null,null,null,null,null,null,null,null,null,null,null,null,null,null,null,null,null,null,null,null,null,0,0,0,0,0,0,0,0,0,0,0,0,0,0,0,0,0,0,0]
[null,null,null,null,null,null,null,null,null,null,null,null,null,null,null,null,null,null,null,null,null,null,null,null,null,null,null,null,null,null,null,null,null,null,null,null,null,null,null,null,null,null,null,null,0,0,0,0,0,0,0,0,0,0,0,0,0,0,0,0,0,0,0]
[null,null,null,null,null,null,null,null,null,null,null,null,null,null,null,null,null,null,null,null,null,null,null,null,null,null,null,null,null,null,null,null,null,null,null,null,null,null,null,null,null,null,null,null,0,0,0,0,0,0,0,0,0,0,0,0,0,0,0,0,0,0,0]
[null,null,null,null,null,null,null,null,null,null,null,null,null,null,null,null,null,null,null,null,null,null,null,null,null,null,null,null,null,null,null,null,null,null,null,null,null,null,null,null,null,null,null,null,0,0,0,0,0,0,0,0,0,0,0,0,0,0,0,0,0,0,0]
[null,null,null,null,null,null,null,null,null,null,null,null,null,null,null,null,null,null,null,null,null,null,null,null,null,null,null,null,null,null,null,null,null,null,null,null,null,null,null,null,null,null,null,null,0,0,0,0,0,0,0,0,0,0,0,0,0,0,0,0,0,0,0]
[null,null,null,null,null,null,null,null,null,null,null,null,null,null,null,null,null,null,null,null,null,null,null,null,null,null,null,null,null,null,null,null,null,null,null,null,null,null,null,null,null,null,null,null,0,0,0,0,0,0,0,0,0,0,0,0,0,0,0,0,0,0,0]
[null,null,null,null,null,null,null,null,null,null,null,null,null,null,null,null,null,null,null,null,null,null,null,null,null,null,null,null,null,null,null,null,null,null,null,null,null,null,null,null,null,null,null,null,0,0,0,0,0,0,0,0,0,0,0,0,0,0,0,0,0,0,0]
[null,null,null,null,null,null,null,null,null,null,null,null,null,null,null,null,null,null,null,null,null,null,null,null,null,null,null,null,null,null,null,null,null,null,null,null,null,null,null,null,null,null,null,null,0,0,0,0,0,0,0,0,0,0,0,0,0,0,0,0,0,0,0]
[null,null,null,null,null,null,null,null,null,null,null,null,null,null,null,null,null,null,null,null,null,null,null,null,null,null,null,null,null,null,null,null,null,null,null,null,null,null,null,null,null,null,null,null,0,0,0,0,0,0,0,0,0,0,0,0,0,0,0,0,0,0,0]
[null,null,null,null,null,null,null,null,null,null,null,null,null,null,null,null,null,null,null,null,null,null,null,null,null,null,null,null,null,null,null,null,null,null,null,null,null,null,null,null,null,null,null,null,0,0,0,0,0,0,0,0,0,0,0,0,0,0,0,0,0,0,0]
[null,null,null,null,null,null,null,null,null,null,null,null,null,null,null,null,null,null,null,null,null,null,null,null,null,null,null,null,null,null,null,null,null,null,null,null,null,null,null,null,null,null,null,null,0,0,0,0,0,0,0,0,0,0,0,0,0,0,0,0,0,0,0]
[null,null,null,null,null,null,null,null,null,null,null,null,null,null,null,null,null,null,null,null,null,null,null,null,null,null,null,null,null,null,null,null,null,null,null,null,null,null,null,null,null,null,null,null,0,0,0,0,0,0,0,0,0,0,0,0,0,0,0,0,0,0,0]
[null,null,null,"TOTAL",null,null,{"$f":"SUM(G6:G11)","v":0},{"$f":"SUM(H6:H11)","v":2.0400000736117401E-2},1.5300000552088E-2,1.020000036805868E-2,0.11625900119543078,9.3135499861091348E-2,5.6100002024322741E-2,0.15502950409427274,5.5753001011908054E-2,0.21112950611859568,1.5300000552088E-2,2.0400000736117339E-2,null,null,null,null,null,null,null,null,null,null,null,null,null,null,null,null,null,null,null,null,null,null,null,null,null,null,0.52217700984328974,0,0,0,1,0.59999999999999964,0.4000000000000003,0.55521515898857743,0.44478484101142257,0.26571369893135777,0.73428630106864223,0.20890466599463264,0.79109533400536725,0.42857142857142855,0.57142857142857151,0,0,0,0]
[]
[null,null,{"$f":"C5","v":0},"Do not know: the person's function is not clear.",{"$f":"IF(E$68>0,E5/E$68,0)","v":0},0,0,0,0,0,0,0,0,0,0,0,0,0,0,0,0,0,0,0,0,0,0]
[null,null,1,"Subject: the story is about this person, or about something the person has done, said etc.",{"$f":"IF(E$68>0,E6/E$68,0)","v":0},0,0,1,1,0.5,0.73679456395176113,0.75544770408818251,0.27272727272727237,0.5065455236577372,9.1474899852297675E-2,0.26407015313430671,0,0.25000000000000028,0,0,0,0,0,0,0,0,0]
[null,null,2,"Spokesperson: the person represents, or speaks on behalf of another person, a group or an organisation",{"$f":"IF(E$68>0,E7/E$68,0)","v":0},0,0,0,0,0,8.7735145349413013E-2,5.4758928567901918E-2,0.18181818181818218,0.26317572071587353,9.1474899852297675E-2,0.21740211730747452,0,0,0,0,0,0,0,0,0,0,0]
[null,null,3,"Expert or commentator: the person provides additional information, opinion or comment, based on specialist knowledge or expertise",{"$f":"IF(E$68>0,E8/E$68,0)","v":0},0,0,0,0,0.5,8.7735145349413013E-2,0,0.45454545454545453,0.19738179053690499,9.1474899852297675E-2,0.26571369893135732,0,0,0,0,0,0,0,0,0,0,0]
[null,null,4,"Personal experience: the person provides opinion or comment, based on individual personal experience; the opinion is not necessarily meant to reflect the views of a wider group",{"$f":"IF(E$68>0,E9/E$68,0)","v":0},0,0,0,0,0,0,0.1897933673439155,9.0909090909090912E-2,0,0.27442469955689264,0.16909053568359125,1,0.74999999999999978,0,0,0,0,0,0,0,0,0]
[null,null,5,"Eye witness: the person gives testimony or comment, based on direct observation (e.g. being present at an event)",{"$f":"IF(E$68>0,E10/E$68,0)","v":0},0,0,0,0,0,8.7735145349413013E-2,0,0,0,0.35967570103391677,3.5411913319386819E-2,0,0,0,0,0,0,0,0,0,0,0]
[null,null,6,"Popular opinion: the person's opinion is assumed to reflect that of the 'ordinary citizen' (e.g., in a street interview, vox populi etc); it is implied that the person's point of view is shared by a wider group of people.",{"$f":"IF(E$68>0,E11/E$68,0)","v":0},0,0,0,0,0,0,0,0,3.2896965089484212E-2,9.1474899852297675E-2,4.8311581623883285E-2,0,0,0,0,0,0,0,0,0,0,0]
[null,null,7,"Other. Use only as a last resort (describe the function in 'Comments' section of coding sheet).",{"$f":"IF(E$68>0,E12/E$68,0)","v":0},0,0,0,0,0,0,0,0,0,0,0,0,0,0,0,0,0,0,0,0,0,0]
[null,null,8,"NA – Use this where you are coding a secondary source only",{"$f":"IF(E$68>0,E13/E$68,0)","v":0},0,0,0,0,0,0,0,0,0,0,0,0,0,0,0,0,0,0,0,0,0,0]
[null,null,0,0,{"$f":"IF(E$68>0,E14/E$68,0)","v":0},0,0,0,0,0,0,0,0,0,0,0,0,0,0,0,0,0,0,0,0,0,0]
[null,null,0,0,{"$f":"IF(E$68>0,E15/E$68,0)","v":0},0,0,0,0,0,0,0,0,0,0,0,0,0,0,0,0,0,0,0,0,0,0]
[null,null,0,0,{"$f":"IF(E$68>0,E16/E$68,0)","v":0},0,0,0,0,0,0,0,0,0,0,0,0,0,0,0,0,0,0,0,0,0,0]
[null,null,0,0,{"$f":"IF(E$68>0,E17/E$68,0)","v":0},0,0,0,0,0,0,0,0,0,0,0,0,0,0,0,0,0,0,0,0,0,0]
[null,null,0,0,{"$f":"IF(E$68>0,E18/E$68,0)","v":0},0,0,0,0,0,0,0,0,0,0,0,0,0,0,0,0,0,0,0,0,0,0]
[null,null,0,0,{"$f":"IF(E$68>0,E19/E$68,0)","v":0},0,0,0,0,0,0,0,0,0,0,0,0,0,0,0,0,0,0,0,0,0,0]
[null,null,0,0,{"$f":"IF(E$68>0,E20/E$68,0)","v":0},0,0,0,0,0,0,0,0,0,0,0,0,0,0,0,0,0,0,0,0,0,0]
[null,null,0,0,{"$f":"IF(E$68>0,E21/E$68,0)","v":0},0,0,0,0,0,0,0,0,0,0,0,0,0,0,0,0,0,0,0,0,0,0]
[null,null,0,0,{"$f":"IF(E$68>0,E22/E$68,0)","v":0},0,0,0,0,0,0,0,0,0,0,0,0,0,0,0,0,0,0,0,0,0,0]
[null,null,0,0,{"$f":"IF(E$68>0,E23/E$68,0)","v":0},0,0,0,0,0,0,0,0,0,0,0,0,0,0,0,0,0,0,0,0,0,0]
[null,null,0,0,{"$f":"IF(E$68>0,E24/E$68,0)","v":0},0,0,0,0,0,0,0,0,0,0,0,0,0,0,0,0,0,0,0,0,0,0]
[null,null,{"$f":"C25","v":0},0,{"$f":"IF(E$68>0,E25/E$68,0)","v":0},0,0,0,0,0,0,0,0,0,0,0,0,0,0,0,0,0,0,0,0,0,0]
[null,null,0,0,{"$f":"IF(E$68>0,E26/E$68,0)","v":0},0,0,0,0,0,0,0,0,0,0,0,0,0,0,0,0,0,0,0,0,0,0]
[null,null,0,0,{"$f":"IF(E$68>0,E27/E$68,0)","v":0},0,0,0,0,0,0,0,0,0,0,0,0,0,0,0,0,0,0,0,0,0,0]
[null,null,0,0,{"$f":"IF(E$68>0,E28/E$68,0)","v":0},0,0,0,0,0,0,0,0,0,0,0,0,0,0,0,0,0,0,0,0,0,0]
[null,null,0,0,{"$f":"IF(E$68>0,E29/E$68,0)","v":0},0,0,0,0,0,0,0,0,0,0,0,0,0,0,0,0,0,0,0,0,0,0]
[null,null,0,0,{"$f":"IF(E$68>0,E30/E$68,0)","v":0},0,0,0,0,0,0,0,0,0,0,0,0,0,0,0,0,0,0,0,0,0,0]
[null,null,0,0,{"$f":"IF(E$68>0,E31/E$68,0)","v":0},0,0,0,0,0,0,0,0,0,0,0,0,0,0,0,0,0,0,0,0,0,0]
[null,null,0,0,{"$f":"IF(E$68>0,E32/E$68,0)","v":0},0,0,0,0,0,0,0,0,0,0,0,0,0,0,0,0,0,0,0,0,0,0]
[null,null,0,0,{"$f":"IF(E$68>0,E33/E$68,0)","v":0},0,0,0,0,0,0,0,0,0,0,0,0,0,0,0,0,0,0,0,0,0,0]
[null,null,0,0,{"$f":"IF(E$68>0,E34/E$68,0)","v":0},0,0,0,0,0,0,0,0,0,0,0,0,0,0,0,0,0,0,0,0,0,0]
[null,null,0,0,{"$f":"IF(E$68>0,E35/E$68,0)","v":0},0,0,0,0,0,0,0,0,0,0,0,0,0,0,0,0,0,0,0,0,0,0]
[null,null,0,0,{"$f":"IF(E$68>0,E36/E$68,0)","v":0},0,0,0,0,0,0,0,0,0,0,0,0,0,0,0,0,0,0,0,0,0,0]
[null,null,0,0,{"$f":"IF(E$68>0,E37/E$68,0)","v":0},0,0,0,0,0,0,0,0,0,0,0,0,0,0,0,0,0,0,0,0,0,0]
[null,null,0,0,{"$f":"IF(E$68>0,E38/E$68,0)","v":0},0,0,0,0,0,0,0,0,0,0,0,0,0,0,0,0,0,0,0,0,0,0]
[null,null,0,0,{"$f":"IF(E$68>0,E39/E$68,0)","v":0},0,0,0,0,0,0,0,0,0,0,0,0,0,0,0,0,0,0,0,0,0,0]
[null,null,0,0,{"$f":"IF(E$68>0,E40/E$68,0)","v":0},0,0,0,0,0,0,0,0,0,0,0,0,0,0,0,0,0,0,0,0,0,0]
[null,null,0,0,{"$f":"IF(E$68>0,E41/E$68,0)","v":0},0,0,0,0,0,0,0,0,0,0,0,0,0,0,0,0,0,0,0,0,0,0]
[null,null,0,0,{"$f":"IF(E$68>0,E42/E$68,0)","v":0},0,0,0,0,0,0,0,0,0,0,0,0,0,0,0,0,0,0,0,0,0,0]
[null,null,0,0,{"$f":"IF(E$68>0,E43/E$68,0)","v":0},0,0,0,0,0,0,0,0,0,0,0,0,0,0,0,0,0,0,0,0,0,0]
[null,null,0,0,{"$f":"IF(E$68>0,E44/E$68,0)","v":0},0,0,0,0,0,0,0,0,0,0,0,0,0,0,0,0,0,0,0,0,0,0]
[null,null,{"$f":"C45","v":0},0,{"$f":"IF(E$68>0,E45/E$68,0)","v":0},0,0,0,0,0,0,0,0,0,0,0,0,0,0,0,0,0,0,0,0,0,0]
[null,null,0,0,{"$f":"IF(E$68>0,E46/E$68,0)","v":0},0,0,0,0,0,0,0,0,0,0,0,0,0,0,0,0,0,0,0,0,0,0]
[null,null,0,0,{"$f":"IF(E$68>0,E47/E$68,0)","v":0},0,0,0,0,0,0,0,0,0,0,0,0,0,0,0,0,0,0,0,0,0,0]
[null,null,0,0,{"$f":"IF(E$68>0,E48/E$68,0)","v":0},0,0,0,0,0,0,0,0,0,0,0,0,0,0,0,0,0,0,0,0,0,0]
[null,null,0,0,{"$f":"IF(E$68>0,E49/E$68,0)","v":0},0,0,0,0,0,0,0,0,0,0,0,0,0,0,0,0,0,0,0,0,0,0]
[null,null,0,0,{"$f":"IF(E$68>0,E50/E$68,0)","v":0},0,0,0,0,0,0,0,0,0,0,0,0,0,0,0,0,0,0,0,0,0,0]
[null,null,0,0,{"$f":"IF(E$68>0,E51/E$68,0)","v":0},0,0,0,0,0,0,0,0,0,0,0,0,0,0,0,0,0,0,0,0,0,0]
[null,null,0,0,{"$f":"IF(E$68>0,E52/E$68,0)","v":0},0,0,0,0,0,0,0,0,0,0,0,0,0,0,0,0,0,0,0,0,0,0]
[null,null,0,0,{"$f":"IF(E$68>0,E53/E$68,0)","v":0},0,0,0,0,0,0,0,0,0,0,0,0,0,0,0,0,0,0,0,0,0,0]
[null,null,0,0,{"$f":"IF(E$68>0,E54/E$68,0)","v":0},0,0,0,0,0,0,0,0,0,0,0,0,0,0,0,0,0,0,0,0,0,0]
[null,null,0,0,{"$f":"IF(E$68>0,E55/E$68,0)","v":0},0,0,0,0,0,0,0,0,0,0,0,0,0,0,0,0,0,0,0,0,0,0]
[null,null,0,0,{"$f":"IF(E$68>0,E56/E$68,0)","v":0},0,0,0,0,0,0,0,0,0,0,0,0,0,0,0,0,0,0,0,0,0,0]
[null,null,0,0,{"$f":"IF(E$68>0,E57/E$68,0)","v":0},0,0,0,0,0,0,0,0,0,0,0,0,0,0,0,0,0,0,0,0,0,0]
[null,null,0,0,{"$f":"IF(E$68>0,E58/E$68,0)","v":0},0,0,0,0,0,0,0,0,0,0,0,0,0,0,0,0,0,0,0,0,0,0]
[null,null,0,0,{"$f":"IF(E$68>0,E59/E$68,0)","v":0},0,0,0,0,0,0,0,0,0,0,0,0,0,0,0,0,0,0,0,0,0,0]
[null,null,0,0,{"$f":"IF(E$68>0,E60/E$68,0)","v":0},0,0,0,0,0,0,0,0,0,0,0,0,0,0,0,0,0,0,0,0,0,0]
[null,null,0,0,{"$f":"IF(E$68>0,E61/E$68,0)","v":0},0,0,0,0,0,0,0,0,0,0,0,0,0,0,0,0,0,0,0,0,0,0]
[null,null,0,0,{"$f":"IF(E$68>0,E62/E$68,0)","v":0},0,0,0,0,0,0,0,0,0,0,0,0,0,0,0,0,0,0,0,0,0,0]
[]
[]
[]
[]
[]
[]
[]
[]
[]
[]
[]
[]
[]
[]
[]
[]
[]
[]
[]
[]
["COUNT"]
[null,null,null,null,{"$f":"E3","v":"Female"},"Male","Female","Male","Female","Male","Female","Male","Female","Male","Female","Male","Female","Male","Female","Male"]
[null,null,null,null,{"$f":"E4","v":0},0,0,0,0,0,0,0,0,0,0,0,0,0,0,0]
[null,null,{"$f":"C5","v":0},"Do not know: the person's function is not clear.",0,0,1,0,0,0,0,0,0,0,0,0,0,0,0,0,0,0,null,{"$f":"SUM(E151:V151)","v":1}]
[null,null,1,"Subject: the story is about this person, or about something the person has done, said etc.",25,89,0,4,3,1,14,11,3,14,1,10,0,1,0,0,0,0,null,{"$f":"SUM(E152:V152)","v":176}]
[null,null,2,"Spokesperson: the person represents, or speaks on behalf of another person, a group or an organisation",3,2,0,0,0,0,2,1,2,8,1,9,0,0,0,0,0,0,null,28]
[null,null,3,"Expert or commentator: the person provides additional information, opinion or comment, based on specialist knowledge or expertise",3,8,0,0,0,1,2,0,5,6,1,11,0,0,0,0,0,0,null,37]
[null,null,4,"Personal experience: the person provides opinion or comment, based on individual personal experience; the opinion is not necessarily meant to reflect the views of a wider group",2,6,0,0,0,0,0,3,1,0,3,7,3,3,0,0,0,0,null,28]
[null,null,5,"Eye witness: the person gives testimony or comment, based on direct observation (e.g. being present at an event)",0,0,0,0,0,0,2,0,0,0,3,1,0,0,0,0,0,0,null,6]
[null,null,6,"Popular opinion: the person's opinion is assumed to reflect that of the 'ordinary citizen' (e.g., in a street interview, vox populi etc); it is implied that the person's point of view is shared by a wider group of people.",2,0,0,0,0,0,0,0,0,1,1,2,0,0,0,0,0,0,null,6]
[null,null,7,"Other. Use only as a last resort (describe the function in 'Comments' section of coding sheet).",0,0,0,0,0,0,0,0,0,0,0,0,0,0,0,0,0,0,null,0]
[null,null,8,"NA – Use this where you are coding a secondary source only",0,0,0,0,0,0,0,0,0,0,0,0,0,0,0,0,0,0,null,0]
[null,null,0,0,0,0,0,0,0,0,0,0,0,0,0,0,0,0,0,0,0,0,null,0]
[null,null,0,0,0,0,0,0,0,0,0,0,0,0,0,0,0,0,0,0,0,0,null,0]
[null,null,0,0,0,0,0,0,0,0,0,0,0,0,0,0,0,0,0,0,0,0,null,0]
[null,null,0,0,0,0,0,0,0,0,0,0,0,0,0,0,0,0,0,0,0,0,null,0]
[null,null,0,0,0,0,0,0,0,0,0,0,0,0,0,0,0,0,0,0,0,0,null,0]
[null,null,0,0,0,0,0,0,0,0,0,0,0,0,0,0,0,0,0,0,0,0,null,0]
[null,null,0,0,0,0,0,0,0,0,0,0,0,0,0,0,0,0,0,0,0,0,null,0]
[null,null,0,0,0,0,0,0,0,0,0,0,0,0,0,0,0,0,0,0,0,0]
[null,null,0,0,0,0,0,0,0,0,0,0,0,0,0,0,0,0,0,0,0,0]
[null,null,0,0,0,0,0,0,0,0,0,0,0,0,0,0,0,0,0,0,0,0]
[null,null,0,0,0,0,0,0,0,0,0,0,0,0,0,0,0,0,0,0,0,0]
[null,null,{"$f":"C25","v":0},0,0,0,0,0,0,0,0,0,0,0,0,0,0,0,0,0,0,0]
[null,null,0,0,0,0,0,0,0,0,0,0,0,0,0,0,0,0,0,0,0,0]
[null,null,0,0,0,0,0,0,0,0,0,0,0,0,0,0,0,0,0,0,0,0]
[null,null,0,0,0,0,0,0,0,0,0,0,0,0,0,0,0,0,0,0,0,0]
[null,null,0,0,0,0,0,0,0,0,0,0,0,0,0,0,0,0,0,0,0,0]
[null,null,0,0,0,0,0,0,0,0,0,0,0,0,0,0,0,0,0,0,0,0]
[null,null,0,0,0,0,0,0,0,0,0,0,0,0,0,0,0,0,0,0,0,0]
[null,null,0,0,0,0,0,0,0,0,0,0,0,0,0,0,0,0,0,0,0,0]
[null,null,0,0,0,0,0,0,0,0]
[null,null,0,0,0,0,0,0,0,0]
[null,null,0,0,0,0,0,0,0,0]
[null,null,0,0,0,0,0,0,0,0]
[null,null,0,0,0,0,0,0,0,0]
[null,null,0,0,0,0,0,0,0,0]
[null,null,0,0,0,0,0,0,0,0]
[null,null,0,0,0,0,0,0,0,0]
[null,null,0,0,0,0,0,0,0,0]
[null,null,0,0,0,0,0,0,0,0]
[null,null,0,0,0,0,0,0,0,0]
[null,null,0,0,0,0,0,0,0,0]
[null,null,{"$f":"C45","v":0},0,0,0,0,0,0,0]
[null,null,0,0,0,0,0,0,0,0]
[null,null,0,0,0,0,0,0,0,0]
[null,null,0,0,0,0,0,0,0,0]
[null,null,0,0,0,0,0,0,0,0]
[null,null,0,0,0,0,0,0,0,0]
[null,null,0,0,0,0,0,0,0,0]
[null,null,0,0,0,0,0,0,0,0]
[null,null,0,0,0,0,0,0,0,0]
[null,null,0,0,0,0,0,0,0,0]
[null,null,0,0,0,0,0,0,0,0]
[null,null,0,0,0,0,0,0,0,0]
[null,null,0,0]
[null,null,0,0]
[null,null,0,0]

{"sheet":"20bF - Function-Age","index":82,"n_rows":15,"n_cols":54,"rows_kept":15,"cut":false,"hidden":false,"merged":[[2,45,2,46],[2,47,2,48],[2,49,2,50],[2,51,2,52],[1,41,1,53],[2,37,2,38],[2,39,2,40],[2,41,2,42],[2,43,2,44],[1,17,1,28],[2,17,2,18],[2,19,2,20],[2,21,2,22],[2,23,2,24],[2,25,2,26],[1,29,1,40],[2,29,2,30],[2,31,2,32],[2,33,2,34],[2,35,2,36],[2,27,2,28],[2,15,2,16],[2,5,2,6],[1,5,1,16],[2,7,2,8],[2,9,2,10],[2,11,2,12],[2,13,2,14]]}
[{"$f":"'20b'!$A$1","v":"Function of news subjects by sex - by age"}]
[null,null,null,null,null,1995,null,null,null,null,null,null,null,null,null,null,null,2000,null,null,null,null,null,null,null,null,null,null,null,2005,null,null,null,null,null,null,null,null,null,null,null,2010]
[null,null,null,null,null,{"$f":"'20b'!G2","v":"12 years or under"},null,{"$f":"'20b'!I2","v":"13-18"},null,{"$f":"'20b'!K2","v":"19-34"},null,{"$f":"'20b'!M2","v":"35-49"},null,{"$f":"'20b'!O2","v":"50-64"},null,{"$f":"'20b'!Q2","v":"65 years or more"},null,{"$f":"F3","v":"12 years or under"},null,{"$f":"H3","v":"13-18"},null,{"$f":"J3","v":"19-34"},null,{"$f":"L3","v":"35-49"},null,{"$f":"N3","v":"50-64"},null,{"$f":"P3","v":"65 years or more"},null,{"$f":"F3","v":"12 years or under"},null,{"$f":"H3","v":"13-18"},null,{"$f":"J3","v":"19-34"},null,{"$f":"L3","v":"35-49"},null,{"$f":"N3","v":"50-64"},null,{"$f":"P3","v":"65 years or more"},null,{"$f":"F3","v":"12 years or under"},null,{"$f":"H3","v":"13-18"},null,{"$f":"J3","v":"19-34"},null,{"$f":"L3","v":"35-49"},null,{"$f":"N3","v":"50-64"},null,{"$f":"P3","v":"65 years or more"}]
[null,null,null,null,null,"%F","%M","%F","%M","%F","%M","%F","%M","%F","%M","%F","%M","%F","%M","%F","%M","%F","%M","%F","%M","%F","%M","%F","%M","%F","%M","%F","%M","%F","%M","%F","%M","%F","%M","%F","%M","%F","%M","%F","%M","%F","%M","%F","%M","%F","%M","%F","%M","N"]
[]
[null,null,null,null,{"$f":"'20b'!D6","v":"Subject: the story is about this person, or about something the person has done, said etc."},0,0,0,0,0,0,0,0,0,0,0,0,0,0,0,0,0,0,0,0,0,0,0,0,0,0,0,0,0,0,0,0,0,0,0,0,{"$f":"'20b'!G71","v":0},{"$f":"'20b'!H71","v":1},{"$f":"'20b'!I71","v":1},{"$f":"'20b'!J71","v":0.5},{"$f":"'20b'!K71","v":0.73679456395176113},{"$f":"'20b'!L71","v":0.75544770408818251},{"$f":"'20b'!M71","v":0.27272727272727237},{"$f":"'20b'!N71","v":0.5065455236577372},{"$f":"'20b'!O71","v":9.1474899852297675E-2},{"$f":"'20b'!P71","v":0.26407015313430671},{"$f":"'20b'!Q71","v":0},{"$f":"'20b'!R71","v":0.25000000000000028},{"$f":"'20b'!X152","v":176}]
[null,null,null,null,{"$f":"'20b'!D7","v":"Spokesperson: the person represents, or speaks on behalf of another person, a group or an organisation"},0,0,0,0,0,0,0,0,0,0,0,0,0,0,0,0,0,0,0,0,0,0,0,0,0,0,0,0,0,0,0,0,0,0,0,0,{"$f":"'20b'!G72","v":0},{"$f":"'20b'!H72","v":0},{"$f":"'20b'!I72","v":0},{"$f":"'20b'!J72","v":0},{"$f":"'20b'!K72","v":8.7735145349413013E-2},{"$f":"'20b'!L72","v":5.4758928567901918E-2},{"$f":"'20b'!M72","v":0.18181818181818218},{"$f":"'20b'!N72","v":0.26317572071587353},{"$f":"'20b'!O72","v":9.1474899852297675E-2},{"$f":"'20b'!P72","v":0.21740211730747452},{"$f":"'20b'!Q72","v":0},{"$f":"'20b'!R72","v":0},{"$f":"'20b'!X153","v":28}]
[null,null,null,null,{"$f":"'20b'!D8","v":"Expert or commentator: the person provides additional information, opinion or comment, based on specialist knowledge or expertise"},0,0,0,0,0,0,0,0,0,0,0,0,0,0,0,0,0,0,0,0,0,0,0,0,0,0,0,0,0,0,0,0,0,0,0,0,{"$f":"'20b'!G73","v":0},{"$f":"'20b'!H73","v":0},{"$f":"'20b'!I73","v":0},{"$f":"'20b'!J73","v":0.5},{"$f":"'20b'!K73","v":8.7735145349413013E-2},{"$f":"'20b'!L73","v":0},{"$f":"'20b'!M73","v":0.45454545454545453},{"$f":"'20b'!N73","v":0.19738179053690499},{"$f":"'20b'!O73","v":9.1474899852297675E-2},{"$f":"'20b'!P73","v":0.26571369893135732},{"$f":"'20b'!Q73","v":0},{"$f":"'20b'!R73","v":0},{"$f":"'20b'!X154","v":37}]
[null,null,null,null,{"$f":"'20b'!D9","v":"Personal experience: the person provides opinion or comment, based on individual personal experience; the opinion is not necessarily meant to reflect the views of a wider group"},0,0,0,0,0,0,0,0,0,0,0,0,0,0,0,0,0,0,0,0,0,0,0,0,0,0,0,0,0,0,0,0,0,0,0,0,{"$f":"'20b'!G74","v":0},{"$f":"'20b'!H74","v":0},{"$f":"'20b'!I74","v":0},{"$f":"'20b'!J74","v":0},{"$f":"'20b'!K74","v":0},{"$f":"'20b'!L74","v":0.1897933673439155},{"$f":"'20b'!M74","v":9.0909090909090912E-2},{"$f":"'20b'!N74","v":0},{"$f":"'20b'!O74","v":0.27442469955689264},{"$f":"'20b'!P74","v":0.16909053568359125},{"$f":"'20b'!Q74","v":1},{"$f":"'20b'!R74","v":0.74999999999999978},{"$f":"'20b'!X155","v":28}]
[null,null,null,null,{"$f":"'20b'!D10","v":"Eye witness: the person gives testimony or comment, based on direct observation (e.g. being present at an event)"},0,0,0,0,0,0,0,0,0,0,0,0,0,0,0,0,0,0,0,0,0,0,0,0,0,0,0,0,0,0,0,0,0,0,0,0,{"$f":"'20b'!G75","v":0},{"$f":"'20b'!H75","v":0},{"$f":"'20b'!I75","v":0},{"$f":"'20b'!J75","v":0},{"$f":"'20b'!K75","v":8.7735145349413013E-2},{"$f":"'20b'!L75","v":0},{"$f":"'20b'!M75","v":0},{"$f":"'20b'!N75","v":0},{"$f":"'20b'!O75","v":0.35967570103391677},{"$f":"'20b'!P75","v":3.5411913319386819E-2},{"$f":"'20b'!Q75","v":0},{"$f":"'20b'!R75","v":0},{"$f":"'20b'!X156","v":6}]
[null,null,null,null,{"$f":"'20b'!D11","v":"Popular opinion: the person's opinion is assumed to reflect that of the 'ordinary citizen' (e.g., in a street interview, vox populi etc); it is implied that the person's point of view is shared by a wider group of people."},0,0,0,0,0,0,0,0,0,0,0,0,0,0,0,0,0,0,0,0,0,0,0,0,0,0,0,0,0,0,0,0,0,0,0,0,{"$f":"'20b'!G76","v":0},{"$f":"'20b'!H76","v":0},{"$f":"'20b'!I76","v":0},{"$f":"'20b'!J76","v":0},{"$f":"'20b'!K76","v":0},{"$f":"'20b'!L76","v":0},{"$f":"'20b'!M76","v":0},{"$f":"'20b'!N76","v":3.2896965089484212E-2},{"$f":"'20b'!O76","v":9.1474899852297675E-2},{"$f":"'20b'!P76","v":4.8311581623883285E-2},{"$f":"'20b'!Q76","v":0},{"$f":"'20b'!R76","v":0},{"$f":"'20b'!X157","v":6}]
[]
[]
[]
[null,null,null,null,"Total",0,0,0,0,0,0,0,0,0,0,0,0,0,0,0,0,0,0,0,0,0,0,0,0,0,0,0,0,0,0,0,0,0,0,0,0,{"$f":"SUM(AP6:AP11)","v":0},1,1,1,1.0000000000000002,0.99999999999999989,1,1,1.0000000000000002,0.99999999999999989,1,1,{"$f":"SUM(BB6:BB12)","v":281}]

{"sheet":"20c","index":83,"n_rows":205,"n_cols":63,"rows_kept":205,"cut":false,"hidden":true,"merged":[]}
["News subjects, by sex, by victim"]
[null,null,null,null,"No",null,"Yes. Code ‘yes only if the word ‘wife’, ‘husband’ is actually used to describe the person.",null,"NA – Use this where you are coding a secondary source only",null,null,null,null,null,null,null,null,null,null,null,null,null,null,null,null,null,null,null,null,null,null,null,null,null,null,null,null,null,null,null,null,null,null,null,null,{"$f":"E2","v":"No"},0,"Yes. Code ‘yes only if the word ‘wife’, ‘husband’ is actually used to describe the person.",0,"NA – Use this where you are coding a secondary source only",0,0,0,0,0,{"$f":"O2","v":0},0,0,0,0,0,0,0]
[null,null,null,null,"Female","Male","Female","Male","Female","Male",null,null,null,null,null,null,null,null,"Female","Male",null,null,null,null,null,null,null,null,null,null,null,null,null,null,null,null,null,null,null,null,null,null,null,null,null,"Female","Male","Female","Male","Female","Male",0,0,0,0,0,0,0,0,"Female","Male",0,0]
[null,null,null,null,null,null,null,null,null,null,null,null,null,null,null,null,null,null,null,null,null,null,null,null,null,null,null,null,null,null,null,null,null,null,null,null,null,null,null,null,null,null,null,null,"TOTAL",0,0,0,0,0,0,0,0,0,0,0,0,0,0,0,0,0,0]
[null,null,0,"Not a victim",0.43021849868819101,1.28697948530316,5.2682499401271302E-2,9.8035499453544603E-2,null,null,null,null,null,null,null,null,null,null,null,null,null,null,null,null,null,null,null,null,null,null,null,null,null,null,null,null,null,null,null,null,null,null,null,null,{"$f":"SUM(E5:O5)","v":1.8679159828461669},{"$f":"IF((E5+F5)>0,E5/(E5+F5),0)","v":0.25053517573332879},{"$f":"IF((E5+F5)>0,F5/(E5+F5),0)","v":0.74946482426667127},{"$f":"IF((G5+H5)>0,G5/(G5+H5),0)","v":0.34954351704217795},{"$f":"IF((G5+H5)>0,H5/(G5+H5),0)","v":0.65045648295782199},{"$f":"IF((I5+J5)>0,I5/(I5+J5),0)","v":0},{"$f":"IF((I5+J5)>0,J5/(I5+J5),0)","v":0},{"$f":"IF((K5+L5)>0,K5/(K5+L5),0)","v":0},{"$f":"IF((K5+L5)>0,L5/(K5+L5),0)","v":0},{"$f":"IF((M5+N5)>0,M5/(M5+N5),0)","v":0},{"$f":"IF((M5+N5)>0,N5/(M5+N5),0)","v":0},{"$f":"IF((O5+P5)>0,O5/(O5+P5),0)","v":0},{"$f":"IF((O5+P5)>0,P5/(O5+P5),0)","v":0},{"$f":"IF((Q5+R5)>0,Q5/(Q5+R5),0)","v":0},{"$f":"IF((Q5+R5)>0,R5/(Q5+R5),0)","v":0},{"$f":"IF((S5+T5)>0,S5/(S5+T5),0)","v":0},{"$f":"IF((S5+T5)>0,T5/(S5+T5),0)","v":0},{"$f":"IF((U5+V5)>0,U5/(U5+V5),0)","v":0},{"$f":"IF((U5+V5)>0,V5/(U5+V5),0)","v":0}]
[null,null,1,"Victim of an accident, natural disaster, poverty, disease, illness …",1.5300000552088E-2,4.2976500466465999E-2,null,null,null,null,null,null,null,null,null,null,null,null,{"$f":"+E6+G6","v":1.5300000552088E-2},{"$f":"+F6+H6","v":4.2976500466465999E-2},null,{"$f":"IF(SUM(S6:T6)>0,+S6/SUM(S6:T6),0)","v":0.26254150960808037},{"$f":"IF(SUM(S6:T6)>0,+T6/SUM(S6:T6),0)","v":0.73745849039191957},null,null,null,null,null,null,null,null,null,null,null,null,null,null,null,null,null,null,null,null,null,5.8276501018554E-2,0.26254150960808037,0.73745849039191957,0,0,0,0,0,0,0,0,0,0,0,0,0.26254150960808037,0.73745849039191957,0,1]
[null,null,2,"Victim of domestic violence (by husband/wife/partner/other family member), psychological violence, physical assault, marital rape, murder …",null,null,3.2776500098407303E-2,5.1000001840293399E-3,null,null,null,null,null,null,null,null,null,null,3.2776500098407303E-2,5.1000001840293399E-3,null,{"$f":"IF(SUM(S7:T7)>0,+S7/SUM(S7:T7),0)","v":0.86535186339815529},{"$f":"IF(SUM(S7:T7)>0,+T7/SUM(S7:T7),0)","v":0.13464813660184474},null,null,null,null,null,null,null,null,null,null,null,null,null,null,null,null,null,null,null,null,null,3.7876500282436644E-2,0,0,0.86535186339815529,0.13464813660184474,0,0,0,0,0,0,0,0,0,0,0.86535186339815529,0.13464813660184474,0,1]
[null,null,3,"Victim of non-domestic sexual violence or abuse, sexual harassment, rape, trafficking …",null,7.4764997698366599E-3,null,null,null,null,null,null,null,null,null,null,null,null,0,7.4764997698366599E-3,null,0,1,null,null,null,null,null,null,null,null,null,null,null,null,null,null,null,null,null,null,null,null,null,7.4764997698366599E-3,0,1,0,0,0,0,0,0,0,0,0,0,0,0,0,1,0,0]
[null,null,4,"Victim of other crime, robbery, assault, murder …",null,1.7576499842107299E-2,null,5.1000001840293399E-3,null,null,null,null,null,null,null,null,null,null,0,2.267650002613664E-2,null,0,1,null,null,null,null,null,null,null,null,null,null,null,null,null,null,null,null,null,null,null,null,null,2.267650002613664E-2,0,1,0,1,0,0,0,0,0,0,0,0,0,0,0,1,0,0]
[null,null,5,"Victim of violation based on religion, tradition, cultural belief, genital mutilation, bride-burning …",null,null,null,null,null,null,null,null,null,null,null,null,null,null,0,0,null,0,0,null,null,null,null,null,null,null,null,null,null,null,null,null,null,null,null,null,null,null,null,null,0,0,0,0,0,0,0,0,0,0,0,0,0,0,0,0,0,0,0]
[null,null,6,"Victim of war, terrorism, vigilantism, state-based violence …",1.4952999539673301E-2,null,1.7576499842107299E-2,null,null,null,null,null,null,null,null,null,null,null,3.2529499381780597E-2,0,null,1,0,null,null,null,null,null,null,null,null,null,null,null,null,null,null,null,null,null,null,null,null,null,3.2529499381780597E-2,1,0,1,0,0,0,0,0,0,0,0,0,0,0,1,0,0,1]
[null,null,7,"Victim of discrimination based on gender, race, ethnicity, age, religion, ability …",null,null,null,null,null,null,null,null,null,null,null,null,null,null,0,0,null,0,0,null,null,null,null,null,null,null,null,null,null,null,null,null,null,null,null,null,null,null,null,null,0,0,0,0,0,0,0,0,0,0,0,0,0,0,0,0,0,0,0]
[null,null,8,"Other victim: describe in 'Comments' section of coding sheet …",null,null,5.1000001840293399E-3,1.0200000368058701E-2,null,null,null,null,null,null,null,null,null,null,5.1000001840293399E-3,1.0200000368058701E-2,null,0.33333333333333293,0.66666666666666718,null,null,null,null,null,null,null,null,null,null,null,null,null,null,null,null,null,null,null,null,null,1.530000055208804E-2,0,0,0.33333333333333293,0.66666666666666718,0,0,0,0,0,0,0,0,0,0,0.33333333333333293,0.66666666666666718,0,1]
[null,null,9,"Do not know, cannot decide",null,null,null,null,null,null,null,null,null,null,null,null,null,null,null,null,null,null,null,null,null,null,null,null,null,null,null,null,null,null,null,null,null,null,null,null,null,null,null,null,0,0,0,0,0,0,0,0,0,0,0,0,0,0,0,0,0,0,0]
[null,null,10,"NA – Use this where you are coding a secondary source only",null,null,null,null,null,null,null,null,null,null,null,null,null,null,null,null,null,null,null,null,null,null,null,null,null,null,null,null,null,null,null,null,null,null,null,null,null,null,null,null,0,0,0,0,0,0,0,0,0,0,0,0,0,0,0,0,0,0,0]
[null,null,null,null,null,null,null,null,null,null,null,null,null,null,null,null,null,null,null,null,null,null,null,null,null,null,null,null,null,null,null,null,null,null,null,null,null,null,null,null,null,null,null,null,0,0,0,0,0,0,0,0,0,0,0,0,0,0,0,0,0,0,0]
[null,null,null,null,null,null,null,null,null,null,null,null,null,null,null,null,null,null,null,null,null,null,null,null,null,null,null,null,null,null,null,null,null,null,null,null,null,null,null,null,null,null,null,null,0,0,0,0,0,0,0,0,0,0,0,0,0,0,0,0,0,0,0]
[null,null,null,null,null,null,null,null,null,null,null,null,null,null,null,null,null,null,null,null,null,null,null,null,null,null,null,null,null,null,null,null,null,null,null,null,null,null,null,null,null,null,null,null,0,0,0,0,0,0,0,0,0,0,0,0,0,0,0,0,0,0,0]
[null,null,null,null,null,null,null,null,null,null,null,null,null,null,null,null,null,null,null,null,null,null,null,null,null,null,null,null,null,null,null,null,null,null,null,null,null,null,null,null,null,null,null,null,0,0,0,0,0,0,0,0,0,0,0,0,0,0,0,0,0,0,0]
[null,null,null,null,null,null,null,null,null,null,null,null,null,null,null,null,null,null,null,null,null,null,null,null,null,null,null,null,null,null,null,null,null,null,null,null,null,null,null,null,null,null,null,null,0,0,0,0,0,0,0,0,0,0,0,0,0,0,0,0,0,0,0]
[null,null,null,null,null,null,null,null,null,null,null,null,null,null,null,null,null,null,null,null,null,null,null,null,null,null,null,null,null,null,null,null,null,null,null,null,null,null,null,null,null,null,null,null,0,0,0,0,0,0,0,0,0,0,0,0,0,0,0,0,0,0,0]
[null,null,null,null,null,null,null,null,null,null,null,null,null,null,null,null,null,null,null,null,null,null,null,null,null,null,null,null,null,null,null,null,null,null,null,null,null,null,null,null,null,null,null,null,0,0,0,0,0,0,0,0,0,0,0,0,0,0,0,0,0,0,0]
[null,null,null,null,null,null,null,null,null,null,null,null,null,null,null,null,null,null,null,null,null,null,null,null,null,null,null,null,null,null,null,null,null,null,null,null,null,null,null,null,null,null,null,null,0,0,0,0,0,0,0,0,0,0,0,0,0,0,0,0,0,0,0]
[null,null,null,null,null,null,null,null,null,null,null,null,null,null,null,null,null,null,null,null,null,null,null,null,null,null,null,null,null,null,null,null,null,null,null,null,null,null,null,null,null,null,null,null,0,0,0,0,0,0,0,0,0,0,0,0,0,0,0,0,0,0,0]
[null,null,null,null,null,null,null,null,null,null,null,null,null,null,null,null,null,null,null,null,null,null,null,null,null,null,null,null,null,null,null,null,null,null,null,null,null,null,null,null,null,null,null,null,0,0,0,0,0,0,0,0,0,0,0,0,0,0,0,0,0,0,0]
[null,null,null,null,null,null,null,null,null,null,null,null,null,null,null,null,null,null,null,null,null,null,null,null,null,null,null,null,null,null,null,null,null,null,null,null,null,null,null,null,null,null,null,null,0,0,0,0,0,0,0,0,0,0,0,0,0,0,0,0,0,0,0]
[null,null,null,null,null,null,null,null,null,null,null,null,null,null,null,null,null,null,null,null,null,null,null,null,null,null,null,null,null,null,null,null,null,null,null,null,null,null,null,null,null,null,null,null,0,0,0,0,0,0,0,0,0,0,0,0,0,0,0,0,0,0,0]
[null,null,null,null,null,null,null,null,null,null,null,null,null,null,null,null,null,null,null,null,null,null,null,null,null,null,null,null,null,null,null,null,null,null,null,null,null,null,null,null,null,null,null,null,0,0,0,0,0,0,0,0,0,0,0,0,0,0,0,0,0,0,0]
[null,null,null,null,null,null,null,null,null,null,null,null,null,null,null,null,null,null,null,null,null,null,null,null,null,null,null,null,null,null,null,null,null,null,null,null,null,null,null,null,null,null,null,null,0,0,0,0,0,0,0,0,0,0,0,0,0,0,0,0,0,0,0]
[null,null,null,null,null,null,null,null,null,null,null,null,null,null,null,null,null,null,null,null,null,null,null,null,null,null,null,null,null,null,null,null,null,null,null,null,null,null,null,null,null,null,null,null,0,0,0,0,0,0,0,0,0,0,0,0,0,0,0,0,0,0,0]
[null,null,null,null,null,null,null,null,null,null,null,null,null,null,null,null,null,null,null,null,null,null,null,null,null,null,null,null,null,null,null,null,null,null,null,null,null,null,null,null,null,null,null,null,0,0,0,0,0,0,0,0,0,0,0,0,0,0,0,0,0,0,0]
[null,null,null,null,null,null,null,null,null,null,null,null,null,null,null,null,null,null,null,null,null,null,null,null,null,null,null,null,null,null,null,null,null,null,null,null,null,null,null,null,null,null,null,null,0,0,0,0,0,0,0,0,0,0,0,0,0,0,0,0,0,0,0]
[null,null,null,null,null,null,null,null,null,null,null,null,null,null,null,null,null,null,null,null,null,null,null,null,null,null,null,null,null,null,null,null,null,null,null,null,null,null,null,null,null,null,null,null,0,0,0,0,0,0,0,0,0,0,0,0,0,0,0,0,0,0,0]
[null,null,null,null,null,null,null,null,null,null,null,null,null,null,null,null,null,null,null,null,null,null,null,null,null,null,null,null,null,null,null,null,null,null,null,null,null,null,null,null,null,null,null,null,0,0,0,0,0,0,0,0,0,0,0,0,0,0,0,0,0,0,0]
[null,null,null,null,null,null,null,null,null,null,null,null,null,null,null,null,null,null,null,null,null,null,null,null,null,null,null,null,null,null,null,null,null,null,null,null,null,null,null,null,null,null,null,null,0,0,0,0,0,0,0,0,0,0,0,0,0,0,0,0,0,0,0]
[null,null,null,null,null,null,null,null,null,null,null,null,null,null,null,null,null,null,null,null,null,null,null,null,null,null,null,null,null,null,null,null,null,null,null,null,null,null,null,null,null,null,null,null,0,0,0,0,0,0,0,0,0,0,0,0,0,0,0,0,0,0,0]
[null,null,null,null,null,null,null,null,null,null,null,null,null,null,null,null,null,null,null,null,null,null,null,null,null,null,null,null,null,null,null,null,null,null,null,null,null,null,null,null,null,null,null,null,{"$f":"SUM(E37:O37)","v":0},{"$f":"IF((E37+F37)>0,E37/(E37+F37),0)","v":0},{"$f":"IF((E37+F37)>0,F37/(E37+F37),0)","v":0},{"$f":"IF((G37+H37)>0,G37/(G37+H37),0)","v":0},{"$f":"IF((G37+H37)>0,H37/(G37+H37),0)","v":0},{"$f":"IF((I37+J37)>0,I37/(I37+J37),0)","v":0},{"$f":"IF((I37+J37)>0,J37/(I37+J37),0)","v":0},{"$f":"IF((K37+L37)>0,K37/(K37+L37),0)","v":0},{"$f":"IF((K37+L37)>0,L37/(K37+L37),0)","v":0},{"$f":"IF((M37+N37)>0,M37/(M37+N37),0)","v":0},{"$f":"IF((M37+N37)>0,N37/(M37+N37),0)","v":0},{"$f":"IF((O37+P37)>0,O37/(O37+P37),0)","v":0},{"$f":"IF((O37+P37)>0,P37/(O37+P37),0)","v":0},{"$f":"IF((Q37+R37)>0,Q37/(Q37+R37),0)","v":0},{"$f":"IF((Q37+R37)>0,R37/(Q37+R37),0)","v":0},{"$f":"IF((S37+T37)>0,S37/(S37+T37),0)","v":0},{"$f":"IF((S37+T37)>0,T37/(S37+T37),0)","v":0},{"$f":"IF((U37+V37)>0,U37/(U37+V37),0)","v":0},{"$f":"IF((U37+V37)>0,V37/(U37+V37),0)","v":0}]
[null,null,null,null,null,null,null,null,null,null,null,null,null,null,null,null,null,null,null,null,null,null,null,null,null,null,null,null,null,null,null,null,null,null,null,null,null,null,null,null,null,null,null,null,0,0,0,0,0,0,0,0,0,0,0,0,0,0,0,0,0,0,0]
[null,null,null,null,null,null,null,null,null,null,null,null,null,null,null,null,null,null,null,null,null,null,null,null,null,null,null,null,null,null,null,null,null,null,null,null,null,null,null,null,null,null,null,null,0,0,0,0,0,0,0,0,0,0,0,0,0,0,0,0,0,0,0]
[null,null,null,null,null,null,null,null,null,null,null,null,null,null,null,null,null,null,null,null,null,null,null,null,null,null,null,null,null,null,null,null,null,null,null,null,null,null,null,null,null,null,null,null,0,0,0,0,0,0,0,0,0,0,0,0,0,0,0,0,0,0,0]
[null,null,null,null,null,null,null,null,null,null,null,null,null,null,null,null,null,null,null,null,null,null,null,null,null,null,null,null,null,null,null,null,null,null,null,null,null,null,null,null,null,null,null,null,0,0,0,0,0,0,0,0,0,0,0,0,0,0,0,0,0,0,0]
[null,null,null,null,null,null,null,null,null,null,null,null,null,null,null,null,null,null,null,null,null,null,null,null,null,null,null,null,null,null,null,null,null,null,null,null,null,null,null,null,null,null,null,null,0,0,0,0,0,0,0,0,0,0,0,0,0,0,0,0,0,0,0]
[null,null,null,null,null,null,null,null,null,null,null,null,null,null,null,null,null,null,null,null,null,null,null,null,null,null,null,null,null,null,null,null,null,null,null,null,null,null,null,null,null,null,null,null,0,0,0,0,0,0,0,0,0,0,0,0,0,0,0,0,0,0,0]
[null,null,null,null,null,null,null,null,null,null,null,null,null,null,null,null,null,null,null,null,null,null,null,null,null,null,null,null,null,null,null,null,null,null,null,null,null,null,null,null,null,null,null,null,0,0,0,0,0,0,0,0,0,0,0,0,0,0,0,0,0,0,0]
[null,null,null,null,null,null,null,null,null,null,null,null,null,null,null,null,null,null,null,null,null,null,null,null,null,null,null,null,null,null,null,null,null,null,null,null,null,null,null,null,null,null,null,null,0,0,0,0,0,0,0,0,0,0,0,0,0,0,0,0,0,0,0]
[null,null,null,null,null,null,null,null,null,null,null,null,null,null,null,null,null,null,null,null,null,null,null,null,null,null,null,null,null,null,null,null,null,null,null,null,null,null,null,null,null,null,null,null,0,0,0,0,0,0,0,0,0,0,0,0,0,0,0,0,0,0,0]
[null,null,null,null,null,null,null,null,null,null,null,null,null,null,null,null,null,null,null,null,null,null,null,null,null,null,null,null,null,null,null,null,null,null,null,null,null,null,null,null,null,null,null,null,0,0,0,0,0,0,0,0,0,0,0,0,0,0,0,0,0,0,0]
[null,null,null,null,null,null,null,null,null,null,null,null,null,null,null,null,null,null,null,null,null,null,null,null,null,null,null,null,null,null,null,null,null,null,null,null,null,null,null,null,null,null,null,null,0,0,0,0,0,0,0,0,0,0,0,0,0,0,0,0,0,0,0]
[null,null,null,null,null,null,null,null,null,null,null,null,null,null,null,null,null,null,null,null,null,null,null,null,null,null,null,null,null,null,null,null,null,null,null,null,null,null,null,null,null,null,null,null,0,0,0,0,0,0,0,0,0,0,0,0,0,0,0,0,0,0,0]
[null,null,null,null,null,null,null,null,null,null,null,null,null,null,null,null,null,null,null,null,null,null,null,null,null,null,null,null,null,null,null,null,null,null,null,null,null,null,null,null,null,null,null,null,0,0,0,0,0,0,0,0,0,0,0,0,0,0,0,0,0,0,0]
[null,null,null,null,null,null,null,null,null,null,null,null,null,null,null,null,null,null,null,null,null,null,null,null,null,null,null,null,null,null,null,null,null,null,null,null,null,null,null,null,null,null,null,null,0,0,0,0,0,0,0,0,0,0,0,0,0,0,0,0,0,0,0]
[null,null,null,null,null,null,null,null,null,null,null,null,null,null,null,null,null,null,null,null,null,null,null,null,null,null,null,null,null,null,null,null,null,null,null,null,null,null,null,null,null,null,null,null,0,0,0,0,0,0,0,0,0,0,0,0,0,0,0,0,0,0,0]
[null,null,null,null,null,null,null,null,null,null,null,null,null,null,null,null,null,null,null,null,null,null,null,null,null,null,null,null,null,null,null,null,null,null,null,null,null,null,null,null,null,null,null,null,0,0,0,0,0,0,0,0,0,0,0,0,0,0,0,0,0,0,0]
[null,null,null,null,null,null,null,null,null,null,null,null,null,null,null,null,null,null,null,null,null,null,null,null,null,null,null,null,null,null,null,null,null,null,null,null,null,null,null,null,null,null,null,null,0,0,0,0,0,0,0,0,0,0,0,0,0,0,0,0,0,0,0]
[null,null,null,null,null,null,null,null,null,null,null,null,null,null,null,null,null,null,null,null,null,null,null,null,null,null,null,null,null,null,null,null,null,null,null,null,null,null,null,null,null,null,null,null,0,0,0,0,0,0,0,0,0,0,0,0,0,0,0,0,0,0,0]
[null,null,null,null,null,null,null,null,null,null,null,null,null,null,null,null,null,null,null,null,null,null,null,null,null,null,null,null,null,null,null,null,null,null,null,null,null,null,null,null,null,null,null,null,0,0,0,0,0,0,0,0,0,0,0,0,0,0,0,0,0,0,0]
[null,null,null,null,null,null,null,null,null,null,null,null,null,null,null,null,null,null,null,null,null,null,null,null,null,null,null,null,null,null,null,null,null,null,null,null,null,null,null,null,null,null,null,null,0,0,0,0,0,0,0,0,0,0,0,0,0,0,0,0,0,0,0]
[null,null,null,null,null,null,null,null,null,null,null,null,null,null,null,null,null,null,null,null,null,null,null,null,null,null,null,null,null,null,null,null,null,null,null,null,null,null,null,null,null,null,null,null,0,0,0,0,0,0,0,0,0,0,0,0,0,0,0,0,0,0,0]
[null,null,null,null,null,null,null,null,null,null,null,null,null,null,null,null,null,null,null,null,null,null,null,null,null,null,null,null,null,null,null,null,null,null,null,null,null,null,null,null,null,null,null,null,0,0,0,0,0,0,0,0,0,0,0,0,0,0,0,0,0,0,0]
[null,null,null,null,null,null,null,null,null,null,null,null,null,null,null,null,null,null,null,null,null,null,null,null,null,null,null,null,null,null,null,null,null,null,null,null,null,null,null,null,null,null,null,null,0,0,0,0,0,0,0,0,0,0,0,0,0,0,0,0,0,0,0]
[null,null,null,null,null,null,null,null,null,null,null,null,null,null,null,null,null,null,null,null,null,null,null,null,null,null,null,null,null,null,null,null,null,null,null,null,null,null,null,null,null,null,null,null,0,0,0,0,0,0,0,0,0,0,0,0,0,0,0,0,0,0,0]
[null,null,null,null,null,null,null,null,null,null,null,null,null,null,null,null,null,null,null,null,null,null,null,null,null,null,null,null,null,null,null,null,null,null,null,null,null,null,null,null,null,null,null,null,0,0,0,0,0,0,0,0,0,0,0,0,0,0,0,0,0,0,0]
[null,null,null,null,null,null,null,null,null,null,null,null,null,null,null,null,null,null,null,null,null,null,null,null,null,null,null,null,null,null,null,null,null,null,null,null,null,null,null,null,null,null,null,null,0,0,0,0,0,0,0,0,0,0,0,0,0,0,0,0,0,0,0]
[null,null,null,null,null,null,null,null,null,null,null,null,null,null,null,null,null,null,null,null,null,null,null,null,null,null,null,null,null,null,null,null,null,null,null,null,null,null,null,null,null,null,null,null,0,0,0,0,0,0,0,0,0,0,0,0,0,0,0,0,0,0,0]
[null,null,null,null,null,null,null,null,null,null,null,null,null,null,null,null,null,null,null,null,null,null,null,null,null,null,null,null,null,null,null,null,null,null,null,null,null,null,null,null,null,null,null,null,0,0,0,0,0,0,0,0,0,0,0,0,0,0,0,0,0,0,0]
[null,null,null,null,null,null,null,null,null,null,null,null,null,null,null,null,null,null,null,null,null,null,null,null,null,null,null,null,null,null,null,null,null,null,null,null,null,null,null,null,null,null,null,null,0,0,0,0,0,0,0,0,0,0,0,0,0,0,0,0,0,0,0]
[null,null,null,null,null,null,null,null,null,null,null,null,null,null,null,null,null,null,null,null,null,null,null,null,null,null,null,null,null,null,null,null,null,null,null,null,null,null,null,null,null,null,null,null,0,0,0,0,0,0,0,0,0,0,0,0,0,0,0,0,0,0,0]
[null,null,null,"TOTAL",{"$f":"SUM(E6:E13)","v":3.0253000091761302E-2},{"$f":"SUM(F6:F13)","v":6.8029500078409952E-2},{"$f":"SUM(G6:G13)","v":5.5453000124543947E-2},2.040000073611738E-2,0,0,0,0,0,0,0,0,0,0,8.5706000216305242E-2,8.8429500814527329E-2,null,{"$f":"+S68/SUM(S68:T68)","v":0.49217993866242166},{"$f":"+T68/SUM(S68:T68)","v":0.50782006133757829},null,null,null,null,null,null,null,null,null,null,null,null,null,null,null,null,null,null,null,null,null,0.17413550103083261,0.30781675312878426,0.69218324687121568,0.73105875173493406,0.26894124826506599,0,0,0,0,0,0,0,0,0,0,0.49217993866242166,0.50782006133757829,0,1]
[]
[null,null,{"$f":"C5","v":0},"Not a victim",{"$f":"IF(E$68>0,E5/E$68,0)","v":14.220688770808914},18.917961822735776,0.9500387586415473,4.805661564510471,0,0,0,0,0,0,0,0,0,0]
[null,null,1,"Victim of an accident, natural disaster, poverty, disease, illness …",{"$f":"IF(E$68>0,E6/E$68,0)","v":0.50573498514795556},0.63173329830340985,0,0,0,0,0,0,0,0,0,0,0,0]
[null,null,2,"Victim of domestic violence (by husband/wife/partner/other family member), psychological violence, physical assault, marital rape, murder …",{"$f":"IF(E$68>0,E7/E$68,0)","v":0},0,0.59106811218136701,0.24999999999999975,0,0,0,0,0,0,0,0,0,0]
[null,null,3,"Victim of non-domestic sexual violence or abuse, sexual harassment, rape, trafficking …",{"$f":"IF(E$68>0,E8/E$68,0)","v":0},0.10990084832637811,0,0,0,0,0,0,0,0,0,0,0,0]
[null,null,4,"Victim of other crime, robbery, assault, murder …",{"$f":"IF(E$68>0,E9/E$68,0)","v":0},0.25836585337021212,0,0.24999999999999975,0,0,0,0,0,0,0,0,0,0]
[null,null,5,"Victim of violation based on religion, tradition, cultural belief, genital mutilation, bride-burning …",{"$f":"IF(E$68>0,E10/E$68,0)","v":0},0,0,0,0,0,0,0,0,0,0,0,0,0]
[null,null,6,"Victim of war, terrorism, vigilantism, state-based violence …",{"$f":"IF(E$68>0,E11/E$68,0)","v":0.49426501485204438},0,0.31696210849965895,0,0,0,0,0,0,0,0,0,0,0]
[null,null,7,"Victim of discrimination based on gender, race, ethnicity, age, religion, ability …",{"$f":"IF(E$68>0,E12/E$68,0)","v":0},0,0,0,0,0,0,0,0,0,0,0,0,0]
[null,null,8,"Other victim: describe in 'Comments' section of coding sheet …",{"$f":"IF(E$68>0,E13/E$68,0)","v":0},0,9.1969779318973918E-2,0.50000000000000056,0,0,0,0,0,0,0,0,0,0]
[null,null,9,"Do not know, cannot decide",{"$f":"IF(E$68>0,E14/E$68,0)","v":0},0,0,0,0,0,0,0,0,0,0,0,0,0]
[null,null,10,"NA – Use this where you are coding a secondary source only",{"$f":"IF(E$68>0,E15/E$68,0)","v":0},0,0,0,0,0,0,0,0,0,0,0,0,0]
[null,null,0,0,{"$f":"IF(E$68>0,E16/E$68,0)","v":0},0,0,0,0,0,0,0,0,0,0,0,0,0]
[null,null,0,0,{"$f":"IF(E$68>0,E17/E$68,0)","v":0},0,0,0,0,0,0,0,0,0,0,0,0,0]
[null,null,0,0,{"$f":"IF(E$68>0,E18/E$68,0)","v":0},0,0,0,0,0,0,0,0,0,0,0,0,0]
[null,null,0,0,{"$f":"IF(E$68>0,E19/E$68,0)","v":0},0,0,0,0,0,0,0,0,0,0,0,0,0]
[null,null,0,0,{"$f":"IF(E$68>0,E20/E$68,0)","v":0},0,0,0,0,0,0,0,0,0,0,0,0,0]
[null,null,0,0,{"$f":"IF(E$68>0,E21/E$68,0)","v":0},0,0,0,0,0,0,0,0,0,0,0,0,0]
[null,null,0,0,{"$f":"IF(E$68>0,E22/E$68,0)","v":0},0,0,0,0,0,0,0,0,0,0,0,0,0]
[null,null,0,0,{"$f":"IF(E$68>0,E23/E$68,0)","v":0},0,0,0,0,0,0,0,0,0,0,0,0,0]
[null,null,0,0,{"$f":"IF(E$68>0,E24/E$68,0)","v":0},0,0,0,0,0,0,0,0,0,0,0,0,0]
[null,null,{"$f":"C25","v":0},0,{"$f":"IF(E$68>0,E25/E$68,0)","v":0},0,0,0,0,0,0,0,0,0,0,0,0,0]
[null,null,0,0,{"$f":"IF(E$68>0,E26/E$68,0)","v":0},0,0,0,0,0,0,0,0,0,0,0,0,0]
[null,null,0,0,{"$f":"IF(E$68>0,E27/E$68,0)","v":0},0,0,0,0,0,0,0,0,0,0,0,0,0]
[null,null,0,0,{"$f":"IF(E$68>0,E28/E$68,0)","v":0},0,0,0,0,0,0,0,0,0,0,0,0,0]
[null,null,0,0,{"$f":"IF(E$68>0,E29/E$68,0)","v":0},0,0,0,0,0,0,0,0,0,0,0,0,0]
[null,null,0,0,{"$f":"IF(E$68>0,E30/E$68,0)","v":0},0,0,0,0,0,0,0,0,0,0,0,0,0]
[null,null,0,0,{"$f":"IF(E$68>0,E31/E$68,0)","v":0},0,0,0,0,0,0,0,0,0,0,0,0,0]
[null,null,0,0,{"$f":"IF(E$68>0,E32/E$68,0)","v":0},0,0,0,0,0,0,0,0,0,0,0,0,0]
[null,null,0,0,{"$f":"IF(E$68>0,E33/E$68,0)","v":0},0,0,0,0,0,0,0,0,0,0,0,0,0]
[null,null,0,0,{"$f":"IF(E$68>0,E34/E$68,0)","v":0},0,0,0,0,0,0,0,0,0,0,0,0,0]
[null,null,0,0,{"$f":"IF(E$68>0,E35/E$68,0)","v":0},0,0,0,0,0,0,0,0,0,0,0,0,0]
[null,null,0,0,{"$f":"IF(E$68>0,E36/E$68,0)","v":0},0,0,0,0,0,0,0,0,0,0,0,0,0]
[null,null,0,0,{"$f":"IF(E$68>0,E37/E$68,0)","v":0},0,0,0,0,0,0,0,0,0,0,0,0,0]
[null,null,0,0,{"$f":"IF(E$68>0,E38/E$68,0)","v":0},0,0,0,0,0,0,0,0,0,0,0,0,0]
[null,null,0,0,{"$f":"IF(E$68>0,E39/E$68,0)","v":0},0,0,0,0,0,0,0,0,0,0,0,0,0]
[null,null,0,0,{"$f":"IF(E$68>0,E40/E$68,0)","v":0},0,0,0,0,0,0,0,0,0,0,0,0,0]
[null,null,0,0,{"$f":"IF(E$68>0,E41/E$68,0)","v":0},0,0,0,0,0,0,0,0,0,0,0,0,0]
[null,null,0,0,{"$f":"IF(E$68>0,E42/E$68,0)","v":0},0,0,0,0,0,0,0,0,0,0,0,0,0]
[null,null,0,0,{"$f":"IF(E$68>0,E43/E$68,0)","v":0},0,0,0,0,0,0,0,0,0,0,0,0,0]
[null,null,0,0,{"$f":"IF(E$68>0,E44/E$68,0)","v":0},0,0,0,0,0,0,0,0,0,0,0,0,0]
[null,null,{"$f":"C45","v":0},0,{"$f":"IF(E$68>0,E45/E$68,0)","v":0},0,0,0,0,0,0,0,0,0,0,0,0,0]
[null,null,0,0,{"$f":"IF(E$68>0,E46/E$68,0)","v":0},0,0,0,0,0,0,0,0,0,0,0,0,0]
[null,null,0,0,{"$f":"IF(E$68>0,E47/E$68,0)","v":0},0,0,0,0,0,0,0,0,0,0,0,0,0]
[null,null,0,0,{"$f":"IF(E$68>0,E48/E$68,0)","v":0},0,0,0,0,0,0,0,0,0,0,0,0,0]
[null,null,0,0,{"$f":"IF(E$68>0,E49/E$68,0)","v":0},0,0,0,0,0,0,0,0,0,0,0,0,0]
[null,null,0,0,{"$f":"IF(E$68>0,E50/E$68,0)","v":0},0,0,0,0,0,0,0,0,0,0,0,0,0]
[null,null,0,0,{"$f":"IF(E$68>0,E51/E$68,0)","v":0},0,0,0,0,0,0,0,0,0,0,0,0,0]
[null,null,0,0,{"$f":"IF(E$68>0,E52/E$68,0)","v":0},0,0,0,0,0,0,0,0,0,0,0,0,0]
[null,null,0,0,{"$f":"IF(E$68>0,E53/E$68,0)","v":0},0,0,0,0,0,0,0,0,0,0,0,0,0]
[null,null,0,0,{"$f":"IF(E$68>0,E54/E$68,0)","v":0},0,0,0,0,0,0,0,0,0,0,0,0,0]
[null,null,0,0,{"$f":"IF(E$68>0,E55/E$68,0)","v":0},0,0,0,0,0,0,0,0,0,0,0,0,0]
[null,null,0,0,{"$f":"IF(E$68>0,E56/E$68,0)","v":0},0,0,0,0,0,0,0,0,0,0,0,0,0]
[null,null,0,0,{"$f":"IF(E$68>0,E57/E$68,0)","v":0},0,0,0,0,0,0,0,0,0,0,0,0,0]
[null,null,0,0,{"$f":"IF(E$68>0,E58/E$68,0)","v":0},0,0,0,0,0,0,0,0,0,0,0,0,0]
[null,null,0,0,{"$f":"IF(E$68>0,E59/E$68,0)","v":0},0,0,0,0,0,0,0,0,0,0,0,0,0]
[null,null,0,0,{"$f":"IF(E$68>0,E60/E$68,0)","v":0},0,0,0,0,0,0,0,0,0,0,0,0,0]
[null,null,0,0,{"$f":"IF(E$68>0,E61/E$68,0)","v":0},0,0,0,0,0,0,0,0,0,0,0,0,0]
[null,null,0,0,{"$f":"IF(E$68>0,E62/E$68,0)","v":0},0,0,0,0,0,0,0,0,0,0,0,0,0]
[]
[]
[]
[]
[]
[]
[]
[]
[]
[]
[]
[]
[]
[]
[]
[]
[]
[]
[]
[]
["COUNT"]
[null,null,null,null,{"$f":"E3","v":"Female"},"Male","Female","Male","Female","Male",0,0,0,0,0,0,0,0,"Female","Male"]
[null,null,null,null,{"$f":"E4","v":0},0,0,0,0,0,0,0,0,0,0,0,0,0,0,0]
[null,null,{"$f":"C5","v":0},"Not a victim",71,205,8,16,0,0,0,0,0,0,0,0,0,0,0,0,0,0]
[null,null,1,"Victim of an accident, natural disaster, poverty, disease, illness …",3,8,0,0,0,0,0,0,0,0,0,0,0,0,0,0,0,0]
[null,null,2,"Victim of domestic violence (by husband/wife/partner/other family member), psychological violence, physical assault, marital rape, murder …",0,0,6,1,0,0,0,0,0,0,0,0,0,0,0,0,0,0]
[null,null,3,"Victim of non-domestic sexual violence or abuse, sexual harassment, rape, trafficking …",0,1,0,0,0,0,0,0,0,1,0,0,0,0,0,0,0,0]
[null,null,4,"Victim of other crime, robbery, assault, murder …",0,3,0,1,0,0,0,0,0,0,0,0,0,0,0,0,0,0]
[null,null,5,"Victim of violation based on religion, tradition, cultural belief, genital mutilation, bride-burning …",0,0,0,0,0,0,0,0,1,0,0,0,0,0,0,0,0,0]
[null,null,6,"Victim of war, terrorism, vigilantism, state-based violence …",2,0,3,0,0,0,0,0,0,0,0,0,0,0,0,0,0,0]
[null,null,7,"Victim of discrimination based on gender, race, ethnicity, age, religion, ability …",0,0,0,0,0,0,0,0,0,0,0,0,0,0,0,0,0,0]
[null,null,8,"Other victim: describe in 'Comments' section of coding sheet …",0,0,1,2,0,0,0,0,0,0,0,0,0,0,0,0,0,0]
[null,null,9,"Do not know, cannot decide",0,0,0,0,0,0,0,0,0,0,0,0,0,0,0,0,0,0]
[null,null,10,"NA – Use this where you are coding a secondary source only",0,0,0,0,0,0,0,0,0,0,0,0,0,0,0,0,0,0]
[null,null,0,0,0,0,0,0,0,0,0,0,0,0,0,0,0,0,0,0,0,0]
[null,null,0,0,0,0,0,0,0,0,0,0,0,0,0,0,0,0,0,0,0,0]
[null,null,0,0,0,0,0,0,0,0,0,0,0,0,0,0,0,0,0,0,0,0]
[null,null,0,0,0,0,0,0,0,0,0,0,0,0,0,0,0,0,0,0,0,0]
[null,null,0,0,0,0,0,0,0,0,0,0,0,0,0,0,0,0,0,0,0,0]
[null,null,0,0,0,0,0,0,0,0,0,0,0,0,0,0,0,0,0,0,0,0]
[null,null,0,0,0,0,0,0,0,0,0,0,0,0,0,0,0,0,0,0,0,0]
[null,null,0,0,0,0,0,0,0,0,0,0,0,0,0,0,0,0,0,0,0,0]
[null,null,0,0,0,0,0,0,0,0,0,0,0,0,0,0,0,0,0,0,0,0]
[null,null,{"$f":"C25","v":0},0,0,0,0,0,0,0,0,0,0,0,0,0,0,0,0,0,0,0]
[null,null,0,0,0,0,0,0,0,0,0,0,0,0,0,0,0,0,0,0,0,0]
[null,null,0,0,0,0,0,0,0,0,0,0,0,0,0,0,0,0,0,0,0,0]
[null,null,0,0,0,0,0,0,0,0,0,0,0,0,0,0,0,0,0,0,0,0]
[null,null,0,0,0,0,0,0,0,0,0,0,0,0,0,0,0,0,0,0,0,0]
[null,null,0,0,0,0,0,0,0,0,0,0,0,0,0,0,0,0,0,0,0,0]
[null,null,0,0,0,0,0,0,0,0,0,0,0,0,0,0,0,0,0,0,0,0]
[null,null,0,0,0,0,0,0,0,0,0,0,0,0,0,0,0,0,0,0,0,0]
[null,null,0,0,0,0,0,0,0,0]
[null,null,0,0,0,0,0,0,0,0]
[null,null,0,0,0,0,0,0,0,0]
[null,null,0,0,0,0,0,0,0,0]
[null,null,0,0,0,0,0,0,0,0]
[null,null,0,0,0,0,0,0,0,0]
[null,null,0,0,0,0,0,0,0,0]
[null,null,0,0,0,0,0,0,0,0]
[null,null,0,0,0,0,0,0,0,0]
[null,null,0,0,0,0,0,0,0,0]
[null,null,0,0,0,0,0,0,0,0]
[null,null,0,0,0,0,0,0,0,0]
[null,null,{"$f":"C45","v":0},0,0,0,0,0,0,0]
[null,null,0,0,0,0,0,0,0,0]
[null,null,0,0,0,0,0,0,0,0]
[null,null,0,0,0,0,0,0,0,0]
[null,null,0,0,0,0,0,0,0,0]
[null,null,0,0,0,0,0,0,0,0]
[null,null,0,0,0,0,0,0,0,0]
[null,null,0,0,0,0,0,0,0,0]
[null,null,0,0,0,0,0,0,0,0]
[null,null,0,0,0,0,0,0,0,0]
[null,null,0,0,0,0,0,0,0,0]
[null,null,0,0,0,0,0,0,0,0]
[null,null,0,0]
[null,null,0,0]
[null,null,0,0]

{"sheet":"20cF - Victim","index":84,"n_rows":16,"n_cols":14,"rows_kept":16,"cut":false,"hidden":false,"merged":[[1,7,1,8],[1,5,1,6],[1,9,1,10],[1,11,1,13]]}
[{"$f":"'20c'!$A$1","v":"News subjects, by sex, by victim"}]
[null,null,null,null,null,1995,null,2000,null,2005,null,2010]
[null,null,null,null,null,"%F","%M","%F","%M","%F","%M","%F","%M","N"]
[]
[null,null,null,null,{"$f":"'20c'!D6","v":"Victim of an accident, natural disaster, poverty, disease, illness …"},0,0,0,0,0.35,0.65,{"$f":"'20c'!V6","v":0.26254150960808037},{"$f":"'20c'!W6","v":0.73745849039191957},{"$f":"'20c'!E152+'20c'!F152+'20c'!G152+'20c'!H152","v":11}]
[null,null,null,null,{"$f":"'20c'!D7","v":"Victim of domestic violence (by husband/wife/partner/other family member), psychological violence, physical assault, marital rape, murder …"},0,0,0,0,0.47,0.53,{"$f":"'20c'!V7","v":0.86535186339815529},{"$f":"'20c'!W7","v":0.13464813660184474},{"$f":"'20c'!E153+'20c'!F153+'20c'!G153+'20c'!H153","v":7}]
[null,null,null,null,{"$f":"'20c'!D8","v":"Victim of non-domestic sexual violence or abuse, sexual harassment, rape, trafficking …"},0,0,0,0,0.7,0.3,{"$f":"'20c'!V8","v":0},{"$f":"'20c'!W8","v":1},{"$f":"'20c'!E154+'20c'!F154+'20c'!G154+'20c'!H154","v":1}]
[null,null,null,null,{"$f":"'20c'!D9","v":"Victim of other crime, robbery, assault, murder …"},0,0,0,0,0.35,0.65,{"$f":"'20c'!V9","v":0},{"$f":"'20c'!W9","v":1},{"$f":"'20c'!E155+'20c'!F155+'20c'!G155+'20c'!H155","v":4}]
[null,null,null,null,{"$f":"'20c'!D10","v":"Victim of violation based on religion, tradition, cultural belief, genital mutilation, bride-burning …"},0,0,0,0,0.52,0.48,{"$f":"'20c'!V10","v":0},{"$f":"'20c'!W10","v":0},{"$f":"'20c'!E156+'20c'!F156+'20c'!G156+'20c'!H156","v":0}]
[null,null,null,null,{"$f":"'20c'!D11","v":"Victim of war, terrorism, vigilantism, state-based violence …"},0,0,0,0,0.25,0.75,{"$f":"'20c'!V11","v":1},{"$f":"'20c'!W11","v":0},{"$f":"'20c'!E157+'20c'!F157+'20c'!G157+'20c'!H157","v":5}]
[null,null,null,null,{"$f":"'20c'!D12","v":"Victim of discrimination based on gender, race, ethnicity, age, religion, ability …"},0,0,0,0,0.42,0.57999999999999996,{"$f":"'20c'!V12","v":0},{"$f":"'20c'!W12","v":0},{"$f":"'20c'!E158+'20c'!F158+'20c'!G158+'20c'!H158","v":0}]
[null,null,null,null,{"$f":"'20c'!D13","v":"Other victim: describe in 'Comments' section of coding sheet …"},0,0,0,0,0.46,0.54,{"$f":"'20c'!V13","v":0.33333333333333293},{"$f":"'20c'!W13","v":0.66666666666666718},{"$f":"'20c'!E159+'20c'!F159+'20c'!G159+'20c'!H159","v":3}]
[]
[]
[]
[null,null,null,null,"Total",0,0,0,0,0,0,{"$f":"'20c'!V68","v":0.49217993866242166},{"$f":"'20c'!W68","v":0.50782006133757829},{"$f":"SUM(N5:N12)","v":31}]

{"sheet":"20d","index":85,"n_rows":205,"n_cols":63,"rows_kept":205,"cut":false,"hidden":true,"merged":[]}
["Functions and family status, by sex"]
[null,null,null,null,"No",null,"Yes. Code ‘yes only if the word ‘wife’, ‘husband’ is actually used to describe the person.",null,"NA – Use this where you are coding a secondary source only",null,null,null,null,null,null,null,null,null,null,null,null,null,null,null,null,null,null,null,null,null,null,null,null,null,null,null,null,null,null,null,null,null,null,null,null,{"$f":"E2","v":"No"},0,"Yes. Code ‘yes only if the word ‘wife’, ‘husband’ is actually used to describe the person.",0,"NA – Use this where you are coding a secondary source only",0,0,0,0,0,{"$f":"O2","v":0},0,0,0,0,0,0,0]
[null,null,null,null,"Female","Male","Female","Male","Female","Male",null,null,null,null,null,null,null,null,null,null,null,null,null,null,null,null,null,null,null,null,null,null,null,null,null,null,null,null,null,null,null,null,null,null,null,"Female","Male","Female","Male","Female","Male",0,0,0,0,0,0,0,0,0,0,0,0]
[null,null,null,null,null,null,null,null,null,null,null,null,null,null,null,null,null,null,null,null,null,null,null,null,null,null,null,null,null,null,null,null,null,null,null,null,null,null,null,null,null,null,null,null,"TOTAL",0,0,0,0,0,0,0,0,0,0,0,0,0,0,0,0,0,0]
[null,null,0,"Do not know: the person's function is not clear.",5.1000001840293399E-3,null,null,null,null,null,null,null,null,null,null,null,null,null,null,null,null,null,null,null,null,null,null,null,null,null,null,null,null,null,null,null,null,null,null,null,null,null,null,null,{"$f":"SUM(E5:O5)","v":5.1000001840293399E-3},{"$f":"IF((E5+F5)>0,E5/(E5+F5),0)","v":1},{"$f":"IF((E5+F5)>0,F5/(E5+F5),0)","v":0},{"$f":"IF((G5+H5)>0,G5/(G5+H5),0)","v":0},{"$f":"IF((G5+H5)>0,H5/(G5+H5),0)","v":0},{"$f":"IF((I5+J5)>0,I5/(I5+J5),0)","v":0},{"$f":"IF((I5+J5)>0,J5/(I5+J5),0)","v":0},{"$f":"IF((K5+L5)>0,K5/(K5+L5),0)","v":0},{"$f":"IF((K5+L5)>0,L5/(K5+L5),0)","v":0},{"$f":"IF((M5+N5)>0,M5/(M5+N5),0)","v":0},{"$f":"IF((M5+N5)>0,N5/(M5+N5),0)","v":0},{"$f":"IF((O5+P5)>0,O5/(O5+P5),0)","v":0},{"$f":"IF((O5+P5)>0,P5/(O5+P5),0)","v":0},{"$f":"IF((Q5+R5)>0,Q5/(Q5+R5),0)","v":0},{"$f":"IF((Q5+R5)>0,R5/(Q5+R5),0)","v":0},{"$f":"IF((S5+T5)>0,S5/(S5+T5),0)","v":0},{"$f":"IF((S5+T5)>0,T5/(S5+T5),0)","v":0},{"$f":"IF((U5+V5)>0,U5/(U5+V5),0)","v":0},{"$f":"IF((U5+V5)>0,V5/(U5+V5),0)","v":0}]
[null,null,1,"Subject: the story is about this person, or about something the person has done, said etc.",0.26598299713805301,0.910831982735544,7.2782499250024599E-2,9.2935499269515304E-2,null,null,null,null,null,null,null,null,null,null,null,null,null,null,null,null,null,null,null,null,null,null,null,null,null,null,null,null,null,null,null,null,null,null,null,null,1.3425329783931368,0.2260193842592168,0.77398061574078325,0.43919489675373302,0.56080510324626709,0,0,0,0,0,0,0,0,0,0,0,0,0,0]
[null,null,2,"Spokesperson: the person represents, or speaks on behalf of another person, a group or an organisation",4.5553000643849401E-2,0.13675300218164901,null,null,null,null,null,null,null,null,null,null,null,null,null,null,null,null,null,null,null,null,null,null,null,null,null,null,null,null,null,null,null,null,null,null,null,null,null,null,0.18230600282549841,0.2498710955088643,0.75012890449113567,0,0,0,0,0,0,0,0,0,0,0,0,0,0,0,0]
[null,null,3,"Expert or commentator: the person provides additional information, opinion or comment, based on specialist knowledge or expertise",6.3229500781744705E-2,0.17661200091242801,null,null,null,null,null,null,null,0.5,null,null,null,null,null,null,null,null,null,null,null,null,null,null,null,null,null,null,null,null,null,null,null,null,null,null,null,null,null,null,0.73984150169417273,0.26363035727807466,0.73636964272192529,0,0,0,0,0,0,0,1,0,0,0,0,0,0,0,0]
[null,null,4,"Personal experience: the person provides opinion or comment, based on individual personal experience; the opinion is not necessarily meant to reflect the views of a wider group",3.52529999800026E-2,9.8035499453544603E-2,2.0400000736117401E-2,2.55000009201467E-2,null,null,null,null,null,null,null,null,null,null,null,null,null,null,null,null,null,null,null,null,null,null,null,null,null,null,null,null,null,null,null,null,null,null,null,null,0.1791885010898113,0.26448643453727577,0.73551356546272428,0.44444444444444492,0.55555555555555503,0,0,0,0,0,0,0,0,0,0,0,0,0,0]
[null,null,5,"Eye witness: the person gives testimony or comment, based on direct observation (e.g. being present at an event)",2.5300000328570601E-2,1.7476499546319201E-2,1.4952999539673301E-2,null,null,null,null,null,0.5,null,null,null,null,null,null,null,null,null,null,null,null,null,null,null,null,null,null,null,null,null,null,null,null,null,null,null,null,null,null,null,0.55772949941456307,0.59144624741543972,0.40855375258456028,1,0,0,0,0,0,1,0,0,0,0,0,0,0,0,0]
[null,null,6,"Popular opinion: the person's opinion is assumed to reflect that of the 'ordinary citizen' (e.g., in a street interview, vox populi etc); it is implied that the person's point of view is shared by a wider group of people.",2.00529997237027E-2,1.5300000552088E-2,null,null,null,null,null,null,null,null,null,null,null,null,null,null,null,null,null,null,null,null,null,null,null,null,null,null,null,null,null,null,null,null,null,null,null,null,null,null,3.5353000275790698E-2,0.56722200569309955,0.4327779943069005,0,0,0,0,0,0,0,0,0,0,0,0,0,0,0,0]
[null,null,7,"Other. Use only as a last resort (describe the function in 'Comments' section of coding sheet).",null,null,null,null,null,null,null,null,null,null,null,null,null,null,null,null,null,null,null,null,null,null,null,null,null,null,null,null,null,null,null,null,null,null,null,null,null,null,null,null,0,0,0,0,0,0,0,0,0,0,0,0,0,0,0,0,0,0,0]
[null,null,8,"NA – Use this where you are coding a secondary source only",null,null,null,null,null,null,null,null,null,null,null,null,null,null,null,null,null,null,null,null,null,null,null,null,null,null,null,null,null,null,null,null,null,null,null,null,null,null,null,null,0,0,0,0,0,0,0,0,0,0,0,0,0,0,0,0,0,0,0]
[null,null,null,null,null,null,null,null,null,null,null,null,null,null,null,null,null,null,null,null,null,null,null,null,null,null,null,null,null,null,null,null,null,null,null,null,null,null,null,null,null,null,null,null,0,0,0,0,0,0,0,0,0,0,0,0,0,0,0,0,0,0,0]
[null,null,null,null,null,null,null,null,null,null,null,null,null,null,null,null,null,null,null,null,null,null,null,null,null,null,null,null,null,null,null,null,null,null,null,null,null,null,null,null,null,null,null,null,0,0,0,0,0,0,0,0,0,0,0,0,0,0,0,0,0,0,0]
[null,null,null,null,null,null,null,null,null,null,null,null,null,null,null,null,null,null,null,null,null,null,null,null,null,null,null,null,null,null,null,null,null,null,null,null,null,null,null,null,null,null,null,null,0,0,0,0,0,0,0,0,0,0,0,0,0,0,0,0,0,0,0]
[null,null,null,null,null,null,null,null,null,null,null,null,null,null,null,null,null,null,null,null,null,null,null,null,null,null,null,null,null,null,null,null,null,null,null,null,null,null,null,null,null,null,null,null,0,0,0,0,0,0,0,0,0,0,0,0,0,0,0,0,0,0,0]
[null,null,null,null,null,null,null,null,null,null,null,null,null,null,null,null,null,null,null,null,null,null,null,null,null,null,null,null,null,null,null,null,null,null,null,null,null,null,null,null,null,null,null,null,0,0,0,0,0,0,0,0,0,0,0,0,0,0,0,0,0,0,0]
[null,null,null,null,null,null,null,null,null,null,null,null,null,null,null,null,null,null,null,null,null,null,null,null,null,null,null,null,null,null,null,null,null,null,null,null,null,null,null,null,null,null,null,null,0,0,0,0,0,0,0,0,0,0,0,0,0,0,0,0,0,0,0]
[null,null,null,null,null,null,null,null,null,null,null,null,null,null,null,null,null,null,null,null,null,null,null,null,null,null,null,null,null,null,null,null,null,null,null,null,null,null,null,null,null,null,null,null,0,0,0,0,0,0,0,0,0,0,0,0,0,0,0,0,0,0,0]
[null,null,null,null,null,null,null,null,null,null,null,null,null,null,null,null,null,null,null,null,null,null,null,null,null,null,null,null,null,null,null,null,null,null,null,null,null,null,null,null,null,null,null,null,0,0,0,0,0,0,0,0,0,0,0,0,0,0,0,0,0,0,0]
[null,null,null,null,null,null,null,null,null,null,null,null,null,null,null,null,null,null,null,null,null,null,null,null,null,null,null,null,null,null,null,null,null,null,null,null,null,null,null,null,null,null,null,null,0,0,0,0,0,0,0,0,0,0,0,0,0,0,0,0,0,0,0]
[null,null,null,{"$f":"D6","v":"Subject: the story is about this person, or about something the person has done, said etc."},{"$f":"E6/(E6+G6)","v":0.785153741965954},0.90741331938361514,{"$f":"G6/(E6+G6)","v":0.21484625803404597},9.2586680616384906E-2,null,null,null,null,null,null,null,null,null,null,null,null,null,null,null,null,null,null,null,null,null,null,null,null,null,null,null,null,null,null,null,null,null,null,null,null,2,0.46388338748593588,0.53611661251406406,0.69883942487482986,0.30116057512517014,0,0,0,0,0,0,0,0,0,0,0,0,0,0]
[null,null,null,"Spokesperson: the person represents, or speaks on behalf of another person, a group or an organisation",1,1,0,0,null,null,null,null,null,null,null,null,null,null,null,null,null,null,null,null,null,null,null,null,null,null,null,null,null,null,null,null,null,null,null,null,null,null,null,null,2,0.5,0.5,0,0,0,0,0,0,0,0,0,0,0,0,0,0,0,0]
[null,null,null,"Expert or commentator: the person provides additional information, opinion or comment, based on specialist knowledge or expertise",1,1,0,0,null,null,null,null,null,null,null,null,null,null,null,null,null,null,null,null,null,null,null,null,null,null,null,null,null,null,null,null,null,null,null,null,null,null,null,null,2,0.5,0.5,0,0,0,0,0,0,0,0,0,0,0,0,0,0,0,0]
[null,null,null,"Personal experience: the person provides opinion or comment, based on individual personal experience; the opinion is not necessarily meant to reflect the views of a wider group",0.63344293257113626,0.79358159522558336,0.36655706742886374,0.20641840477441656,null,null,null,null,null,null,null,null,null,null,null,null,null,null,null,null,null,null,null,null,null,null,null,null,null,null,null,null,null,null,null,null,null,null,null,null,1.9999999999999998,0.44389071121934531,0.55610928878065469,0.63974303475737015,0.36025696524262985,0,0,0,0,0,0,0,0,0,0,0,0,0,0]
[null,null,null,"Eye witness: the person gives testimony or comment, based on direct observation (e.g. being present at an event)",0.6285245922386542,1,0.37147540776134574,0,null,null,null,null,null,null,null,null,null,null,null,null,null,null,null,null,null,null,null,null,null,null,null,null,null,null,null,null,null,null,null,null,null,null,null,null,2,0.38594725264458657,0.61405274735541338,1,0,0,0,0,0,0,0,0,0,0,0,0,0,0,0]
[null,null,null,"Popular opinion: the person's opinion is assumed to reflect that of the 'ordinary citizen' (e.g., in a street interview, vox populi etc); it is implied that the person's point of view is shared by a wider group of people.",1,1,0,0,null,null,null,null,null,null,null,null,null,null,null,null,null,null,null,null,null,null,null,null,null,null,null,null,null,null,null,null,null,null,null,null,null,null,null,null,2,0.5,0.5,0,0,0,0,0,0,0,0,0,0,0,0,0,0,0,0]
[null,null,null,"Other. Use only as a last resort (describe the function in 'Comments' section of coding sheet).",{"$error":"#DIV/0!"},{"$error":"#DIV/0!"},{"$error":"#DIV/0!"},{"$error":"#DIV/0!"},null,null,null,null,null,null,null,null,null,null,null,null,null,null,null,null,null,null,null,null,null,null,null,null,null,null,null,null,null,null,null,null,null,null,null,null,{"$error":"#DIV/0!"},{"$error":"#DIV/0!"},{"$error":"#DIV/0!"},{"$error":"#DIV/0!"},{"$error":"#DIV/0!"},0,0,0,0,0,0,0,0,0,0,0,0,0,0]
[null,null,null,"NA – Use this where you are coding a secondary source only",{"$error":"#DIV/0!"},{"$error":"#DIV/0!"},{"$error":"#DIV/0!"},{"$error":"#DIV/0!"},null,null,null,null,null,null,null,null,null,null,null,null,null,null,null,null,null,null,null,null,null,null,null,null,null,null,null,null,null,null,null,null,null,null,null,null,{"$error":"#DIV/0!"},{"$error":"#DIV/0!"},{"$error":"#DIV/0!"},{"$error":"#DIV/0!"},{"$error":"#DIV/0!"},0,0,0,0,0,0,0,0,0,0,0,0,0,0]
[null,null,null,null,null,null,null,null,null,null,null,null,null,null,null,null,null,null,null,null,null,null,null,null,null,null,null,null,null,null,null,null,null,null,null,null,null,null,null,null,null,null,null,null,0,0,0,0,0,0,0,0,0,0,0,0,0,0,0,0,0,0,0]
[null,null,null,null,null,null,null,null,null,null,null,null,null,null,null,null,null,null,null,null,null,null,null,null,null,null,null,null,null,null,null,null,null,null,null,null,null,null,null,null,null,null,null,null,0,0,0,0,0,0,0,0,0,0,0,0,0,0,0,0,0,0,0]
[null,null,null,null,null,null,null,null,null,null,null,null,null,null,null,null,null,null,null,null,null,null,null,null,null,null,null,null,null,null,null,null,null,null,null,null,null,null,null,null,null,null,null,null,0,0,0,0,0,0,0,0,0,0,0,0,0,0,0,0,0,0,0]
[null,null,null,null,null,null,null,null,null,null,null,null,null,null,null,null,null,null,null,null,null,null,null,null,null,null,null,null,null,null,null,null,null,null,null,null,null,null,null,null,null,null,null,null,0,0,0,0,0,0,0,0,0,0,0,0,0,0,0,0,0,0,0]
[null,null,null,null,null,null,null,null,null,null,null,null,null,null,null,null,null,null,null,null,null,null,null,null,null,null,null,null,null,null,null,null,null,null,null,null,null,null,null,null,null,null,null,null,0,0,0,0,0,0,0,0,0,0,0,0,0,0,0,0,0,0,0]
[null,null,null,null,null,null,null,null,null,null,null,null,null,null,null,null,null,null,null,null,null,null,null,null,null,null,null,null,null,null,null,null,null,null,null,null,null,null,null,null,null,null,null,null,0,0,0,0,0,0,0,0,0,0,0,0,0,0,0,0,0,0,0]
[null,null,null,null,null,null,null,null,null,null,null,null,null,null,null,null,null,null,null,null,null,null,null,null,null,null,null,null,null,null,null,null,null,null,null,null,null,null,null,null,null,null,null,null,{"$f":"SUM(E37:O37)","v":0},{"$f":"IF((E37+F37)>0,E37/(E37+F37),0)","v":0},{"$f":"IF((E37+F37)>0,F37/(E37+F37),0)","v":0},{"$f":"IF((G37+H37)>0,G37/(G37+H37),0)","v":0},{"$f":"IF((G37+H37)>0,H37/(G37+H37),0)","v":0},{"$f":"IF((I37+J37)>0,I37/(I37+J37),0)","v":0},{"$f":"IF((I37+J37)>0,J37/(I37+J37),0)","v":0},{"$f":"IF((K37+L37)>0,K37/(K37+L37),0)","v":0},{"$f":"IF((K37+L37)>0,L37/(K37+L37),0)","v":0},{"$f":"IF((M37+N37)>0,M37/(M37+N37),0)","v":0},{"$f":"IF((M37+N37)>0,N37/(M37+N37),0)","v":0},{"$f":"IF((O37+P37)>0,O37/(O37+P37),0)","v":0},{"$f":"IF((O37+P37)>0,P37/(O37+P37),0)","v":0},{"$f":"IF((Q37+R37)>0,Q37/(Q37+R37),0)","v":0},{"$f":"IF((Q37+R37)>0,R37/(Q37+R37),0)","v":0},{"$f":"IF((S37+T37)>0,S37/(S37+T37),0)","v":0},{"$f":"IF((S37+T37)>0,T37/(S37+T37),0)","v":0},{"$f":"IF((U37+V37)>0,U37/(U37+V37),0)","v":0},{"$f":"IF((U37+V37)>0,V37/(U37+V37),0)","v":0}]
[null,null,null,null,null,null,null,null,null,null,null,null,null,null,null,null,null,null,null,null,null,null,null,null,null,null,null,null,null,null,null,null,null,null,null,null,null,null,null,null,null,null,null,null,0,0,0,0,0,0,0,0,0,0,0,0,0,0,0,0,0,0,0]
[null,null,null,null,null,null,null,null,null,null,null,null,null,null,null,null,null,null,null,null,null,null,null,null,null,null,null,null,null,null,null,null,null,null,null,null,null,null,null,null,null,null,null,null,0,0,0,0,0,0,0,0,0,0,0,0,0,0,0,0,0,0,0]
[null,null,null,null,null,null,null,null,null,null,null,null,null,null,null,null,null,null,null,null,null,null,null,null,null,null,null,null,null,null,null,null,null,null,null,null,null,null,null,null,null,null,null,null,0,0,0,0,0,0,0,0,0,0,0,0,0,0,0,0,0,0,0]
[null,null,null,null,null,null,null,null,null,null,null,null,null,null,null,null,null,null,null,null,null,null,null,null,null,null,null,null,null,null,null,null,null,null,null,null,null,null,null,null,null,null,null,null,0,0,0,0,0,0,0,0,0,0,0,0,0,0,0,0,0,0,0]
[null,null,null,null,null,null,null,null,null,null,null,null,null,null,null,null,null,null,null,null,null,null,null,null,null,null,null,null,null,null,null,null,null,null,null,null,null,null,null,null,null,null,null,null,0,0,0,0,0,0,0,0,0,0,0,0,0,0,0,0,0,0,0]
[null,null,null,null,null,null,null,null,null,null,null,null,null,null,null,null,null,null,null,null,null,null,null,null,null,null,null,null,null,null,null,null,null,null,null,null,null,null,null,null,null,null,null,null,0,0,0,0,0,0,0,0,0,0,0,0,0,0,0,0,0,0,0]
[null,null,null,null,null,null,null,null,null,null,null,null,null,null,null,null,null,null,null,null,null,null,null,null,null,null,null,null,null,null,null,null,null,null,null,null,null,null,null,null,null,null,null,null,0,0,0,0,0,0,0,0,0,0,0,0,0,0,0,0,0,0,0]
[null,null,null,null,null,null,null,null,null,null,null,null,null,null,null,null,null,null,null,null,null,null,null,null,null,null,null,null,null,null,null,null,null,null,null,null,null,null,null,null,null,null,null,null,0,0,0,0,0,0,0,0,0,0,0,0,0,0,0,0,0,0,0]
[null,null,null,null,null,null,null,null,null,null,null,null,null,null,null,null,null,null,null,null,null,null,null,null,null,null,null,null,null,null,null,null,null,null,null,null,null,null,null,null,null,null,null,null,0,0,0,0,0,0,0,0,0,0,0,0,0,0,0,0,0,0,0]
[null,null,null,null,null,null,null,null,null,null,null,null,null,null,null,null,null,null,null,null,null,null,null,null,null,null,null,null,null,null,null,null,null,null,null,null,null,null,null,null,null,null,null,null,0,0,0,0,0,0,0,0,0,0,0,0,0,0,0,0,0,0,0]
[null,null,null,null,null,null,null,null,null,null,null,null,null,null,null,null,null,null,null,null,null,null,null,null,null,null,null,null,null,null,null,null,null,null,null,null,null,null,null,null,null,null,null,null,0,0,0,0,0,0,0,0,0,0,0,0,0,0,0,0,0,0,0]
[null,null,null,null,null,null,null,null,null,null,null,null,null,null,null,null,null,null,null,null,null,null,null,null,null,null,null,null,null,null,null,null,null,null,null,null,null,null,null,null,null,null,null,null,0,0,0,0,0,0,0,0,0,0,0,0,0,0,0,0,0,0,0]
[null,null,null,null,null,null,null,null,null,null,null,null,null,null,null,null,null,null,null,null,null,null,null,null,null,null,null,null,null,null,null,null,null,null,null,null,null,null,null,null,null,null,null,null,0,0,0,0,0,0,0,0,0,0,0,0,0,0,0,0,0,0,0]
[null,null,null,null,null,null,null,null,null,null,null,null,null,null,null,null,null,null,null,null,null,null,null,null,null,null,null,null,null,null,null,null,null,null,null,null,null,null,null,null,null,null,null,null,0,0,0,0,0,0,0,0,0,0,0,0,0,0,0,0,0,0,0]
[null,null,null,null,null,null,null,null,null,null,null,null,null,null,null,null,null,null,null,null,null,null,null,null,null,null,null,null,null,null,null,null,null,null,null,null,null,null,null,null,null,null,null,null,0,0,0,0,0,0,0,0,0,0,0,0,0,0,0,0,0,0,0]
[null,null,null,null,null,null,null,null,null,null,null,null,null,null,null,null,null,null,null,null,null,null,null,null,null,null,null,null,null,null,null,null,null,null,null,null,null,null,null,null,null,null,null,null,0,0,0,0,0,0,0,0,0,0,0,0,0,0,0,0,0,0,0]
[null,null,null,null,null,null,null,null,null,null,null,null,null,null,null,null,null,null,null,null,null,null,null,null,null,null,null,null,null,null,null,null,null,null,null,null,null,null,null,null,null,null,null,null,0,0,0,0,0,0,0,0,0,0,0,0,0,0,0,0,0,0,0]
[null,null,null,null,null,null,null,null,null,null,null,null,null,null,null,null,null,null,null,null,null,null,null,null,null,null,null,null,null,null,null,null,null,null,null,null,null,null,null,null,null,null,null,null,0,0,0,0,0,0,0,0,0,0,0,0,0,0,0,0,0,0,0]
[null,null,null,null,null,null,null,null,null,null,null,null,null,null,null,null,null,null,null,null,null,null,null,null,null,null,null,null,null,null,null,null,null,null,null,null,null,null,null,null,null,null,null,null,0,0,0,0,0,0,0,0,0,0,0,0,0,0,0,0,0,0,0]
[null,null,null,null,null,null,null,null,null,null,null,null,null,null,null,null,null,null,null,null,null,null,null,null,null,null,null,null,null,null,null,null,null,null,null,null,null,null,null,null,null,null,null,null,0,0,0,0,0,0,0,0,0,0,0,0,0,0,0,0,0,0,0]
[null,null,null,null,null,null,null,null,null,null,null,null,null,null,null,null,null,null,null,null,null,null,null,null,null,null,null,null,null,null,null,null,null,null,null,null,null,null,null,null,null,null,null,null,0,0,0,0,0,0,0,0,0,0,0,0,0,0,0,0,0,0,0]
[null,null,null,null,null,null,null,null,null,null,null,null,null,null,null,null,null,null,null,null,null,null,null,null,null,null,null,null,null,null,null,null,null,null,null,null,null,null,null,null,null,null,null,null,0,0,0,0,0,0,0,0,0,0,0,0,0,0,0,0,0,0,0]
[null,null,null,null,null,null,null,null,null,null,null,null,null,null,null,null,null,null,null,null,null,null,null,null,null,null,null,null,null,null,null,null,null,null,null,null,null,null,null,null,null,null,null,null,0,0,0,0,0,0,0,0,0,0,0,0,0,0,0,0,0,0,0]
[null,null,null,null,null,null,null,null,null,null,null,null,null,null,null,null,null,null,null,null,null,null,null,null,null,null,null,null,null,null,null,null,null,null,null,null,null,null,null,null,null,null,null,null,0,0,0,0,0,0,0,0,0,0,0,0,0,0,0,0,0,0,0]
[null,null,null,null,null,null,null,null,null,null,null,null,null,null,null,null,null,null,null,null,null,null,null,null,null,null,null,null,null,null,null,null,null,null,null,null,null,null,null,null,null,null,null,null,0,0,0,0,0,0,0,0,0,0,0,0,0,0,0,0,0,0,0]
[null,null,null,null,null,null,null,null,null,null,null,null,null,null,null,null,null,null,null,null,null,null,null,null,null,null,null,null,null,null,null,null,null,null,null,null,null,null,null,null,null,null,null,null,0,0,0,0,0,0,0,0,0,0,0,0,0,0,0,0,0,0,0]
[null,null,null,null,null,null,null,null,null,null,null,null,null,null,null,null,null,null,null,null,null,null,null,null,null,null,null,null,null,null,null,null,null,null,null,null,null,null,null,null,null,null,null,null,0,0,0,0,0,0,0,0,0,0,0,0,0,0,0,0,0,0,0]
[null,null,null,null,null,null,null,null,null,null,null,null,null,null,null,null,null,null,null,null,null,null,null,null,null,null,null,null,null,null,null,null,null,null,null,null,null,null,null,null,null,null,null,null,0,0,0,0,0,0,0,0,0,0,0,0,0,0,0,0,0,0,0]
[null,null,null,null,null,null,null,null,null,null,null,null,null,null,null,null,null,null,null,null,null,null,null,null,null,null,null,null,null,null,null,null,null,null,null,null,null,null,null,null,null,null,null,null,0,0,0,0,0,0,0,0,0,0,0,0,0,0,0,0,0,0,0]
[null,null,null,null,null,null,null,null,null,null,null,null,null,null,null,null,null,null,null,null,null,null,null,null,null,null,null,null,null,null,null,null,null,null,null,null,null,null,null,null,null,null,null,null,0,0,0,0,0,0,0,0,0,0,0,0,0,0,0,0,0,0,0]
[null,null,null,"TOTAL",{"$f":"SUM(E6:E11)","v":0.45537149859592307},1.355008985381573,0.1081354995258153,0.11843550018966201,0,0,null,null,null,null,null,null,null,null,null,null,null,null,null,null,null,null,null,null,null,null,null,null,null,null,null,null,null,null,null,null,null,null,null,null,2.0369514836929734,0.25153358789830144,0.74846641210169851,0.47726981679742508,0.52273018320257492,0,0,0,0,0,0,0,0,0,0,0,0,0,0]
[]
[null,null,{"$f":"C5","v":0},"Do not know: the person's function is not clear.",{"$f":"IF(E$68>0,E5/E$68,0)","v":1.1199647320384578E-2},0,0,0,0,0,0,0,0,0,0,0,0,0,0,0,0,0,0,0,0,0,0]
[null,null,1,"Subject: the story is about this person, or about something the person has done, said etc.",{"$f":"IF(E$68>0,E6/E$68,0)","v":0.5841011085633947},0.6721962677458202,0.67306758251622223,0.78469292670431479,0,0,0,0,0,0,0,0,0,0,0,0,0,0,0,0,0,0,0]
[null,null,2,"Spokesperson: the person represents, or speaks on behalf of another person, a group or an organisation",{"$f":"IF(E$68>0,E7/E$68,0)","v":0.10003480846804415},0.10092405560184467,0,0,0,0,0,0,0,0,0,0,0,0,0,0,0,0,0,0,0,0,0]
[null,null,3,"Expert or commentator: the person provides additional information, opinion or comment, based on specialist knowledge or expertise",{"$f":"IF(E$68>0,E8/E$68,0)","v":0.13885256538168153},0.1303400957615744,0,0,0,0,0,0,0,0,0,0,0,0,0,0,0,0,0,0,0,0,0]
[null,null,4,"Personal experience: the person provides opinion or comment, based on individual personal experience; the opinion is not necessarily meant to reflect the views of a wider group",{"$f":"IF(E$68>0,E9/E$68,0)","v":7.7415912257794997E-2},7.2350442330046713E-2,0.18865220788338141,0.21530707329568524,0,0,0,0,0,0,0,0,0,0,0,0,0,0,0,0,0,0,0]
[null,null,5,"Eye witness: the person gives testimony or comment, based on direct observation (e.g. being present at an event)",{"$f":"IF(E$68>0,E10/E$68,0)","v":5.5559033462963224E-2},1.2897700114806093E-2,0.13828020960039636,0,0,0,0,0,0,0,0,0,0,0,0,0,0,0,0,0,0,0,0]
[null,null,6,"Popular opinion: the person's opinion is assumed to reflect that of the 'ordinary citizen' (e.g., in a street interview, vox populi etc); it is implied that the person's point of view is shared by a wider group of people.",{"$f":"IF(E$68>0,E11/E$68,0)","v":4.4036571866121255E-2},1.1291438445907789E-2,0,0,0,0,0,0,0,0,0,0,0,0,0,0,0,0,0,0,0,0,0]
[null,null,7,"Other. Use only as a last resort (describe the function in 'Comments' section of coding sheet).",{"$f":"IF(E$68>0,E12/E$68,0)","v":0},0,0,0,0,0,0,0,0,0,0,0,0,0,0,0,0,0,0,0,0,0,0]
[null,null,8,"NA – Use this where you are coding a secondary source only",{"$f":"IF(E$68>0,E13/E$68,0)","v":0},0,0,0,0,0,0,0,0,0,0,0,0,0,0,0,0,0,0,0,0,0,0]
[null,null,0,0,{"$f":"IF(E$68>0,E14/E$68,0)","v":0},0,0,0,0,0,0,0,0,0,0,0,0,0,0,0,0,0,0,0,0,0,0]
[null,null,0,0,{"$f":"IF(E$68>0,E15/E$68,0)","v":0},0,0,0,0,0,0,0,0,0,0,0,0,0,0,0,0,0,0,0,0,0,0]
[null,null,0,0,{"$f":"IF(E$68>0,E16/E$68,0)","v":0},0,0,0,0,0,0,0,0,0,0,0,0,0,0,0,0,0,0,0,0,0,0]
[null,null,0,0,{"$f":"IF(E$68>0,E17/E$68,0)","v":0},0,0,0,0,0,0,0,0,0,0,0,0,0,0,0,0,0,0,0,0,0,0]
[null,null,0,0,{"$f":"IF(E$68>0,E18/E$68,0)","v":0},0,0,0,0,0,0,0,0,0,0,0,0,0,0,0,0,0,0,0,0,0,0]
[null,null,0,0,{"$f":"IF(E$68>0,E19/E$68,0)","v":0},0,0,0,0,0,0,0,0,0,0,0,0,0,0,0,0,0,0,0,0,0,0]
[null,null,0,0,{"$f":"IF(E$68>0,E20/E$68,0)","v":0},0,0,0,0,0,0,0,0,0,0,0,0,0,0,0,0,0,0,0,0,0,0]
[null,null,0,0,{"$f":"IF(E$68>0,E21/E$68,0)","v":0},0,0,0,0,0,0,0,0,0,0,0,0,0,0,0,0,0,0,0,0,0,0]
[null,null,0,0,{"$f":"IF(E$68>0,E22/E$68,0)","v":0},0,0,0,0,0,0,0,0,0,0,0,0,0,0,0,0,0,0,0,0,0,0]
[null,null,0,"Subject: the story is about this person, or about something the person has done, said etc.",{"$f":"IF(E$68>0,E23/E$68,0)","v":1.7242048401950281},0.66967328569270401,1.9868244838759495,0.78174770628837698,0,0,0,0,0,0,0,0,0,0,0,0,0,0,0,0,0,0,0]
[null,null,0,"Spokesperson: the person represents, or speaks on behalf of another person, a group or an organisation",{"$f":"IF(E$68>0,E24/E$68,0)","v":2.1960091992655797},0.73800248617421393,0,0,0,0,0,0,0,0,0,0,0,0,0,0,0,0,0,0,0,0,0]
[null,null,{"$f":"C25","v":0},"Expert or commentator: the person provides additional information, opinion or comment, based on specialist knowledge or expertise",{"$f":"IF(E$68>0,E25/E$68,0)","v":2.1960091992655797},0.73800248617421393,0,0,0,0,0,0,0,0,0,0,0,0,0,0,0,0,0,0,0,0,0]
[null,null,0,"Personal experience: the person provides opinion or comment, based on individual personal experience; the opinion is not necessarily meant to reflect the views of a wider group",{"$f":"IF(E$68>0,E26/E$68,0)","v":1.3910465071359814},0.58566519025857922,3.3897939995307014,1.7428761177506675,0,0,0,0,0,0,0,0,0,0,0,0,0,0,0,0,0,0,0]
[null,null,0,"Eye witness: the person gives testimony or comment, based on direct observation (e.g. being present at an event)",{"$f":"IF(E$68>0,E27/E$68,0)","v":1.3802457865207318},0.73800248617421393,3.4352771235191182,0,0,0,0,0,0,0,0,0,0,0,0,0,0,0,0,0,0,0,0]
[null,null,0,"Popular opinion: the person's opinion is assumed to reflect that of the 'ordinary citizen' (e.g., in a street interview, vox populi etc); it is implied that the person's point of view is shared by a wider group of people.",{"$f":"IF(E$68>0,E28/E$68,0)","v":2.1960091992655797},0.73800248617421393,0,0,0,0,0,0,0,0,0,0,0,0,0,0,0,0,0,0,0,0,0]
[null,null,0,"Other. Use only as a last resort (describe the function in 'Comments' section of coding sheet).",{"$f":"IF(E$68>0,E29/E$68,0)","v":{"$error":"#DIV/0!"}},{"$error":"#DIV/0!"},{"$error":"#DIV/0!"},{"$error":"#DIV/0!"},0,0,0,0,0,0,0,0,0,0,0,0,0,0,0,0,0,0,0]
[null,null,0,"NA – Use this where you are coding a secondary source only",{"$f":"IF(E$68>0,E30/E$68,0)","v":{"$error":"#DIV/0!"}},{"$error":"#DIV/0!"},{"$error":"#DIV/0!"},{"$error":"#DIV/0!"},0,0,0,0,0,0,0,0,0,0,0,0,0,0,0,0,0,0,0]
[null,null,0,0,{"$f":"IF(E$68>0,E31/E$68,0)","v":0},0,0,0,0,0,0,0,0,0,0,0,0,0,0,0,0,0,0,0,0,0,0]
[null,null,0,0,{"$f":"IF(E$68>0,E32/E$68,0)","v":0},0,0,0,0,0,0,0,0,0,0,0,0,0,0,0,0,0,0,0,0,0,0]
[null,null,0,0,{"$f":"IF(E$68>0,E33/E$68,0)","v":0},0,0,0,0,0,0,0,0,0,0,0,0,0,0,0,0,0,0,0,0,0,0]
[null,null,0,0,{"$f":"IF(E$68>0,E34/E$68,0)","v":0},0,0,0,0,0,0,0,0,0,0,0,0,0,0,0,0,0,0,0,0,0,0]
[null,null,0,0,{"$f":"IF(E$68>0,E35/E$68,0)","v":0},0,0,0,0,0,0,0,0,0,0,0,0,0,0,0,0,0,0,0,0,0,0]
[null,null,0,0,{"$f":"IF(E$68>0,E36/E$68,0)","v":0},0,0,0,0,0,0,0,0,0,0,0,0,0,0,0,0,0,0,0,0,0,0]
[null,null,0,0,{"$f":"IF(E$68>0,E37/E$68,0)","v":0},0,0,0,0,0,0,0,0,0,0,0,0,0,0,0,0,0,0,0,0,0,0]
[null,null,0,0,{"$f":"IF(E$68>0,E38/E$68,0)","v":0},0,0,0,0,0,0,0,0,0,0,0,0,0,0,0,0,0,0,0,0,0,0]
[null,null,0,0,{"$f":"IF(E$68>0,E39/E$68,0)","v":0},0,0,0,0,0,0,0,0,0,0,0,0,0,0,0,0,0,0,0,0,0,0]
[null,null,0,0,{"$f":"IF(E$68>0,E40/E$68,0)","v":0},0,0,0,0,0,0,0,0,0,0,0,0,0,0,0,0,0,0,0,0,0,0]
[null,null,0,0,{"$f":"IF(E$68>0,E41/E$68,0)","v":0},0,0,0,0,0,0,0,0,0,0,0,0,0,0,0,0,0,0,0,0,0,0]
[null,null,0,0,{"$f":"IF(E$68>0,E42/E$68,0)","v":0},0,0,0,0,0,0,0,0,0,0,0,0,0,0,0,0,0,0,0,0,0,0]
[null,null,0,0,{"$f":"IF(E$68>0,E43/E$68,0)","v":0},0,0,0,0,0,0,0,0,0,0,0,0,0,0,0,0,0,0,0,0,0,0]
[null,null,0,0,{"$f":"IF(E$68>0,E44/E$68,0)","v":0},0,0,0,0,0,0,0,0,0,0,0,0,0,0,0,0,0,0,0,0,0,0]
[null,null,{"$f":"C45","v":0},0,{"$f":"IF(E$68>0,E45/E$68,0)","v":0},0,0,0,0,0,0,0,0,0,0,0,0,0,0,0,0,0,0,0,0,0,0]
[null,null,0,0,{"$f":"IF(E$68>0,E46/E$68,0)","v":0},0,0,0,0,0,0,0,0,0,0,0,0,0,0,0,0,0,0,0,0,0,0]
[null,null,0,0,{"$f":"IF(E$68>0,E47/E$68,0)","v":0},0,0,0,0,0,0,0,0,0,0,0,0,0,0,0,0,0,0,0,0,0,0]
[null,null,0,0,{"$f":"IF(E$68>0,E48/E$68,0)","v":0},0,0,0,0,0,0,0,0,0,0,0,0,0,0,0,0,0,0,0,0,0,0]
[null,null,0,0,{"$f":"IF(E$68>0,E49/E$68,0)","v":0},0,0,0,0,0,0,0,0,0,0,0,0,0,0,0,0,0,0,0,0,0,0]
[null,null,0,0,{"$f":"IF(E$68>0,E50/E$68,0)","v":0},0,0,0,0,0,0,0,0,0,0,0,0,0,0,0,0,0,0,0,0,0,0]
[null,null,0,0,{"$f":"IF(E$68>0,E51/E$68,0)","v":0},0,0,0,0,0,0,0,0,0,0,0,0,0,0,0,0,0,0,0,0,0,0]
[null,null,0,0,{"$f":"IF(E$68>0,E52/E$68,0)","v":0},0,0,0,0,0,0,0,0,0,0,0,0,0,0,0,0,0,0,0,0,0,0]
[null,null,0,0,{"$f":"IF(E$68>0,E53/E$68,0)","v":0},0,0,0,0,0,0,0,0,0,0,0,0,0,0,0,0,0,0,0,0,0,0]
[null,null,0,0,{"$f":"IF(E$68>0,E54/E$68,0)","v":0},0,0,0,0,0,0,0,0,0,0,0,0,0,0,0,0,0,0,0,0,0,0]
[null,null,0,0,{"$f":"IF(E$68>0,E55/E$68,0)","v":0},0,0,0,0,0,0,0,0,0,0,0,0,0,0,0,0,0,0,0,0,0,0]
[null,null,0,0,{"$f":"IF(E$68>0,E56/E$68,0)","v":0},0,0,0,0,0,0,0,0,0,0,0,0,0,0,0,0,0,0,0,0,0,0]
[null,null,0,0,{"$f":"IF(E$68>0,E57/E$68,0)","v":0},0,0,0,0,0,0,0,0,0,0,0,0,0,0,0,0,0,0,0,0,0,0]
[null,null,0,0,{"$f":"IF(E$68>0,E58/E$68,0)","v":0},0,0,0,0,0,0,0,0,0,0,0,0,0,0,0,0,0,0,0,0,0,0]
[null,null,0,0,{"$f":"IF(E$68>0,E59/E$68,0)","v":0},0,0,0,0,0,0,0,0,0,0,0,0,0,0,0,0,0,0,0,0,0,0]
[null,null,0,0,{"$f":"IF(E$68>0,E60/E$68,0)","v":0},0,0,0,0,0,0,0,0,0,0,0,0,0,0,0,0,0,0,0,0,0,0]
[null,null,0,0,{"$f":"IF(E$68>0,E61/E$68,0)","v":0},0,0,0,0,0,0,0,0,0,0,0,0,0,0,0,0,0,0,0,0,0,0]
[null,null,0,0,{"$f":"IF(E$68>0,E62/E$68,0)","v":0},0,0,0,0,0,0,0,0,0,0,0,0,0,0,0,0,0,0,0,0,0,0]
[]
[]
[]
[]
[]
[]
[]
[]
[]
[]
[]
[]
[]
[]
[]
[]
[]
[]
[]
[]
["COUNT"]
[null,null,null,null,{"$f":"E3","v":"Female"},"Male","Female","Male","Female","Male",0,0,0,0,0,0,0,0,0,0]
[null,null,null,null,{"$f":"E4","v":0},0,0,0,0,0,0,0,0,0,0,0,0,0,0,0]
[null,null,{"$f":"C5","v":0},"Do not know: the person's function is not clear.",1,0,0,0,0,0,0,0,0,0,0,0,0,0,0,0,0,0]
[null,null,1,"Subject: the story is about this person, or about something the person has done, said etc.",42,138,12,15,0,0,0,0,0,0,0,0,0,0,0,0,0,0]
[null,null,2,"Spokesperson: the person represents, or speaks on behalf of another person, a group or an organisation",8,26,0,0,0,0,0,0,0,0,0,0,0,0,0,0,0,0]
[null,null,3,"Expert or commentator: the person provides additional information, opinion or comment, based on specialist knowledge or expertise",11,31,0,0,0,0,0,0,0,1,0,0,0,0,0,0,0,0]
[null,null,4,"Personal experience: the person provides opinion or comment, based on individual personal experience; the opinion is not necessarily meant to reflect the views of a wider group",6,16,4,5,0,0,0,0,0,0,0,0,0,0,0,0,0,0]
[null,null,5,"Eye witness: the person gives testimony or comment, based on direct observation (e.g. being present at an event)",5,3,2,0,0,0,0,0,1,0,0,0,0,0,0,0,0,0]
[null,null,6,"Popular opinion: the person's opinion is assumed to reflect that of the 'ordinary citizen' (e.g., in a street interview, vox populi etc); it is implied that the person's point of view is shared by a wider group of people.",3,3,0,0,0,0,0,0,0,0,0,0,0,0,0,0,0,0]
[null,null,7,"Other. Use only as a last resort (describe the function in 'Comments' section of coding sheet).",0,0,0,0,0,0,0,0,0,0,0,0,0,0,0,0,0,0]
[null,null,8,"NA – Use this where you are coding a secondary source only",0,0,0,0,0,0,0,0,0,0,0,0,0,0,0,0,0,0]
[null,null,0,0,0,0,0,0,0,0,0,0,0,0,0,0,0,0,0,0,0,0]
[null,null,0,0,0,0,0,0,0,0,0,0,0,0,0,0,0,0,0,0,0,0]
[null,null,0,0,0,0,0,0,0,0,0,0,0,0,0,0,0,0,0,0,0,0]
[null,null,0,0,0,0,0,0,0,0,0,0,0,0,0,0,0,0,0,0,0,0]
[null,null,0,0,0,0,0,0,0,0,0,0,0,0,0,0,0,0,0,0,0,0]
[null,null,0,0,0,0,0,0,0,0,0,0,0,0,0,0,0,0,0,0,0,0]
[null,null,0,0,0,0,0,0,0,0,0,0,0,0,0,0,0,0,0,0,0,0]
[null,null,0,0,0,0,0,0,0,0,0,0,0,0,0,0,0,0,0,0,0,0]
[null,null,0,0,0,0,0,0,0,0,0,0,0,0,0,0,0,0,0,0,0,0]
[null,null,0,"Subject: the story is about this person, or about something the person has done, said etc.",0,0,0,0,0,0,0,0,0,0,0,0,0,0,0,0,0,0]
[null,null,0,"Spokesperson: the person represents, or speaks on behalf of another person, a group or an organisation",0,0,0,0,0,0,0,0,0,0,0,0,0,0,0,0,0,0]
[null,null,{"$f":"C25","v":0},"Expert or commentator: the person provides additional information, opinion or comment, based on specialist knowledge or expertise",0,0,0,0,0,0,0,0,0,0,0,0,0,0,0,0,0,0]
[null,null,0,"Personal experience: the person provides opinion or comment, based on individual personal experience; the opinion is not necessarily meant to reflect the views of a wider group",0,0,0,0,0,0,0,0,0,0,0,0,0,0,0,0,0,0]
[null,null,0,"Eye witness: the person gives testimony or comment, based on direct observation (e.g. being present at an event)",0,0,0,0,0,0,0,0,0,0,0,0,0,0,0,0,0,0]
[null,null,0,"Popular opinion: the person's opinion is assumed to reflect that of the 'ordinary citizen' (e.g., in a street interview, vox populi etc); it is implied that the person's point of view is shared by a wider group of people.",0,0,0,0,0,0,0,0,0,0,0,0,0,0,0,0,0,0]
[null,null,0,"Other. Use only as a last resort (describe the function in 'Comments' section of coding sheet).",0,0,0,0,0,0,0,0,0,0,0,0,0,0,0,0,0,0]
[null,null,0,"NA – Use this where you are coding a secondary source only",0,0,0,0,0,0,0,0,0,0,0,0,0,0,0,0,0,0]
[null,null,0,0,0,0,0,0,0,0,0,0,0,0,0,0,0,0,0,0,0,0]
[null,null,0,0,0,0,0,0,0,0,0,0,0,0,0,0,0,0,0,0,0,0]
[null,null,0,0,0,0,0,0,0,0]
[null,null,0,0,0,0,0,0,0,0]
[null,null,0,0,0,0,0,0,0,0]
[null,null,0,0,0,0,0,0,0,0]
[null,null,0,0,0,0,0,0,0,0]
[null,null,0,0,0,0,0,0,0,0]
[null,null,0,0,0,0,0,0,0,0]
[null,null,0,0,0,0,0,0,0,0]
[null,null,0,0,0,0,0,0,0,0]
[null,null,0,0,0,0,0,0,0,0]
[null,null,0,0,0,0,0,0,0,0]
[null,null,0,0,0,0,0,0,0,0]
[null,null,{"$f":"C45","v":0},0,0,0,0,0,0,0]
[null,null,0,0,0,0,0,0,0,0]
[null,null,0,0,0,0,0,0,0,0]
[null,null,0,0,0,0,0,0,0,0]
[null,null,0,0,0,0,0,0,0,0]
[null,null,0,0,0,0,0,0,0,0]
[null,null,0,0,0,0,0,0,0,0]
[null,null,0,0,0,0,0,0,0,0]
[null,null,0,0,0,0,0,0,0,0]
[null,null,0,0,0,0,0,0,0,0]
[null,null,0,0,0,0,0,0,0,0]
[null,null,0,0,0,0,0,0,0,0]
[null,null,0,0]
[null,null,0,0]
[null,null,0,0]

{"sheet":"20dF - Function-Family Status","index":86,"n_rows":15,"n_cols":21,"rows_kept":15,"cut":false,"hidden":false,"merged":[[1,13,1,16],[2,13,2,14],[2,15,2,16],[1,17,1,20],[2,17,2,18],[2,19,2,20],[2,5,2,6],[1,5,1,8],[2,7,2,8],[1,9,1,12],[2,9,2,10],[2,11,2,12]]}
[{"$f":"'20d'!$A$1","v":"Functions and family status, by sex"}]
[null,null,null,null,null,1995,null,null,null,2000,null,null,null,2005,null,null,null,2010]
[null,null,null,null,null,{"$f":"'20d'!E2","v":"No"},null,{"$f":"'20d'!G2","v":"Yes. Code ‘yes only if the word ‘wife’, ‘husband’ is actually used to describe the person."},null,{"$f":"F3","v":"No"},null,{"$f":"H3","v":"Yes. Code ‘yes only if the word ‘wife’, ‘husband’ is actually used to describe the person."},null,{"$f":"F3","v":"No"},null,{"$f":"H3","v":"Yes. Code ‘yes only if the word ‘wife’, ‘husband’ is actually used to describe the person."},null,{"$f":"F3","v":"No"},null,{"$f":"H3","v":"Yes. Code ‘yes only if the word ‘wife’, ‘husband’ is actually used to describe the person."}]
[null,null,null,null,null,"%F","%M","%F","%M","%F","%M","%F","%M","%F","%M","%F","%M","%F","%M","%F","%M"]
[]
[null,null,null,null,{"$f":"'20d'!D6","v":"Subject: the story is about this person, or about something the person has done, said etc."},0,0,0,0,0,0,0,0,0.78,0.92,0.22,0.08,{"$f":"'20d'!E23","v":0.785153741965954},{"$f":"'20d'!F23","v":0.90741331938361514},{"$f":"'20d'!G23","v":0.21484625803404597},{"$f":"'20d'!H23","v":9.2586680616384906E-2}]
[null,null,null,null,{"$f":"'20d'!D7","v":"Spokesperson: the person represents, or speaks on behalf of another person, a group or an organisation"},0,0,0,0,0,0,0,0,0.95,0.99,0.05,0.01,{"$f":"'20d'!E24","v":1},{"$f":"'20d'!F24","v":1},{"$f":"'20d'!G24","v":0},{"$f":"'20d'!H24","v":0}]
[null,null,null,null,{"$f":"'20d'!D8","v":"Expert or commentator: the person provides additional information, opinion or comment, based on specialist knowledge or expertise"},0,0,0,0,0,0,0,0,0.97,1,0.03,0,{"$f":"'20d'!E25","v":1},{"$f":"'20d'!F25","v":1},{"$f":"'20d'!G25","v":0},{"$f":"'20d'!H25","v":0}]
[null,null,null,null,{"$f":"'20d'!D9","v":"Personal experience: the person provides opinion or comment, based on individual personal experience; the opinion is not necessarily meant to reflect the views of a wider group"},0,0,0,0,0,0,0,0,0.71,0.88,0.28999999999999998,0.12,{"$f":"'20d'!E26","v":0.63344293257113626},{"$f":"'20d'!F26","v":0.79358159522558336},{"$f":"'20d'!G26","v":0.36655706742886374},{"$f":"'20d'!H26","v":0.20641840477441656}]
[null,null,null,null,{"$f":"'20d'!D10","v":"Eye witness: the person gives testimony or comment, based on direct observation (e.g. being present at an event)"},0,0,0,0,0,0,0,0,0.78,0.85,0.22,0.15,{"$f":"'20d'!E27","v":0.6285245922386542},{"$f":"'20d'!F27","v":1},{"$f":"'20d'!G27","v":0.37147540776134574},{"$f":"'20d'!H27","v":0}]
[null,null,null,null,{"$f":"'20d'!D11","v":"Popular opinion: the person's opinion is assumed to reflect that of the 'ordinary citizen' (e.g., in a street interview, vox populi etc); it is implied that the person's point of view is shared by a wider group of people."},0,0,0,0,0,0,0,0,0.86,0.95,0.14000000000000001,0.05,{"$f":"'20d'!E28","v":1},{"$f":"'20d'!F28","v":1},{"$f":"'20d'!G28","v":0},{"$f":"'20d'!H28","v":0}]
[]
[]
[null,null,null,null,"Total"]
[null,null,null,null,null,0,0,0,0,0,0,0,0]

{"sheet":"20f","index":87,"n_rows":205,"n_cols":63,"rows_kept":205,"cut":false,"hidden":true,"merged":[]}
["Functions (top 5) and Occupations by sex of news subject"]
[null,null,null,null,"Do not know: the person's function is not clear.",null,"Subject: the story is about this person, or about something the person has done, said etc.",null,"Spokesperson: the person represents, or speaks on behalf of another person, a group or an organisation",null,"Expert or commentator: the person provides additional information, opinion or comment, based on specialist knowledge or expertise",null,"Personal experience: the person provides opinion or comment, based on individual personal experience; the opinion is not necessarily meant to reflect the views of a wider group",null,"Eye witness: the person gives testimony or comment, based on direct observation (e.g. being present at an event)",null,"Popular opinion: the person's opinion is assumed to reflect that of the 'ordinary citizen' (e.g., in a street interview, vox populi etc); it is implied that the person's point of view is shared by a wider group of people.",null,"Other. Use only as a last resort (describe the function in 'Comments' section of coding sheet).",null,"NA – Use this where you are coding a secondary source only",null,null,null,null,null,null,null,null,null,null,null,null,null,null,null,null,null,null,null,null,null,null,null,null,{"$f":"E2","v":"Do not know: the person's function is not clear."},0,"Subject: the story is about this person, or about something the person has done, said etc.",0,"Spokesperson: the person represents, or speaks on behalf of another person, a group or an organisation",0,"Expert or commentator: the person provides additional information, opinion or comment, based on specialist knowledge or expertise",0,"Personal experience: the person provides opinion or comment, based on individual personal experience; the opinion is not necessarily meant to reflect the views of a wider group",0,{"$f":"O2","v":"Eye witness: the person gives testimony or comment, based on direct observation (e.g. being present at an event)"},0,"Popular opinion: the person's opinion is assumed to reflect that of the 'ordinary citizen' (e.g., in a street interview, vox populi etc); it is implied that the person's point of view is shared by a wider group of people.",0,"Other. Use only as a last resort (describe the function in 'Comments' section of coding sheet).",0,"NA – Use this where you are coding a secondary source only",0]
[null,null,null,null,"Female","Male","Female","Male","Female","Male","Female","Male","Female","Male","Female","Male","Female","Male","Female","Male","Female","Male",null,null,null,null,null,null,null,null,null,null,null,null,null,null,null,null,null,null,null,null,null,null,null,"Female","Male","Female","Male","Female","Male","Female","Male","Female","Male","Female","Male","Female","Male","Female","Male","Female","Male"]
[null,null,null,null,null,null,null,null,null,null,null,null,null,null,null,null,null,null,null,null,null,null,null,null,null,null,null,null,null,null,null,null,null,null,null,null,null,null,null,null,null,null,null,null,"TOTAL",0,0,0,0,0,0,0,0,0,0,0,0,0,0,0,0,0,0]
[null,null,0,"Not stated. Story does not describe the person’s occupation or position.",5.1000001840293399E-3,null,3.762949956581E-2,2.7429499197751301E-2,null,null,null,null,5.1000001840293399E-3,null,4.9999998882412902E-3,9.9999997764825804E-3,5.1000001840293399E-3,5.1000001840293399E-3,null,null,null,null,null,null,null,null,null,null,null,null,null,null,null,null,null,null,null,null,null,null,null,null,null,null,{"$f":"SUM(E5:O5)","v":8.0258999019861277E-2},{"$f":"IF((E5+F5)>0,E5/(E5+F5),0)","v":1},{"$f":"IF((E5+F5)>0,F5/(E5+F5),0)","v":0},{"$f":"IF((G5+H5)>0,G5/(G5+H5),0)","v":0.5783903884313355},{"$f":"IF((G5+H5)>0,H5/(G5+H5),0)","v":0.42160961156866444},{"$f":"IF((I5+J5)>0,I5/(I5+J5),0)","v":0},{"$f":"IF((I5+J5)>0,J5/(I5+J5),0)","v":0},{"$f":"IF((K5+L5)>0,K5/(K5+L5),0)","v":0},{"$f":"IF((K5+L5)>0,L5/(K5+L5),0)","v":0},{"$f":"IF((M5+N5)>0,M5/(M5+N5),0)","v":1},{"$f":"IF((M5+N5)>0,N5/(M5+N5),0)","v":0},{"$f":"IF((O5+P5)>0,O5/(O5+P5),0)","v":0.33333333333333337},{"$f":"IF((O5+P5)>0,P5/(O5+P5),0)","v":0.66666666666666674},{"$f":"IF((Q5+R5)>0,Q5/(Q5+R5),0)","v":0.5},{"$f":"IF((Q5+R5)>0,R5/(Q5+R5),0)","v":0.5},{"$f":"IF((S5+T5)>0,S5/(S5+T5),0)","v":0},{"$f":"IF((S5+T5)>0,T5/(S5+T5),0)","v":0},{"$f":"IF((U5+V5)>0,U5/(U5+V5),0)","v":0},{"$f":"IF((U5+V5)>0,V5/(U5+V5),0)","v":0}]
[null,null,1,"Royalty, ruling monarch, deposed monarch, any member of royal family …",null,null,null,null,null,null,null,null,null,null,null,null,null,null,null,null,null,null,null,null,null,null,null,null,null,null,null,null,null,null,null,null,null,null,null,null,null,null,null,null,0,0,0,0,0,0,0,0,0,0,0,0,0,0,0,0,0,0,0]
[null,null,2,"Government official, politician, president, government minister, political leader, political party staff, spokesperson …",null,null,0.155023996718228,0.46507199015468398,2.27765003219247E-2,3.5600000992417301E-2,5.1000001840293399E-3,3.5353000275790698E-2,7.4764997698366599E-3,4.2829500045627397E-2,null,null,null,null,null,null,null,null,null,null,null,null,null,null,null,null,null,null,null,null,null,null,null,null,null,null,null,null,null,null,0.76923148846253808,0,0,0.25,0.75,0.39016555992760299,0.60983444007239695,0.1260722350890861,0.87392776491091384,0.14862043885942974,0.85137956114057034,0,0,0,0,0,0,0,0]
[null,null,3,"Government employee, public servant, bureaucrat, diplomat, intelligence officer …",null,null,null,null,5.1000001840293399E-3,7.4764997698366599E-3,null,5.1000001840293399E-3,null,null,null,null,null,null,null,null,null,null,null,null,null,null,null,null,null,null,null,null,null,null,null,null,null,null,null,null,null,null,null,null,1.7676500137895339E-2,0,0,0,0,0.40551824456228036,0.59448175543771964,0,1,0,0,0,0,0,0,0,0,0,0]
[null,null,4,"Police, military, para-military group, militia, prison officer, security officer, fire officer …",null,null,7.4764997698366599E-3,1.2576499953866E-2,null,1.2576499953866E-2,null,7.4764997698366599E-3,null,4.9999998882412902E-3,null,null,null,null,null,null,null,null,null,null,null,null,null,null,null,null,null,null,null,null,null,null,null,null,null,null,null,null,null,null,4.5105999335646609E-2,0,0,0.37283697565703511,0.62716302434296489,0,1,0,1,0,1,0,0,0,0,0,0,0,0]
[null,null,5,"Academic expert, education professional, teacher or university lecturer (all disciplines), nursery or kindergarten teacher, child care worker  …",null,null,null,null,null,null,2.00529997237027E-2,4.7582499217242002E-2,7.4764997698366599E-3,null,null,null,null,null,null,null,null,null,null,null,null,null,null,null,null,null,null,null,null,null,null,null,null,null,null,null,null,null,null,null,7.5111998710781364E-2,0,0,0,0,0,0,0.2964863132186219,0.70351368678137816,1,0,0,0,0,0,0,0,0,0]
[null,null,6,"Health or social service professional, doctor, nurse, laboratory technician, social worker, psychologist …",null,null,1.0100000072270601E-2,null,5.1000001840293399E-3,4.9999998882412902E-3,5.1000001840293399E-3,1.5300000552088E-2,null,1.0100000072270601E-2,null,null,null,null,null,null,null,null,null,null,null,null,null,null,null,null,null,null,null,null,null,null,null,null,null,null,null,null,null,null,5.0700000952929175E-2,0,0,1,0,0.50495050965705435,0.49504949034294571,0.25000000000000028,0.74999999999999978,0,1,0,0,0,0,0,0,0,0]
[null,null,7,"Science or technology professional, engineer, technician, computer specialist …",null,null,null,7.47649976983666E-2,null,null,null,5.1000001840293399E-3,null,null,null,null,null,null,null,null,null,null,null,null,null,null,null,null,null,null,null,null,null,null,null,null,null,null,null,null,null,null,null,null,7.9864997882395941E-2,0,0,0,1,0,0,0,1,0,0,0,0,0,0,0,0,0,0]
[null,null,8,"Media professional, journalist, video or film-maker, theatre director ...",null,null,null,null,null,null,5.1000001840293399E-3,5.1000001840293399E-3,null,7.4764997698366599E-3,null,null,null,null,null,null,null,null,null,null,null,null,null,null,null,null,null,null,null,null,null,null,null,null,null,null,null,null,null,null,1.7676500137895339E-2,0,0,0,0,0,0,0.5,0.5,0,1,0,0,0,0,0,0,0,0]
[null,null,9,"Lawyer, judge, magistrate, legal advocate, legal expert, legal clerk …",null,null,1.0200000368058701E-2,3.7729499861598001E-2,5.1000001840293399E-3,null,1.0200000368058701E-2,2.52000000327826E-2,null,null,null,null,null,null,null,null,null,null,null,null,null,null,null,null,null,null,null,null,null,null,null,null,null,null,null,null,null,null,null,null,8.8429500814527343E-2,0,0,0.21281257511939131,0.78718742488060867,1,0,0.28813560035486024,0.71186439964513981,0,0,0,0,0,0,0,0,0,0]
[null,null,10,"Business person, executive, manager, entrepreneur, economist, financial expert, stock broker …",null,null,null,4.9999998882412902E-3,null,2.0400000736117401E-2,null,null,null,null,null,null,null,null,null,null,null,null,null,null,null,null,null,null,null,null,null,null,null,null,null,null,null,null,null,null,null,null,null,null,2.5400000624358692E-2,0,0,0,1,0,1,0,0,0,0,0,0,0,0,0,0,0,0]
[null,null,11,"Office or service worker, non-management worker in office, store, restaurant, catering …",null,null,5.1000001840293399E-3,4.9999998882412902E-3,null,null,null,null,null,null,null,null,null,null,null,null,null,null,null,null,null,null,null,null,null,null,null,null,null,null,null,null,null,null,null,null,null,null,null,null,1.010000007227063E-2,0,0,0.50495050965705435,0.49504949034294571,0,0,0,0,0,0,0,0,0,0,0,0,0,0]
[null,null,12,"Tradesperson, artisan, labourer, truck driver, construction, factory, domestic worker …",null,null,7.4764997698366599E-3,1.2476499658078E-2,null,null,null,5.1000001840293399E-3,null,7.4764997698366599E-3,null,null,null,null,null,null,null,null,null,null,null,null,null,null,null,null,null,null,null,null,null,null,null,null,null,null,null,null,null,null,3.2529499381780659E-2,0,0,0.37470555726959431,0.62529444273040558,0,0,0,1,0,1,0,0,0,0,0,0,0,0]
[null,null,13,"Agriculture, mining, fishing, forestry worker …",null,null,null,null,null,null,null,null,null,null,null,null,null,null,null,null,null,null,null,null,null,null,null,null,null,null,null,null,null,null,null,null,null,null,null,null,null,null,null,null,0,0,0,0,0,0,0,0,0,0,0,0,0,0,0,0,0,0,0]
[null,null,14,"Religious figure, priest, monk, rabbi, mullah, nun …",null,null,null,7.4764997698366599E-3,null,null,null,null,null,null,null,null,null,null,null,null,null,null,null,null,null,null,null,null,null,null,null,null,null,null,null,null,null,null,null,null,null,null,null,null,7.4764997698366599E-3,0,0,0,1,0,0,0,0,0,0,0,0,0,0,0,0,0,0]
[null,null,15,"Activist or worker in civil society organisation, non-governmental organisation, trade union, human rights, consumer issues, environment, aid agency, peasant leader, United Nations …",null,null,null,null,7.4764997698366599E-3,5.0600000657141202E-2,1.2576499953866E-2,4.9999998882412902E-3,null,null,null,null,null,null,null,null,null,null,null,null,null,null,null,null,null,null,null,null,null,null,null,null,null,null,null,null,null,null,null,null,7.5653000269085155E-2,0,0,0,0,0.12873536998389207,0.87126463001610799,0.71552926161880093,0.28447073838119913,0,0,0,0,0,0,0,0,0,0]
[null,null,16,"Sex worker, prostitute …",null,null,null,null,null,null,null,null,null,null,null,null,null,null,null,null,null,null,null,null,null,null,null,null,null,null,null,null,null,null,null,null,null,null,null,null,null,null,null,null,0,0,0,0,0,0,0,0,0,0,0,0,0,0,0,0,0,0,0]
[null,null,17,"Celebrity, artist, actor, writer, singer, radio or television personality …",null,null,3.762949956581E-2,0.14997099665924901,null,null,5.1000001840293399E-3,null,null,null,null,null,null,null,null,null,null,null,null,null,null,null,null,null,null,null,null,null,null,null,null,null,null,null,null,null,null,null,null,null,0.19270049640908835,0,0,0.20058315581781275,0.79941684418218728,0,0,1,0,0,0,0,0,0,0,0,0,0,0]
[null,null,18,"Sportsperson, athlete, player, coach, referee …",null,null,5.1000001840293399E-3,9.9917997606098694E-2,null,null,null,4.9999998882412902E-3,null,7.4764997698366599E-3,null,null,null,null,null,null,null,null,null,null,null,null,null,null,null,null,null,null,null,null,null,null,null,null,null,null,null,null,null,null,0.11749449744820599,0,0,4.856310624224025E-2,0.95143689375775975,0,0,0,1,0,1,0,0,0,0,0,0,0,0]
[null,null,19,"Student, pupil, schoolchild",null,null,5.1000001840293399E-3,null,null,null,null,null,null,null,null,null,7.4764997698366599E-3,null,null,null,null,null,null,null,null,null,null,null,null,null,null,null,null,null,null,null,null,null,null,null,null,null,null,null,5.1000001840293399E-3,0,0,1,0,0,0,0,0,0,0,0,0,1,0,0,0,0,0]
[null,null,20,"Homemaker, parent, either female or male. Code this only if no other occupation is given, e.g. a doctor who is also described as a mother is coded 6.",null,null,2.2676500026136599E-2,null,null,null,null,null,5.1000001840293399E-3,5.1000001840293399E-3,null,null,null,null,null,null,null,null,null,null,null,null,null,null,null,null,null,null,null,null,null,null,null,null,null,null,null,null,null,null,3.2876500394195277E-2,0,0,1,0,0,0,0,0,0.5,0.5,0,0,0,0,0,0,0,0]
[null,null,21,"Child, young person (up to 18 years). Code this only if no other occupation/position is given, e.g. a schoolchild is coded 19; a child labourer is coded 12.",null,null,5.1000001840293399E-3,2.55000009201467E-2,null,null,null,null,null,null,null,null,null,null,null,null,null,null,null,null,null,null,null,null,null,null,null,null,null,null,null,null,null,null,null,null,null,null,null,null,3.0600001104176041E-2,0,0,0.16666666666666666,0.83333333333333326,0,0,0,0,0,0,0,0,0,0,0,0,0,0]
[null,null,22,"Villager or resident engaged in unspecified occupation. Code this only if no other occupation is given, e.g. a teacher who is also described as a villager is coded 5.",null,null,1.2576499953866E-2,null,null,null,null,null,1.0200000368058701E-2,1.0200000368058701E-2,2.7776500210165998E-2,7.4764997698366599E-3,7.4764997698366599E-3,1.0200000368058701E-2,null,null,null,null,null,null,null,null,null,null,null,null,null,null,null,null,null,null,null,null,null,null,null,null,null,null,6.0753000900149401E-2,0,0,1,0,0,0,0,0,0.5,0.5,0.78791876509580128,0.21208123490419883,0.42296267425746442,0.57703732574253563,0,0,0,0]
[null,null,23,"Retired person, pensioner. Code this only if no other occupation is given, e.g. a retired police officer is coded 4; a retired politician is coded 2.",null,null,1.0100000072270601E-2,null,null,null,null,null,1.5300000552088E-2,1.5300000552088E-2,7.4764997698366599E-3,null,null,null,null,null,null,null,null,null,null,null,null,null,null,null,null,null,null,null,null,null,null,null,null,null,null,null,null,null,4.8176500946283257E-2,0,0,1,0,0,0,0,0,0.5,0.5,1,0,0,0,0,0,0,0]
[null,null,24,"Criminal, suspect. Code this only if no other occupation is given, e.g, a lawyer suspected of committing a crime is coded 9; a former politician who has committed a crime is coded 2.",null,null,7.4764997698366599E-3,6.0453000012785203E-2,null,null,null,null,null,null,null,null,null,null,null,null,null,null,null,null,null,null,null,null,null,null,null,null,null,null,null,null,null,null,null,null,null,null,null,null,6.7929499782621861E-2,0,0,0.11006263543470614,0.88993736456529393,0,0,0,0,0,0,0,0,0,0,0,0,0,0]
[null,null,25,"Unemployed. Code this only if no other occupation is given, e.g. an unemployed actor is coded 17; an unemployed person who commits a crime is coded 24.",null,null,null,null,null,null,null,null,4.9999998882412902E-3,null,null,null,null,null,null,null,null,null,null,null,null,null,null,null,null,null,null,null,null,null,null,null,null,null,null,null,null,null,null,null,4.9999998882412902E-3,0,0,0,0,0,0,0,0,1,0,0,0,0,0,0,0,0,0]
[null,null,26,"Other. Use only as a last resort (specify the occupation/position in 'Comments' section of coding sheet)",null,null,null,2.0400000736117401E-2,null,5.1000001840293399E-3,null,1.5300000552088E-2,null,1.2576499953866E-2,null,null,null,null,null,null,null,null,null,null,null,null,null,null,null,null,null,null,null,null,null,null,null,null,null,null,null,null,null,null,5.3376501426100738E-2,0,0,0,1,0,1,0,1,0,1,0,0,0,0,0,0,0,0]
[null,null,27,"NA – Use this where you are coding a secondary source only",null,null,null,null,null,null,null,null,null,null,null,null,null,null,null,null,null,null,null,null,null,null,null,null,null,null,null,null,null,null,null,null,null,null,null,null,null,null,null,null,0,0,0,0,0,0,0,0,0,0,0,0,0,0,0,0,0,0,0]
[null,null,null,null,null,null,null,null,null,null,null,null,null,null,null,null,null,null,null,null,null,null,null,null,null,null,null,null,null,null,null,null,null,null,null,null,null,null,null,null,null,null,null,null,0,0,0,0,0,0,0,0,0,0,0,0,0,0,0,0,0,0,0]
[null,null,null,null,null,null,null,null,null,null,null,null,null,null,null,null,null,null,null,null,null,null,null,null,null,null,null,null,null,null,null,null,null,null,null,null,null,null,null,null,null,null,null,null,0,0,0,0,0,0,0,0,0,0,0,0,0,0,0,0,0,0,0]
[null,null,null,null,null,null,null,null,null,null,null,null,null,null,null,null,null,null,null,null,null,null,null,null,null,null,null,null,null,null,null,null,null,null,null,null,null,null,null,null,null,null,null,null,0,0,0,0,0,0,0,0,0,0,0,0,0,0,0,0,0,0,0]
[null,null,null,null,null,null,null,null,null,null,null,null,null,null,null,null,null,null,null,null,null,null,null,null,null,null,null,null,null,null,null,null,null,null,null,null,null,null,null,null,null,null,null,null,0,0,0,0,0,0,0,0,0,0,0,0,0,0,0,0,0,0,0]
[null,null,null,null,null,null,null,null,null,null,null,null,null,null,null,null,null,null,null,null,null,null,null,null,null,null,null,null,null,null,null,null,null,null,null,null,null,null,null,null,null,null,null,null,{"$f":"SUM(E37:O37)","v":0},{"$f":"IF((E37+F37)>0,E37/(E37+F37),0)","v":0},{"$f":"IF((E37+F37)>0,F37/(E37+F37),0)","v":0},{"$f":"IF((G37+H37)>0,G37/(G37+H37),0)","v":0},{"$f":"IF((G37+H37)>0,H37/(G37+H37),0)","v":0},{"$f":"IF((I37+J37)>0,I37/(I37+J37),0)","v":0},{"$f":"IF((I37+J37)>0,J37/(I37+J37),0)","v":0},{"$f":"IF((K37+L37)>0,K37/(K37+L37),0)","v":0},{"$f":"IF((K37+L37)>0,L37/(K37+L37),0)","v":0},{"$f":"IF((M37+N37)>0,M37/(M37+N37),0)","v":0},{"$f":"IF((M37+N37)>0,N37/(M37+N37),0)","v":0},{"$f":"IF((O37+P37)>0,O37/(O37+P37),0)","v":0},{"$f":"IF((O37+P37)>0,P37/(O37+P37),0)","v":0},{"$f":"IF((Q37+R37)>0,Q37/(Q37+R37),0)","v":0},{"$f":"IF((Q37+R37)>0,R37/(Q37+R37),0)","v":0},{"$f":"IF((S37+T37)>0,S37/(S37+T37),0)","v":0},{"$f":"IF((S37+T37)>0,T37/(S37+T37),0)","v":0},{"$f":"IF((U37+V37)>0,U37/(U37+V37),0)","v":0},{"$f":"IF((U37+V37)>0,V37/(U37+V37),0)","v":0}]
[null,null,null,null,null,null,null,null,null,null,null,null,null,null,null,null,null,null,null,null,null,null,null,null,null,null,null,null,null,null,null,null,null,null,null,null,null,null,null,null,null,null,null,null,0,0,0,0,0,0,0,0,0,0,0,0,0,0,0,0,0,0,0]
[null,null,null,null,null,null,null,null,null,null,null,null,null,null,null,null,null,null,null,null,null,null,null,null,null,null,null,null,null,null,null,null,null,null,null,null,null,null,null,null,null,null,null,null,0,0,0,0,0,0,0,0,0,0,0,0,0,0,0,0,0,0,0]
[null,null,null,null,null,null,null,null,null,null,null,null,null,null,null,null,null,null,null,null,null,null,null,null,null,null,null,null,null,null,null,null,null,null,null,null,null,null,null,null,null,null,null,null,0,0,0,0,0,0,0,0,0,0,0,0,0,0,0,0,0,0,0]
[null,null,null,null,null,null,null,null,null,null,null,null,null,null,null,null,null,null,null,null,null,null,null,null,null,null,null,null,null,null,null,null,null,null,null,null,null,null,null,null,null,null,null,null,0,0,0,0,0,0,0,0,0,0,0,0,0,0,0,0,0,0,0]
[null,null,null,null,null,null,null,null,null,null,null,null,null,null,null,null,null,null,null,null,null,null,null,null,null,null,null,null,null,null,null,null,null,null,null,null,null,null,null,null,null,null,null,null,0,0,0,0,0,0,0,0,0,0,0,0,0,0,0,0,0,0,0]
[null,null,null,null,null,null,null,null,null,null,null,null,null,null,null,null,null,null,null,null,null,null,null,null,null,null,null,null,null,null,null,null,null,null,null,null,null,null,null,null,null,null,null,null,0,0,0,0,0,0,0,0,0,0,0,0,0,0,0,0,0,0,0]
[null,null,null,null,null,null,null,null,null,null,null,null,null,null,null,null,null,null,null,null,null,null,null,null,null,null,null,null,null,null,null,null,null,null,null,null,null,null,null,null,null,null,null,null,0,0,0,0,0,0,0,0,0,0,0,0,0,0,0,0,0,0,0]
[null,null,null,null,null,null,null,null,null,null,null,null,null,null,null,null,null,null,null,null,null,null,null,null,null,null,null,null,null,null,null,null,null,null,null,null,null,null,null,null,null,null,null,null,0,0,0,0,0,0,0,0,0,0,0,0,0,0,0,0,0,0,0]
[null,null,null,null,null,null,null,null,null,null,null,null,null,null,null,null,null,null,null,null,null,null,null,null,null,null,null,null,null,null,null,null,null,null,null,null,null,null,null,null,null,null,null,null,0,0,0,0,0,0,0,0,0,0,0,0,0,0,0,0,0,0,0]
[null,null,null,null,null,null,null,null,null,null,null,null,null,null,null,null,null,null,null,null,null,null,null,null,null,null,null,null,null,null,null,null,null,null,null,null,null,null,null,null,null,null,null,null,0,0,0,0,0,0,0,0,0,0,0,0,0,0,0,0,0,0,0]
[null,null,null,null,null,null,null,null,null,null,null,null,null,null,null,null,null,null,null,null,null,null,null,null,null,null,null,null,null,null,null,null,null,null,null,null,null,null,null,null,null,null,null,null,0,0,0,0,0,0,0,0,0,0,0,0,0,0,0,0,0,0,0]
[null,null,null,null,null,null,null,null,null,null,null,null,null,null,null,null,null,null,null,null,null,null,null,null,null,null,null,null,null,null,null,null,null,null,null,null,null,null,null,null,null,null,null,null,0,0,0,0,0,0,0,0,0,0,0,0,0,0,0,0,0,0,0]
[null,null,null,null,null,null,null,null,null,null,null,null,null,null,null,null,null,null,null,null,null,null,null,null,null,null,null,null,null,null,null,null,null,null,null,null,null,null,null,null,null,null,null,null,0,0,0,0,0,0,0,0,0,0,0,0,0,0,0,0,0,0,0]
[null,null,null,null,null,null,null,null,null,null,null,null,null,null,null,null,null,null,null,null,null,null,null,null,null,null,null,null,null,null,null,null,null,null,null,null,null,null,null,null,null,null,null,null,0,0,0,0,0,0,0,0,0,0,0,0,0,0,0,0,0,0,0]
[null,null,null,null,null,null,null,null,null,null,null,null,null,null,null,null,null,null,null,null,null,null,null,null,null,null,null,null,null,null,null,null,null,null,null,null,null,null,null,null,null,null,null,null,0,0,0,0,0,0,0,0,0,0,0,0,0,0,0,0,0,0,0]
[null,null,null,null,null,null,null,null,null,null,null,null,null,null,null,null,null,null,null,null,null,null,null,null,null,null,null,null,null,null,null,null,null,null,null,null,null,null,null,null,null,null,null,null,0,0,0,0,0,0,0,0,0,0,0,0,0,0,0,0,0,0,0]
[null,null,null,null,null,null,null,null,null,null,null,null,null,null,null,null,null,null,null,null,null,null,null,null,null,null,null,null,null,null,null,null,null,null,null,null,null,null,null,null,null,null,null,null,0,0,0,0,0,0,0,0,0,0,0,0,0,0,0,0,0,0,0]
[null,null,null,null,null,null,null,null,null,null,null,null,null,null,null,null,null,null,null,null,null,null,null,null,null,null,null,null,null,null,null,null,null,null,null,null,null,null,null,null,null,null,null,null,0,0,0,0,0,0,0,0,0,0,0,0,0,0,0,0,0,0,0]
[null,null,null,null,null,null,null,null,null,null,null,null,null,null,null,null,null,null,null,null,null,null,null,null,null,null,null,null,null,null,null,null,null,null,null,null,null,null,null,null,null,null,null,null,0,0,0,0,0,0,0,0,0,0,0,0,0,0,0,0,0,0,0]
[null,null,null,null,null,null,null,null,null,null,null,null,null,null,null,null,null,null,null,null,null,null,null,null,null,null,null,null,null,null,null,null,null,null,null,null,null,null,null,null,null,null,null,null,0,0,0,0,0,0,0,0,0,0,0,0,0,0,0,0,0,0,0]
[null,null,null,null,null,null,null,null,null,null,null,null,null,null,null,null,null,null,null,null,null,null,null,null,null,null,null,null,null,null,null,null,null,null,null,null,null,null,null,null,null,null,null,null,0,0,0,0,0,0,0,0,0,0,0,0,0,0,0,0,0,0,0]
[null,null,null,null,null,null,null,null,null,null,null,null,null,null,null,null,null,null,null,null,null,null,null,null,null,null,null,null,null,null,null,null,null,null,null,null,null,null,null,null,null,null,null,null,0,0,0,0,0,0,0,0,0,0,0,0,0,0,0,0,0,0,0]
[null,null,null,null,null,null,null,null,null,null,null,null,null,null,null,null,null,null,null,null,null,null,null,null,null,null,null,null,null,null,null,null,null,null,null,null,null,null,null,null,null,null,null,null,0,0,0,0,0,0,0,0,0,0,0,0,0,0,0,0,0,0,0]
[null,null,null,null,null,null,null,null,null,null,null,null,null,null,null,null,null,null,null,null,null,null,null,null,null,null,null,null,null,null,null,null,null,null,null,null,null,null,null,null,null,null,null,null,0,0,0,0,0,0,0,0,0,0,0,0,0,0,0,0,0,0,0]
[null,null,null,null,null,null,null,null,null,null,null,null,null,null,null,null,null,null,null,null,null,null,null,null,null,null,null,null,null,null,null,null,null,null,null,null,null,null,null,null,null,null,null,null,0,0,0,0,0,0,0,0,0,0,0,0,0,0,0,0,0,0,0]
[null,null,null,null,null,null,null,null,null,null,null,null,null,null,null,null,null,null,null,null,null,null,null,null,null,null,null,null,null,null,null,null,null,null,null,null,null,null,null,null,null,null,null,null,0,0,0,0,0,0,0,0,0,0,0,0,0,0,0,0,0,0,0]
[null,null,null,null,null,null,null,null,null,null,null,null,null,null,null,null,null,null,null,null,null,null,null,null,null,null,null,null,null,null,null,null,null,null,null,null,null,null,null,null,null,null,null,null,0,0,0,0,0,0,0,0,0,0,0,0,0,0,0,0,0,0,0]
[null,null,null,null,null,null,null,null,null,null,null,null,null,null,null,null,null,null,null,null,null,null,null,null,null,null,null,null,null,null,null,null,null,null,null,null,null,null,null,null,null,null,null,null,0,0,0,0,0,0,0,0,0,0,0,0,0,0,0,0,0,0,0]
[null,null,null,null,null,null,null,null,null,null,null,null,null,null,null,null,null,null,null,null,null,null,null,null,null,null,null,null,null,null,null,null,null,null,null,null,null,null,null,null,null,null,null,null,0,0,0,0,0,0,0,0,0,0,0,0,0,0,0,0,0,0,0]
[null,null,null,null,null,null,null,null,null,null,null,null,null,null,null,null,null,null,null,null,null,null,null,null,null,null,null,null,null,null,null,null,null,null,null,null,null,null,null,null,null,null,null,null,0,0,0,0,0,0,0,0,0,0,0,0,0,0,0,0,0,0,0]
[null,null,null,"TOTAL",null,null,{"$f":"SUM(G6:G30)","v":0.30113599682226783},{"$f":"SUM(H6:H30)","v":0.95593798207119129},4.555300064384938E-2,0.13165300199761984,6.322950078174476E-2,0.16131200036033991,5.055300053209065E-2,0.11095900041982532,3.5252999980002656E-2,7.4764997698366599E-3,1.495299953967332E-2,1.0200000368058701E-2,0,0,null,null,null,null,null,null,null,null,null,null,null,null,null,null,null,null,null,null,null,null,null,null,null,null,1.8555864836089315,0,0,0.23955312247203078,0.76044687752796924,0.25706240175178585,0.74293759824821426,0.28159382768949515,0.71840617231050496,0.31299841642814441,0.68700158357185548,0.82502721039076121,0.1749727896092389,0.59448175543771919,0.40551824456228081,0,0,0,0]
[]
[null,null,{"$f":"C5","v":0},"Not stated. Story does not describe the person’s occupation or position.",{"$f":"IF(E$68>0,E5/E$68,0)","v":0},0,0.12495849039269505,2.8693806201026701E-2,0,0,0,0,0.10088422309951513,0,0.14183189774139934,1.3375242539064576,0.34106870467681166,0.499999999999999,0,0,0,0,0,0,0,0,0]
[null,null,1,"Royalty, ruling monarch, deposed monarch, any member of royal family …",{"$f":"IF(E$68>0,E6/E$68,0)","v":0},0,0,0,0,0,0,0,0,0,0,0,0,0,0,0,0,0,0,0,0,0,0]
[null,null,2,"Government official, politician, president, government minister, political leader, political party staff, spokesperson …",{"$f":"IF(E$68>0,E7/E$68,0)","v":0},0,0.51479729542172281,0.48650853808217948,0.50000000000000022,0.27040781791714036,8.0658555278389624E-2,0.21915914623102381,0.14789428305231134,0.38599392463502175,0,0,0,0,0,0,0,0,0,0,0,0,0]
[null,null,3,"Government employee, public servant, bureaucrat, diplomat, intelligence officer …",{"$f":"IF(E$68>0,E8/E$68,0)","v":0},0,0,0,0.11195750251236079,5.6789436293840284E-2,0,3.1615751913291773E-2,0,0,0,0,0,0,0,0,0,0,0,0,0,0,0]
[null,null,4,"Police, military, para-military group, militia, prison officer, security officer, fire officer …",{"$f":"IF(E$68>0,E9/E$68,0)","v":0},0,2.482765211974752E-2,1.3156188152098547E-2,0,9.552763524597313E-2,0,4.6348069288928297E-2,0,4.5061688275157968E-2,0,0,0,0,0,0,0,0,0,0,0,0,0]
[null,null,5,"Academic expert, education professional, teacher or university lecturer (all disciplines), nursery or kindergarten teacher, child care worker  …",{"$f":"IF(E$68>0,E10/E$68,0)","v":0},0,0,0,0,0,0.31714626046031164,0.29497185027122513,0.14789428305231134,0,0,0,0,0,0,0,0,0,0,0,0,0,0]
[null,null,6,"Health or social service professional, doctor, nurse, laboratory technician, social worker, psychologist …",{"$f":"IF(E$68>0,E11/E$68,0)","v":0},0,3.3539663736154655E-2,0,0.11195750251236079,3.7978624204343517E-2,8.0658555278389624E-2,9.4847255739875194E-2,0,9.1024613001704807E-2,0,0,0,0,0,0,0,0,0,0,0,0,0]
[null,null,7,"Science or technology professional, engineer, technician, computer specialist …",{"$f":"IF(E$68>0,E12/E$68,0)","v":0},0,0,7.8211138275284739E-2,0,0,0,3.1615751913291773E-2,0,0,0,0,0,0,0,0,0,0,0,0,0,0,0]
[null,null,8,"Media professional, journalist, video or film-maker, theatre director ...",{"$f":"IF(E$68>0,E13/E$68,0)","v":0},0,0,0,0,0,8.0658555278389624E-2,3.1615751913291773E-2,0,6.7380741909610922E-2,0,0,0,0,0,0,0,0,0,0,0,0,0]
[null,null,9,"Lawyer, judge, magistrate, legal advocate, legal expert, legal clerk …",{"$f":"IF(E$68>0,E14/E$68,0)","v":0},0,3.3871740594595204E-2,3.9468564456295645E-2,0.11195750251236079,0,0.16131711055677958,0.15621900402010178,0,0,0,0,0,0,0,0,0,0,0,0,0,0,0]
[null,null,10,"Business person, executive, manager, entrepreneur, economist, financial expert, stock broker …",{"$f":"IF(E$68>0,E15/E$68,0)","v":0},0,0,5.2304647184412498E-3,0,0.15495279580853169,0,0,0,0,0,0,0,0,0,0,0,0,0,0,0,0,0]
[null,null,11,"Office or service worker, non-management worker in office, store, restaurant, catering …",{"$f":"IF(E$68>0,E16/E$68,0)","v":0},0,1.6935870297297567E-2,5.2304647184412498E-3,0,0,0,0,0,0,0,0,0,0,0,0,0,0,0,0,0,0,0]
[null,null,12,"Tradesperson, artisan, labourer, truck driver, construction, factory, domestic worker …",{"$f":"IF(E$68>0,E17/E$68,0)","v":0},0,2.482765211974752E-2,1.3051578545969776E-2,0,0,0,3.1615751913291773E-2,0,6.7380741909610922E-2,0,0,0,0,0,0,0,0,0,0,0,0,0]
[null,null,13,"Agriculture, mining, fishing, forestry worker …",{"$f":"IF(E$68>0,E18/E$68,0)","v":0},0,0,0,0,0,0,0,0,0,0,0,0,0,0,0,0,0,0,0,0,0,0]
[null,null,14,"Religious figure, priest, monk, rabbi, mullah, nun …",{"$f":"IF(E$68>0,E19/E$68,0)","v":0},0,0,7.8211138275284739E-3,0,0,0,0,0,0,0,0,0,0,0,0,0,0,0,0,0,0,0]
[null,null,15,"Activist or worker in civil society organisation, non-governmental organisation, trade union, human rights, consumer issues, environment, aid agency, peasant leader, United Nations …",{"$f":"IF(E$68>0,E20/E$68,0)","v":0},0,0,0,0.16412749246291738,0.38434369053017114,0.19890240786935029,3.0995833397839307E-2,0,0,0,0,0,0,0,0,0,0,0,0,0,0,0]
[null,null,16,"Sex worker, prostitute …",{"$f":"IF(E$68>0,E21/E$68,0)","v":0},0,0,0,0,0,0,0,0,0,0,0,0,0,0,0,0,0,0,0,0,0,0]
[null,null,17,"Celebrity, artist, actor, writer, singer, radio or television personality …",{"$f":"IF(E$68>0,E22/E$68,0)","v":0},0,0.12495849039269505,0.15688360486975636,0,0,8.0658555278389624E-2,0,0,0,0,0,0,0,0,0,0,0,0,0,0,0,0]
[null,null,18,"Sportsperson, athlete, player, coach, referee …",{"$f":"IF(E$68>0,E23/E$68,0)","v":0},0,1.6935870297297567E-2,0.10452351457948192,0,0,0,3.0995833397839307E-2,0,6.7380741909610922E-2,0,0,0,0,0,0,0,0,0,0,0,0,0]
[null,null,19,"Student, pupil, schoolchild",{"$f":"IF(E$68>0,E24/E$68,0)","v":0},0,1.6935870297297567E-2,0,0,0,0,0,0,0,0,0,0.5,0,0,0,0,0,0,0,0,0,0]
[null,null,{"$f":"C25","v":20},"Homemaker, parent, either female or male. Code this only if no other occupation is given, e.g. a doctor who is also described as a mother is coded 6.",{"$f":"IF(E$68>0,E25/E$68,0)","v":0},0,7.5303186153199739E-2,0,0,0,0,0,0.10088422309951513,4.5962924726547109E-2,0,0,0,0,0,0,0,0,0,0,0,0,0]
[null,null,21,"Child, young person (up to 18 years). Code this only if no other occupation/position is given, e.g. a schoolchild is coded 19; a child labourer is coded 12.",{"$f":"IF(E$68>0,E26/E$68,0)","v":0},0,1.6935870297297567E-2,2.6675371622850368E-2,0,0,0,0,0,0,0,0,0,0,0,0,0,0,0,0,0,0,0]
[null,null,22,"Villager or resident engaged in unspecified occupation. Code this only if no other occupation is given, e.g. a teacher who is also described as a villager is coded 5.",{"$f":"IF(E$68>0,E27/E$68,0)","v":0},0,4.1763522417045083E-2,0,0,0,0,0,0.20176844619903067,9.1925849453094399E-2,0.78791876509580128,1,0.5,1,0,0,0,0,0,0,0,0,0]
[null,null,23,"Retired person, pensioner. Code this only if no other occupation is given, e.g. a retired police officer is coded 4; a retired politician is coded 2.",{"$f":"IF(E$68>0,E28/E$68,0)","v":0},0,3.3539663736154655E-2,0,0,0,0,0,0.30265266929854495,0.13788877417964115,0.21208123490419883,0,0,0,0,0,0,0,0,0,0,0,0]
[null,null,24,"Criminal, suspect. Code this only if no other occupation is given, e.g, a lawyer suspected of committing a crime is coded 9; a former politician who has committed a crime is coded 2.",{"$f":"IF(E$68>0,E29/E$68,0)","v":0},0,2.482765211974752E-2,6.323945815167234E-2,0,0,0,0,0,0,0,0,0,0,0,0,0,0,0,0,0,0,0]
[null,null,25,"Unemployed. Code this only if no other occupation is given, e.g. an unemployed actor is coded 17; an unemployed person who commits a crime is coded 24.",{"$f":"IF(E$68>0,E30/E$68,0)","v":0},0,0,0,0,0,0,0,9.8906095298286589E-2,0,0,0,0,0,0,0,0,0,0,0,0,0,0]
[null,null,26,"Other. Use only as a last resort (specify the occupation/position in 'Comments' section of coding sheet)",{"$f":"IF(E$68>0,E31/E$68,0)","v":0},0,0,2.1340297298280339E-2,0,3.8738198952132839E-2,0,9.4847255739875194E-2,0,0.11334366663615804,0,0,0,0,0,0,0,0,0,0,0,0,0]
[null,null,27,"NA – Use this where you are coding a secondary source only",{"$f":"IF(E$68>0,E32/E$68,0)","v":0},0,0,0,0,0,0,0,0,0,0,0,0,0,0,0,0,0,0,0,0,0,0]
[null,null,0,0,{"$f":"IF(E$68>0,E33/E$68,0)","v":0},0,0,0,0,0,0,0,0,0,0,0,0,0,0,0,0,0,0,0,0,0,0]
[null,null,0,0,{"$f":"IF(E$68>0,E34/E$68,0)","v":0},0,0,0,0,0,0,0,0,0,0,0,0,0,0,0,0,0,0,0,0,0,0]
[null,null,0,0,{"$f":"IF(E$68>0,E35/E$68,0)","v":0},0,0,0,0,0,0,0,0,0,0,0,0,0,0,0,0,0,0,0,0,0,0]
[null,null,0,0,{"$f":"IF(E$68>0,E36/E$68,0)","v":0},0,0,0,0,0,0,0,0,0,0,0,0,0,0,0,0,0,0,0,0,0,0]
[null,null,0,0,{"$f":"IF(E$68>0,E37/E$68,0)","v":0},0,0,0,0,0,0,0,0,0,0,0,0,0,0,0,0,0,0,0,0,0,0]
[null,null,0,0,{"$f":"IF(E$68>0,E38/E$68,0)","v":0},0,0,0,0,0,0,0,0,0,0,0,0,0,0,0,0,0,0,0,0,0,0]
[null,null,0,0,{"$f":"IF(E$68>0,E39/E$68,0)","v":0},0,0,0,0,0,0,0,0,0,0,0,0,0,0,0,0,0,0,0,0,0,0]
[null,null,0,0,{"$f":"IF(E$68>0,E40/E$68,0)","v":0},0,0,0,0,0,0,0,0,0,0,0,0,0,0,0,0,0,0,0,0,0,0]
[null,null,0,0,{"$f":"IF(E$68>0,E41/E$68,0)","v":0},0,0,0,0,0,0,0,0,0,0,0,0,0,0,0,0,0,0,0,0,0,0]
[null,null,0,0,{"$f":"IF(E$68>0,E42/E$68,0)","v":0},0,0,0,0,0,0,0,0,0,0,0,0,0,0,0,0,0,0,0,0,0,0]
[null,null,0,0,{"$f":"IF(E$68>0,E43/E$68,0)","v":0},0,0,0,0,0,0,0,0,0,0,0,0,0,0,0,0,0,0,0,0,0,0]
[null,null,0,0,{"$f":"IF(E$68>0,E44/E$68,0)","v":0},0,0,0,0,0,0,0,0,0,0,0,0,0,0,0,0,0,0,0,0,0,0]
[null,null,{"$f":"C45","v":0},0,{"$f":"IF(E$68>0,E45/E$68,0)","v":0},0,0,0,0,0,0,0,0,0,0,0,0,0,0,0,0,0,0,0,0,0,0]
[null,null,0,0,{"$f":"IF(E$68>0,E46/E$68,0)","v":0},0,0,0,0,0,0,0,0,0,0,0,0,0,0,0,0,0,0,0,0,0,0]
[null,null,0,0,{"$f":"IF(E$68>0,E47/E$68,0)","v":0},0,0,0,0,0,0,0,0,0,0,0,0,0,0,0,0,0,0,0,0,0,0]
[null,null,0,0,{"$f":"IF(E$68>0,E48/E$68,0)","v":0},0,0,0,0,0,0,0,0,0,0,0,0,0,0,0,0,0,0,0,0,0,0]
[null,null,0,0,{"$f":"IF(E$68>0,E49/E$68,0)","v":0},0,0,0,0,0,0,0,0,0,0,0,0,0,0,0,0,0,0,0,0,0,0]
[null,null,0,0,{"$f":"IF(E$68>0,E50/E$68,0)","v":0},0,0,0,0,0,0,0,0,0,0,0,0,0,0,0,0,0,0,0,0,0,0]
[null,null,0,0,{"$f":"IF(E$68>0,E51/E$68,0)","v":0},0,0,0,0,0,0,0,0,0,0,0,0,0,0,0,0,0,0,0,0,0,0]
[null,null,0,0,{"$f":"IF(E$68>0,E52/E$68,0)","v":0},0,0,0,0,0,0,0,0,0,0,0,0,0,0,0,0,0,0,0,0,0,0]
[null,null,0,0,{"$f":"IF(E$68>0,E53/E$68,0)","v":0},0,0,0,0,0,0,0,0,0,0,0,0,0,0,0,0,0,0,0,0,0,0]
[null,null,0,0,{"$f":"IF(E$68>0,E54/E$68,0)","v":0},0,0,0,0,0,0,0,0,0,0,0,0,0,0,0,0,0,0,0,0,0,0]
[null,null,0,0,{"$f":"IF(E$68>0,E55/E$68,0)","v":0},0,0,0,0,0,0,0,0,0,0,0,0,0,0,0,0,0,0,0,0,0,0]
[null,null,0,0,{"$f":"IF(E$68>0,E56/E$68,0)","v":0},0,0,0,0,0,0,0,0,0,0,0,0,0,0,0,0,0,0,0,0,0,0]
[null,null,0,0,{"$f":"IF(E$68>0,E57/E$68,0)","v":0},0,0,0,0,0,0,0,0,0,0,0,0,0,0,0,0,0,0,0,0,0,0]
[null,null,0,0,{"$f":"IF(E$68>0,E58/E$68,0)","v":0},0,0,0,0,0,0,0,0,0,0,0,0,0,0,0,0,0,0,0,0,0,0]
[null,null,0,0,{"$f":"IF(E$68>0,E59/E$68,0)","v":0},0,0,0,0,0,0,0,0,0,0,0,0,0,0,0,0,0,0,0,0,0,0]
[null,null,0,0,{"$f":"IF(E$68>0,E60/E$68,0)","v":0},0,0,0,0,0,0,0,0,0,0,0,0,0,0,0,0,0,0,0,0,0,0]
[null,null,0,0,{"$f":"IF(E$68>0,E61/E$68,0)","v":0},0,0,0,0,0,0,0,0,0,0,0,0,0,0,0,0,0,0,0,0,0,0]
[null,null,0,0,{"$f":"IF(E$68>0,E62/E$68,0)","v":0},0,0,0,0,0,0,0,0,0,0,0,0,0,0,0,0,0,0,0,0,0,0]
[]
[]
[]
[]
[]
[]
[]
[]
[]
[]
[]
[]
[]
[]
[]
[]
[]
[]
[]
[]
["COUNT"]
[null,null,null,null,{"$f":"E3","v":"Female"},"Male","Female","Male","Female","Male","Female","Male","Female","Male","Female","Male","Female","Male","Female","Male"]
[null,null,null,null,{"$f":"E4","v":0},0,0,0,0,0,0,0,0,0,0,0,0,0,0,0]
[null,null,{"$f":"C5","v":0},"Not stated. Story does not describe the person’s occupation or position.",1,0,6,4,0,0,0,0,1,0,1,2,1,1,0,0,0,0]
[null,null,1,"Royalty, ruling monarch, deposed monarch, any member of royal family …",0,0,0,0,0,0,0,0,0,0,0,0,0,0,0,0,0,0]
[null,null,2,"Government official, politician, president, government minister, political leader, political party staff, spokesperson …",0,0,23,69,4,7,1,6,1,7,0,0,0,0,0,0,0,0]
[null,null,3,"Government employee, public servant, bureaucrat, diplomat, intelligence officer …",0,0,0,0,1,1,0,1,0,0,0,0,0,0,0,0,0,0]
[null,null,4,"Police, military, para-military group, militia, prison officer, security officer, fire officer …",0,0,1,2,0,2,0,1,0,1,0,0,0,0,0,0,0,0]
[null,null,5,"Academic expert, education professional, teacher or university lecturer (all disciplines), nursery or kindergarten teacher, child care worker  …",0,0,0,0,0,0,3,7,1,0,0,0,0,0,0,0,0,0]
[null,null,6,"Health or social service professional, doctor, nurse, laboratory technician, social worker, psychologist …",0,0,2,0,1,1,1,3,0,2,0,0,0,0,0,0,0,0]
[null,null,7,"Science or technology professional, engineer, technician, computer specialist …",0,0,0,10,0,0,0,1,0,0,0,0,0,0,0,0,0,0]
[null,null,8,"Media professional, journalist, video or film-maker, theatre director ...",0,0,0,0,0,0,1,1,0,1,0,0,0,0,0,0,0,0]
[null,null,9,"Lawyer, judge, magistrate, legal advocate, legal expert, legal clerk …",0,0,2,6,1,0,2,5,0,0,0,0,0,0,0,0,0,0]
[null,null,10,"Business person, executive, manager, entrepreneur, economist, financial expert, stock broker …",0,0,0,1,0,4,0,0,0,0,0,0,0,0,0,0,0,0]
[null,null,11,"Office or service worker, non-management worker in office, store, restaurant, catering …",0,0,1,1,0,0,0,0,0,0,0,0,0,0,0,0,0,0]
[null,null,12,"Tradesperson, artisan, labourer, truck driver, construction, factory, domestic worker …",0,0,1,2,0,0,0,1,0,1,0,0,0,0,0,0,0,0]
[null,null,13,"Agriculture, mining, fishing, forestry worker …",0,0,0,0,0,0,0,0,0,0,0,0,0,0,0,0,0,0]
[null,null,14,"Religious figure, priest, monk, rabbi, mullah, nun …",0,0,0,1,0,0,0,0,0,0,0,0,0,0,0,0,0,0]
[null,null,15,"Activist or worker in civil society organisation, non-governmental organisation, trade union, human rights, consumer issues, environment, aid agency, peasant leader, United Nations …",0,0,0,0,1,10,2,1,0,0,0,0,0,0,0,0,0,0]
[null,null,16,"Sex worker, prostitute …",0,0,0,0,0,0,0,0,0,0,0,0,0,0,0,0,0,0]
[null,null,17,"Celebrity, artist, actor, writer, singer, radio or television personality …",0,0,6,23,0,0,1,0,0,0,0,0,0,0,0,0,0,0]
[null,null,18,"Sportsperson, athlete, player, coach, referee …",0,0,1,14,0,0,0,1,0,1,0,0,0,0,0,0,0,0]
[null,null,19,"Student, pupil, schoolchild",0,0,1,0,0,0,0,0,0,0,0,0,1,0,0,0,0,0]
[null,null,{"$f":"C25","v":20},"Homemaker, parent, either female or male. Code this only if no other occupation is given, e.g. a doctor who is also described as a mother is coded 6.",0,0,4,0,0,0,0,0,1,1,0,0,0,0,0,0,0,0]
[null,null,21,"Child, young person (up to 18 years). Code this only if no other occupation/position is given, e.g. a schoolchild is coded 19; a child labourer is coded 12.",0,0,1,5,0,0,0,0,0,0,0,0,0,0,0,0,0,0]
[null,null,22,"Villager or resident engaged in unspecified occupation. Code this only if no other occupation is given, e.g. a teacher who is also described as a villager is coded 5.",0,0,2,0,0,0,0,0,2,2,5,1,1,2,0,0,0,0]
[null,null,23,"Retired person, pensioner. Code this only if no other occupation is given, e.g. a retired police officer is coded 4; a retired politician is coded 2.",0,0,2,0,0,0,0,0,3,3,1,0,0,0,0,0,0,0]
[null,null,24,"Criminal, suspect. Code this only if no other occupation is given, e.g, a lawyer suspected of committing a crime is coded 9; a former politician who has committed a crime is coded 2.",0,0,1,11,0,0,0,0,0,0,0,0,0,0,0,0,0,0]
[null,null,25,"Unemployed. Code this only if no other occupation is given, e.g. an unemployed actor is coded 17; an unemployed person who commits a crime is coded 24.",0,0,0,0,0,0,0,0,1,0,0,0,0,0,0,0,0,0]
[null,null,26,"Other. Use only as a last resort (specify the occupation/position in 'Comments' section of coding sheet)",0,0,0,4,0,1,0,3,0,2,0,0,0,0,0,0,0,0]
[null,null,27,"NA – Use this where you are coding a secondary source only",0,0,0,0,0,0,0,0,0,0,0,0,0,0,0,0,0,0]
[null,null,0,0,0,0,0,0,0,0]
[null,null,0,0,0,0,0,0,0,0]
[null,null,0,0,0,0,0,0,0,0]
[null,null,0,0,0,0,0,0,0,0]
[null,null,0,0,0,0,0,0,0,0]
[null,null,0,0,0,0,0,0,0,0]
[null,null,0,0,0,0,0,0,0,0]
[null,null,0,0,0,0,0,0,0,0]
[null,null,0,0,0,0,0,0,0,0]
[null,null,0,0,0,0,0,0,0,0]
[null,null,0,0,0,0,0,0,0,0]
[null,null,0,0,0,0,0,0,0,0]
[null,null,{"$f":"C45","v":0},0,0,0,0,0,0,0]
[null,null,0,0,0,0,0,0,0,0]
[null,null,0,0,0,0,0,0,0,0]
[null,null,0,0,0,0,0,0,0,0]
[null,null,0,0,0,0,0,0,0,0]
[null,null,0,0,0,0,0,0,0,0]
[null,null,0,0,0,0,0,0,0,0]
[null,null,0,0,0,0,0,0,0,0]
[null,null,0,0,0,0,0,0,0,0]
[null,null,0,0,0,0,0,0,0,0]
[null,null,0,0,0,0,0,0,0,0]
[null,null,0,0,0,0,0,0,0,0]
[null,null,0,0]
[null,null,0,0]
[null,null,0,0]

{"sheet":"20fF - Function-Occupation","index":88,"n_rows":34,"n_cols":62,"rows_kept":34,"cut":false,"hidden":false,"merged":[[2,55,2,56],[2,57,2,58],[2,59,2,60],[1,47,1,61],[2,47,2,48],[2,49,2,50],[2,51,2,52],[2,53,2,54],[1,33,1,46],[2,33,2,34],[2,35,2,36],[2,37,2,38],[2,39,2,40],[2,41,2,42],[2,43,2,44],[2,45,2,46],[1,19,1,32],[2,19,2,20],[2,21,2,22],[2,23,2,24],[2,25,2,26],[2,27,2,28],[2,29,2,30],[2,31,2,32],[2,17,2,18],[2,5,2,6],[1,5,1,18],[2,7,2,8],[2,9,2,10],[2,11,2,12],[2,13,2,14],[2,15,2,16]]}
[{"$f":"'20f'!$A$1","v":"Functions (top 5) and Occupations by sex of news subject"}]
[null,null,null,null,null,1995,null,null,null,null,null,null,null,null,null,null,null,null,null,2000,null,null,null,null,null,null,null,null,null,null,null,null,null,2005,null,null,null,null,null,null,null,null,null,null,null,null,null,2010]
[null,null,null,null,null,{"$f":"'20f'!G2","v":"Subject: the story is about this person, or about something the person has done, said etc."},null,{"$f":"'20f'!I2","v":"Spokesperson: the person represents, or speaks on behalf of another person, a group or an organisation"},null,{"$f":"'20f'!K2","v":"Expert or commentator: the person provides additional information, opinion or comment, based on specialist knowledge or expertise"},null,{"$f":"'20f'!M2","v":"Personal experience: the person provides opinion or comment, based on individual personal experience; the opinion is not necessarily meant to reflect the views of a wider group"},null,{"$f":"'20f'!O2","v":"Eye witness: the person gives testimony or comment, based on direct observation (e.g. being present at an event)"},null,{"$f":"'20f'!Q2","v":"Popular opinion: the person's opinion is assumed to reflect that of the 'ordinary citizen' (e.g., in a street interview, vox populi etc); it is implied that the person's point of view is shared by a wider group of people."},null,{"$f":"'20f'!S2","v":"Other. Use only as a last resort (describe the function in 'Comments' section of coding sheet)."},null,{"$f":"F3","v":"Subject: the story is about this person, or about something the person has done, said etc."},null,"Spokesperson: the person represents, or speaks on behalf of another person, a group or an organisation",null,"Expert or commentator: the person provides additional information, opinion or comment, based on specialist knowledge or expertise",null,"Personal experience: the person provides opinion or comment, based on individual personal experience; the opinion is not necessarily meant to reflect the views of a wider group",null,"Eye witness: the person gives testimony or comment, based on direct observation (e.g. being present at an event)",null,"Popular opinion: the person's opinion is assumed to reflect that of the 'ordinary citizen' (e.g., in a street interview, vox populi etc); it is implied that the person's point of view is shared by a wider group of people.",null,"Other. Use only as a last resort (describe the function in 'Comments' section of coding sheet).",null,{"$f":"F3","v":"Subject: the story is about this person, or about something the person has done, said etc."},null,"Spokesperson: the person represents, or speaks on behalf of another person, a group or an organisation",null,"Expert or commentator: the person provides additional information, opinion or comment, based on specialist knowledge or expertise",null,"Personal experience: the person provides opinion or comment, based on individual personal experience; the opinion is not necessarily meant to reflect the views of a wider group",null,"Eye witness: the person gives testimony or comment, based on direct observation (e.g. being present at an event)",null,"Popular opinion: the person's opinion is assumed to reflect that of the 'ordinary citizen' (e.g., in a street interview, vox populi etc); it is implied that the person's point of view is shared by a wider group of people.",null,"Other. Use only as a last resort (describe the function in 'Comments' section of coding sheet).",null,{"$f":"F3","v":"Subject: the story is about this person, or about something the person has done, said etc."},null,"Spokesperson: the person represents, or speaks on behalf of another person, a group or an organisation",null,"Expert or commentator: the person provides additional information, opinion or comment, based on specialist knowledge or expertise",null,"Personal experience: the person provides opinion or comment, based on individual personal experience; the opinion is not necessarily meant to reflect the views of a wider group",null,"Eye witness: the person gives testimony or comment, based on direct observation (e.g. being present at an event)",null,"Popular opinion: the person's opinion is assumed to reflect that of the 'ordinary citizen' (e.g., in a street interview, vox populi etc); it is implied that the person's point of view is shared by a wider group of people.",null,"Other. Use only as a last resort (describe the function in 'Comments' section of coding sheet)."]
[null,null,null,null,null,"%F","%M","%F","%M","%F","%M","%F","%M","%F","%M","%F","%M","%F","%M","%F","%M","%F","%M","%F","%M","%F","%M","%F","%M","%F","%M","%F","%M","%F","%M","%F","%M","%F","%M","%F","%M","%F","%M","%F","%M","%F","%M","%F","%M","%F","%M","%F","%M","%F","%M","%F","%M","%F","%M","%F","%M","N"]
[]
[]
[null,null,null,null,{"$f":"'20f'!D6","v":"Royalty, ruling monarch, deposed monarch, any member of royal family …"},0,0,0,0,0,0,0,0,0,0,0,0,0,0,"n/a","n/a","n/a","n/a","n/a","n/a","n/a","n/a","n/a","n/a","n/a","n/a","n/a","n/a","n/a","n/a","n/a","n/a","n/a","n/a","n/a","n/a","n/a","n/a","n/a","n/a","n/a","n/a",{"$f":"'20f'!G71","v":0},{"$f":"'20f'!H71","v":0},{"$f":"'20f'!I71","v":0},{"$f":"'20f'!J71","v":0},{"$f":"'20f'!K71","v":0},{"$f":"'20f'!L71","v":0},{"$f":"'20f'!M71","v":0},{"$f":"'20f'!N71","v":0},{"$f":"'20f'!O71","v":0},{"$f":"'20f'!P71","v":0},{"$f":"'20f'!Q71","v":0},{"$f":"'20f'!R71","v":0},{"$f":"'20f'!S71","v":0},{"$f":"'20f'!T71","v":0},{"$f":"SUM('20f'!E152:V152)","v":0}]
[null,null,null,null,{"$f":"'20f'!D7","v":"Government official, politician, president, government minister, political leader, political party staff, spokesperson …"},0,0,0,0,0,0,0,0,0,0,0,0,0,0,"n/a","n/a","n/a","n/a","n/a","n/a","n/a","n/a","n/a","n/a","n/a","n/a","n/a","n/a","n/a","n/a","n/a","n/a","n/a","n/a","n/a","n/a","n/a","n/a","n/a","n/a","n/a","n/a",{"$f":"'20f'!G72","v":0.51479729542172281},{"$f":"'20f'!H72","v":0.48650853808217948},{"$f":"'20f'!I72","v":0.50000000000000022},{"$f":"'20f'!J72","v":0.27040781791714036},{"$f":"'20f'!K72","v":8.0658555278389624E-2},{"$f":"'20f'!L72","v":0.21915914623102381},{"$f":"'20f'!M72","v":0.14789428305231134},{"$f":"'20f'!N72","v":0.38599392463502175},{"$f":"'20f'!O72","v":0},{"$f":"'20f'!P72","v":0},{"$f":"'20f'!Q72","v":0},{"$f":"'20f'!R72","v":0},{"$f":"'20f'!S72","v":0},{"$f":"'20f'!T72","v":0},{"$f":"SUM('20f'!E153:V153)","v":118}]
[null,null,null,null,{"$f":"'20f'!D8","v":"Government employee, public servant, bureaucrat, diplomat, intelligence officer …"},0,0,0,0,0,0,0,0,0,0,0,0,0,0,"n/a","n/a","n/a","n/a","n/a","n/a","n/a","n/a","n/a","n/a","n/a","n/a","n/a","n/a","n/a","n/a","n/a","n/a","n/a","n/a","n/a","n/a","n/a","n/a","n/a","n/a","n/a","n/a",{"$f":"'20f'!G73","v":0},{"$f":"'20f'!H73","v":0},{"$f":"'20f'!I73","v":0.11195750251236079},{"$f":"'20f'!J73","v":5.6789436293840284E-2},{"$f":"'20f'!K73","v":0},{"$f":"'20f'!L73","v":3.1615751913291773E-2},{"$f":"'20f'!M73","v":0},{"$f":"'20f'!N73","v":0},{"$f":"'20f'!O73","v":0},{"$f":"'20f'!P73","v":0},{"$f":"'20f'!Q73","v":0},{"$f":"'20f'!R73","v":0},{"$f":"'20f'!S73","v":0},{"$f":"'20f'!T73","v":0},{"$f":"SUM('20f'!E154:V154)","v":3}]
[null,null,null,null,{"$f":"'20f'!D9","v":"Police, military, para-military group, militia, prison officer, security officer, fire officer …"},0,0,0,0,0,0,0,0,0,0,0,0,0,0,"n/a","n/a","n/a","n/a","n/a","n/a","n/a","n/a","n/a","n/a","n/a","n/a","n/a","n/a","n/a","n/a","n/a","n/a","n/a","n/a","n/a","n/a","n/a","n/a","n/a","n/a","n/a","n/a",{"$f":"'20f'!G74","v":2.482765211974752E-2},{"$f":"'20f'!H74","v":1.3156188152098547E-2},{"$f":"'20f'!I74","v":0},{"$f":"'20f'!J74","v":9.552763524597313E-2},{"$f":"'20f'!K74","v":0},{"$f":"'20f'!L74","v":4.6348069288928297E-2},{"$f":"'20f'!M74","v":0},{"$f":"'20f'!N74","v":4.5061688275157968E-2},{"$f":"'20f'!O74","v":0},{"$f":"'20f'!P74","v":0},{"$f":"'20f'!Q74","v":0},{"$f":"'20f'!R74","v":0},{"$f":"'20f'!S74","v":0},{"$f":"'20f'!T74","v":0},{"$f":"SUM('20f'!E155:V155)","v":7}]
[null,null,null,null,{"$f":"'20f'!D10","v":"Academic expert, education professional, teacher or university lecturer (all disciplines), nursery or kindergarten teacher, child care worker  …"},0,0,0,0,0,0,0,0,0,0,0,0,0,0,"n/a","n/a","n/a","n/a","n/a","n/a","n/a","n/a","n/a","n/a","n/a","n/a","n/a","n/a","n/a","n/a","n/a","n/a","n/a","n/a","n/a","n/a","n/a","n/a","n/a","n/a","n/a","n/a",{"$f":"'20f'!G75","v":0},{"$f":"'20f'!H75","v":0},{"$f":"'20f'!I75","v":0},{"$f":"'20f'!J75","v":0},{"$f":"'20f'!K75","v":0.31714626046031164},{"$f":"'20f'!L75","v":0.29497185027122513},{"$f":"'20f'!M75","v":0.14789428305231134},{"$f":"'20f'!N75","v":0},{"$f":"'20f'!O75","v":0},{"$f":"'20f'!P75","v":0},{"$f":"'20f'!Q75","v":0},{"$f":"'20f'!R75","v":0},{"$f":"'20f'!S75","v":0},{"$f":"'20f'!T75","v":0},{"$f":"SUM('20f'!E156:V156)","v":11}]
[null,null,null,null,{"$f":"'20f'!D11","v":"Health or social service professional, doctor, nurse, laboratory technician, social worker, psychologist …"},0,0,0,0,0,0,0,0,0,0,0,0,0,0,"n/a","n/a","n/a","n/a","n/a","n/a","n/a","n/a","n/a","n/a","n/a","n/a","n/a","n/a","n/a","n/a","n/a","n/a","n/a","n/a","n/a","n/a","n/a","n/a","n/a","n/a","n/a","n/a",{"$f":"'20f'!G76","v":3.3539663736154655E-2},{"$f":"'20f'!H76","v":0},{"$f":"'20f'!I76","v":0.11195750251236079},{"$f":"'20f'!J76","v":3.7978624204343517E-2},{"$f":"'20f'!K76","v":8.0658555278389624E-2},{"$f":"'20f'!L76","v":9.4847255739875194E-2},{"$f":"'20f'!M76","v":0},{"$f":"'20f'!N76","v":9.1024613001704807E-2},{"$f":"'20f'!O76","v":0},{"$f":"'20f'!P76","v":0},{"$f":"'20f'!Q76","v":0},{"$f":"'20f'!R76","v":0},{"$f":"'20f'!S76","v":0},{"$f":"'20f'!T76","v":0},{"$f":"SUM('20f'!E157:V157)","v":10}]
[null,null,null,null,{"$f":"'20f'!D12","v":"Science or technology professional, engineer, technician, computer specialist …"},0,0,0,0,0,0,0,0,0,0,0,0,0,0,"n/a","n/a","n/a","n/a","n/a","n/a","n/a","n/a","n/a","n/a","n/a","n/a","n/a","n/a","n/a","n/a","n/a","n/a","n/a","n/a","n/a","n/a","n/a","n/a","n/a","n/a","n/a","n/a",{"$f":"'20f'!G77","v":0},{"$f":"'20f'!H77","v":7.8211138275284739E-2},{"$f":"'20f'!I77","v":0},{"$f":"'20f'!J77","v":0},{"$f":"'20f'!K77","v":0},{"$f":"'20f'!L77","v":3.1615751913291773E-2},{"$f":"'20f'!M77","v":0},{"$f":"'20f'!N77","v":0},{"$f":"'20f'!O77","v":0},{"$f":"'20f'!P77","v":0},{"$f":"'20f'!Q77","v":0},{"$f":"'20f'!R77","v":0},{"$f":"'20f'!S77","v":0},{"$f":"'20f'!T77","v":0},{"$f":"SUM('20f'!E158:V158)","v":11}]
[null,null,null,null,{"$f":"'20f'!D13","v":"Media professional, journalist, video or film-maker, theatre director ..."},0,0,0,0,0,0,0,0,0,0,0,0,0,0,"n/a","n/a","n/a","n/a","n/a","n/a","n/a","n/a","n/a","n/a","n/a","n/a","n/a","n/a","n/a","n/a","n/a","n/a","n/a","n/a","n/a","n/a","n/a","n/a","n/a","n/a","n/a","n/a",{"$f":"'20f'!G78","v":0},{"$f":"'20f'!H78","v":0},{"$f":"'20f'!I78","v":0},{"$f":"'20f'!J78","v":0},{"$f":"'20f'!K78","v":8.0658555278389624E-2},{"$f":"'20f'!L78","v":3.1615751913291773E-2},{"$f":"'20f'!M78","v":0},{"$f":"'20f'!N78","v":6.7380741909610922E-2},{"$f":"'20f'!O78","v":0},{"$f":"'20f'!P78","v":0},{"$f":"'20f'!Q78","v":0},{"$f":"'20f'!R78","v":0},{"$f":"'20f'!S78","v":0},{"$f":"'20f'!T78","v":0},{"$f":"SUM('20f'!E159:V159)","v":3}]
[null,null,null,null,{"$f":"'20f'!D14","v":"Lawyer, judge, magistrate, legal advocate, legal expert, legal clerk …"},0,0,0,0,0,0,0,0,0,0,0,0,0,0,"n/a","n/a","n/a","n/a","n/a","n/a","n/a","n/a","n/a","n/a","n/a","n/a","n/a","n/a","n/a","n/a","n/a","n/a","n/a","n/a","n/a","n/a","n/a","n/a","n/a","n/a","n/a","n/a",{"$f":"'20f'!G79","v":3.3871740594595204E-2},{"$f":"'20f'!H79","v":3.9468564456295645E-2},{"$f":"'20f'!I79","v":0.11195750251236079},{"$f":"'20f'!J79","v":0},{"$f":"'20f'!K79","v":0.16131711055677958},{"$f":"'20f'!L79","v":0.15621900402010178},{"$f":"'20f'!M79","v":0},{"$f":"'20f'!N79","v":0},{"$f":"'20f'!O79","v":0},{"$f":"'20f'!P79","v":0},{"$f":"'20f'!Q79","v":0},{"$f":"'20f'!R79","v":0},{"$f":"'20f'!S79","v":0},{"$f":"'20f'!T79","v":0},{"$f":"SUM('20f'!E160:V160)","v":16}]
[null,null,null,null,{"$f":"'20f'!D15","v":"Business person, executive, manager, entrepreneur, economist, financial expert, stock broker …"},0,0,0,0,0,0,0,0,0,0,0,0,0,0,"n/a","n/a","n/a","n/a","n/a","n/a","n/a","n/a","n/a","n/a","n/a","n/a","n/a","n/a","n/a","n/a","n/a","n/a","n/a","n/a","n/a","n/a","n/a","n/a","n/a","n/a","n/a","n/a",{"$f":"'20f'!G80","v":0},{"$f":"'20f'!H80","v":5.2304647184412498E-3},{"$f":"'20f'!I80","v":0},{"$f":"'20f'!J80","v":0.15495279580853169},{"$f":"'20f'!K80","v":0},{"$f":"'20f'!L80","v":0},{"$f":"'20f'!M80","v":0},{"$f":"'20f'!N80","v":0},{"$f":"'20f'!O80","v":0},{"$f":"'20f'!P80","v":0},{"$f":"'20f'!Q80","v":0},{"$f":"'20f'!R80","v":0},{"$f":"'20f'!S80","v":0},{"$f":"'20f'!T80","v":0},{"$f":"SUM('20f'!E161:V161)","v":5}]
[null,null,null,null,{"$f":"'20f'!D16","v":"Office or service worker, non-management worker in office, store, restaurant, catering …"},0,0,0,0,0,0,0,0,0,0,0,0,0,0,"n/a","n/a","n/a","n/a","n/a","n/a","n/a","n/a","n/a","n/a","n/a","n/a","n/a","n/a","n/a","n/a","n/a","n/a","n/a","n/a","n/a","n/a","n/a","n/a","n/a","n/a","n/a","n/a",{"$f":"'20f'!G81","v":1.6935870297297567E-2},{"$f":"'20f'!H81","v":5.2304647184412498E-3},{"$f":"'20f'!I81","v":0},{"$f":"'20f'!J81","v":0},{"$f":"'20f'!K81","v":0},{"$f":"'20f'!L81","v":0},{"$f":"'20f'!M81","v":0},{"$f":"'20f'!N81","v":0},{"$f":"'20f'!O81","v":0},{"$f":"'20f'!P81","v":0},{"$f":"'20f'!Q81","v":0},{"$f":"'20f'!R81","v":0},{"$f":"'20f'!S81","v":0},{"$f":"'20f'!T81","v":0},{"$f":"SUM('20f'!E162:V162)","v":2}]
[null,null,null,null,{"$f":"'20f'!D17","v":"Tradesperson, artisan, labourer, truck driver, construction, factory, domestic worker …"},0,0,0,0,0,0,0,0,0,0,0,0,0,0,"n/a","n/a","n/a","n/a","n/a","n/a","n/a","n/a","n/a","n/a","n/a","n/a","n/a","n/a","n/a","n/a","n/a","n/a","n/a","n/a","n/a","n/a","n/a","n/a","n/a","n/a","n/a","n/a",{"$f":"'20f'!G82","v":2.482765211974752E-2},{"$f":"'20f'!H82","v":1.3051578545969776E-2},{"$f":"'20f'!I82","v":0},{"$f":"'20f'!J82","v":0},{"$f":"'20f'!K82","v":0},{"$f":"'20f'!L82","v":3.1615751913291773E-2},{"$f":"'20f'!M82","v":0},{"$f":"'20f'!N82","v":6.7380741909610922E-2},{"$f":"'20f'!O82","v":0},{"$f":"'20f'!P82","v":0},{"$f":"'20f'!Q82","v":0},{"$f":"'20f'!R82","v":0},{"$f":"'20f'!S82","v":0},{"$f":"'20f'!T82","v":0},{"$f":"SUM('20f'!E163:V163)","v":5}]
[null,null,null,null,{"$f":"'20f'!D18","v":"Agriculture, mining, fishing, forestry worker …"},0,0,0,0,0,0,0,0,0,0,0,0,0,0,"n/a","n/a","n/a","n/a","n/a","n/a","n/a","n/a","n/a","n/a","n/a","n/a","n/a","n/a","n/a","n/a","n/a","n/a","n/a","n/a","n/a","n/a","n/a","n/a","n/a","n/a","n/a","n/a",{"$f":"'20f'!G83","v":0},{"$f":"'20f'!H83","v":0},{"$f":"'20f'!I83","v":0},{"$f":"'20f'!J83","v":0},{"$f":"'20f'!K83","v":0},{"$f":"'20f'!L83","v":0},{"$f":"'20f'!M83","v":0},{"$f":"'20f'!N83","v":0},{"$f":"'20f'!O83","v":0},{"$f":"'20f'!P83","v":0},{"$f":"'20f'!Q83","v":0},{"$f":"'20f'!R83","v":0},{"$f":"'20f'!S83","v":0},{"$f":"'20f'!T83","v":0},{"$f":"SUM('20f'!E164:V164)","v":0}]
[null,null,null,null,{"$f":"'20f'!D19","v":"Religious figure, priest, monk, rabbi, mullah, nun …"},0,0,0,0,0,0,0,0,0,0,0,0,0,0,"n/a","n/a","n/a","n/a","n/a","n/a","n/a","n/a","n/a","n/a","n/a","n/a","n/a","n/a","n/a","n/a","n/a","n/a","n/a","n/a","n/a","n/a","n/a","n/a","n/a","n/a","n/a","n/a",{"$f":"'20f'!G84","v":0},{"$f":"'20f'!H84","v":7.8211138275284739E-3},{"$f":"'20f'!I84","v":0},{"$f":"'20f'!J84","v":0},{"$f":"'20f'!K84","v":0},{"$f":"'20f'!L84","v":0},{"$f":"'20f'!M84","v":0},{"$f":"'20f'!N84","v":0},{"$f":"'20f'!O84","v":0},{"$f":"'20f'!P84","v":0},{"$f":"'20f'!Q84","v":0},{"$f":"'20f'!R84","v":0},{"$f":"'20f'!S84","v":0},{"$f":"'20f'!T84","v":0},{"$f":"SUM('20f'!E165:V165)","v":1}]
[null,null,null,null,{"$f":"'20f'!D20","v":"Activist or worker in civil society organisation, non-governmental organisation, trade union, human rights, consumer issues, environment, aid agency, peasant leader, United Nations …"},0,0,0,0,0,0,0,0,0,0,0,0,0,0,"n/a","n/a","n/a","n/a","n/a","n/a","n/a","n/a","n/a","n/a","n/a","n/a","n/a","n/a","n/a","n/a","n/a","n/a","n/a","n/a","n/a","n/a","n/a","n/a","n/a","n/a","n/a","n/a",{"$f":"'20f'!G85","v":0},{"$f":"'20f'!H85","v":0},{"$f":"'20f'!I85","v":0.16412749246291738},{"$f":"'20f'!J85","v":0.38434369053017114},{"$f":"'20f'!K85","v":0.19890240786935029},{"$f":"'20f'!L85","v":3.0995833397839307E-2},{"$f":"'20f'!M85","v":0},{"$f":"'20f'!N85","v":0},{"$f":"'20f'!O85","v":0},{"$f":"'20f'!P85","v":0},{"$f":"'20f'!Q85","v":0},{"$f":"'20f'!R85","v":0},{"$f":"'20f'!S85","v":0},{"$f":"'20f'!T85","v":0},{"$f":"SUM('20f'!E166:V166)","v":14}]
[null,null,null,null,{"$f":"'20f'!D21","v":"Sex worker, prostitute …"},0,0,0,0,0,0,0,0,0,0,0,0,0,0,"n/a","n/a","n/a","n/a","n/a","n/a","n/a","n/a","n/a","n/a","n/a","n/a","n/a","n/a","n/a","n/a","n/a","n/a","n/a","n/a","n/a","n/a","n/a","n/a","n/a","n/a","n/a","n/a",{"$f":"'20f'!G86","v":0},{"$f":"'20f'!H86","v":0},{"$f":"'20f'!I86","v":0},{"$f":"'20f'!J86","v":0},{"$f":"'20f'!K86","v":0},{"$f":"'20f'!L86","v":0},{"$f":"'20f'!M86","v":0},{"$f":"'20f'!N86","v":0},{"$f":"'20f'!O86","v":0},{"$f":"'20f'!P86","v":0},{"$f":"'20f'!Q86","v":0},{"$f":"'20f'!R86","v":0},{"$f":"'20f'!S86","v":0},{"$f":"'20f'!T86","v":0},{"$f":"SUM('20f'!E167:V167)","v":0}]
[null,null,null,null,{"$f":"'20f'!D22","v":"Celebrity, artist, actor, writer, singer, radio or television personality …"},0,0,0,0,0,0,0,0,0,0,0,0,0,0,"n/a","n/a","n/a","n/a","n/a","n/a","n/a","n/a","n/a","n/a","n/a","n/a","n/a","n/a","n/a","n/a","n/a","n/a","n/a","n/a","n/a","n/a","n/a","n/a","n/a","n/a","n/a","n/a",{"$f":"'20f'!G87","v":0.12495849039269505},{"$f":"'20f'!H87","v":0.15688360486975636},{"$f":"'20f'!I87","v":0},{"$f":"'20f'!J87","v":0},{"$f":"'20f'!K87","v":8.0658555278389624E-2},{"$f":"'20f'!L87","v":0},{"$f":"'20f'!M87","v":0},{"$f":"'20f'!N87","v":0},{"$f":"'20f'!O87","v":0},{"$f":"'20f'!P87","v":0},{"$f":"'20f'!Q87","v":0},{"$f":"'20f'!R87","v":0},{"$f":"'20f'!S87","v":0},{"$f":"'20f'!T87","v":0},{"$f":"SUM('20f'!E168:V168)","v":30}]
[null,null,null,null,{"$f":"'20f'!D23","v":"Sportsperson, athlete, player, coach, referee …"},0,0,0,0,0,0,0,0,0,0,0,0,0,0,"n/a","n/a","n/a","n/a","n/a","n/a","n/a","n/a","n/a","n/a","n/a","n/a","n/a","n/a","n/a","n/a","n/a","n/a","n/a","n/a","n/a","n/a","n/a","n/a","n/a","n/a","n/a","n/a",{"$f":"'20f'!G88","v":1.6935870297297567E-2},{"$f":"'20f'!H88","v":0.10452351457948192},{"$f":"'20f'!I88","v":0},{"$f":"'20f'!J88","v":0},{"$f":"'20f'!K88","v":0},{"$f":"'20f'!L88","v":3.0995833397839307E-2},{"$f":"'20f'!M88","v":0},{"$f":"'20f'!N88","v":6.7380741909610922E-2},{"$f":"'20f'!O88","v":0},{"$f":"'20f'!P88","v":0},{"$f":"'20f'!Q88","v":0},{"$f":"'20f'!R88","v":0},{"$f":"'20f'!S88","v":0},{"$f":"'20f'!T88","v":0},{"$f":"SUM('20f'!E169:V169)","v":17}]
[null,null,null,null,{"$f":"'20f'!D24","v":"Student, pupil, schoolchild"},0,0,0,0,0,0,0,0,0,0,0,0,0,0,"n/a","n/a","n/a","n/a","n/a","n/a","n/a","n/a","n/a","n/a","n/a","n/a","n/a","n/a","n/a","n/a","n/a","n/a","n/a","n/a","n/a","n/a","n/a","n/a","n/a","n/a","n/a","n/a",{"$f":"'20f'!G89","v":1.6935870297297567E-2},{"$f":"'20f'!H89","v":0},{"$f":"'20f'!I89","v":0},{"$f":"'20f'!J89","v":0},{"$f":"'20f'!K89","v":0},{"$f":"'20f'!L89","v":0},{"$f":"'20f'!M89","v":0},{"$f":"'20f'!N89","v":0},{"$f":"'20f'!O89","v":0},{"$f":"'20f'!P89","v":0},{"$f":"'20f'!Q89","v":0.5},{"$f":"'20f'!R89","v":0},{"$f":"'20f'!S89","v":0},{"$f":"'20f'!T89","v":0},{"$f":"SUM('20f'!E170:V170)","v":2}]
[null,null,null,null,{"$f":"'20f'!D25","v":"Homemaker, parent, either female or male. Code this only if no other occupation is given, e.g. a doctor who is also described as a mother is coded 6."},0,0,0,0,0,0,0,0,0,0,0,0,0,0,"n/a","n/a","n/a","n/a","n/a","n/a","n/a","n/a","n/a","n/a","n/a","n/a","n/a","n/a","n/a","n/a","n/a","n/a","n/a","n/a","n/a","n/a","n/a","n/a","n/a","n/a","n/a","n/a",{"$f":"'20f'!G90","v":7.5303186153199739E-2},{"$f":"'20f'!H90","v":0},{"$f":"'20f'!I90","v":0},{"$f":"'20f'!J90","v":0},{"$f":"'20f'!K90","v":0},{"$f":"'20f'!L90","v":0},{"$f":"'20f'!M90","v":0.10088422309951513},{"$f":"'20f'!N90","v":4.5962924726547109E-2},{"$f":"'20f'!O90","v":0},{"$f":"'20f'!P90","v":0},{"$f":"'20f'!Q90","v":0},{"$f":"'20f'!R90","v":0},{"$f":"'20f'!S90","v":0},{"$f":"'20f'!T90","v":0},{"$f":"SUM('20f'!E171:V171)","v":6}]
[null,null,null,null,{"$f":"'20f'!D26","v":"Child, young person (up to 18 years). Code this only if no other occupation/position is given, e.g. a schoolchild is coded 19; a child labourer is coded 12."},0,0,0,0,0,0,0,0,0,0,0,0,0,0,"n/a","n/a","n/a","n/a","n/a","n/a","n/a","n/a","n/a","n/a","n/a","n/a","n/a","n/a","n/a","n/a","n/a","n/a","n/a","n/a","n/a","n/a","n/a","n/a","n/a","n/a","n/a","n/a",{"$f":"'20f'!G91","v":1.6935870297297567E-2},{"$f":"'20f'!H91","v":2.6675371622850368E-2},{"$f":"'20f'!I91","v":0},{"$f":"'20f'!J91","v":0},{"$f":"'20f'!K91","v":0},{"$f":"'20f'!L91","v":0},{"$f":"'20f'!M91","v":0},{"$f":"'20f'!N91","v":0},{"$f":"'20f'!O91","v":0},{"$f":"'20f'!P91","v":0},{"$f":"'20f'!Q91","v":0},{"$f":"'20f'!R91","v":0},{"$f":"'20f'!S91","v":0},{"$f":"'20f'!T91","v":0},{"$f":"SUM('20f'!E172:V172)","v":6}]
[null,null,null,null,{"$f":"'20f'!D27","v":"Villager or resident engaged in unspecified occupation. Code this only if no other occupation is given, e.g. a teacher who is also described as a villager is coded 5."},0,0,0,0,0,0,0,0,0,0,0,0,0,0,"n/a","n/a","n/a","n/a","n/a","n/a","n/a","n/a","n/a","n/a","n/a","n/a","n/a","n/a","n/a","n/a","n/a","n/a","n/a","n/a","n/a","n/a","n/a","n/a","n/a","n/a","n/a","n/a",{"$f":"'20f'!G92","v":4.1763522417045083E-2},{"$f":"'20f'!H92","v":0},{"$f":"'20f'!I92","v":0},{"$f":"'20f'!J92","v":0},{"$f":"'20f'!K92","v":0},{"$f":"'20f'!L92","v":0},{"$f":"'20f'!M92","v":0.20176844619903067},{"$f":"'20f'!N92","v":9.1925849453094399E-2},{"$f":"'20f'!O92","v":0.78791876509580128},{"$f":"'20f'!P92","v":1},{"$f":"'20f'!Q92","v":0.5},{"$f":"'20f'!R92","v":1},{"$f":"'20f'!S92","v":0},{"$f":"'20f'!T92","v":0},{"$f":"SUM('20f'!E173:V173)","v":15}]
[null,null,null,null,{"$f":"'20f'!D28","v":"Retired person, pensioner. Code this only if no other occupation is given, e.g. a retired police officer is coded 4; a retired politician is coded 2."},0,0,0,0,0,0,0,0,0,0,0,0,0,0,"n/a","n/a","n/a","n/a","n/a","n/a","n/a","n/a","n/a","n/a","n/a","n/a","n/a","n/a","n/a","n/a","n/a","n/a","n/a","n/a","n/a","n/a","n/a","n/a","n/a","n/a","n/a","n/a",{"$f":"'20f'!G93","v":3.3539663736154655E-2},{"$f":"'20f'!H93","v":0},{"$f":"'20f'!I93","v":0},{"$f":"'20f'!J93","v":0},{"$f":"'20f'!K93","v":0},{"$f":"'20f'!L93","v":0},{"$f":"'20f'!M93","v":0.30265266929854495},{"$f":"'20f'!N93","v":0.13788877417964115},{"$f":"'20f'!O93","v":0.21208123490419883},{"$f":"'20f'!P93","v":0},{"$f":"'20f'!Q93","v":0},{"$f":"'20f'!R93","v":0},{"$f":"'20f'!S93","v":0},{"$f":"'20f'!T93","v":0},{"$f":"SUM('20f'!E174:V174)","v":9}]
[null,null,null,null,{"$f":"'20f'!D29","v":"Criminal, suspect. Code this only if no other occupation is given, e.g, a lawyer suspected of committing a crime is coded 9; a former politician who has committed a crime is coded 2."},0,0,0,0,0,0,0,0,0,0,0,0,0,0,"n/a","n/a","n/a","n/a","n/a","n/a","n/a","n/a","n/a","n/a","n/a","n/a","n/a","n/a","n/a","n/a","n/a","n/a","n/a","n/a","n/a","n/a","n/a","n/a","n/a","n/a","n/a","n/a",{"$f":"'20f'!G94","v":2.482765211974752E-2},{"$f":"'20f'!H94","v":6.323945815167234E-2},{"$f":"'20f'!I94","v":0},{"$f":"'20f'!J94","v":0},{"$f":"'20f'!K94","v":0},{"$f":"'20f'!L94","v":0},{"$f":"'20f'!M94","v":0},{"$f":"'20f'!N94","v":0},{"$f":"'20f'!O94","v":0},{"$f":"'20f'!P94","v":0},{"$f":"'20f'!Q94","v":0},{"$f":"'20f'!R94","v":0},{"$f":"'20f'!S94","v":0},{"$f":"'20f'!T94","v":0},{"$f":"SUM('20f'!E175:V175)","v":12}]
[null,null,null,null,{"$f":"'20f'!D30","v":"Unemployed. Code this only if no other occupation is given, e.g. an unemployed actor is coded 17; an unemployed person who commits a crime is coded 24."},0,0,0,0,0,0,0,0,0,0,0,0,0,0,"n/a","n/a","n/a","n/a","n/a","n/a","n/a","n/a","n/a","n/a","n/a","n/a","n/a","n/a","n/a","n/a","n/a","n/a","n/a","n/a","n/a","n/a","n/a","n/a","n/a","n/a","n/a","n/a",{"$f":"'20f'!G95","v":0},{"$f":"'20f'!H95","v":0},{"$f":"'20f'!I95","v":0},{"$f":"'20f'!J95","v":0},{"$f":"'20f'!K95","v":0},{"$f":"'20f'!L95","v":0},{"$f":"'20f'!M95","v":9.8906095298286589E-2},{"$f":"'20f'!N95","v":0},{"$f":"'20f'!O95","v":0},{"$f":"'20f'!P95","v":0},{"$f":"'20f'!Q95","v":0},{"$f":"'20f'!R95","v":0},{"$f":"'20f'!S95","v":0},{"$f":"'20f'!T95","v":0},{"$f":"SUM('20f'!E176:V176)","v":1}]
[]
[]
[null,null,null,null,"Total",0,0,0,0,0,0,0,0,0,0,null,null,0,0,0,0,0,0,0,0,0,0,0,0,0,0,0,0,0,0,0,0,0,0,0,0,0,0,0,0,0,0,{"$f":"SUM(AV7:AV31)","v":1},1.0000000000000002,1,1,1,1,1,1,1,1,1,1,0,0,{"$f":"SUM(BJ7:BJ32)","v":304}]

{"sheet":"20g","index":89,"n_rows":205,"n_cols":53,"rows_kept":205,"cut":false,"hidden":true,"merged":[]}
["News subjects quoted, by sex"]
[null,null,null,null,null,null,null,null,null,null,null,null,null,null,null,null,null,null,null,null,null,null,null,null,null,null,null,null,null,null,null,null,null,null,null,null,null,null,null,null,null,null,null,null,null,{"$f":"E2","v":0},0,0,0,0,0,0,0]
[null,null,null,null,"Female","Male",null,null,null,null,null,null,null,null,null,null,null,null,null,null,null,null,null,null,null,null,null,null,null,null,null,null,null,null,null,null,null,null,null,null,null,null,null,null,null,"Female","Male",0,0,0,0,0,0]
[null,null,null,null,null,null,null,null,null,null,null,null,null,null,null,null,null,null,null,null,null,null,null,null,null,null,null,null,null,null,null,null,null,null,null,null,null,null,null,null,null,null,null,null,"TOTAL",0,0,0,0,0,0,0,0]
[null,null,0,"No",0.13457699585706001,0.55326098296791304,null,null,null,null,null,null,null,null,null,null,null,null,null,null,null,null,null,null,null,null,null,null,null,null,null,null,null,null,null,null,null,null,null,null,null,null,null,null,{"$f":"SUM(E5:O5)","v":0.68783797882497311},{"$f":"IF((E5+F5)>0,E5/(E5+F5),0)","v":0.19565217391304357},{"$f":"IF((E5+F5)>0,F5/(E5+F5),0)","v":0.80434782608695632},{"$f":"IF((G5+H5)>0,G5/(G5+H5),0)","v":0},{"$f":"IF((G5+H5)>0,H5/(G5+H5),0)","v":0},{"$f":"IF((I5+J5)>0,I5/(I5+J5),0)","v":0},{"$f":"IF((I5+J5)>0,J5/(I5+J5),0)","v":0},{"$f":"IF((K5+L5)>0,K5/(K5+L5),0)","v":0},{"$f":"IF((K5+L5)>0,L5/(K5+L5),0)","v":0}]
[null,null,1,"Yes",0.14952999539673301,0.29158349102363001,null,null,null,null,null,null,null,null,null,null,null,null,null,null,null,null,null,null,null,null,null,null,null,null,null,null,null,null,null,null,null,null,null,null,null,null,null,null,0.44111348642036302,0.33898305084745711,0.66101694915254283,0,0,0,0,0,0]
[null,null,2,"NA – Use this where you are coding a secondary source only",null,null,null,null,null,null,null,null,null,null,null,null,null,null,null,null,null,null,null,null,null,null,null,null,null,null,null,null,null,null,null,null,null,null,null,null,null,null,null,null,0,0,0,0,0,0,0,0,0]
[null,null,null,null,null,null,null,null,null,null,null,null,null,null,null,null,null,null,null,null,null,null,null,null,null,null,null,null,null,null,null,null,null,null,null,null,null,null,null,null,null,null,null,null,0,0,0,0,0,0,0,0,0]
[null,null,null,null,null,null,null,null,null,null,null,null,null,null,null,null,null,null,null,null,null,null,null,null,null,null,null,null,null,null,null,null,null,null,null,null,null,null,null,null,null,null,null,null,0,0,0,0,0,0,0,0,0]
[null,null,null,null,null,null,null,null,null,null,null,null,null,null,null,null,null,null,null,null,null,null,null,null,null,null,null,null,null,null,null,null,null,null,null,null,null,null,null,null,null,null,null,null,0,0,0,0,0,0,0,0,0]
[null,null,null,null,null,null,null,null,null,null,null,null,null,null,null,null,null,null,null,null,null,null,null,null,null,null,null,null,null,null,null,null,null,null,null,null,null,null,null,null,null,null,null,null,0,0,0,0,0,0,0,0,0]
[null,null,null,null,null,null,null,null,null,null,null,null,null,null,null,null,null,null,null,null,null,null,null,null,null,null,null,null,null,null,null,null,null,null,null,null,null,null,null,null,null,null,null,null,0,0,0,0,0,0,0,0,0]
[null,null,null,null,null,null,null,null,null,null,null,null,null,null,null,null,null,null,null,null,null,null,null,null,null,null,null,null,null,null,null,null,null,null,null,null,null,null,null,null,null,null,null,null,0,0,0,0,0,0,0,0,0]
[null,null,null,null,null,null,null,null,null,null,null,null,null,null,null,null,null,null,null,null,null,null,null,null,null,null,null,null,null,null,null,null,null,null,null,null,null,null,null,null,null,null,null,null,0,0,0,0,0,0,0,0,0]
[null,null,null,null,null,null,null,null,null,null,null,null,null,null,null,null,null,null,null,null,null,null,null,null,null,null,null,null,null,null,null,null,null,null,null,null,null,null,null,null,null,null,null,null,0,0,0,0,0,0,0,0,0]
[null,null,null,null,null,null,null,null,null,null,null,null,null,null,null,null,null,null,null,null,null,null,null,null,null,null,null,null,null,null,null,null,null,null,null,null,null,null,null,null,null,null,null,null,0,0,0,0,0,0,0,0,0]
[null,null,null,null,null,null,null,null,null,null,null,null,null,null,null,null,null,null,null,null,null,null,null,null,null,null,null,null,null,null,null,null,null,null,null,null,null,null,null,null,null,null,null,null,0,0,0,0,0,0,0,0,0]
[null,null,null,null,null,null,null,null,null,null,null,null,null,null,null,null,null,null,null,null,null,null,null,null,null,null,null,null,null,null,null,null,null,null,null,null,null,null,null,null,null,null,null,null,0,0,0,0,0,0,0,0,0]
[null,null,null,null,null,null,null,null,null,null,null,null,null,null,null,null,null,null,null,null,null,null,null,null,null,null,null,null,null,null,null,null,null,null,null,null,null,null,null,null,null,null,null,null,0,0,0,0,0,0,0,0,0]
[null,null,null,null,null,null,null,null,null,null,null,null,null,null,null,null,null,null,null,null,null,null,null,null,null,null,null,null,null,null,null,null,null,null,null,null,null,null,null,null,null,null,null,null,0,0,0,0,0,0,0,0,0]
[null,null,null,null,null,null,null,null,null,null,null,null,null,null,null,null,null,null,null,null,null,null,null,null,null,null,null,null,null,null,null,null,null,null,null,null,null,null,null,null,null,null,null,null,0,0,0,0,0,0,0,0,0]
[null,null,null,null,null,null,null,null,null,null,null,null,null,null,null,null,null,null,null,null,null,null,null,null,null,null,null,null,null,null,null,null,null,null,null,null,null,null,null,null,null,null,null,null,0,0,0,0,0,0,0,0,0]
[null,null,null,null,null,null,null,null,null,null,null,null,null,null,null,null,null,null,null,null,null,null,null,null,null,null,null,null,null,null,null,null,null,null,null,null,null,null,null,null,null,null,null,null,0,0,0,0,0,0,0,0,0]
[null,null,null,null,null,null,null,null,null,null,null,null,null,null,null,null,null,null,null,null,null,null,null,null,null,null,null,null,null,null,null,null,null,null,null,null,null,null,null,null,null,null,null,null,0,0,0,0,0,0,0,0,0]
[null,null,null,null,null,null,null,null,null,null,null,null,null,null,null,null,null,null,null,null,null,null,null,null,null,null,null,null,null,null,null,null,null,null,null,null,null,null,null,null,null,null,null,null,0,0,0,0,0,0,0,0,0]
[null,null,null,null,null,null,null,null,null,null,null,null,null,null,null,null,null,null,null,null,null,null,null,null,null,null,null,null,null,null,null,null,null,null,null,null,null,null,null,null,null,null,null,null,0,0,0,0,0,0,0,0,0]
[null,null,null,null,null,null,null,null,null,null,null,null,null,null,null,null,null,null,null,null,null,null,null,null,null,null,null,null,null,null,null,null,null,null,null,null,null,null,null,null,null,null,null,null,0,0,0,0,0,0,0,0,0]
[null,null,null,null,null,null,null,null,null,null,null,null,null,null,null,null,null,null,null,null,null,null,null,null,null,null,null,null,null,null,null,null,null,null,null,null,null,null,null,null,null,null,null,null,0,0,0,0,0,0,0,0,0]
[null,null,null,null,null,null,null,null,null,null,null,null,null,null,null,null,null,null,null,null,null,null,null,null,null,null,null,null,null,null,null,null,null,null,null,null,null,null,null,null,null,null,null,null,0,0,0,0,0,0,0,0,0]
[null,null,null,null,null,null,null,null,null,null,null,null,null,null,null,null,null,null,null,null,null,null,null,null,null,null,null,null,null,null,null,null,null,null,null,null,null,null,null,null,null,null,null,null,0,0,0,0,0,0,0,0,0]
[null,null,null,null,null,null,null,null,null,null,null,null,null,null,null,null,null,null,null,null,null,null,null,null,null,null,null,null,null,null,null,null,null,null,null,null,null,null,null,null,null,null,null,null,0,0,0,0,0,0,0,0,0]
[null,null,null,null,null,null,null,null,null,null,null,null,null,null,null,null,null,null,null,null,null,null,null,null,null,null,null,null,null,null,null,null,null,null,null,null,null,null,null,null,null,null,null,null,0,0,0,0,0,0,0,0,0]
[null,null,null,null,null,null,null,null,null,null,null,null,null,null,null,null,null,null,null,null,null,null,null,null,null,null,null,null,null,null,null,null,null,null,null,null,null,null,null,null,null,null,null,null,0,0,0,0,0,0,0,0,0]
[null,null,null,null,null,null,null,null,null,null,null,null,null,null,null,null,null,null,null,null,null,null,null,null,null,null,null,null,null,null,null,null,null,null,null,null,null,null,null,null,null,null,null,null,0,0,0,0,0,0,0,0,0]
[null,null,null,null,null,null,null,null,null,null,null,null,null,null,null,null,null,null,null,null,null,null,null,null,null,null,null,null,null,null,null,null,null,null,null,null,null,null,null,null,null,null,null,null,0,0,0,0,0,0,0,0,0]
[null,null,null,null,null,null,null,null,null,null,null,null,null,null,null,null,null,null,null,null,null,null,null,null,null,null,null,null,null,null,null,null,null,null,null,null,null,null,null,null,null,null,null,null,0,0,0,0,0,0,0,0,0]
[null,null,null,null,null,null,null,null,null,null,null,null,null,null,null,null,null,null,null,null,null,null,null,null,null,null,null,null,null,null,null,null,null,null,null,null,null,null,null,null,null,null,null,null,{"$f":"SUM(E37:O37)","v":0},{"$f":"IF((E37+F37)>0,E37/(E37+F37),0)","v":0},{"$f":"IF((E37+F37)>0,F37/(E37+F37),0)","v":0},{"$f":"IF((G37+H37)>0,G37/(G37+H37),0)","v":0},{"$f":"IF((G37+H37)>0,H37/(G37+H37),0)","v":0},{"$f":"IF((I37+J37)>0,I37/(I37+J37),0)","v":0},{"$f":"IF((I37+J37)>0,J37/(I37+J37),0)","v":0},{"$f":"IF((K37+L37)>0,K37/(K37+L37),0)","v":0},{"$f":"IF((K37+L37)>0,L37/(K37+L37),0)","v":0}]
[null,null,null,null,null,null,null,null,null,null,null,null,null,null,null,null,null,null,null,null,null,null,null,null,null,null,null,null,null,null,null,null,null,null,null,null,null,null,null,null,null,null,null,null,0,0,0,0,0,0,0,0,0]
[null,null,null,null,null,null,null,null,null,null,null,null,null,null,null,null,null,null,null,null,null,null,null,null,null,null,null,null,null,null,null,null,null,null,null,null,null,null,null,null,null,null,null,null,0,0,0,0,0,0,0,0,0]
[null,null,null,null,null,null,null,null,null,null,null,null,null,null,null,null,null,null,null,null,null,null,null,null,null,null,null,null,null,null,null,null,null,null,null,null,null,null,null,null,null,null,null,null,0,0,0,0,0,0,0,0,0]
[null,null,null,null,null,null,null,null,null,null,null,null,null,null,null,null,null,null,null,null,null,null,null,null,null,null,null,null,null,null,null,null,null,null,null,null,null,null,null,null,null,null,null,null,0,0,0,0,0,0,0,0,0]
[null,null,null,null,null,null,null,null,null,null,null,null,null,null,null,null,null,null,null,null,null,null,null,null,null,null,null,null,null,null,null,null,null,null,null,null,null,null,null,null,null,null,null,null,0,0,0,0,0,0,0,0,0]
[null,null,null,null,null,null,null,null,null,null,null,null,null,null,null,null,null,null,null,null,null,null,null,null,null,null,null,null,null,null,null,null,null,null,null,null,null,null,null,null,null,null,null,null,0,0,0,0,0,0,0,0,0]
[null,null,null,null,null,null,null,null,null,null,null,null,null,null,null,null,null,null,null,null,null,null,null,null,null,null,null,null,null,null,null,null,null,null,null,null,null,null,null,null,null,null,null,null,0,0,0,0,0,0,0,0,0]
[null,null,null,null,null,null,null,null,null,null,null,null,null,null,null,null,null,null,null,null,null,null,null,null,null,null,null,null,null,null,null,null,null,null,null,null,null,null,null,null,null,null,null,null,0,0,0,0,0,0,0,0,0]
[null,null,null,null,null,null,null,null,null,null,null,null,null,null,null,null,null,null,null,null,null,null,null,null,null,null,null,null,null,null,null,null,null,null,null,null,null,null,null,null,null,null,null,null,0,0,0,0,0,0,0,0,0]
[null,null,null,null,null,null,null,null,null,null,null,null,null,null,null,null,null,null,null,null,null,null,null,null,null,null,null,null,null,null,null,null,null,null,null,null,null,null,null,null,null,null,null,null,0,0,0,0,0,0,0,0,0]
[null,null,null,null,null,null,null,null,null,null,null,null,null,null,null,null,null,null,null,null,null,null,null,null,null,null,null,null,null,null,null,null,null,null,null,null,null,null,null,null,null,null,null,null,0,0,0,0,0,0,0,0,0]
[null,null,null,null,null,null,null,null,null,null,null,null,null,null,null,null,null,null,null,null,null,null,null,null,null,null,null,null,null,null,null,null,null,null,null,null,null,null,null,null,null,null,null,null,0,0,0,0,0,0,0,0,0]
[null,null,null,null,null,null,null,null,null,null,null,null,null,null,null,null,null,null,null,null,null,null,null,null,null,null,null,null,null,null,null,null,null,null,null,null,null,null,null,null,null,null,null,null,0,0,0,0,0,0,0,0,0]
[null,null,null,null,null,null,null,null,null,null,null,null,null,null,null,null,null,null,null,null,null,null,null,null,null,null,null,null,null,null,null,null,null,null,null,null,null,null,null,null,null,null,null,null,0,0,0,0,0,0,0,0,0]
[null,null,null,null,null,null,null,null,null,null,null,null,null,null,null,null,null,null,null,null,null,null,null,null,null,null,null,null,null,null,null,null,null,null,null,null,null,null,null,null,null,null,null,null,0,0,0,0,0,0,0,0,0]
[null,null,null,null,null,null,null,null,null,null,null,null,null,null,null,null,null,null,null,null,null,null,null,null,null,null,null,null,null,null,null,null,null,null,null,null,null,null,null,null,null,null,null,null,0,0,0,0,0,0,0,0,0]
[null,null,null,null,null,null,null,null,null,null,null,null,null,null,null,null,null,null,null,null,null,null,null,null,null,null,null,null,null,null,null,null,null,null,null,null,null,null,null,null,null,null,null,null,0,0,0,0,0,0,0,0,0]
[null,null,null,null,null,null,null,null,null,null,null,null,null,null,null,null,null,null,null,null,null,null,null,null,null,null,null,null,null,null,null,null,null,null,null,null,null,null,null,null,null,null,null,null,0,0,0,0,0,0,0,0,0]
[null,null,null,null,null,null,null,null,null,null,null,null,null,null,null,null,null,null,null,null,null,null,null,null,null,null,null,null,null,null,null,null,null,null,null,null,null,null,null,null,null,null,null,null,0,0,0,0,0,0,0,0,0]
[null,null,null,null,null,null,null,null,null,null,null,null,null,null,null,null,null,null,null,null,null,null,null,null,null,null,null,null,null,null,null,null,null,null,null,null,null,null,null,null,null,null,null,null,0,0,0,0,0,0,0,0,0]
[null,null,null,null,null,null,null,null,null,null,null,null,null,null,null,null,null,null,null,null,null,null,null,null,null,null,null,null,null,null,null,null,null,null,null,null,null,null,null,null,null,null,null,null,0,0,0,0,0,0,0,0,0]
[null,null,null,null,null,null,null,null,null,null,null,null,null,null,null,null,null,null,null,null,null,null,null,null,null,null,null,null,null,null,null,null,null,null,null,null,null,null,null,null,null,null,null,null,0,0,0,0,0,0,0,0,0]
[null,null,null,null,null,null,null,null,null,null,null,null,null,null,null,null,null,null,null,null,null,null,null,null,null,null,null,null,null,null,null,null,null,null,null,null,null,null,null,null,null,null,null,null,0,0,0,0,0,0,0,0,0]
[null,null,null,null,null,null,null,null,null,null,null,null,null,null,null,null,null,null,null,null,null,null,null,null,null,null,null,null,null,null,null,null,null,null,null,null,null,null,null,null,null,null,null,null,0,0,0,0,0,0,0,0,0]
[null,null,null,null,null,null,null,null,null,null,null,null,null,null,null,null,null,null,null,null,null,null,null,null,null,null,null,null,null,null,null,null,null,null,null,null,null,null,null,null,null,null,null,null,0,0,0,0,0,0,0,0,0]
[null,null,null,null,null,null,null,null,null,null,null,null,null,null,null,null,null,null,null,null,null,null,null,null,null,null,null,null,null,null,null,null,null,null,null,null,null,null,null,null,null,null,null,null,0,0,0,0,0,0,0,0,0]
[null,null,null,null,null,null,null,null,null,null,null,null,null,null,null,null,null,null,null,null,null,null,null,null,null,null,null,null,null,null,null,null,null,null,null,null,null,null,null,null,null,null,null,null,0,0,0,0,0,0,0,0,0]
[null,null,null,null,null,null,null,null,null,null,null,null,null,null,null,null,null,null,null,null,null,null,null,null,null,null,null,null,null,null,null,null,null,null,null,null,null,null,null,null,null,null,null,null,0,0,0,0,0,0,0,0,0]
[null,null,null,null,null,null,null,null,null,null,null,null,null,null,null,null,null,null,null,null,null,null,null,null,null,null,null,null,null,null,null,null,null,null,null,null,null,null,null,null,null,null,null,null,0,0,0,0,0,0,0,0,0]
[null,null,null,null,null,null,null,null,null,null,null,null,null,null,null,null,null,null,null,null,null,null,null,null,null,null,null,null,null,null,null,null,null,null,null,null,null,null,null,null,null,null,null,null,0,0,0,0,0,0,0,0,0]
[null,null,null,"TOTAL",{"$f":"SUM(E5:E6)","v":0.28410699125379302},{"$f":"SUM(F5:F6)","v":0.84484447399154305},0,0,0,0,0,0,0,0,0,0,0,0,0,0,null,null,null,null,null,null,null,null,null,null,null,null,null,null,null,null,null,null,null,null,null,null,null,null,1.1289514652453361,0.25165562913907269,0.74834437086092731,0,0,0,0,0,0]
[]
[null,null,{"$f":"C5","v":0},"No",{"$f":"IF(E$68>0,E5/E$68,0)","v":0.47368421052631637},0.65486725663716805,0,0,0,0,0,0,0,0,0,0,0,0,0,0]
[null,null,1,"Yes",{"$f":"IF(E$68>0,E6/E$68,0)","v":0.52631578947368363},0.34513274336283201,0,0,0,0,0,0,0,0,0,0,0,0,0,0]
[null,null,2,"NA – Use this where you are coding a secondary source only",{"$f":"IF(E$68>0,E7/E$68,0)","v":0},0,0,0,0,0,0,0,0,0,0,0,0,0,0,0]
[null,null,0,0,{"$f":"IF(E$68>0,E8/E$68,0)","v":0},0,0,0,0,0,0,0,0,0,0,0,0,0,0,0]
[null,null,0,0,{"$f":"IF(E$68>0,E9/E$68,0)","v":0},0,0,0,0,0,0,0,0,0,0,0,0,0,0,0]
[null,null,0,0,{"$f":"IF(E$68>0,E10/E$68,0)","v":0},0,0,0,0,0,0,0,0,0,0,0,0,0,0,0]
[null,null,0,0,{"$f":"IF(E$68>0,E11/E$68,0)","v":0},0,0,0,0,0,0,0,0,0,0,0,0,0,0,0]
[null,null,0,0,{"$f":"IF(E$68>0,E12/E$68,0)","v":0},0,0,0,0,0,0,0,0,0,0,0,0,0,0,0]
[null,null,0,0,{"$f":"IF(E$68>0,E13/E$68,0)","v":0},0,0,0,0,0,0,0,0,0,0,0,0,0,0,0]
[null,null,0,0,{"$f":"IF(E$68>0,E14/E$68,0)","v":0},0,0,0,0,0,0,0,0,0,0,0,0,0,0,0]
[null,null,0,0,{"$f":"IF(E$68>0,E15/E$68,0)","v":0},0,0,0,0,0,0,0,0,0,0,0,0,0,0,0]
[null,null,0,0,{"$f":"IF(E$68>0,E16/E$68,0)","v":0},0,0,0,0,0,0,0,0,0,0,0,0,0,0,0]
[null,null,0,0,{"$f":"IF(E$68>0,E17/E$68,0)","v":0},0,0,0,0,0,0,0,0,0,0,0,0,0,0,0]
[null,null,0,0,{"$f":"IF(E$68>0,E18/E$68,0)","v":0},0,0,0,0,0,0,0,0,0,0,0,0,0,0,0]
[null,null,0,0,{"$f":"IF(E$68>0,E19/E$68,0)","v":0},0,0,0,0,0,0,0,0,0,0,0,0,0,0,0]
[null,null,0,0,{"$f":"IF(E$68>0,E20/E$68,0)","v":0},0,0,0,0,0,0,0,0,0,0,0,0,0,0,0]
[null,null,0,0,{"$f":"IF(E$68>0,E21/E$68,0)","v":0},0,0,0,0,0,0,0,0,0,0,0,0,0,0,0]
[null,null,0,0,{"$f":"IF(E$68>0,E22/E$68,0)","v":0},0,0,0,0,0,0,0,0,0,0,0,0,0,0,0]
[null,null,0,0,{"$f":"IF(E$68>0,E23/E$68,0)","v":0},0,0,0,0,0,0,0,0,0,0,0,0,0,0,0]
[null,null,0,0,{"$f":"IF(E$68>0,E24/E$68,0)","v":0},0,0,0,0,0,0,0,0,0,0,0,0,0,0,0]
[null,null,{"$f":"C25","v":0},0,{"$f":"IF(E$68>0,E25/E$68,0)","v":0},0,0,0,0,0,0,0,0,0,0,0,0,0,0,0]
[null,null,0,0,{"$f":"IF(E$68>0,E26/E$68,0)","v":0},0,0,0,0,0,0,0,0,0,0,0,0,0,0,0]
[null,null,0,0,{"$f":"IF(E$68>0,E27/E$68,0)","v":0},0,0,0,0,0,0,0,0,0,0,0,0,0,0,0]
[null,null,0,0,{"$f":"IF(E$68>0,E28/E$68,0)","v":0},0,0,0,0,0,0,0,0,0,0,0,0,0,0,0]
[null,null,0,0,{"$f":"IF(E$68>0,E29/E$68,0)","v":0},0,0,0,0,0,0,0,0,0,0,0,0,0,0,0]
[null,null,0,0,{"$f":"IF(E$68>0,E30/E$68,0)","v":0},0,0,0,0,0,0,0,0,0,0,0,0,0,0,0]
[null,null,0,0,{"$f":"IF(E$68>0,E31/E$68,0)","v":0},0,0,0,0,0,0,0,0,0,0,0,0,0,0,0]
[null,null,0,0,{"$f":"IF(E$68>0,E32/E$68,0)","v":0},0,0,0,0,0,0,0,0,0,0,0,0,0,0,0]
[null,null,0,0,{"$f":"IF(E$68>0,E33/E$68,0)","v":0},0,0,0,0,0,0,0,0,0,0,0,0,0,0,0]
[null,null,0,0,{"$f":"IF(E$68>0,E34/E$68,0)","v":0},0,0,0,0,0,0,0,0,0,0,0,0,0,0,0]
[null,null,0,0,{"$f":"IF(E$68>0,E35/E$68,0)","v":0},0,0,0,0,0,0,0,0,0,0,0,0,0,0,0]
[null,null,0,0,{"$f":"IF(E$68>0,E36/E$68,0)","v":0},0,0,0,0,0,0,0,0,0,0,0,0,0,0,0]
[null,null,0,0,{"$f":"IF(E$68>0,E37/E$68,0)","v":0},0,0,0,0,0,0,0,0,0,0,0,0,0,0,0]
[null,null,0,0,{"$f":"IF(E$68>0,E38/E$68,0)","v":0},0,0,0,0,0,0,0,0,0,0,0,0,0,0,0]
[null,null,0,0,{"$f":"IF(E$68>0,E39/E$68,0)","v":0},0,0,0,0,0,0,0,0,0,0,0,0,0,0,0]
[null,null,0,0,{"$f":"IF(E$68>0,E40/E$68,0)","v":0},0,0,0,0,0,0,0,0,0,0,0,0,0,0,0]
[null,null,0,0,{"$f":"IF(E$68>0,E41/E$68,0)","v":0},0,0,0,0,0,0,0,0,0,0,0,0,0,0,0]
[null,null,0,0,{"$f":"IF(E$68>0,E42/E$68,0)","v":0},0,0,0,0,0,0,0,0,0,0,0,0,0,0,0]
[null,null,0,0,{"$f":"IF(E$68>0,E43/E$68,0)","v":0},0,0,0,0,0,0,0,0,0,0,0,0,0,0,0]
[null,null,0,0,{"$f":"IF(E$68>0,E44/E$68,0)","v":0},0,0,0,0,0,0,0,0,0,0,0,0,0,0,0]
[null,null,{"$f":"C45","v":0},0,{"$f":"IF(E$68>0,E45/E$68,0)","v":0},0,0,0,0,0,0,0,0,0,0,0,0,0,0,0]
[null,null,0,0,{"$f":"IF(E$68>0,E46/E$68,0)","v":0},0,0,0,0,0,0,0,0,0,0,0,0,0,0,0]
[null,null,0,0,{"$f":"IF(E$68>0,E47/E$68,0)","v":0},0,0,0,0,0,0,0,0,0,0,0,0,0,0,0]
[null,null,0,0,{"$f":"IF(E$68>0,E48/E$68,0)","v":0},0,0,0,0,0,0,0,0,0,0,0,0,0,0,0]
[null,null,0,0,{"$f":"IF(E$68>0,E49/E$68,0)","v":0},0,0,0,0,0,0,0,0,0,0,0,0,0,0,0]
[null,null,0,0,{"$f":"IF(E$68>0,E50/E$68,0)","v":0},0,0,0,0,0,0,0,0,0,0,0,0,0,0,0]
[null,null,0,0,{"$f":"IF(E$68>0,E51/E$68,0)","v":0},0,0,0,0,0,0,0,0,0,0,0,0,0,0,0]
[null,null,0,0,{"$f":"IF(E$68>0,E52/E$68,0)","v":0},0,0,0,0,0,0,0,0,0,0,0,0,0,0,0]
[null,null,0,0,{"$f":"IF(E$68>0,E53/E$68,0)","v":0},0,0,0,0,0,0,0,0,0,0,0,0,0,0,0]
[null,null,0,0,{"$f":"IF(E$68>0,E54/E$68,0)","v":0},0,0,0,0,0,0,0,0,0,0,0,0,0,0,0]
[null,null,0,0,{"$f":"IF(E$68>0,E55/E$68,0)","v":0},0,0,0,0,0,0,0,0,0,0,0,0,0,0,0]
[null,null,0,0,{"$f":"IF(E$68>0,E56/E$68,0)","v":0},0,0,0,0,0,0,0,0,0,0,0,0,0,0,0]
[null,null,0,0,{"$f":"IF(E$68>0,E57/E$68,0)","v":0},0,0,0,0,0,0,0,0,0,0,0,0,0,0,0]
[null,null,0,0,{"$f":"IF(E$68>0,E58/E$68,0)","v":0},0,0,0,0,0,0,0,0,0,0,0,0,0,0,0]
[null,null,0,0,{"$f":"IF(E$68>0,E59/E$68,0)","v":0},0,0,0,0,0,0,0,0,0,0,0,0,0,0,0]
[null,null,0,0,{"$f":"IF(E$68>0,E60/E$68,0)","v":0},0,0,0,0,0,0,0,0,0,0,0,0,0,0,0]
[null,null,0,0,{"$f":"IF(E$68>0,E61/E$68,0)","v":0},0,0,0,0,0,0,0,0,0,0,0,0,0,0,0]
[null,null,0,0,{"$f":"IF(E$68>0,E62/E$68,0)","v":0},0,0,0,0,0,0,0,0,0,0,0,0,0,0,0]
[]
[]
[]
[]
[]
[]
[]
[]
[]
[]
[]
[]
[]
[]
[]
[]
[]
[]
[]
[]
["COUNT"]
[null,null,null,null,{"$f":"E3","v":"Female"},"Male",0,0,0,0,0,0,0,0,0,0,0,0,0,0]
[null,null,null,null,{"$f":"E4","v":0},0,0,0,0,0,0,0,0,0,0,0,0,0,0,0]
[null,null,{"$f":"C5","v":0},"No",18,74,0,0,0,0]
[null,null,1,"Yes",20,39,0,0,0,0]
[null,null,2,"NA – Use this where you are coding a secondary source only",0,0,0,0,0,0]
[null,null,0,0,2,0,0,0,0,0]
[null,null,0,0,0,0,0,0,0,0]
[null,null,0,0,0,0,0,0,0,0]
[null,null,0,0,0,1,0,0,0,0]
[null,null,0,0,0,0,0,0,0,0]
[null,null,0,0,0,0,0,0,0,0]
[null,null,0,0,0,0,0,0,0,0]
[null,null,0,0,0,0,0,0,0,0]
[null,null,0,0,0,0,0,0,0,0]
[null,null,0,0,0,0,0,0,0,0]
[null,null,0,0,0,0,0,0,0,0]
[null,null,0,0,0,0,0,0,0,0]
[null,null,0,0,0,0,0,0,0,0]
[null,null,0,0,0,0,0,0,0,0]
[null,null,0,0,0,0,0,0,0,0]
[null,null,0,0,0,0,0,0,0,0]
[null,null,0,0,0,0,0,0,0,0]
[null,null,{"$f":"C25","v":0},0,0,0,0,0,0,0]
[null,null,0,0,0,0,0,0,0,0]
[null,null,0,0,0,0,0,0,0,0]
[null,null,0,0,0,0,0,0,0,0]
[null,null,0,0,0,0,0,0,0,0]
[null,null,0,0,0,0,0,0,0,0]
[null,null,0,0,0,0,0,0,0,0]
[null,null,0,0,0,0,0,0,0,0]
[null,null,0,0,0,0,0,0,0,0]
[null,null,0,0,0,0,0,0,0,0]
[null,null,0,0,0,0,0,0,0,0]
[null,null,0,0,0,0,0,0,0,0]
[null,null,0,0,0,0,0,0,0,0]
[null,null,0,0,0,0,0,0,0,0]
[null,null,0,0,0,0,0,0,0,0]
[null,null,0,0,0,0,0,0,0,0]
[null,null,0,0,0,0,0,0,0,0]
[null,null,0,0,0,0,0,0,0,0]
[null,null,0,0,0,0,0,0,0,0]
[null,null,0,0,0,0,0,0,0,0]
[null,null,{"$f":"C45","v":0},0,0,0,0,0,0,0]
[null,null,0,0,0,0,0,0,0,0]
[null,null,0,0,0,0,0,0,0,0]
[null,null,0,0,0,0,0,0,0,0]
[null,null,0,0,0,0,0,0,0,0]
[null,null,0,0,0,0,0,0,0,0]
[null,null,0,0,0,0,0,0,0,0]
[null,null,0,0,0,0,0,0,0,0]
[null,null,0,0,0,0,0,0,0,0]
[null,null,0,0,0,0,0,0,0,0]
[null,null,0,0,0,0,0,0,0,0]
[null,null,0,0,0,0,0,0,0,0]
[null,null,0,0]
[null,null,0,0]
[null,null,0,0]

{"sheet":"20gF - Quoted","index":90,"n_rows":7,"n_cols":13,"rows_kept":7,"cut":false,"hidden":false,"merged":[[1,5,1,12],[2,5,2,6],[2,7,2,8],[2,9,2,10],[2,11,2,12]]}
["News subjects quoted, by sex"]
[]
[null,null,null,null,null,"1995",null,"2000",null,"2005",null,"2010"]
[null,null,null,null,"Quoted","%F","%M","%F","%M","%F","%M","%F","%M"]
[]
[null,null,null,null,{"$f":"'20g'!D5","v":"No"},0,0,"n/a","n/a","n/a","n/a",{"$f":"'20g'!E70","v":0.47368421052631637},{"$f":"'20g'!F70","v":0.65486725663716805}]
[null,null,null,null,{"$f":"'20g'!D6","v":"Yes"},0,0,0.33,0.35,0.5,0.5,{"$f":"'20g'!E71","v":0.52631578947368363},{"$f":"'20g'!F71","v":0.34513274336283201}]

{"sheet":"20h","index":91,"n_rows":205,"n_cols":53,"rows_kept":205,"cut":false,"hidden":true,"merged":[]}
["News subjects photographed, by sex"]
[null,null,null,null,null,null,null,null,null,null,null,null,null,null,null,null,null,null,null,null,null,null,null,null,null,null,null,null,null,null,null,null,null,null,null,null,null,null,null,null,null,null,null,null,null,{"$f":"E2","v":0},0,0,0,0,0,0,0]
[null,null,null,null,"Female","Male",null,null,null,null,null,null,null,null,null,null,null,null,null,null,null,null,null,null,null,null,null,null,null,null,null,null,null,null,null,null,null,null,null,null,null,null,null,null,null,"Female","Male",0,0,0,0,0,0]
[null,null,null,null,null,null,null,null,null,null,null,null,null,null,null,null,null,null,null,null,null,null,null,null,null,null,null,null,null,null,null,null,null,null,null,null,null,null,null,null,null,null,null,null,"TOTAL",0,0,0,0,0,0,0,0]
[null,null,0,"No",0.20934199355542699,0.60559648135677002,null,null,null,null,null,null,null,null,null,null,null,null,null,null,null,null,null,null,null,null,null,null,null,null,null,null,null,null,null,null,null,null,null,null,null,null,null,null,{"$f":"SUM(E5:O5)","v":0.81493847491219706},{"$f":"IF((E5+F5)>0,E5/(E5+F5),0)","v":0.25688073394495442},{"$f":"IF((E5+F5)>0,F5/(E5+F5),0)","v":0.74311926605504552},{"$f":"IF((G5+H5)>0,G5/(G5+H5),0)","v":0},{"$f":"IF((G5+H5)>0,H5/(G5+H5),0)","v":0},{"$f":"IF((I5+J5)>0,I5/(I5+J5),0)","v":0},{"$f":"IF((I5+J5)>0,J5/(I5+J5),0)","v":0},{"$f":"IF((K5+L5)>0,K5/(K5+L5),0)","v":0},{"$f":"IF((K5+L5)>0,L5/(K5+L5),0)","v":0}]
[null,null,1,"Yes",5.98119981586933E-2,0.19438899401575299,null,null,null,null,null,null,null,null,null,null,null,null,null,null,null,null,null,null,null,null,null,null,null,null,null,null,null,null,null,null,null,null,null,null,null,null,null,null,0.25420099217444631,0.23529411764705901,0.7647058823529409,0,0,0,0,0,0]
[null,null,2,"Don't know (e.g. there is a photo, but you are not sure if this person appears in it)",1.4952999539673301E-2,4.4858998619019999E-2,null,null,null,null,null,null,null,null,null,null,null,null,null,null,null,null,null,null,null,null,null,null,null,null,null,null,null,null,null,null,null,null,null,null,null,null,null,null,5.98119981586933E-2,0.24999999999999958,0.75000000000000044,0,0,0,0,0,0]
[null,null,3,"NA – Use this where you are coding a secondary source only",null,null,null,null,null,null,null,null,null,null,null,null,null,null,null,null,null,null,null,null,null,null,null,null,null,null,null,null,null,null,null,null,null,null,null,null,null,null,null,null,0,0,0,0,0,0,0,0,0]
[null,null,null,null,null,null,null,null,null,null,null,null,null,null,null,null,null,null,null,null,null,null,null,null,null,null,null,null,null,null,null,null,null,null,null,null,null,null,null,null,null,null,null,null,0,0,0,0,0,0,0,0,0]
[null,null,null,null,null,null,null,null,null,null,null,null,null,null,null,null,null,null,null,null,null,null,null,null,null,null,null,null,null,null,null,null,null,null,null,null,null,null,null,null,null,null,null,null,0,0,0,0,0,0,0,0,0]
[null,null,null,null,null,null,null,null,null,null,null,null,null,null,null,null,null,null,null,null,null,null,null,null,null,null,null,null,null,null,null,null,null,null,null,null,null,null,null,null,null,null,null,null,0,0,0,0,0,0,0,0,0]
[null,null,null,null,null,null,null,null,null,null,null,null,null,null,null,null,null,null,null,null,null,null,null,null,null,null,null,null,null,null,null,null,null,null,null,null,null,null,null,null,null,null,null,null,0,0,0,0,0,0,0,0,0]
[null,null,null,null,null,null,null,null,null,null,null,null,null,null,null,null,null,null,null,null,null,null,null,null,null,null,null,null,null,null,null,null,null,null,null,null,null,null,null,null,null,null,null,null,0,0,0,0,0,0,0,0,0]
[null,null,null,null,null,null,null,null,null,null,null,null,null,null,null,null,null,null,null,null,null,null,null,null,null,null,null,null,null,null,null,null,null,null,null,null,null,null,null,null,null,null,null,null,0,0,0,0,0,0,0,0,0]
[null,null,null,null,null,null,null,null,null,null,null,null,null,null,null,null,null,null,null,null,null,null,null,null,null,null,null,null,null,null,null,null,null,null,null,null,null,null,null,null,null,null,null,null,0,0,0,0,0,0,0,0,0]
[null,null,null,null,null,null,null,null,null,null,null,null,null,null,null,null,null,null,null,null,null,null,null,null,null,null,null,null,null,null,null,null,null,null,null,null,null,null,null,null,null,null,null,null,0,0,0,0,0,0,0,0,0]
[null,null,null,null,null,null,null,null,null,null,null,null,null,null,null,null,null,null,null,null,null,null,null,null,null,null,null,null,null,null,null,null,null,null,null,null,null,null,null,null,null,null,null,null,0,0,0,0,0,0,0,0,0]
[null,null,null,null,null,null,null,null,null,null,null,null,null,null,null,null,null,null,null,null,null,null,null,null,null,null,null,null,null,null,null,null,null,null,null,null,null,null,null,null,null,null,null,null,0,0,0,0,0,0,0,0,0]
[null,null,null,null,null,null,null,null,null,null,null,null,null,null,null,null,null,null,null,null,null,null,null,null,null,null,null,null,null,null,null,null,null,null,null,null,null,null,null,null,null,null,null,null,0,0,0,0,0,0,0,0,0]
[null,null,null,null,null,null,null,null,null,null,null,null,null,null,null,null,null,null,null,null,null,null,null,null,null,null,null,null,null,null,null,null,null,null,null,null,null,null,null,null,null,null,null,null,0,0,0,0,0,0,0,0,0]
[null,null,null,null,null,null,null,null,null,null,null,null,null,null,null,null,null,null,null,null,null,null,null,null,null,null,null,null,null,null,null,null,null,null,null,null,null,null,null,null,null,null,null,null,0,0,0,0,0,0,0,0,0]
[null,null,null,null,null,null,null,null,null,null,null,null,null,null,null,null,null,null,null,null,null,null,null,null,null,null,null,null,null,null,null,null,null,null,null,null,null,null,null,null,null,null,null,null,0,0,0,0,0,0,0,0,0]
[null,null,null,null,null,null,null,null,null,null,null,null,null,null,null,null,null,null,null,null,null,null,null,null,null,null,null,null,null,null,null,null,null,null,null,null,null,null,null,null,null,null,null,null,0,0,0,0,0,0,0,0,0]
[null,null,null,null,null,null,null,null,null,null,null,null,null,null,null,null,null,null,null,null,null,null,null,null,null,null,null,null,null,null,null,null,null,null,null,null,null,null,null,null,null,null,null,null,0,0,0,0,0,0,0,0,0]
[null,null,null,null,null,null,null,null,null,null,null,null,null,null,null,null,null,null,null,null,null,null,null,null,null,null,null,null,null,null,null,null,null,null,null,null,null,null,null,null,null,null,null,null,0,0,0,0,0,0,0,0,0]
[null,null,null,null,null,null,null,null,null,null,null,null,null,null,null,null,null,null,null,null,null,null,null,null,null,null,null,null,null,null,null,null,null,null,null,null,null,null,null,null,null,null,null,null,0,0,0,0,0,0,0,0,0]
[null,null,null,null,null,null,null,null,null,null,null,null,null,null,null,null,null,null,null,null,null,null,null,null,null,null,null,null,null,null,null,null,null,null,null,null,null,null,null,null,null,null,null,null,0,0,0,0,0,0,0,0,0]
[null,null,null,null,null,null,null,null,null,null,null,null,null,null,null,null,null,null,null,null,null,null,null,null,null,null,null,null,null,null,null,null,null,null,null,null,null,null,null,null,null,null,null,null,0,0,0,0,0,0,0,0,0]
[null,null,null,null,null,null,null,null,null,null,null,null,null,null,null,null,null,null,null,null,null,null,null,null,null,null,null,null,null,null,null,null,null,null,null,null,null,null,null,null,null,null,null,null,0,0,0,0,0,0,0,0,0]
[null,null,null,null,null,null,null,null,null,null,null,null,null,null,null,null,null,null,null,null,null,null,null,null,null,null,null,null,null,null,null,null,null,null,null,null,null,null,null,null,null,null,null,null,0,0,0,0,0,0,0,0,0]
[null,null,null,null,null,null,null,null,null,null,null,null,null,null,null,null,null,null,null,null,null,null,null,null,null,null,null,null,null,null,null,null,null,null,null,null,null,null,null,null,null,null,null,null,0,0,0,0,0,0,0,0,0]
[null,null,null,null,null,null,null,null,null,null,null,null,null,null,null,null,null,null,null,null,null,null,null,null,null,null,null,null,null,null,null,null,null,null,null,null,null,null,null,null,null,null,null,null,0,0,0,0,0,0,0,0,0]
[null,null,null,null,null,null,null,null,null,null,null,null,null,null,null,null,null,null,null,null,null,null,null,null,null,null,null,null,null,null,null,null,null,null,null,null,null,null,null,null,null,null,null,null,0,0,0,0,0,0,0,0,0]
[null,null,null,null,null,null,null,null,null,null,null,null,null,null,null,null,null,null,null,null,null,null,null,null,null,null,null,null,null,null,null,null,null,null,null,null,null,null,null,null,null,null,null,null,0,0,0,0,0,0,0,0,0]
[null,null,null,null,null,null,null,null,null,null,null,null,null,null,null,null,null,null,null,null,null,null,null,null,null,null,null,null,null,null,null,null,null,null,null,null,null,null,null,null,null,null,null,null,0,0,0,0,0,0,0,0,0]
[null,null,null,null,null,null,null,null,null,null,null,null,null,null,null,null,null,null,null,null,null,null,null,null,null,null,null,null,null,null,null,null,null,null,null,null,null,null,null,null,null,null,null,null,0,0,0,0,0,0,0,0,0]
[null,null,null,null,null,null,null,null,null,null,null,null,null,null,null,null,null,null,null,null,null,null,null,null,null,null,null,null,null,null,null,null,null,null,null,null,null,null,null,null,null,null,null,null,{"$f":"SUM(E37:O37)","v":0},{"$f":"IF((E37+F37)>0,E37/(E37+F37),0)","v":0},{"$f":"IF((E37+F37)>0,F37/(E37+F37),0)","v":0},{"$f":"IF((G37+H37)>0,G37/(G37+H37),0)","v":0},{"$f":"IF((G37+H37)>0,H37/(G37+H37),0)","v":0},{"$f":"IF((I37+J37)>0,I37/(I37+J37),0)","v":0},{"$f":"IF((I37+J37)>0,J37/(I37+J37),0)","v":0},{"$f":"IF((K37+L37)>0,K37/(K37+L37),0)","v":0},{"$f":"IF((K37+L37)>0,L37/(K37+L37),0)","v":0}]
[null,null,null,null,null,null,null,null,null,null,null,null,null,null,null,null,null,null,null,null,null,null,null,null,null,null,null,null,null,null,null,null,null,null,null,null,null,null,null,null,null,null,null,null,0,0,0,0,0,0,0,0,0]
[null,null,null,null,null,null,null,null,null,null,null,null,null,null,null,null,null,null,null,null,null,null,null,null,null,null,null,null,null,null,null,null,null,null,null,null,null,null,null,null,null,null,null,null,0,0,0,0,0,0,0,0,0]
[null,null,null,null,null,null,null,null,null,null,null,null,null,null,null,null,null,null,null,null,null,null,null,null,null,null,null,null,null,null,null,null,null,null,null,null,null,null,null,null,null,null,null,null,0,0,0,0,0,0,0,0,0]
[null,null,null,null,null,null,null,null,null,null,null,null,null,null,null,null,null,null,null,null,null,null,null,null,null,null,null,null,null,null,null,null,null,null,null,null,null,null,null,null,null,null,null,null,0,0,0,0,0,0,0,0,0]
[null,null,null,null,null,null,null,null,null,null,null,null,null,null,null,null,null,null,null,null,null,null,null,null,null,null,null,null,null,null,null,null,null,null,null,null,null,null,null,null,null,null,null,null,0,0,0,0,0,0,0,0,0]
[null,null,null,null,null,null,null,null,null,null,null,null,null,null,null,null,null,null,null,null,null,null,null,null,null,null,null,null,null,null,null,null,null,null,null,null,null,null,null,null,null,null,null,null,0,0,0,0,0,0,0,0,0]
[null,null,null,null,null,null,null,null,null,null,null,null,null,null,null,null,null,null,null,null,null,null,null,null,null,null,null,null,null,null,null,null,null,null,null,null,null,null,null,null,null,null,null,null,0,0,0,0,0,0,0,0,0]
[null,null,null,null,null,null,null,null,null,null,null,null,null,null,null,null,null,null,null,null,null,null,null,null,null,null,null,null,null,null,null,null,null,null,null,null,null,null,null,null,null,null,null,null,0,0,0,0,0,0,0,0,0]
[null,null,null,null,null,null,null,null,null,null,null,null,null,null,null,null,null,null,null,null,null,null,null,null,null,null,null,null,null,null,null,null,null,null,null,null,null,null,null,null,null,null,null,null,0,0,0,0,0,0,0,0,0]
[null,null,null,null,null,null,null,null,null,null,null,null,null,null,null,null,null,null,null,null,null,null,null,null,null,null,null,null,null,null,null,null,null,null,null,null,null,null,null,null,null,null,null,null,0,0,0,0,0,0,0,0,0]
[null,null,null,null,null,null,null,null,null,null,null,null,null,null,null,null,null,null,null,null,null,null,null,null,null,null,null,null,null,null,null,null,null,null,null,null,null,null,null,null,null,null,null,null,0,0,0,0,0,0,0,0,0]
[null,null,null,null,null,null,null,null,null,null,null,null,null,null,null,null,null,null,null,null,null,null,null,null,null,null,null,null,null,null,null,null,null,null,null,null,null,null,null,null,null,null,null,null,0,0,0,0,0,0,0,0,0]
[null,null,null,null,null,null,null,null,null,null,null,null,null,null,null,null,null,null,null,null,null,null,null,null,null,null,null,null,null,null,null,null,null,null,null,null,null,null,null,null,null,null,null,null,0,0,0,0,0,0,0,0,0]
[null,null,null,null,null,null,null,null,null,null,null,null,null,null,null,null,null,null,null,null,null,null,null,null,null,null,null,null,null,null,null,null,null,null,null,null,null,null,null,null,null,null,null,null,0,0,0,0,0,0,0,0,0]
[null,null,null,null,null,null,null,null,null,null,null,null,null,null,null,null,null,null,null,null,null,null,null,null,null,null,null,null,null,null,null,null,null,null,null,null,null,null,null,null,null,null,null,null,0,0,0,0,0,0,0,0,0]
[null,null,null,null,null,null,null,null,null,null,null,null,null,null,null,null,null,null,null,null,null,null,null,null,null,null,null,null,null,null,null,null,null,null,null,null,null,null,null,null,null,null,null,null,0,0,0,0,0,0,0,0,0]
[null,null,null,null,null,null,null,null,null,null,null,null,null,null,null,null,null,null,null,null,null,null,null,null,null,null,null,null,null,null,null,null,null,null,null,null,null,null,null,null,null,null,null,null,0,0,0,0,0,0,0,0,0]
[null,null,null,null,null,null,null,null,null,null,null,null,null,null,null,null,null,null,null,null,null,null,null,null,null,null,null,null,null,null,null,null,null,null,null,null,null,null,null,null,null,null,null,null,0,0,0,0,0,0,0,0,0]
[null,null,null,null,null,null,null,null,null,null,null,null,null,null,null,null,null,null,null,null,null,null,null,null,null,null,null,null,null,null,null,null,null,null,null,null,null,null,null,null,null,null,null,null,0,0,0,0,0,0,0,0,0]
[null,null,null,null,null,null,null,null,null,null,null,null,null,null,null,null,null,null,null,null,null,null,null,null,null,null,null,null,null,null,null,null,null,null,null,null,null,null,null,null,null,null,null,null,0,0,0,0,0,0,0,0,0]
[null,null,null,null,null,null,null,null,null,null,null,null,null,null,null,null,null,null,null,null,null,null,null,null,null,null,null,null,null,null,null,null,null,null,null,null,null,null,null,null,null,null,null,null,0,0,0,0,0,0,0,0,0]
[null,null,null,null,null,null,null,null,null,null,null,null,null,null,null,null,null,null,null,null,null,null,null,null,null,null,null,null,null,null,null,null,null,null,null,null,null,null,null,null,null,null,null,null,0,0,0,0,0,0,0,0,0]
[null,null,null,null,null,null,null,null,null,null,null,null,null,null,null,null,null,null,null,null,null,null,null,null,null,null,null,null,null,null,null,null,null,null,null,null,null,null,null,null,null,null,null,null,0,0,0,0,0,0,0,0,0]
[null,null,null,null,null,null,null,null,null,null,null,null,null,null,null,null,null,null,null,null,null,null,null,null,null,null,null,null,null,null,null,null,null,null,null,null,null,null,null,null,null,null,null,null,0,0,0,0,0,0,0,0,0]
[null,null,null,null,null,null,null,null,null,null,null,null,null,null,null,null,null,null,null,null,null,null,null,null,null,null,null,null,null,null,null,null,null,null,null,null,null,null,null,null,null,null,null,null,0,0,0,0,0,0,0,0,0]
[null,null,null,null,null,null,null,null,null,null,null,null,null,null,null,null,null,null,null,null,null,null,null,null,null,null,null,null,null,null,null,null,null,null,null,null,null,null,null,null,null,null,null,null,0,0,0,0,0,0,0,0,0]
[null,null,null,null,null,null,null,null,null,null,null,null,null,null,null,null,null,null,null,null,null,null,null,null,null,null,null,null,null,null,null,null,null,null,null,null,null,null,null,null,null,null,null,null,0,0,0,0,0,0,0,0,0]
[null,null,null,null,null,null,null,null,null,null,null,null,null,null,null,null,null,null,null,null,null,null,null,null,null,null,null,null,null,null,null,null,null,null,null,null,null,null,null,null,null,null,null,null,0,0,0,0,0,0,0,0,0]
[null,null,null,null,null,null,null,null,null,null,null,null,null,null,null,null,null,null,null,null,null,null,null,null,null,null,null,null,null,null,null,null,null,null,null,null,null,null,null,null,null,null,null,null,0,0,0,0,0,0,0,0,0]
[null,null,null,null,null,null,null,null,null,null,null,null,null,null,null,null,null,null,null,null,null,null,null,null,null,null,null,null,null,null,null,null,null,null,null,null,null,null,null,null,null,null,null,null,0,0,0,0,0,0,0,0,0]
[null,null,null,"TOTAL",{"$f":"SUM(E5:E6)","v":0.2691539917141203},{"$f":"SUM(F5:F6)","v":0.79998547537252307},0,0,0,0,0,0,0,0,0,0,0,0,0,0,null,null,null,null,null,null,null,null,null,null,null,null,null,null,null,null,null,null,null,null,null,null,null,null,1.0691394670866434,0.25174825174825199,0.74825174825174789,0,0,0,0,0,0]
[]
[null,null,{"$f":"C5","v":0},"No",{"$f":"IF(E$68>0,E5/E$68,0)","v":0.77777777777777812},0.75700934579439283,0,0,0,0,0,0,0,0,0,0,0,0,0,0]
[null,null,1,"Yes",{"$f":"IF(E$68>0,E6/E$68,0)","v":0.22222222222222185},0.24299065420560714,0,0,0,0,0,0,0,0,0,0,0,0,0,0]
[null,null,2,"Don't know (e.g. there is a photo, but you are not sure if this person appears in it)",{"$f":"IF(E$68>0,E7/E$68,0)","v":5.5555555555555372E-2},5.6074766355140207E-2,0,0,0,0,0,0,0,0,0,0,0,0,0,0]
[null,null,3,"NA – Use this where you are coding a secondary source only",{"$f":"IF(E$68>0,E8/E$68,0)","v":0},0,0,0,0,0,0,0,0,0,0,0,0,0,0,0]
[null,null,0,0,{"$f":"IF(E$68>0,E9/E$68,0)","v":0},0,0,0,0,0,0,0,0,0,0,0,0,0,0,0]
[null,null,0,0,{"$f":"IF(E$68>0,E10/E$68,0)","v":0},0,0,0,0,0,0,0,0,0,0,0,0,0,0,0]
[null,null,0,0,{"$f":"IF(E$68>0,E11/E$68,0)","v":0},0,0,0,0,0,0,0,0,0,0,0,0,0,0,0]
[null,null,0,0,{"$f":"IF(E$68>0,E12/E$68,0)","v":0},0,0,0,0,0,0,0,0,0,0,0,0,0,0,0]
[null,null,0,0,{"$f":"IF(E$68>0,E13/E$68,0)","v":0},0,0,0,0,0,0,0,0,0,0,0,0,0,0,0]
[null,null,0,0,{"$f":"IF(E$68>0,E14/E$68,0)","v":0},0,0,0,0,0,0,0,0,0,0,0,0,0,0,0]
[null,null,0,0,{"$f":"IF(E$68>0,E15/E$68,0)","v":0},0,0,0,0,0,0,0,0,0,0,0,0,0,0,0]
[null,null,0,0,{"$f":"IF(E$68>0,E16/E$68,0)","v":0},0,0,0,0,0,0,0,0,0,0,0,0,0,0,0]
[null,null,0,0,{"$f":"IF(E$68>0,E17/E$68,0)","v":0},0,0,0,0,0,0,0,0,0,0,0,0,0,0,0]
[null,null,0,0,{"$f":"IF(E$68>0,E18/E$68,0)","v":0},0,0,0,0,0,0,0,0,0,0,0,0,0,0,0]
[null,null,0,0,{"$f":"IF(E$68>0,E19/E$68,0)","v":0},0,0,0,0,0,0,0,0,0,0,0,0,0,0,0]
[null,null,0,0,{"$f":"IF(E$68>0,E20/E$68,0)","v":0},0,0,0,0,0,0,0,0,0,0,0,0,0,0,0]
[null,null,0,0,{"$f":"IF(E$68>0,E21/E$68,0)","v":0},0,0,0,0,0,0,0,0,0,0,0,0,0,0,0]
[null,null,0,0,{"$f":"IF(E$68>0,E22/E$68,0)","v":0},0,0,0,0,0,0,0,0,0,0,0,0,0,0,0]
[null,null,0,0,{"$f":"IF(E$68>0,E23/E$68,0)","v":0},0,0,0,0,0,0,0,0,0,0,0,0,0,0,0]
[null,null,0,0,{"$f":"IF(E$68>0,E24/E$68,0)","v":0},0,0,0,0,0,0,0,0,0,0,0,0,0,0,0]
[null,null,{"$f":"C25","v":0},0,{"$f":"IF(E$68>0,E25/E$68,0)","v":0},0,0,0,0,0,0,0,0,0,0,0,0,0,0,0]
[null,null,0,0,{"$f":"IF(E$68>0,E26/E$68,0)","v":0},0,0,0,0,0,0,0,0,0,0,0,0,0,0,0]
[null,null,0,0,{"$f":"IF(E$68>0,E27/E$68,0)","v":0},0,0,0,0,0,0,0,0,0,0,0,0,0,0,0]
[null,null,0,0,{"$f":"IF(E$68>0,E28/E$68,0)","v":0},0,0,0,0,0,0,0,0,0,0,0,0,0,0,0]
[null,null,0,0,{"$f":"IF(E$68>0,E29/E$68,0)","v":0},0,0,0,0,0,0,0,0,0,0,0,0,0,0,0]
[null,null,0,0,{"$f":"IF(E$68>0,E30/E$68,0)","v":0},0,0,0,0,0,0,0,0,0,0,0,0,0,0,0]
[null,null,0,0,{"$f":"IF(E$68>0,E31/E$68,0)","v":0},0,0,0,0,0,0,0,0,0,0,0,0,0,0,0]
[null,null,0,0,{"$f":"IF(E$68>0,E32/E$68,0)","v":0},0,0,0,0,0,0,0,0,0,0,0,0,0,0,0]
[null,null,0,0,{"$f":"IF(E$68>0,E33/E$68,0)","v":0},0,0,0,0,0,0,0,0,0,0,0,0,0,0,0]
[null,null,0,0,{"$f":"IF(E$68>0,E34/E$68,0)","v":0},0,0,0,0,0,0,0,0,0,0,0,0,0,0,0]
[null,null,0,0,{"$f":"IF(E$68>0,E35/E$68,0)","v":0},0,0,0,0,0,0,0,0,0,0,0,0,0,0,0]
[null,null,0,0,{"$f":"IF(E$68>0,E36/E$68,0)","v":0},0,0,0,0,0,0,0,0,0,0,0,0,0,0,0]
[null,null,0,0,{"$f":"IF(E$68>0,E37/E$68,0)","v":0},0,0,0,0,0,0,0,0,0,0,0,0,0,0,0]
[null,null,0,0,{"$f":"IF(E$68>0,E38/E$68,0)","v":0},0,0,0,0,0,0,0,0,0,0,0,0,0,0,0]
[null,null,0,0,{"$f":"IF(E$68>0,E39/E$68,0)","v":0},0,0,0,0,0,0,0,0,0,0,0,0,0,0,0]
[null,null,0,0,{"$f":"IF(E$68>0,E40/E$68,0)","v":0},0,0,0,0,0,0,0,0,0,0,0,0,0,0,0]
[null,null,0,0,{"$f":"IF(E$68>0,E41/E$68,0)","v":0},0,0,0,0,0,0,0,0,0,0,0,0,0,0,0]
[null,null,0,0,{"$f":"IF(E$68>0,E42/E$68,0)","v":0},0,0,0,0,0,0,0,0,0,0,0,0,0,0,0]
[null,null,0,0,{"$f":"IF(E$68>0,E43/E$68,0)","v":0},0,0,0,0,0,0,0,0,0,0,0,0,0,0,0]
[null,null,0,0,{"$f":"IF(E$68>0,E44/E$68,0)","v":0},0,0,0,0,0,0,0,0,0,0,0,0,0,0,0]
[null,null,{"$f":"C45","v":0},0,{"$f":"IF(E$68>0,E45/E$68,0)","v":0},0,0,0,0,0,0,0,0,0,0,0,0,0,0,0]
[null,null,0,0,{"$f":"IF(E$68>0,E46/E$68,0)","v":0},0,0,0,0,0,0,0,0,0,0,0,0,0,0,0]
[null,null,0,0,{"$f":"IF(E$68>0,E47/E$68,0)","v":0},0,0,0,0,0,0,0,0,0,0,0,0,0,0,0]
[null,null,0,0,{"$f":"IF(E$68>0,E48/E$68,0)","v":0},0,0,0,0,0,0,0,0,0,0,0,0,0,0,0]
[null,null,0,0,{"$f":"IF(E$68>0,E49/E$68,0)","v":0},0,0,0,0,0,0,0,0,0,0,0,0,0,0,0]
[null,null,0,0,{"$f":"IF(E$68>0,E50/E$68,0)","v":0},0,0,0,0,0,0,0,0,0,0,0,0,0,0,0]
[null,null,0,0,{"$f":"IF(E$68>0,E51/E$68,0)","v":0},0,0,0,0,0,0,0,0,0,0,0,0,0,0,0]
[null,null,0,0,{"$f":"IF(E$68>0,E52/E$68,0)","v":0},0,0,0,0,0,0,0,0,0,0,0,0,0,0,0]
[null,null,0,0,{"$f":"IF(E$68>0,E53/E$68,0)","v":0},0,0,0,0,0,0,0,0,0,0,0,0,0,0,0]
[null,null,0,0,{"$f":"IF(E$68>0,E54/E$68,0)","v":0},0,0,0,0,0,0,0,0,0,0,0,0,0,0,0]
[null,null,0,0,{"$f":"IF(E$68>0,E55/E$68,0)","v":0},0,0,0,0,0,0,0,0,0,0,0,0,0,0,0]
[null,null,0,0,{"$f":"IF(E$68>0,E56/E$68,0)","v":0},0,0,0,0,0,0,0,0,0,0,0,0,0,0,0]
[null,null,0,0,{"$f":"IF(E$68>0,E57/E$68,0)","v":0},0,0,0,0,0,0,0,0,0,0,0,0,0,0,0]
[null,null,0,0,{"$f":"IF(E$68>0,E58/E$68,0)","v":0},0,0,0,0,0,0,0,0,0,0,0,0,0,0,0]
[null,null,0,0,{"$f":"IF(E$68>0,E59/E$68,0)","v":0},0,0,0,0,0,0,0,0,0,0,0,0,0,0,0]
[null,null,0,0,{"$f":"IF(E$68>0,E60/E$68,0)","v":0},0,0,0,0,0,0,0,0,0,0,0,0,0,0,0]
[null,null,0,0,{"$f":"IF(E$68>0,E61/E$68,0)","v":0},0,0,0,0,0,0,0,0,0,0,0,0,0,0,0]
[null,null,0,0,{"$f":"IF(E$68>0,E62/E$68,0)","v":0},0,0,0,0,0,0,0,0,0,0,0,0,0,0,0]
[]
[]
[]
[]
[]
[]
[]
[]
[]
[]
[]
[]
[]
[]
[]
[]
[]
[]
[]
[]
["COUNT"]
[null,null,null,null,{"$f":"E3","v":"Female"},"Male",0,0,0,0,0,0,0,0,0,0,0,0,0,0]
[null,null,null,null,{"$f":"E4","v":0},0,0,0,0,0,0,0,0,0,0,0,0,0,0,0]
[null,null,{"$f":"C5","v":0},"No",28,81,0,0,0,0]
[null,null,1,"Yes",8,26,0,0,0,0]
[null,null,2,"Don't know (e.g. there is a photo, but you are not sure if this person appears in it)",2,6,0,0,0,0]
[null,null,3,"NA – Use this where you are coding a secondary source only",0,0,0,0,0,0]
[null,null,0,0,0,0,0,0,0,0]
[null,null,0,0,0,0,0,0,0,0]
[null,null,0,0,0,1,0,0,0,0]
[null,null,0,0,0,0,0,0,0,0]
[null,null,0,0,0,0,0,0,0,0]
[null,null,0,0,0,0,0,0,0,0]
[null,null,0,0,0,0,0,0,0,0]
[null,null,0,0,0,0,0,0,0,0]
[null,null,0,0,0,0,0,0,0,0]
[null,null,0,0,0,0,0,0,0,0]
[null,null,0,0,0,0,0,0,0,0]
[null,null,0,0,0,0,0,0,0,0]
[null,null,0,0,0,0,0,0,0,0]
[null,null,0,0,0,0,0,0,0,0]
[null,null,0,0,0,0,0,0,0,0]
[null,null,0,0,0,0,0,0,0,0]
[null,null,{"$f":"C25","v":0},0,0,0,0,0,0,0]
[null,null,0,0,0,0,0,0,0,0]
[null,null,0,0,0,0,0,0,0,0]
[null,null,0,0,0,0,0,0,0,0]
[null,null,0,0,0,0,0,0,0,0]
[null,null,0,0,0,0,0,0,0,0]
[null,null,0,0,0,0,0,0,0,0]
[null,null,0,0,0,0,0,0,0,0]
[null,null,0,0,0,0,0,0,0,0]
[null,null,0,0,0,0,0,0,0,0]
[null,null,0,0,0,0,0,0,0,0]
[null,null,0,0,0,0,0,0,0,0]
[null,null,0,0,0,0,0,0,0,0]
[null,null,0,0,0,0,0,0,0,0]
[null,null,0,0,0,0,0,0,0,0]
[null,null,0,0,0,0,0,0,0,0]
[null,null,0,0,0,0,0,0,0,0]
[null,null,0,0,0,0,0,0,0,0]
[null,null,0,0,0,0,0,0,0,0]
[null,null,0,0,0,0,0,0,0,0]
[null,null,{"$f":"C45","v":0},0,0,0,0,0,0,0]
[null,null,0,0,0,0,0,0,0,0]
[null,null,0,0,0,0,0,0,0,0]
[null,null,0,0,0,0,0,0,0,0]
[null,null,0,0,0,0,0,0,0,0]
[null,null,0,0,0,0,0,0,0,0]
[null,null,0,0,0,0,0,0,0,0]
[null,null,0,0,0,0,0,0,0,0]
[null,null,0,0,0,0,0,0,0,0]
[null,null,0,0,0,0,0,0,0,0]
[null,null,0,0,0,0,0,0,0,0]
[null,null,0,0,0,0,0,0,0,0]
[null,null,0,0]
[null,null,0,0]
[null,null,0,0]

{"sheet":"20hF - Photo","index":92,"n_rows":7,"n_cols":14,"rows_kept":7,"cut":false,"hidden":false,"merged":[[1,5,1,12],[2,5,2,6],[2,7,2,8],[2,9,2,10],[2,11,2,13]]}
[{"$f":"'20h'!A1","v":"News subjects photographed, by sex"}]
[]
[null,null,null,null,null,1995,null,2000,null,2005,null,2010]
[null,null,null,null,"Photograph","%F","%M","%F","%M","%F","%M","%F","%M","N"]
[]
[null,null,null,null,{"$f":"'20h'!D5","v":"No"},0,0,0.75,0.89,0.77,0.84,{"$f":"'20h'!E70","v":0.77777777777777812},{"$f":"'20h'!F70","v":0.75700934579439283},{"$f":"'20h'!E151+'20h'!F151","v":109}]
[null,null,null,null,{"$f":"'20h'!D6","v":"Yes"},0,0,0.25,0.11,0.23,0.16,{"$f":"'20h'!E71","v":0.22222222222222185},{"$f":"'20h'!F71","v":0.24299065420560714},{"$f":"'20h'!E152+'20h'!F152","v":34}]

{"sheet":"4","index":93,"n_rows":205,"n_cols":63,"rows_kept":205,"cut":false,"hidden":true,"merged":[]}
["Key themes "]
[null,null,null,null,null,null,null,null,null,null,null,null,null,null,null,null,null,null,null,null,null,null,null,null,null,null,null,null,null,null,null,null,null,null,null,null,null,null,null,null,null,null,null,null,null,{"$f":"E2","v":0},0,0,0,0,0,0,0,0,0,{"$f":"O2","v":0},0,0,0,0,0,0,0]
[null,null,null,null,"Newpaper","Radio","Television",null,null,null,null,null,null,null,null,null,null,null,null,null,null,null,null,null,null,null,null,null,null,null,null,null,null,null,null,null,null,null,null,null,null,null,null,null,null,"Newpaper","Radio","Television",0,0,0,0,0,0,0,0,0,0,0,0,0,0,0]
[null,null,null,null,null,null,null,null,null,null,null,null,null,null,null,null,null,null,null,null,null,null,null,null,null,null,null,null,null,null,null,null,null,null,null,null,null,null,null,null,null,null,null,null,"TOTAL",0,0,0,0,0,0,0,0,0,0,0,0,0,0,0,0,0,0]
[null,null,1,"Women in political power and decision-making (local, regional, national),",null,null,null,null,null,null,null,null,null,null,null,null,null,null,null,null,null,null,null,null,null,null,null,null,null,null,null,null,null,null,null,null,null,null,null,null,null,null,null,null,{"$f":"SUM(E5:O5)","v":0},{"$f":"IF((E5+F5)>0,E5/(E5+F5),0)","v":0},{"$f":"IF((E5+F5)>0,F5/(E5+F5),0)","v":0},{"$f":"IF((G5+H5)>0,G5/(G5+H5),0)","v":0},{"$f":"IF((G5+H5)>0,H5/(G5+H5),0)","v":0},{"$f":"IF((I5+J5)>0,I5/(I5+J5),0)","v":0},{"$f":"IF((I5+J5)>0,J5/(I5+J5),0)","v":0},{"$f":"IF((K5+L5)>0,K5/(K5+L5),0)","v":0},{"$f":"IF((K5+L5)>0,L5/(K5+L5),0)","v":0},{"$f":"IF((M5+N5)>0,M5/(M5+N5),0)","v":0},{"$f":"IF((M5+N5)>0,N5/(M5+N5),0)","v":0},{"$f":"IF((O5+P5)>0,O5/(O5+P5),0)","v":0},{"$f":"IF((O5+P5)>0,P5/(O5+P5),0)","v":0},{"$f":"IF((Q5+R5)>0,Q5/(Q5+R5),0)","v":0},{"$f":"IF((Q5+R5)>0,R5/(Q5+R5),0)","v":0},{"$f":"IF((S5+T5)>0,S5/(S5+T5),0)","v":0},{"$f":"IF((S5+T5)>0,T5/(S5+T5),0)","v":0},{"$f":"IF((U5+V5)>0,U5/(U5+V5),0)","v":0},{"$f":"IF((U5+V5)>0,V5/(U5+V5),0)","v":0}]
[null,null,2,"Women electoral candidates (local, regional, national),",null,null,5.1000001840293399E-3,null,null,null,null,null,null,null,null,null,null,null,null,null,null,null,null,null,null,null,null,null,null,null,null,null,null,null,null,null,null,null,null,null,null,null,null,null,5.1000001840293399E-3,0,0,1,0,0,0,0,0,0,0,0,0,0,0,0,0,0,0]
[null,null,3,"Peace, negotiations, treaties…(local, regional, national),",1.4952999539673301E-2,null,null,null,null,null,null,null,null,null,null,null,null,null,null,null,null,null,null,null,null,null,null,null,null,null,null,null,null,null,null,null,null,null,null,null,null,null,null,null,1.4952999539673301E-2,1,0,0,0,0,0,0,0,0,0,0,0,0,0,0,0,0,0]
[null,null,12,"Poverty, housing, social welfare, aid to those in need …",null,null,5.1000001840293399E-3,null,null,null,null,null,null,null,null,null,null,null,null,null,null,null,null,null,null,null,null,null,null,null,null,null,null,null,null,null,null,null,null,null,null,null,null,null,5.1000001840293399E-3,0,0,1,0,0,0,0,0,0,0,0,0,0,0,0,0,0,0]
[null,null,13,"Women's participation in economic processes (informal work, paid employment, unemployment, unpaid labour)",null,null,null,null,null,null,null,null,null,null,null,null,null,null,null,null,null,null,null,null,null,null,null,null,null,null,null,null,null,null,null,null,null,null,null,null,null,null,null,null,0,0,0,0,0,0,0,0,0,0,0,0,0,0,0,0,0,0,0]
[null,null,39,"Gender-based violence, feminicide, harassment, domestic violence, rape, trafficking, genital mutilation …",7.4764997698366599E-3,null,1.0200000368058701E-2,null,null,null,null,null,null,null,null,null,null,null,null,null,null,null,null,null,null,null,null,null,null,null,null,null,null,null,null,null,null,null,null,null,null,null,null,null,1.767650013789536E-2,1,0,1,0,0,0,0,0,0,0,0,0,0,0,0,0,0,0]
[null,null,null,null,null,null,null,null,null,null,null,null,null,null,null,null,null,null,null,null,null,null,null,null,null,null,null,null,null,null,null,null,null,null,null,null,null,null,null,null,null,null,null,null,0,0,0,0,0,0,0,0,0,0,0,0,0,0,0,0,0,0,0]
[null,null,null,null,null,null,null,null,null,null,null,null,null,null,null,null,null,null,null,null,null,null,null,null,null,null,null,null,null,null,null,null,null,null,null,null,null,null,null,null,null,null,null,null,0,0,0,0,0,0,0,0,0,0,0,0,0,0,0,0,0,0,0]
[null,null,null,null,null,null,null,null,null,null,null,null,null,null,null,null,null,null,null,null,null,null,null,null,null,null,null,null,null,null,null,null,null,null,null,null,null,null,null,null,null,null,null,null,0,0,0,0,0,0,0,0,0,0,0,0,0,0,0,0,0,0,0]
[null,null,null,null,null,null,null,null,null,null,null,null,null,null,null,null,null,null,null,null,null,null,null,null,null,null,null,null,null,null,null,null,null,null,null,null,null,null,null,null,null,null,null,null,0,0,0,0,0,0,0,0,0,0,0,0,0,0,0,0,0,0,0]
[null,null,null,null,null,null,null,null,null,null,null,null,null,null,null,null,null,null,null,null,null,null,null,null,null,null,null,null,null,null,null,null,null,null,null,null,null,null,null,null,null,null,null,null,0,0,0,0,0,0,0,0,0,0,0,0,0,0,0,0,0,0,0]
[null,null,null,null,null,null,null,null,null,null,null,null,null,null,null,null,null,null,null,null,null,null,null,null,null,null,null,null,null,null,null,null,null,null,null,null,null,null,null,null,null,null,null,null,0,0,0,0,0,0,0,0,0,0,0,0,0,0,0,0,0,0,0]
[null,null,null,null,null,null,null,null,null,null,null,null,null,null,null,null,null,null,null,null,null,null,null,null,null,null,null,null,null,null,null,null,null,null,null,null,null,null,null,null,null,null,null,null,0,0,0,0,0,0,0,0,0,0,0,0,0,0,0,0,0,0,0]
[null,null,null,null,null,null,null,null,null,null,null,null,null,null,null,null,null,null,null,null,null,null,null,null,null,null,null,null,null,null,null,null,null,null,null,null,null,null,null,null,null,null,null,null,0,0,0,0,0,0,0,0,0,0,0,0,0,0,0,0,0,0,0]
[null,null,null,null,null,null,null,null,null,null,null,null,null,null,null,null,null,null,null,null,null,null,null,null,null,null,null,null,null,null,null,null,null,null,null,null,null,null,null,null,null,null,null,null,0,0,0,0,0,0,0,0,0,0,0,0,0,0,0,0,0,0,0]
[null,null,null,null,null,null,null,null,null,null,null,null,null,null,null,null,null,null,null,null,null,null,null,null,null,null,null,null,null,null,null,null,null,null,null,null,null,null,null,null,null,null,null,null,0,0,0,0,0,0,0,0,0,0,0,0,0,0,0,0,0,0,0]
[null,null,null,null,null,null,null,null,null,null,null,null,null,null,null,null,null,null,null,null,null,null,null,null,null,null,null,null,null,null,null,null,null,null,null,null,null,null,null,null,null,null,null,null,0,0,0,0,0,0,0,0,0,0,0,0,0,0,0,0,0,0,0]
[null,null,null,null,null,null,null,null,null,null,null,null,null,null,null,null,null,null,null,null,null,null,null,null,null,null,null,null,null,null,null,null,null,null,null,null,null,null,null,null,null,null,null,null,0,0,0,0,0,0,0,0,0,0,0,0,0,0,0,0,0,0,0]
[null,null,null,null,null,null,null,null,null,null,null,null,null,null,null,null,null,null,null,null,null,null,null,null,null,null,null,null,null,null,null,null,null,null,null,null,null,null,null,null,null,null,null,null,0,0,0,0,0,0,0,0,0,0,0,0,0,0,0,0,0,0,0]
[null,null,null,null,null,null,null,null,null,null,null,null,null,null,null,null,null,null,null,null,null,null,null,null,null,null,null,null,null,null,null,null,null,null,null,null,null,null,null,null,null,null,null,null,0,0,0,0,0,0,0,0,0,0,0,0,0,0,0,0,0,0,0]
[null,null,null,null,null,null,null,null,null,null,null,null,null,null,null,null,null,null,null,null,null,null,null,null,null,null,null,null,null,null,null,null,null,null,null,null,null,null,null,null,null,null,null,null,0,0,0,0,0,0,0,0,0,0,0,0,0,0,0,0,0,0,0]
[null,null,null,null,null,null,null,null,null,null,null,null,null,null,null,null,null,null,null,null,null,null,null,null,null,null,null,null,null,null,null,null,null,null,null,null,null,null,null,null,null,null,null,null,0,0,0,0,0,0,0,0,0,0,0,0,0,0,0,0,0,0,0]
[null,null,null,null,null,null,null,null,null,null,null,null,null,null,null,null,null,null,null,null,null,null,null,null,null,null,null,null,null,null,null,null,null,null,null,null,null,null,null,null,null,null,null,null,0,0,0,0,0,0,0,0,0,0,0,0,0,0,0,0,0,0,0]
[null,null,null,null,null,null,null,null,null,null,null,null,null,null,null,null,null,null,null,null,null,null,null,null,null,null,null,null,null,null,null,null,null,null,null,null,null,null,null,null,null,null,null,null,0,0,0,0,0,0,0,0,0,0,0,0,0,0,0,0,0,0,0]
[null,null,null,null,null,null,null,null,null,null,null,null,null,null,null,null,null,null,null,null,null,null,null,null,null,null,null,null,null,null,null,null,null,null,null,null,null,null,null,null,null,null,null,null,0,0,0,0,0,0,0,0,0,0,0,0,0,0,0,0,0,0,0]
[null,null,null,null,null,null,null,null,null,null,null,null,null,null,null,null,null,null,null,null,null,null,null,null,null,null,null,null,null,null,null,null,null,null,null,null,null,null,null,null,null,null,null,null,0,0,0,0,0,0,0,0,0,0,0,0,0,0,0,0,0,0,0]
[null,null,null,null,null,null,null,null,null,null,null,null,null,null,null,null,null,null,null,null,null,null,null,null,null,null,null,null,null,null,null,null,null,null,null,null,null,null,null,null,null,null,null,null,0,0,0,0,0,0,0,0,0,0,0,0,0,0,0,0,0,0,0]
[null,null,null,null,null,null,null,null,null,null,null,null,null,null,null,null,null,null,null,null,null,null,null,null,null,null,null,null,null,null,null,null,null,null,null,null,null,null,null,null,null,null,null,null,0,0,0,0,0,0,0,0,0,0,0,0,0,0,0,0,0,0,0]
[null,null,null,null,null,null,null,null,null,null,null,null,null,null,null,null,null,null,null,null,null,null,null,null,null,null,null,null,null,null,null,null,null,null,null,null,null,null,null,null,null,null,null,null,0,0,0,0,0,0,0,0,0,0,0,0,0,0,0,0,0,0,0]
[null,null,null,null,null,null,null,null,null,null,null,null,null,null,null,null,null,null,null,null,null,null,null,null,null,null,null,null,null,null,null,null,null,null,null,null,null,null,null,null,null,null,null,null,0,0,0,0,0,0,0,0,0,0,0,0,0,0,0,0,0,0,0]
[null,null,null,null,null,null,null,null,null,null,null,null,null,null,null,null,null,null,null,null,null,null,null,null,null,null,null,null,null,null,null,null,null,null,null,null,null,null,null,null,null,null,null,null,0,0,0,0,0,0,0,0,0,0,0,0,0,0,0,0,0,0,0]
[null,null,null,null,null,null,null,null,null,null,null,null,null,null,null,null,null,null,null,null,null,null,null,null,null,null,null,null,null,null,null,null,null,null,null,null,null,null,null,null,null,null,null,null,0,0,0,0,0,0,0,0,0,0,0,0,0,0,0,0,0,0,0]
[null,null,null,null,null,null,null,null,null,null,null,null,null,null,null,null,null,null,null,null,null,null,null,null,null,null,null,null,null,null,null,null,null,null,null,null,null,null,null,null,null,null,null,null,{"$f":"SUM(E37:O37)","v":0},{"$f":"IF((E37+F37)>0,E37/(E37+F37),0)","v":0},{"$f":"IF((E37+F37)>0,F37/(E37+F37),0)","v":0},{"$f":"IF((G37+H37)>0,G37/(G37+H37),0)","v":0},{"$f":"IF((G37+H37)>0,H37/(G37+H37),0)","v":0},{"$f":"IF((I37+J37)>0,I37/(I37+J37),0)","v":0},{"$f":"IF((I37+J37)>0,J37/(I37+J37),0)","v":0},{"$f":"IF((K37+L37)>0,K37/(K37+L37),0)","v":0},{"$f":"IF((K37+L37)>0,L37/(K37+L37),0)","v":0},{"$f":"IF((M37+N37)>0,M37/(M37+N37),0)","v":0},{"$f":"IF((M37+N37)>0,N37/(M37+N37),0)","v":0},{"$f":"IF((O37+P37)>0,O37/(O37+P37),0)","v":0},{"$f":"IF((O37+P37)>0,P37/(O37+P37),0)","v":0},{"$f":"IF((Q37+R37)>0,Q37/(Q37+R37),0)","v":0},{"$f":"IF((Q37+R37)>0,R37/(Q37+R37),0)","v":0},{"$f":"IF((S37+T37)>0,S37/(S37+T37),0)","v":0},{"$f":"IF((S37+T37)>0,T37/(S37+T37),0)","v":0},{"$f":"IF((U37+V37)>0,U37/(U37+V37),0)","v":0},{"$f":"IF((U37+V37)>0,V37/(U37+V37),0)","v":0}]
[null,null,null,null,null,null,null,null,null,null,null,null,null,null,null,null,null,null,null,null,null,null,null,null,null,null,null,null,null,null,null,null,null,null,null,null,null,null,null,null,null,null,null,null,0,0,0,0,0,0,0,0,0,0,0,0,0,0,0,0,0,0,0]
[null,null,null,null,null,null,null,null,null,null,null,null,null,null,null,null,null,null,null,null,null,null,null,null,null,null,null,null,null,null,null,null,null,null,null,null,null,null,null,null,null,null,null,null,0,0,0,0,0,0,0,0,0,0,0,0,0,0,0,0,0,0,0]
[null,null,null,null,null,null,null,null,null,null,null,null,null,null,null,null,null,null,null,null,null,null,null,null,null,null,null,null,null,null,null,null,null,null,null,null,null,null,null,null,null,null,null,null,0,0,0,0,0,0,0,0,0,0,0,0,0,0,0,0,0,0,0]
[null,null,null,null,null,null,null,null,null,null,null,null,null,null,null,null,null,null,null,null,null,null,null,null,null,null,null,null,null,null,null,null,null,null,null,null,null,null,null,null,null,null,null,null,0,0,0,0,0,0,0,0,0,0,0,0,0,0,0,0,0,0,0]
[null,null,null,null,null,null,null,null,null,null,null,null,null,null,null,null,null,null,null,null,null,null,null,null,null,null,null,null,null,null,null,null,null,null,null,null,null,null,null,null,null,null,null,null,0,0,0,0,0,0,0,0,0,0,0,0,0,0,0,0,0,0,0]
[null,null,null,null,null,null,null,null,null,null,null,null,null,null,null,null,null,null,null,null,null,null,null,null,null,null,null,null,null,null,null,null,null,null,null,null,null,null,null,null,null,null,null,null,0,0,0,0,0,0,0,0,0,0,0,0,0,0,0,0,0,0,0]
[null,null,null,null,null,null,null,null,null,null,null,null,null,null,null,null,null,null,null,null,null,null,null,null,null,null,null,null,null,null,null,null,null,null,null,null,null,null,null,null,null,null,null,null,0,0,0,0,0,0,0,0,0,0,0,0,0,0,0,0,0,0,0]
[null,null,null,null,null,null,null,null,null,null,null,null,null,null,null,null,null,null,null,null,null,null,null,null,null,null,null,null,null,null,null,null,null,null,null,null,null,null,null,null,null,null,null,null,0,0,0,0,0,0,0,0,0,0,0,0,0,0,0,0,0,0,0]
[null,null,null,null,null,null,null,null,null,null,null,null,null,null,null,null,null,null,null,null,null,null,null,null,null,null,null,null,null,null,null,null,null,null,null,null,null,null,null,null,null,null,null,null,0,0,0,0,0,0,0,0,0,0,0,0,0,0,0,0,0,0,0]
[null,null,null,null,null,null,null,null,null,null,null,null,null,null,null,null,null,null,null,null,null,null,null,null,null,null,null,null,null,null,null,null,null,null,null,null,null,null,null,null,null,null,null,null,0,0,0,0,0,0,0,0,0,0,0,0,0,0,0,0,0,0,0]
[null,null,null,null,null,null,null,null,null,null,null,null,null,null,null,null,null,null,null,null,null,null,null,null,null,null,null,null,null,null,null,null,null,null,null,null,null,null,null,null,null,null,null,null,0,0,0,0,0,0,0,0,0,0,0,0,0,0,0,0,0,0,0]
[null,null,null,null,null,null,null,null,null,null,null,null,null,null,null,null,null,null,null,null,null,null,null,null,null,null,null,null,null,null,null,null,null,null,null,null,null,null,null,null,null,null,null,null,0,0,0,0,0,0,0,0,0,0,0,0,0,0,0,0,0,0,0]
[null,null,null,null,null,null,null,null,null,null,null,null,null,null,null,null,null,null,null,null,null,null,null,null,null,null,null,null,null,null,null,null,null,null,null,null,null,null,null,null,null,null,null,null,0,0,0,0,0,0,0,0,0,0,0,0,0,0,0,0,0,0,0]
[null,null,null,null,null,null,null,null,null,null,null,null,null,null,null,null,null,null,null,null,null,null,null,null,null,null,null,null,null,null,null,null,null,null,null,null,null,null,null,null,null,null,null,null,0,0,0,0,0,0,0,0,0,0,0,0,0,0,0,0,0,0,0]
[null,null,null,null,null,null,null,null,null,null,null,null,null,null,null,null,null,null,null,null,null,null,null,null,null,null,null,null,null,null,null,null,null,null,null,null,null,null,null,null,null,null,null,null,0,0,0,0,0,0,0,0,0,0,0,0,0,0,0,0,0,0,0]
[null,null,null,null,null,null,null,null,null,null,null,null,null,null,null,null,null,null,null,null,null,null,null,null,null,null,null,null,null,null,null,null,null,null,null,null,null,null,null,null,null,null,null,null,0,0,0,0,0,0,0,0,0,0,0,0,0,0,0,0,0,0,0]
[null,null,null,null,null,null,null,null,null,null,null,null,null,null,null,null,null,null,null,null,null,null,null,null,null,null,null,null,null,null,null,null,null,null,null,null,null,null,null,null,null,null,null,null,0,0,0,0,0,0,0,0,0,0,0,0,0,0,0,0,0,0,0]
[null,null,null,null,null,null,null,null,null,null,null,null,null,null,null,null,null,null,null,null,null,null,null,null,null,null,null,null,null,null,null,null,null,null,null,null,null,null,null,null,null,null,null,null,0,0,0,0,0,0,0,0,0,0,0,0,0,0,0,0,0,0,0]
[null,null,null,null,null,null,null,null,null,null,null,null,null,null,null,null,null,null,null,null,null,null,null,null,null,null,null,null,null,null,null,null,null,null,null,null,null,null,null,null,null,null,null,null,0,0,0,0,0,0,0,0,0,0,0,0,0,0,0,0,0,0,0]
[null,null,null,null,null,null,null,null,null,null,null,null,null,null,null,null,null,null,null,null,null,null,null,null,null,null,null,null,null,null,null,null,null,null,null,null,null,null,null,null,null,null,null,null,0,0,0,0,0,0,0,0,0,0,0,0,0,0,0,0,0,0,0]
[null,null,null,null,null,null,null,null,null,null,null,null,null,null,null,null,null,null,null,null,null,null,null,null,null,null,null,null,null,null,null,null,null,null,null,null,null,null,null,null,null,null,null,null,0,0,0,0,0,0,0,0,0,0,0,0,0,0,0,0,0,0,0]
[null,null,null,null,null,null,null,null,null,null,null,null,null,null,null,null,null,null,null,null,null,null,null,null,null,null,null,null,null,null,null,null,null,null,null,null,null,null,null,null,null,null,null,null,0,0,0,0,0,0,0,0,0,0,0,0,0,0,0,0,0,0,0]
[null,null,null,null,null,null,null,null,null,null,null,null,null,null,null,null,null,null,null,null,null,null,null,null,null,null,null,null,null,null,null,null,null,null,null,null,null,null,null,null,null,null,null,null,0,0,0,0,0,0,0,0,0,0,0,0,0,0,0,0,0,0,0]
[null,null,null,null,null,null,null,null,null,null,null,null,null,null,null,null,null,null,null,null,null,null,null,null,null,null,null,null,null,null,null,null,null,null,null,null,null,null,null,null,null,null,null,null,0,0,0,0,0,0,0,0,0,0,0,0,0,0,0,0,0,0,0]
[null,null,null,null,null,null,null,null,null,null,null,null,null,null,null,null,null,null,null,null,null,null,null,null,null,null,null,null,null,null,null,null,null,null,null,null,null,null,null,null,null,null,null,null,0,0,0,0,0,0,0,0,0,0,0,0,0,0,0,0,0,0,0]
[null,null,null,null,null,null,null,null,null,null,null,null,null,null,null,null,null,null,null,null,null,null,null,null,null,null,null,null,null,null,null,null,null,null,null,null,null,null,null,null,null,null,null,null,0,0,0,0,0,0,0,0,0,0,0,0,0,0,0,0,0,0,0]
[null,null,null,null,null,null,null,null,null,null,null,null,null,null,null,null,null,null,null,null,null,null,null,null,null,null,null,null,null,null,null,null,null,null,null,null,null,null,null,null,null,null,null,null,0,0,0,0,0,0,0,0,0,0,0,0,0,0,0,0,0,0,0]
[null,null,null,null,null,null,null,null,null,null,null,null,null,null,null,null,null,null,null,null,null,null,null,null,null,null,null,null,null,null,null,null,null,null,null,null,null,null,null,null,null,null,null,null,0,0,0,0,0,0,0,0,0,0,0,0,0,0,0,0,0,0,0]
[null,null,null,"TOTALS FROM 3",{"$f":"'3'!E51","v":0.33644248964264956},{"$f":"'3'!F51","v":0.189999995753169},{"$f":"'3'!G51","v":0.30090001085773105},null,null,null,null,null,null,null,null,null,null,null,null,null,null,null,null,null,null,null,null,null,null,null,null,null,null,null,null,null,null,null,null,null,null,null,null,null,0.82734249625354961,0.63908688788612333,0.36091311211387683,1,0,0,0,0,0,0,0,0,0,0,0,0,0,0,0]
[null,null,null,null,null,null,null,null,null,null,null,null,null,null,null,null,null,null,null,null,null,null,null,null,null,null,null,null,null,null,null,null,null,null,null,null,null,null,null,null,null,null,null,null,0,0,0,0,0,0,0,0,0,0,0,0,0,0,0,0,0,0,0]
[null,null,null,"TOTAL",{"$f":"SUM(E5:E10)","v":2.2429499309509961E-2},{"$f":"SUM(F6:F13)","v":0},{"$f":"SUM(G6:G13)","v":2.040000073611738E-2},null,null,null,null,null,null,null,null,null,null,null,null,null,null,null,null,null,null,null,null,null,null,null,null,null,null,null,null,null,null,null,null,null,null,null,null,null,4.2829500045627342E-2,1,0,1,0,0,0,0,0,0,0,0,0,0,0,0,0,0,0]
[]
[null,null,{"$f":"C5","v":1},"Women in political power and decision-making (local, regional, national),"]
[null,null,2,"Women electoral candidates (local, regional, national),",{"$f":"IF(E$66>0,(E6+E5)/E$66,0)","v":0},{"$f":"IF(F$66>0,(F6+F5)/F$66,0)","v":0},{"$f":"IF(G$66>0,(G6+G5)/G$66,0)","v":1.6949152542372881E-2}]
[null,null,3,"Peace, negotiations, treaties…(local, regional, national),",{"$f":"IF(E$66>0,E7/E$66,0)","v":4.4444444444444405E-2},0,0]
[null,null,12,"Poverty, housing, social welfare, aid to those in need …",0,0,1.6949152542372881E-2]
[null,null,13,"Women's participation in economic processes (informal work, paid employment, unemployment, unpaid labour)",0,0,0]
[null,null,39,"Gender-based violence, feminicide, harassment, domestic violence, rape, trafficking, genital mutilation …",2.222222222222223E-2,0,3.3898305084745832E-2]
[null,null,0,0,0,0,0]
[null,null,0,0,0,0,0]
[null,null,0,0,0,0,0]
[null,null,0,0,0,0,0]
[null,null,0,0,0,0,0]
[null,null,0,0,0,0,0]
[null,null,0,0,0,0,0]
[null,null,0,0,0,0,0]
[null,null,0,0,0,0,0]
[null,null,0,0,0,0,0]
[null,null,0,0,0,0,0]
[null,null,0,0,0,0,0]
[null,null,0,0,0,0,0]
[null,null,0,0,0,0,0]
[null,null,{"$f":"C25","v":0},0,0,0,0]
[null,null,0,0,0,0,0]
[null,null,0,0,{"$f":"IF(E$66>0,E27/E$66,0)","v":0},0,0]
[null,null,0,0,0,0,0]
[null,null,0,0,0,0,0]
[null,null,0,0,0,0,0]
[null,null,0,0,0,0,0]
[null,null,0,0,0,0,0]
[null,null,0,0,0,0,0]
[null,null,0,0,0,0,0]
[null,null,0,0,0,0,0]
[null,null,0,0,0,0,0]
[null,null,0,0,0,0,0]
[null,null,0,0,0,0,0]
[null,null,0,0,0,0,0]
[null,null,0,0,0,0,0]
[null,null,0,0,0,0,0]
[null,null,0,0,0,0,0]
[null,null,0,0,0,0,0]
[null,null,0,0,0,0,0]
[null,null,{"$f":"C45","v":0},0,0,0,0]
[null,null,0,0,0,0,0]
[null,null,0,0,{"$f":"IF(E$66>0,E47/E$66,0)","v":0},0,0]
[null,null,0,0,0,0,0]
[null,null,0,0,0,0,0]
[null,null,0,0,0,0,0]
[null,null,0,0,0,0,0]
[null,null,0,0,0,0,0]
[null,null,0,0,0,0,0]
[null,null,0,0,0,0,0]
[null,null,0,0,0,0,0]
[null,null,0,0,0,0,0]
[null,null,0,0,0,0,0]
[null,null,0,0,0,0,0]
[null,null,0,0,0,0,0]
[null,null,0,0,0,0,0]
[null,null,0,0,{"$f":"IF(E$66>0,E61/E$66,0)","v":0},0,0]
[null,null,0,0,0,0,0]
[]
[]
[]
[]
[]
[]
[]
[]
[]
[]
[]
[]
[]
[]
[]
[]
[]
[]
[]
[]
["COUNT"]
[null,null,null,null,{"$f":"E3","v":"Newpaper"},"Radio","Television",0,0,0,0,0,0,0,0,0,0,0,0,0]
[null,null,null,null,{"$f":"E4","v":0},0,0,0,0,0,0,0,0,0,0,0,0,0,0,0]
[null,null,{"$f":"C5","v":1},"Women in political power and decision-making (local, regional, national),",0,0,0,0,0,0,0,0,0,0,0,0,0,0,0,0,0,0]
[null,null,2,"Women electoral candidates (local, regional, national),",0,0,1,0,0,1,0,0,0,0,0,0,0,0,0,0,0,0]
[null,null,3,"Peace, negotiations, treaties…(local, regional, national),",2,0,0,0,0,0,0,0,0,0,0,0,0,0,0,0,0,0]
[null,null,12,"Poverty, housing, social welfare, aid to those in need …",0,0,1,0,0,1,0,0,0,1,0,0,0,0,0,0,0,0]
[null,null,13,"Women's participation in economic processes (informal work, paid employment, unemployment, unpaid labour)",0,0,0,0,0,0,0,0,0,0,0,0,0,0,0,0,0,0]
[null,null,39,"Gender-based violence, feminicide, harassment, domestic violence, rape, trafficking, genital mutilation …",1,0,2,1,0,0,0,0,1,0,0,0,0,0,0,0,0,0]
[null,null,0,0,0,0,0,0,0,0,0,0,0,0,0,0,0,0,0,0,0,0]
[null,null,0,0,0,0,0,0,0,0,0,0,0,0,0,0,0,0,0,0,0,0]
[null,null,0,0,0,0,0,0,0,0,0,0,0,0,0,0,0,0,0,0,0,0]
[null,null,0,0,0,0,0,0,0,0,0,0,0,0,0,0,0,0,0,0,0,0]
[null,null,0,0,0,0,0,0,0,0,0,0,0,0,0,0,0,0,0,0,0,0]
[null,null,0,0,0,0,0,0,0,0,0,0,0,0,0,0,0,0,0,0,0,0]
[null,null,0,0,0,0,0,0,0,0,0,0,0,0,0,0,0,0,0,0,0,0]
[null,null,0,0,0,0,0,0,0,0,0,0,0,0,0,0,0,0,0,0,0,0]
[null,null,0,0,0,0,0,0,0,0,0,0,0,0,0,0,0,0,0,0,0,0]
[null,null,0,0,0,0,0,0,0,0,0,0,0,0,0,0,0,0,0,0,0,0]
[null,null,0,0,0,0,0,0,0,0,0,0,0,0,0,0,0,0,0,0,0,0]
[null,null,0,0,0,0,0,0,0,0,0,0,0,0,0,0,0,0,0,0,0,0]
[null,null,0,0,0,0,0,0,0,0,0,0,0,0,0,0,0,0,0,0,0,0]
[null,null,0,0,0,0,0,0,0,0,0,0,0,0,0,0,0,0,0,0,0,0]
[null,null,{"$f":"C25","v":0},0,0,0,0,0,0,0,0,0,0,0,0,0,0,0,0,0,0,0]
[null,null,0,0,0,0,0,0,0,0,0,0,0,0,0,0,0,0,0,0,0,0]
[null,null,0,0,0,0,0,0,0,0,0,0,0,0,0,0,0,0,0,0,0,0]
[null,null,0,0,0,0,0,0,0,0,0,0,0,0,0,0,0,0,0,0,0,0]
[null,null,0,0,0,0,0,0,0,0,0,0,0,0,0,0,0,0,0,0,0,0]
[null,null,0,0,0,0,0,0,0,0,0,0,0,0,0,0,0,0,0,0,0,0]
[null,null,0,0,0,0,0,0,0,0,0,0,0,0,0,0,0,0,0,0,0,0]
[null,null,0,0,0,0,0,0,0,0,0,0,0,0,0,0,0,0,0,0,0,0]
[null,null,0,0,0,0,0,0,0,0]
[null,null,0,0,0,0,0,0,0,0]
[null,null,0,0,0,0,0,0,0,0]
[null,null,0,0,0,0,0,0,0,0]
[null,null,0,0,0,0,0,0,0,0]
[null,null,0,0,0,0,0,0,0,0]
[null,null,0,0,0,0,0,0,0,0]
[null,null,0,0,0,0,0,0,0,0]
[null,null,0,0,0,0,0,0,0,0]
[null,null,0,0,0,0,0,0,0,0]
[null,null,0,0,0,0,0,0,0,0]
[null,null,0,0,0,0,0,0,0,0]
[null,null,{"$f":"C45","v":0},0,0,0,0,0,0,0]
[null,null,0,0,0,0,0,0,0,0]
[null,null,0,0,0,0,0,0,0,0]
[null,null,0,0,0,0,0,0,0,0]
[null,null,0,0,0,0,0,0,0,0]
[null,null,0,0,0,0,0,0,0,0]
[null,null,0,0,0,0,0,0,0,0]
[null,null,0,0,0,0,0,0,0,0]
[null,null,0,0,0,0,0,0,0,0]
[null,null,0,0,0,0,0,0,0,0]
[null,null,0,0,0,0,0,0,0,0]
[null,null,0,0,0,0,0,0,0,0]
[null,null,0,0]
[null,null,0,0]
[null,null,0,0]

{"sheet":"4F - Themes","index":94,"n_rows":13,"n_cols":17,"rows_kept":13,"cut":false,"hidden":false,"merged":[[1,14,1,16],[1,11,1,13],[1,8,1,10],[1,5,1,7]]}
[{"$f":"'4'!$A$1","v":"Key themes "}]
[null,null,null,null,null,1995,null,null,2000,null,null,2005,null,null,2010]
[null,null,null,null,null,"N","R","T","N","R","T","N","R","T","N","R","T"]
[]
[]
[null,null,null,null,{"$f":"'4'!D6","v":"Women electoral candidates (local, regional, national),"},0,0,0,0,0,0,"new code","new code","new code",{"$f":"'4'!E71","v":0},{"$f":"'4'!F71","v":0},{"$f":"'4'!G71","v":1.6949152542372881E-2}]
[null,null,null,null,{"$f":"'4'!D7","v":"Peace, negotiations, treaties…(local, regional, national),"},0,0,0,0,0,0,"new code","new code","new code",{"$f":"'4'!E72","v":4.4444444444444405E-2},{"$f":"'4'!F72","v":0},{"$f":"'4'!G72","v":0}]
[null,null,null,null,{"$f":"'4'!D8","v":"Poverty, housing, social welfare, aid to those in need …"},0,0,0,0,0,0,0.02,0.02,0.02,{"$f":"'4'!E73","v":0},{"$f":"'4'!F73","v":0},{"$f":"'4'!G73","v":1.6949152542372881E-2}]
[null,null,null,null,{"$f":"'4'!D9","v":"Women's participation in economic processes (informal work, paid employment, unemployment, unpaid labour)"},0,0,0,0,0,0,"new code","new code","new code",{"$f":"'4'!E74","v":0},{"$f":"'4'!F74","v":0},{"$f":"'4'!G74","v":0}]
[null,null,null,null,{"$f":"'4'!D10","v":"Gender-based violence, feminicide, harassment, domestic violence, rape, trafficking, genital mutilation …"},0,0,0,0,0,0,0.02,0.01,0.01,{"$f":"'4'!E75","v":2.222222222222223E-2},{"$f":"'4'!F75","v":0},{"$f":"'4'!G75","v":3.3898305084745832E-2}]
[]
[]
[null,null,null,null,null,0,0,0,0,0,0,0,0,0,{"$f":"SUM(O6:O10)","v":6.6666666666666638E-2},{"$f":"SUM(P6:P10)","v":0},{"$f":"SUM(Q6:Q10)","v":6.7796610169491595E-2}]

{"sheet":"4c","index":95,"n_rows":638,"n_cols":80,"rows_kept":638,"cut":false,"hidden":true,"merged":[[1,69,1,80],[2,34,2,35],[2,36,2,37],[2,38,2,39],[2,30,2,31],[2,32,2,33],[1,45,1,56],[1,57,1,68],[1,4,1,15],[1,16,1,27],[1,28,1,39],[2,4,2,5],[2,6,2,7],[2,8,2,9],[2,10,2,11],[2,12,2,13],[2,18,2,19],[2,20,2,21],[2,14,2,15],[2,16,2,17],[2,26,2,27],[2,28,2,29],[2,22,2,23],[2,24,2,25]]}
["Selected themes by country dissagregated by news subject"]
[null,null,null,null,"Newpaper",null,null,null,null,null,null,null,null,null,null,null,"Radio",null,null,null,null,null,null,null,null,null,null,null,"Television",null,null,null,null,null,null,null,null,null,null,null,null,null,null,null,null,{"$f":"E2","v":"Newpaper"},null,null,null,null,null,null,null,null,null,null,null,{"$f":"Q2","v":"Radio"},null,null,null,null,null,null,null,null,null,null,null,{"$f":"AC2","v":"Television"}]
[null,null,null,null,"Women in political power and decision-making (local, regional, national),",null,"Women electoral candidates (local, regional, national),",null,"Peace, negotiations, treaties…(local, regional, national),",null,"Poverty, housing, social welfare, aid to those in need …",null,"Women's participation in economic processes (informal work, paid employment, unemployment, unpaid labour)",null,"Gender-based violence, feminicide, harassment, domestic violence, rape, trafficking, genital mutilation …",null,"Women in political power and decision-making (local, regional, national),",null,"Women electoral candidates (local, regional, national),",null,"Peace, negotiations, treaties…(local, regional, national),",null,"Poverty, housing, social welfare, aid to those in need …",null,"Women's participation in economic processes (informal work, paid employment, unemployment, unpaid labour)",null,"Gender-based violence, feminicide, harassment, domestic violence, rape, trafficking, genital mutilation …",null,"Women in political power and decision-making (local, regional, national),",null,"Women electoral candidates (local, regional, national),",null,"Peace, negotiations, treaties…(local, regional, national),",null,"Poverty, housing, social welfare, aid to those in need …",null,"Women's participation in economic processes (informal work, paid employment, unemployment, unpaid labour)",null,"Gender-based violence, feminicide, harassment, domestic violence, rape, trafficking, genital mutilation …",null,null,null,null,null,null,{"$f":"E3","v":"Women in political power and decision-making (local, regional, national),"},null,{"$f":"G3","v":"Women electoral candidates (local, regional, national),"},null,{"$f":"I3","v":"Peace, negotiations, treaties…(local, regional, national),"},null,{"$f":"K3","v":"Poverty, housing, social welfare, aid to those in need …"},null,{"$f":"M3","v":"Women's participation in economic processes (informal work, paid employment, unemployment, unpaid labour)"},null,{"$f":"O3","v":"Gender-based violence, feminicide, harassment, domestic violence, rape, trafficking, genital mutilation …"},null,{"$f":"Q3","v":"Women in political power and decision-making (local, regional, national),"},null,{"$f":"S3","v":"Women electoral candidates (local, regional, national),"},null,{"$f":"U3","v":"Peace, negotiations, treaties…(local, regional, national),"},null,{"$f":"W3","v":"Poverty, housing, social welfare, aid to those in need …"},null,{"$f":"Y3","v":"Women's participation in economic processes (informal work, paid employment, unemployment, unpaid labour)"},null,{"$f":"AA3","v":"Gender-based violence, feminicide, harassment, domestic violence, rape, trafficking, genital mutilation …"},null,{"$f":"AC3","v":"Women in political power and decision-making (local, regional, national),"},null,{"$f":"AE3","v":"Women electoral candidates (local, regional, national),"},null,{"$f":"AG3","v":"Peace, negotiations, treaties…(local, regional, national),"},null,{"$f":"AI3","v":"Poverty, housing, social welfare, aid to those in need …"},null,{"$f":"AK3","v":"Women's participation in economic processes (informal work, paid employment, unemployment, unpaid labour)"},null,{"$f":"AM3","v":"Gender-based violence, feminicide, harassment, domestic violence, rape, trafficking, genital mutilation …"}]
[null,null,null,null,"Female","Male","Female","Male","Female","Male","Female","Male","Female","Male","Female","Male","Female","Male","Female","Male","Female","Male","Female","Male","Female","Male","Female","Male","Female","Male","Female","Male","Female","Male","Female","Male","Female","Male","Female","Male",null,null,null,null,"TOTAL"]
[null,null,0,"None Selected",null,null,null,null,null,null,null,null,null,null,null,null,null,null,null,null,null,null,null,null,null,null,null,null,null,null,null,null,null,null,null,null,null,null,null,null,null,null,null,null,{"$f":"SUM(E5:O5)","v":0},null,null,{"$f":"+E5+F5+G5+H5","v":0},null,{"$f":"I5+J5","v":0},null,{"$f":"K5+L5","v":0},null,{"$f":"M5+N5","v":0},null,{"$f":"O5+P5","v":0},null,{"$f":"Q5+R5","v":0},null,{"$f":"S5+T5","v":0},null,{"$f":"U5+V5","v":0},null,{"$f":"W5+X5","v":0},null,{"$f":"Y5+Z5","v":0},null,{"$f":"AA5+AB5","v":0},null,{"$f":"AC5+AD5","v":0},null,{"$f":"AE5+AF5","v":0},null,{"$f":"AG5+AH5","v":0},null,{"$f":"AI5+AJ5","v":0},null,{"$f":"AK5+AL5","v":0},null,{"$f":"AM5+AN5","v":0}]
[null,null,102,"Benin",null,null,null,null,null,null,null,null,null,null,null,null,null,null,null,null,null,null,null,null,null,null,null,null,null,null,null,null,null,null,null,null,null,null,null,null,null,null,null,null,0,null,null,{"$f":"+E6+F6+G6+H6","v":0},null,0,null,0,null,0,null,0,null,0,null,0,null,0,null,0,null,0,null,{"$f":"AA6+AB6","v":0},null,{"$f":"AC6+AD6","v":0},null,{"$f":"AE6+AF6","v":0},null,{"$f":"AG6+AH6","v":0},null,{"$f":"AI6+AJ6","v":0},null,{"$f":"AK6+AL6","v":0},null,{"$f":"AM6+AN6","v":0}]
[null,null,103,"Botswana",null,null,null,null,null,null,null,null,null,null,null,null,null,null,null,null,null,null,null,null,null,null,null,null,null,null,null,null,null,null,null,null,null,null,null,null,null,null,null,null,0,null,null,{"$f":"+E7+F7+G7+H7","v":0},null,0,null,0,null,0,null,0,null,0,null,0,null,0,null,0,null,0,null,{"$f":"AA7+AB7","v":0},null,{"$f":"AC7+AD7","v":0},null,{"$f":"AE7+AF7","v":0},null,{"$f":"AG7+AH7","v":0},null,{"$f":"AI7+AJ7","v":0},null,{"$f":"AK7+AL7","v":0},null,{"$f":"AM7+AN7","v":0}]
[null,null,104,"Burkina Faso",null,null,null,null,null,null,null,null,null,null,null,null,null,null,null,null,null,null,null,null,null,null,null,null,null,null,null,null,null,null,null,null,null,null,null,null,null,null,null,null,0,null,null,{"$f":"+E8+F8+G8+H8","v":0},null,0,null,0,null,0,null,0,null,0,null,0,null,0,null,0,null,0,null,{"$f":"AA8+AB8","v":0},null,{"$f":"AC8+AD8","v":0},null,{"$f":"AE8+AF8","v":0},null,{"$f":"AG8+AH8","v":0},null,{"$f":"AI8+AJ8","v":0},null,{"$f":"AK8+AL8","v":0},null,{"$f":"AM8+AN8","v":0}]
[null,null,105,"Burundi",null,null,null,null,null,null,null,null,null,null,null,null,null,null,null,null,null,null,null,null,null,null,null,null,null,null,null,null,null,null,null,null,null,null,null,null,null,null,null,null,0,null,null,{"$f":"+E9+F9+G9+H9","v":0},null,0,null,0,null,0,null,0,null,0,null,0,null,0,null,0,null,0,null,{"$f":"AA9+AB9","v":0},null,{"$f":"AC9+AD9","v":0},null,{"$f":"AE9+AF9","v":0},null,{"$f":"AG9+AH9","v":0},null,{"$f":"AI9+AJ9","v":0},null,{"$f":"AK9+AL9","v":0},null,{"$f":"AM9+AN9","v":0}]
[null,null,106,"Cameroon",null,null,null,null,null,null,null,null,null,null,null,null,null,null,null,null,null,null,null,null,null,null,null,null,null,null,null,null,null,null,null,null,null,null,null,null,null,null,null,null,0,null,null,0,null,0,null,0,null,0,null,0,null,0,null,0,null,0,null,0,null,0,null,0,null,0,null,0,null,0,null,0,null,0,null,0]
[null,null,108,"Congo, Rep (Brazzaville)",null,null,null,null,null,null,null,null,null,null,null,null,null,null,null,null,null,null,null,null,null,null,null,null,null,null,null,null,null,null,null,null,null,null,null,null,null,null,null,null,0,null,null,0,null,0,null,0,null,0,null,0,null,0,null,0,null,0,null,0,null,0,null,0,null,0,null,0,null,0,null,0,null,0,null,0]
[null,null,110,"Congo, Dem Rep",null,null,null,null,null,null,null,null,null,null,null,null,null,null,null,null,null,null,null,null,null,null,null,null,null,null,null,null,null,null,null,null,null,null,null,null,null,null,null,null,0,null,null,0,null,0,null,0,null,0,null,0,null,0,null,0,null,0,null,0,null,0,null,0,null,0,null,0,null,0,null,0,null,0,null,0]
[null,null,111,"Ethiopia",null,null,null,null,null,null,null,null,null,null,null,null,null,null,null,null,null,null,null,null,null,null,null,null,null,null,null,null,null,null,null,null,null,null,null,null,null,null,null,null,0,null,null,0,null,0,null,0,null,0,null,0,null,0,null,0,null,0,null,0,null,0,null,0,null,0,null,0,null,0,null,0,null,0,null,0]
[null,null,113,"Ghana",null,null,null,null,null,null,null,null,null,null,null,null,null,null,null,null,null,null,null,null,null,null,null,null,null,null,null,null,null,null,null,null,null,null,null,null,null,null,null,null,0,null,null,0,null,0,null,0,null,0,null,0,null,0,null,0,null,0,null,0,null,0,null,0,null,0,null,0,null,0,null,0,null,0,null,0]
[null,null,115,"Guinée Conakry",null,null,null,null,null,null,null,null,null,null,null,null,null,null,null,null,null,null,null,null,null,null,null,null,null,null,null,null,null,null,null,null,null,null,null,null,null,null,null,null,0,null,null,0,null,0,null,0,null,0,null,0,null,0,null,0,null,0,null,0,null,0,null,0,null,0,null,0,null,0,null,0,null,0,null,0]
[null,null,116,"Kenya",null,null,null,null,null,null,null,null,null,null,null,null,null,null,null,null,null,null,null,null,null,null,null,null,null,null,null,null,null,null,null,null,null,null,null,null,null,null,null,null,0,null,null,0,null,0,null,0,null,0,null,0,null,0,null,0,null,0,null,0,null,0,null,0,null,0,null,0,null,0,null,0,null,0,null,0]
[null,null,117,"Lesotho",null,null,null,null,null,null,null,null,null,null,null,null,null,null,null,null,null,null,null,null,null,null,null,null,null,null,null,null,null,null,null,null,null,null,null,null,null,null,null,null,0,null,null,0,null,0,null,0,null,0,null,0,null,0,null,0,null,0,null,0,null,0,null,0,null,0,null,0,null,0,null,0,null,0,null,0]
[null,null,118,"Liberia",null,null,null,null,null,null,null,null,null,null,null,null,null,null,null,null,null,null,null,null,null,null,null,null,null,null,null,null,null,null,null,null,null,null,null,null,null,null,null,null,null,null,null,0,null,0,null,0,null,0,null,0,null,0,null,0,null,0,null,0,null,0,null,0,null,0,null,0,null,0,null,0,null,0,null,0]
[null,null,119,"Madagascar",null,null,null,null,null,null,null,null,null,null,null,null,null,null,null,null,null,null,null,null,null,null,null,null,null,null,null,null,null,null,null,null,null,null,null,null,null,null,null,null,null,null,null,0,null,0,null,0,null,0,null,0,null,0,null,0,null,0,null,0,null,0,null,0,null,0,null,0,null,0,null,0,null,0,null,0]
[null,null,122,"Mauritius",null,null,null,null,null,null,null,null,null,null,null,null,null,null,null,null,null,null,null,null,null,null,null,null,null,null,null,null,null,null,null,null,null,null,null,null,null,null,null,null,null,null,null,0,null,0,null,0,null,0,null,0,null,0,null,0,null,0,null,0,null,0,null,0,null,0,null,0,null,0,null,0,null,0,null,0]
[null,null,124,"Namibia",null,null,null,null,null,null,null,null,null,null,null,null,null,null,null,null,null,null,null,null,null,null,null,null,null,null,null,null,null,null,null,null,null,null,null,null,null,null,null,null,null,null,null,0,null,0,null,0,null,0,null,0,null,0,null,0,null,0,null,0,null,0,null,0,null,0,null,0,null,0,null,0,null,0,null,0]
[null,null,125,"Niger",null,null,null,null,null,null,null,null,null,null,null,null,null,null,null,null,null,null,null,null,null,null,null,null,null,null,null,null,null,null,null,null,null,null,null,null,null,null,null,null,null,null,null,0,null,0,null,0,null,0,null,0,null,0,null,0,null,0,null,0,null,0,null,0,null,0,null,0,null,0,null,0,null,0,null,0]
[null,null,126,"Nigeria",null,null,null,null,null,null,null,null,null,null,null,null,null,null,null,null,null,null,null,null,null,null,null,null,null,null,null,null,null,null,null,null,null,null,null,null,null,null,null,null,null,null,null,0,null,0,null,0,null,0,null,0,null,0,null,0,null,0,null,0,null,0,null,0,null,0,null,0,null,0,null,0,null,0,null,0]
[null,null,127,"Senegal",null,null,null,null,null,null,null,null,null,null,null,null,null,null,null,null,null,null,null,null,null,null,null,null,null,null,null,null,null,null,null,null,null,null,null,null,null,null,null,null,null,null,null,0,null,0,null,0,null,0,null,0,null,0,null,0,null,0,null,0,null,0,null,0,null,0,null,0,null,0,null,0,null,0,null,0]
[null,null,130,"South Africa",null,null,null,null,null,null,null,null,null,null,null,null,null,null,null,null,null,null,null,null,null,null,null,null,null,null,null,null,null,null,null,null,null,null,null,null,null,null,null,null,null,null,null,0,null,0,null,0,null,0,null,0,null,0,null,0,null,0,null,0,null,0,null,0,null,0,null,0,null,0,null,0,null,0,null,0]
[null,null,131,"Sudan (south)",null,null,null,null,null,null,null,null,null,null,null,null,null,null,null,null,null,null,null,null,null,null,null,null,null,null,null,null,null,null,null,null,null,null,null,null,null,null,null,null,null,null,null,0,null,0,null,0,null,0,null,0,null,0,null,0,null,0,null,0,null,0,null,0,null,0,null,0,null,0,null,0,null,0,null,0]
[null,null,133,"Tanzania",null,null,null,null,null,null,null,null,null,null,null,null,null,null,null,null,null,null,null,null,null,null,null,null,null,null,null,null,null,null,null,null,null,null,null,null,null,null,null,null,null,null,null,0,null,0,null,0,null,0,null,0,null,0,null,0,null,0,null,0,null,0,null,0,null,0,null,0,null,0,null,0,null,0,null,0]
[null,null,134,"Togo",null,null,null,null,null,null,null,null,null,null,null,null,null,null,null,null,null,null,null,null,null,null,null,null,null,null,null,null,null,null,null,null,null,null,null,null,null,null,null,null,null,null,null,0,null,0,null,0,null,0,null,0,null,0,null,0,null,0,null,0,null,0,null,0,null,0,null,0,null,0,null,0,null,0,null,0]
[null,null,135,"Uganda",null,null,null,null,null,null,null,null,null,null,null,null,null,null,null,null,null,null,null,null,null,null,null,null,null,null,null,null,null,null,null,null,null,null,null,null,null,null,null,null,null,null,null,0,null,0,null,0,null,0,null,0,null,0,null,0,null,0,null,0,null,0,null,0,null,0,null,0,null,0,null,0,null,0,null,0]
[null,null,136,"Zambia",null,null,null,null,null,null,null,null,null,null,null,null,null,null,null,null,null,null,null,null,null,null,null,null,null,null,null,null,null,null,null,null,null,null,null,null,null,null,null,null,null,null,null,0,null,0,null,0,null,0,null,0,null,0,null,0,null,0,null,0,null,0,null,0,null,0,null,0,null,0,null,0,null,0,null,0]
[null,null,137,"Zimbabwe",null,null,null,null,null,null,null,null,null,null,null,null,null,null,null,null,null,null,null,null,null,null,null,null,null,null,null,null,null,null,null,null,null,null,null,null,null,null,null,null,null,null,null,0,null,0,null,0,null,0,null,0,null,0,null,0,null,0,null,0,null,0,null,0,null,0,null,0,null,0,null,0,null,0,null,0]
[null,null,138,"Mauritania",null,null,null,null,null,null,null,null,null,null,null,null,null,null,null,null,null,null,null,null,null,null,null,null,null,null,null,null,null,null,null,null,null,null,null,null,null,null,null,null,null,null,null,0,null,0,null,0,null,0,null,0,null,0,null,0,null,0,null,0,null,0,null,0,null,0,null,0,null,0,null,0,null,0,null,0]
[null,null,202,"Bangladesh",null,null,null,null,null,null,null,null,null,null,null,null,null,null,null,null,null,null,null,null,null,null,null,null,null,null,null,null,null,null,null,null,null,null,null,null,null,null,null,null,null,null,null,0,null,0,null,0,null,0,null,0,null,0,null,0,null,0,null,0,null,0,null,0,null,0,null,0,null,0,null,0,null,0,null,0]
[null,null,204,"China",null,null,null,null,null,null,null,null,null,null,null,null,null,null,null,null,null,null,null,null,null,null,null,null,null,null,null,null,null,null,null,null,null,null,null,null,null,null,null,null,null,null,null,0,null,0,null,0,null,0,null,0,null,0,null,0,null,0,null,0,null,0,null,0,null,0,null,0,null,0,null,0,null,0,null,0]
[null,null,206,"India",null,null,null,null,null,null,null,null,null,null,null,null,null,null,null,null,null,null,null,null,null,null,null,null,null,null,null,null,null,null,null,null,null,null,null,null,null,null,null,null,null,null,null,0,null,0,null,0,null,0,null,0,null,0,null,0,null,0,null,0,null,0,null,0,null,0,null,0,null,0,null,0,null,0,null,0]
[null,null,208,"Japan",null,null,null,null,null,null,null,null,null,null,null,null,null,null,null,null,null,null,null,null,null,null,null,null,null,null,null,null,null,null,null,null,null,null,null,null,null,null,null,null,null,null,null,0,null,0,null,0,null,0,null,0,null,0,null,0,null,0,null,0,null,0,null,0,null,0,null,0,null,0,null,0,null,0,null,0]
[null,null,209,"Kyrgyzstan",null,null,null,null,null,null,null,null,null,null,null,null,null,null,null,null,null,null,null,null,null,null,null,null,null,null,null,null,null,null,null,null,null,null,null,null,null,null,null,null,null,null,null,0,null,{"$f":"I37+J37","v":0},null,{"$f":"K37+L37","v":0},null,{"$f":"M37+N37","v":0},null,{"$f":"O37+P37","v":0},null,{"$f":"Q37+R37","v":0},null,{"$f":"S37+T37","v":0},null,{"$f":"U37+V37","v":0},null,{"$f":"W37+X37","v":0},null,{"$f":"Y37+Z37","v":0},null,0,null,0,null,0,null,0,null,0,null,0,null,0]
[null,null,211,"Malaysia",null,null,null,null,null,null,null,null,null,null,null,null,null,null,null,null,null,null,null,null,null,null,null,null,null,null,null,null,null,null,null,null,null,null,null,null,null,null,null,null,null,null,null,0,null,0,null,0,null,0,null,0,null,0,null,0,null,0,null,0,null,0,null,0,null,0,null,0,null,0,null,0,null,0,null,0]
[null,null,213,"Nepal",null,null,null,null,null,null,null,null,null,null,null,null,null,null,null,null,null,null,null,null,null,null,null,null,null,null,null,null,null,null,null,null,null,null,null,null,null,null,null,null,null,null,null,0,null,0,null,0,null,0,null,0,null,0,null,0,null,0,null,0,null,0,null,0,null,0,null,0,null,0,null,0,null,0,null,0]
[null,null,214,"Pakistan",null,null,null,null,null,null,null,null,null,null,null,null,null,null,null,null,null,null,null,null,null,null,null,null,null,null,null,null,null,null,null,null,null,null,null,null,null,null,null,null,null,null,null,0,null,0,null,0,null,0,null,0,null,0,null,0,null,0,null,0,null,0,null,0,null,0,null,0,null,0,null,0,null,0,null,0]
[null,null,216,"South Korea",null,null,null,null,null,null,null,null,null,null,null,null,null,null,null,null,null,null,null,null,null,null,null,null,null,null,null,null,null,null,null,null,null,null,null,null,null,null,null,null,null,null,null,0,null,0,null,0,null,0,null,0,null,0,null,0,null,0,null,0,null,0,null,0,null,0,null,0,null,0,null,0,null,0,null,0]
[null,null,217,"Thailand",null,null,null,null,null,null,null,null,null,null,null,null,null,null,null,null,null,null,null,null,null,null,null,null,null,null,null,null,null,null,null,null,null,null,null,null,null,null,null,null,null,null,null,0,null,0,null,0,null,0,null,0,null,0,null,0,null,0,null,0,null,0,null,0,null,0,null,0,null,0,null,0,null,0,null,0]
[null,null,218,"Philippines",null,null,null,null,null,null,null,null,null,null,null,null,null,null,null,null,null,null,null,null,null,null,null,null,null,null,null,null,null,null,null,null,null,null,null,null,null,null,null,null,null,null,null,0,null,0,null,0,null,0,null,0,null,0,null,0,null,0,null,0,null,0,null,0,null,0,null,0,null,0,null,0,null,0,null,0]
[null,null,219,"Vietnam",null,null,null,null,null,null,null,null,null,null,null,null,null,null,null,null,null,null,null,null,null,null,null,null,null,null,null,null,null,null,null,null,null,null,null,null,null,null,null,null,null,null,null,0,null,0,null,0,null,0,null,0,null,0,null,0,null,0,null,0,null,0,null,0,null,0,null,0,null,0,null,0,null,0,null,0]
[null,null,220,"Taiwan",null,null,null,null,null,null,null,null,null,null,null,null,null,null,null,null,null,null,null,null,null,null,null,null,null,null,null,null,null,null,null,null,null,null,null,null,null,null,null,null,null,null,null,0,null,0,null,0,null,0,null,0,null,0,null,0,null,0,null,0,null,0,null,0,null,0,null,0,null,0,null,0,null,0,null,0]
[null,null,302,"Belize",null,null,null,null,null,null,null,null,null,null,null,null,null,null,null,null,null,null,null,null,null,null,null,null,null,null,null,null,null,null,null,null,null,null,null,null,null,null,null,null,null,null,null,0,null,0,null,0,null,0,null,0,null,0,null,0,null,0,null,0,null,0,null,0,null,0,null,0,null,0,null,0,null,0,null,0]
[null,null,304,"Dominican Republic",null,null,null,null,null,null,null,null,null,null,null,null,null,null,null,null,null,null,null,null,null,null,null,null,null,null,null,null,null,null,null,null,null,null,null,null,null,null,null,null,null,null,null,0,null,0,null,0,null,0,null,0,null,0,null,0,null,0,null,0,null,0,null,0,null,0,null,0,null,0,null,0,null,0,null,0]
[null,null,305,"Grenada",null,null,null,null,null,null,null,null,null,null,null,null,null,null,null,null,null,null,null,null,null,null,null,null,null,null,null,null,null,null,null,null,null,null,null,null,null,null,null,null,null,null,null,0,null,0,null,0,null,0,null,0,null,0,null,0,null,0,null,0,null,0,null,0,null,0,null,0,null,0,null,0,null,0,null,0]
[null,null,306,"Guyana",null,null,null,null,null,null,null,null,null,null,null,null,null,null,null,null,null,null,null,null,null,null,null,null,null,null,null,null,null,null,null,null,null,null,null,null,null,null,null,null,null,null,null,0,null,0,null,0,null,0,null,0,null,0,null,0,null,0,null,0,null,0,null,0,null,0,null,0,null,0,null,0,null,0,null,0]
[null,null,307,"Haiti",null,null,null,null,null,null,null,null,null,null,null,null,null,null,null,null,null,null,null,null,null,null,null,null,null,null,null,null,null,null,null,null,null,null,null,null,null,null,null,null,null,null,null,0,null,0,null,0,null,0,null,0,null,0,null,0,null,0,null,0,null,0,null,0,null,0,null,0,null,0,null,0,null,0,null,0]
[null,null,308,"Jamaica",null,null,null,null,null,null,null,null,null,null,null,null,null,null,null,null,null,null,null,null,null,null,null,null,null,null,null,null,null,null,null,null,null,null,null,null,null,null,null,null,null,null,null,0,null,0,null,0,null,0,null,0,null,0,null,0,null,0,null,0,null,0,null,0,null,0,null,0,null,0,null,0,null,0,null,0]
[null,null,309,"Puerto Rico",null,null,null,null,null,null,null,null,null,null,null,null,null,null,null,null,null,null,null,null,null,null,null,null,null,null,null,null,null,null,null,null,null,null,null,null,null,null,null,null,null,null,null,0,null,0,null,0,null,0,null,0,null,0,null,0,null,0,null,0,null,0,null,0,null,0,null,0,null,0,null,0,null,0,null,0]
[null,null,310,"St Lucia",null,null,null,null,null,null,null,null,null,null,null,null,null,null,null,null,null,null,null,null,null,null,null,null,null,null,null,null,null,null,null,null,null,null,null,null,null,null,null,null,null,null,null,0,null,0,null,0,null,0,null,0,null,0,null,0,null,0,null,0,null,0,null,0,null,0,null,0,null,0,null,0,null,0,null,0]
[null,null,311,"St. Vincent and The Grenadines",null,null,null,null,null,null,null,null,null,null,null,null,null,null,null,null,null,null,null,null,null,null,null,null,null,null,null,null,null,null,null,null,null,null,null,null,null,null,null,null,null,null,null,0,null,0,null,0,null,0,null,0,null,0,null,0,null,0,null,0,null,0,null,0,null,0,null,0,null,0,null,0,null,0,null,0]
[null,null,312,"Suriname",null,null,null,null,null,null,null,null,null,null,null,null,null,null,null,null,null,null,null,null,null,null,null,null,null,null,null,null,null,null,null,null,null,null,null,null,null,null,null,null,null,null,null,0,null,0,null,0,null,0,null,0,null,0,null,0,null,0,null,0,null,0,null,0,null,0,null,0,null,0,null,0,null,0,null,0]
[null,null,313,"Trinidad & Tobago",null,null,null,null,null,null,null,null,null,null,null,null,null,null,null,null,null,null,null,null,null,null,null,null,null,null,null,null,null,null,null,null,null,null,null,null,null,null,null,null,null,null,null,0,null,0,null,0,null,0,null,0,null,0,null,0,null,0,null,0,null,0,null,0,null,0,null,0,null,0,null,0,null,0,null,0]
[null,null,401,"Austria",null,null,null,null,null,null,null,null,null,null,null,null,null,null,null,null,null,null,null,null,null,null,null,null,null,null,null,null,null,null,null,null,null,null,null,null,null,null,null,null,null,null,null,0,null,0,null,0,null,0,null,0,null,0,null,0,null,0,null,0,null,0,null,0,null,0,null,0,null,0,null,0,null,0,null,0]
[null,null,402,"Belgium",null,null,null,null,1.4952999539673301E-2,null,null,null,null,null,null,1.4952999539673301E-2,null,null,null,null,null,null,null,null,null,null,null,null,null,null,5.1000001840293399E-3,5.1000001840293399E-3,null,null,5.1000001840293399E-3,5.1000001840293399E-3,null,null,1.0200000368058701E-2,1.0200000368058701E-2,null,null,null,null,null,null,null,0,null,1.4952999539673301E-2,null,0,null,0,null,1.4952999539673301E-2,null,0,null,0,null,0,null,0,null,0,null,0,null,0,null,1.020000036805868E-2,null,0,null,1.020000036805868E-2,null,0,null,2.0400000736117401E-2]
[null,null,403,"Belarus",null,null,null,null,null,null,null,null,null,null,null,null,null,null,null,null,null,null,null,null,null,null,null,null,null,null,null,null,null,null,null,null,null,null,null,null,null,null,null,null,null,null,null,0,null,0,null,0,null,0,null,0,null,0,null,0,null,0,null,0,null,0,null,0,null,0,null,0,null,0,null,0,null,0,null,0]
[null,null,404,"Bosnia & Herzegovina",null,null,null,null,null,null,null,null,null,null,null,null,null,null,null,null,null,null,null,null,null,null,null,null,null,null,null,null,null,null,null,null,null,null,null,null,null,null,null,null,null,null,null,0,null,0,null,0,null,0,null,0,null,0,null,0,null,0,null,0,null,0,null,0,null,0,null,0,null,0,null,0,null,0,null,0]
[null,null,405,"Bulgaria",null,null,null,null,null,null,null,null,null,null,null,null,null,null,null,null,null,null,null,null,null,null,null,null,null,null,null,null,null,null,null,null,null,null,null,null,null,null,null,null,null,null,null,0,null,0,null,0,null,0,null,0,null,0,null,0,null,0,null,0,null,0,null,0,null,0,null,0,null,0,null,0,null,0,null,0]
[null,null,406,"Croatia",null,null,null,null,null,null,null,null,null,null,null,null,null,null,null,null,null,null,null,null,null,null,null,null,null,null,null,null,null,null,null,null,null,null,null,null,null,null,null,null,null,null,null,0,null,0,null,0,null,0,null,0,null,0,null,0,null,0,null,0,null,0,null,0,null,0,null,0,null,0,null,0,null,0,null,0]
[null,null,407,"Cyprus",null,null,null,null,null,null,null,null,null,null,null,null,null,null,null,null,null,null,null,null,null,null,null,null,null,null,null,null,null,null,null,null,null,null,null,null,null,null,null,null,null,null,null,0,null,0,null,0,null,0,null,0,null,0,null,0,null,0,null,0,null,0,null,0,null,0,null,0,null,0,null,0,null,0,null,0]
[null,null,408,"Czech Republic",null,null,null,null,null,null,null,null,null,null,null,null,null,null,null,null,null,null,null,null,null,null,null,null,null,null,null,null,null,null,null,null,null,null,null,null,null,null,null,null,null,null,null,0,null,0,null,0,null,0,null,0,null,0,null,0,null,0,null,0,null,0,null,0,null,0,null,0,null,0,null,0,null,0,null,0]
[null,null,409,"Denmark",null,null,null,null,null,null,null,null,null,null,null,null,null,null,null,null,null,null,null,null,null,null,null,null,null,null,null,null,null,null,null,null,null,null,null,null,null,null,null,null,null,null,null,0,null,0,null,0,null,0,null,0,null,0,null,0,null,0,null,0,null,0,null,0,null,0,null,0,null,0,null,0,null,0,null,0]
[null,null,410,"Estonia",null,null,null,null,null,null,null,null,null,null,null,null,null,null,null,null,null,null,null,null,null,null,null,null,null,null,null,null,null,null,null,null,null,null,null,null,null,null,null,null,null,null,null,0,null,0,null,0,null,0,null,0,null,0,null,0,null,0,null,0,null,0,null,0,null,0,null,0,null,0,null,0,null,0,null,0]
[null,null,411,"Finland",null,null,null,null,null,null,null,null,null,null,null,null,null,null,null,null,null,null,null,null,null,null,null,null,null,null,null,null,null,null,null,null,null,null,null,null,null,null,null,null,null,null,null,0,null,0,null,0,null,0,null,0,null,0,null,0,null,0,null,0,null,0,null,0,null,0,null,0,null,0,null,0,null,0,null,0]
[null,null,412,"France",null,null,null,null,null,null,null,null,null,null,null,null,null,null,null,null,null,null,null,null,null,null,null,null,null,null,null,null,null,null,null,null,null,null,null,null,null,null,null,null,null,null,null,0,null,0,null,0,null,0,null,0,null,0,null,0,null,0,null,0,null,0,null,0,null,0,null,0,null,0,null,0,null,0,null,0]
[null,null,414,"Germany",null,null,null,null,null,null,null,null,null,null,null,null,null,null,null,null,null,null,null,null,null,null,null,null,null,null,null,null,null,null,null,null,null,null,null,null,null,null,null,null,null,null,null,0,null,{"$f":"I69+J69","v":0},null,{"$f":"K69+L69","v":0},null,{"$f":"M69+N69","v":0},null,{"$f":"O69+P69","v":0},null,{"$f":"Q69+R69","v":0},null,{"$f":"S69+T69","v":0},null,{"$f":"U69+V69","v":0},null,{"$f":"W69+X69","v":0},null,{"$f":"Y69+Z69","v":0},null,0,null,0,null,0,null,0,null,0,null,0,null,0]
[null,null,415,"Greece",null,null,null,null,null,null,null,null,null,null,null,null,null,null,null,null,null,null,null,null,null,null,null,null,null,null,null,null,null,null,null,null,null,null,null,null,null,null,null,null,null,null,null,0,null,0,null,0,null,0,null,0,null,0,null,0,null,0,null,0,null,0,null,0,null,0,null,0,null,0,null,0,null,0,null,0]
[null,null,416,"Hungary",null,null,null,null,null,null,null,null,null,null,null,null,null,null,null,null,null,null,null,null,null,null,null,null,null,null,null,null,null,null,null,null,null,null,null,null,null,null,null,null,null,null,null,0,null,0,null,0,null,0,null,0,null,0,null,0,null,0,null,0,null,0,null,0,null,0,null,0,null,0,null,0,null,0,null,0]
[null,null,417,"Italy",null,null,null,null,null,null,null,null,null,null,null,null,null,null,null,null,null,null,null,null,null,null,null,null,null,null,null,null,null,null,null,null,null,null,null,null,null,null,null,null,null,null,null,0,null,0,null,0,null,0,null,0,null,0,null,0,null,0,null,0,null,0,null,0,null,0,null,0,null,0,null,0,null,0,null,0]
[null,null,418,"Malta",null,null,null,null,null,null,null,null,null,null,null,null,null,null,null,null,null,null,null,null,null,null,null,null,null,null,null,null,null,null,null,null,null,null,null,null,null,null,null,null,null,null,null,{"$f":"+E73+F73+G73+H73","v":0},null,0,null,0,null,0,null,0,null,0,null,0,null,0,null,0,null,0,null,{"$f":"AA73+AB73","v":0},null,{"$f":"AC73+AD73","v":0},null,{"$f":"AE73+AF73","v":0},null,{"$f":"AG73+AH73","v":0},null,{"$f":"AI73+AJ73","v":0},null,{"$f":"AK73+AL73","v":0},null,{"$f":"AM73+AN73","v":0}]
[null,null,420,"Montenegro",null,null,null,null,null,null,null,null,null,null,null,null,null,null,null,null,null,null,null,null,null,null,null,null,null,null,null,null,null,null,null,null,null,null,null,null,null,null,null,null,null,null,null,0,null,0,null,0,null,0,null,0,null,0,null,0,null,0,null,0,null,0,null,0,null,0,null,0,null,0,null,0,null,0,null,0]
[null,null,421,"Netherlands",null,null,null,null,null,null,null,null,null,null,null,null,null,null,null,null,null,null,null,null,null,null,null,null,null,null,null,null,null,null,null,null,null,null,null,null,null,null,null,null,null,null,null,0,null,0,null,0,null,0,null,0,null,0,null,0,null,0,null,0,null,0,null,0,null,0,null,0,null,0,null,0,null,0,null,0]
[null,null,422,"Norway",null,null,null,null,null,null,null,null,null,null,null,null,null,null,null,null,null,null,null,null,null,null,null,null,null,null,null,null,null,null,null,null,null,null,null,null,null,null,null,null,null,null,null,0,null,0,null,0,null,0,null,0,null,0,null,0,null,0,null,0,null,0,null,0,null,0,null,0,null,0,null,0,null,0,null,0]
[null,null,423,"Poland",null,null,null,null,null,null,null,null,null,null,null,null,null,null,null,null,null,null,null,null,null,null,null,null,null,null,null,null,null,null,null,null,null,null,null,null,null,null,null,null,null,null,null,0,null,0,null,0,null,0,null,0,null,0,null,0,null,0,null,0,null,0,null,0,null,0,null,0,null,0,null,0,null,0,null,0]
[null,null,424,"Portugal",null,null,null,null,null,null,null,null,null,null,null,null,null,null,null,null,null,null,null,null,null,null,null,null,null,null,null,null,null,null,null,null,null,null,null,null,null,null,null,null,null,null,null,0,null,0,null,0,null,0,null,0,null,0,null,0,null,0,null,0,null,0,null,0,null,0,null,0,null,0,null,0,null,0,null,0]
[null,null,425,"Romania",null,null,null,null,null,null,null,null,null,null,null,null,null,null,null,null,null,null,null,null,null,null,null,null,null,null,null,null,null,null,null,null,null,null,null,null,null,null,null,null,null,null,null,0,null,0,null,0,null,0,null,0,null,0,null,0,null,0,null,0,null,0,null,0,null,0,null,0,null,0,null,0,null,0,null,0]
[null,null,429,"Spain",null,null,null,null,null,null,null,null,null,null,null,null,null,null,null,null,null,null,null,null,null,null,null,null,null,null,null,null,null,null,null,null,null,null,null,null,null,null,null,null,null,null,null,0,null,0,null,0,null,0,null,0,null,0,null,0,null,0,null,0,null,0,null,0,null,0,null,0,null,0,null,0,null,0,null,0]
[null,null,430,"Sweden",null,null,null,null,null,null,null,null,null,null,null,null,null,null,null,null,null,null,null,null,null,null,null,null,null,null,null,null,null,null,null,null,null,null,null,null,null,null,null,null,null,null,null,0,null,0,null,0,null,0,null,0,null,0,null,0,null,0,null,0,null,0,null,0,null,0,null,0,null,0,null,0,null,0,null,0]
[null,null,431,"Switzerland",null,null,null,null,null,null,null,null,null,null,null,null,null,null,null,null,null,null,null,null,null,null,null,null,null,null,null,null,null,null,null,null,null,null,null,null,null,null,null,null,null,null,null,0,null,0,null,0,null,0,null,0,null,0,null,0,null,0,null,0,null,0,null,0,null,0,null,0,null,0,null,0,null,0,null,0]
[null,null,433,"Turkey",null,null,null,null,null,null,null,null,null,null,null,null,null,null,null,null,null,null,null,null,null,null,null,null,null,null,null,null,null,null,null,null,null,null,null,null,null,null,null,null,null,null,null,0,null,0,null,0,null,0,null,0,null,0,null,0,null,0,null,0,null,0,null,0,null,0,null,0,null,0,null,0,null,0,null,0]
[null,null,434,"United Kingdom (incl Northern Ireland, Scotland, Wales)",null,null,null,null,null,null,null,null,null,null,null,null,null,null,null,null,null,null,null,null,null,null,null,null,null,null,null,null,null,null,null,null,null,null,null,null,null,null,null,null,null,null,null,0,null,0,null,0,null,0,null,0,null,0,null,0,null,0,null,0,null,0,null,0,null,0,null,0,null,0,null,0,null,0,null,0]
[null,null,436,"Georgia",null,null,null,null,null,null,null,null,null,null,null,null,null,null,null,null,null,null,null,null,null,null,null,null,null,null,null,null,null,null,null,null,null,null,null,null,null,null,null,null,null,null,null,0,null,0,null,0,null,0,null,0,null,0,null,0,null,0,null,0,null,0,null,0,null,0,null,0,null,0,null,0,null,0,null,0]
[null,null,437,"Ireland, Republic of",null,null,null,null,null,null,null,null,null,null,null,null,null,null,null,null,null,null,null,null,null,null,null,null,null,null,null,null,null,null,null,null,null,null,null,null,null,null,null,null,null,null,null,0,null,0,null,0,null,0,null,0,null,0,null,0,null,0,null,0,null,0,null,0,null,0,null,0,null,0,null,0,null,0,null,0]
[null,null,438,"Iceland",null,null,null,null,null,null,null,null,null,null,null,null,null,null,null,null,null,null,null,null,null,null,null,null,null,null,null,null,null,null,null,null,null,null,null,null,null,null,null,null,null,null,null,0,null,0,null,0,null,0,null,0,null,0,null,0,null,0,null,0,null,0,null,0,null,0,null,0,null,0,null,0,null,0,null,0]
[null,null,439,"Kosovo",null,null,null,null,null,null,null,null,null,null,null,null,null,null,null,null,null,null,null,null,null,null,null,null,null,null,null,null,null,null,null,null,null,null,null,null,null,null,null,null,null,null,null,0,null,0,null,0,null,0,null,0,null,0,null,0,null,0,null,0,null,0,null,0,null,0,null,0,null,0,null,0,null,0,null,0]
[null,null,502,"Egypt",null,null,null,null,null,null,null,null,null,null,null,null,null,null,null,null,null,null,null,null,null,null,null,null,null,null,null,null,null,null,null,null,null,null,null,null,null,null,null,null,null,null,null,0,null,0,null,0,null,0,null,0,null,0,null,0,null,0,null,0,null,0,null,0,null,0,null,0,null,0,null,0,null,0,null,0]
[null,null,505,"Israel",null,null,null,null,null,null,null,null,null,null,null,null,null,null,null,null,null,null,null,null,null,null,null,null,null,null,null,null,null,null,null,null,null,null,null,null,null,null,null,null,null,null,null,0,null,0,null,0,null,0,null,0,null,0,null,0,null,0,null,0,null,0,null,0,null,0,null,0,null,0,null,0,null,0,null,0]
[null,null,506,"Jordan",null,null,null,null,null,null,null,null,null,null,null,null,null,null,null,null,null,null,null,null,null,null,null,null,null,null,null,null,null,null,null,null,null,null,null,null,null,null,null,null,null,null,null,0,null,0,null,0,null,0,null,0,null,0,null,0,null,0,null,0,null,0,null,0,null,0,null,0,null,0,null,0,null,0,null,0]
[null,null,507,"Lebanon",null,null,null,null,null,null,null,null,null,null,null,null,null,null,null,null,null,null,null,null,null,null,null,null,null,null,null,null,null,null,null,null,null,null,null,null,null,null,null,null,null,null,null,0,null,0,null,0,null,0,null,0,null,0,null,0,null,0,null,0,null,0,null,0,null,0,null,0,null,0,null,0,null,0,null,0]
[null,null,512,"Tunisia",null,null,null,null,null,null,null,null,null,null,null,null,null,null,null,null,null,null,null,null,null,null,null,null,null,null,null,null,null,null,null,null,null,null,null,null,null,null,null,null,{"$f":"SUM(E93:O93)","v":0},null,null,0,null,0,null,0,null,0,null,0,null,0,null,0,null,0,null,0,null,0,null,0,null,0,null,0,null,0,null,0,null,0,null,0]
[null,null,513,"United Arab Emirates",null,null,null,null,null,null,null,null,null,null,null,null,null,null,null,null,null,null,null,null,null,null,null,null,null,null,null,null,null,null,null,null,null,null,null,null,null,null,null,null,null,null,null,0,null,0,null,0,null,0,null,0,null,0,null,0,null,0,null,0,null,0,null,0,null,0,null,0,null,0,null,0,null,0,null,0]
[null,null,601,"Australia",null,null,null,null,null,null,null,null,null,null,null,null,null,null,null,null,null,null,null,null,null,null,null,null,null,null,null,null,null,null,null,null,null,null,null,null,null,null,null,null,null,null,null,0,null,0,null,0,null,0,null,0,null,0,null,0,null,0,null,0,null,0,null,0,null,0,null,0,null,0,null,0,null,0,null,0]
[null,null,603,"Fiji",null,null,null,null,null,null,null,null,null,null,null,null,null,null,null,null,null,null,null,null,null,null,null,null,null,null,null,null,null,null,null,null,null,null,null,null,null,null,null,null,null,null,null,0,null,0,null,0,null,0,null,0,null,0,null,0,null,0,null,0,null,0,null,0,null,0,null,0,null,0,null,0,null,0,null,0]
[null,null,605,"Papua New Guinea",null,null,null,null,null,null,null,null,null,null,null,null,null,null,null,null,null,null,null,null,null,null,null,null,null,null,null,null,null,null,null,null,null,null,null,null,null,null,null,null,null,null,null,0,null,0,null,0,null,0,null,0,null,0,null,0,null,0,null,0,null,0,null,0,null,0,null,0,null,0,null,0,null,0,null,0]
[null,null,607,"Tonga",null,null,null,null,null,null,null,null,null,null,null,null,null,null,null,null,null,null,null,null,null,null,null,null,null,null,null,null,null,null,null,null,null,null,null,null,null,null,null,null,null,null,null,0,null,0,null,0,null,0,null,0,null,0,null,0,null,0,null,0,null,0,null,0,null,0,null,0,null,0,null,0,null,0,null,0]
[null,null,609,"New Zealand",null,null,null,null,null,null,null,null,null,null,null,null,null,null,null,null,null,null,null,null,null,null,null,null,null,null,null,null,null,null,null,null,null,null,null,null,null,null,null,null,null,null,null,0,null,0,null,0,null,0,null,0,null,0,null,0,null,0,null,0,null,0,null,0,null,0,null,0,null,0,null,0,null,0,null,0]
[null,null,701,"Argentina",null,null,null,null,null,null,null,null,null,null,null,null,null,null,null,null,null,null,null,null,null,null,null,null,null,null,null,null,null,null,null,null,null,null,null,null,null,null,null,null,null,null,null,0,null,0,null,0,null,0,null,0,null,0,null,0,null,0,null,0,null,0,null,0,null,0,null,0,null,0,null,0,null,0,null,0]
[null,null,702,"Bolivia",null,null,null,null,null,null,null,null,null,null,null,null,null,null,null,null,null,null,null,null,null,null,null,null,null,null,null,null,null,null,null,null,null,null,null,null,null,null,null,null,null,null,null,0,null,0,null,0,null,0,null,0,null,0,null,0,null,0,null,0,null,{"$f":"Y101+Z101","v":0},null,0,null,0,null,0,null,0,null,0,null,0,null,0]
[null,null,703,"Brazil",null,null,null,null,null,null,null,null,null,null,null,null,null,null,null,null,null,null,null,null,null,null,null,null,null,null,null,null,null,null,null,null,null,null,null,null,null,null,null,null,null,null,null,0,null,0,null,0,null,0,null,0,null,0,null,0,null,0,null,0,null,0,null,0,null,0,null,0,null,0,null,0,null,0,null,0]
[null,null,704,"Chile",null,null,null,null,null,null,null,null,null,null,null,null,null,null,null,null,null,null,null,null,null,null,null,null,null,null,null,null,null,null,null,null,null,null,null,null,null,null,null,null,null,null,null,0,null,{"$f":"I103+J103","v":0},null,0,null,0,null,0,null,0,null,0,null,0,null,0,null,0,null,0,null,0,null,0,null,0,null,0,null,0,null,0]
[null,null,706,"Costa Rica",null,null,null,null,null,null,null,null,null,null,null,null,null,null,null,null,null,null,null,null,null,null,null,null,null,null,null,null,null,null,null,null,null,null,null,null,null,null,null,null,null,null,null,0,null,0,null,0,null,0,null,0,null,0,null,0,null,0,null,0,null,0,null,0,null,0,null,0,null,0,null,0,null,0,null,0]
[null,null,707,"Ecuador",null,null,null,null,null,null,null,null,null,null,null,null,null,null,null,null,null,null,null,null,null,null,null,null,null,null,null,null,null,null,null,null,null,null,null,null,null,null,null,null,null,null,null,0,null,0,null,0,null,0,null,0,null,0,null,0,null,0,null,0,null,0,null,0,null,0,null,0,null,0,null,0,null,0,null,0]
[null,null,708,"El Salvador",null,null,null,null,null,null,null,null,null,null,null,null,null,null,null,null,null,null,null,null,null,null,null,null,null,null,null,null,null,null,null,null,null,null,null,null,null,null,null,null,null,null,null,0,null,0,null,0,null,0,null,0,null,0,null,0,null,0,null,0,null,0,null,0,null,0,null,0,null,0,null,0,null,0,null,0]
[null,null,709,"Guatemala",null,null,null,null,null,null,null,null,null,null,null,null,null,null,null,null,null,null,null,null,null,null,null,null,null,null,null,null,null,null,null,null,null,null,null,null,null,null,null,null,null,null,null,0,null,0,null,0,null,0,null,0,null,0,null,0,null,0,null,0,null,0,null,0,null,0,null,0,null,0,null,0,null,0,null,0]
[null,null,711,"Mexico",null,null,null,null,null,null,null,null,null,null,null,null,null,null,null,null,null,null,null,null,null,null,null,null,null,null,null,null,null,null,null,null,null,null,null,null,null,null,null,null,null,null,null,0,null,0,null,0,null,0,null,0,null,0,null,0,null,0,null,0,null,0,null,0,null,0,null,0,null,0,null,0,null,0,null,0]
[null,null,712,"Nicaragua",null,null,null,null,null,null,null,null,null,null,null,null,null,null,null,null,null,null,null,null,null,null,null,null,null,null,null,null,null,null,null,null,null,null,null,null,null,null,null,null,null,null,null,0,null,0,null,0,null,0,null,0,null,0,null,0,null,0,null,0,null,0,null,0,null,0,null,0,null,0,null,0,null,0,null,0]
[null,null,713,"Paraguay",null,null,null,null,null,null,null,null,null,null,null,null,null,null,null,null,null,null,null,null,null,null,null,null,null,null,null,null,null,null,null,null,null,null,null,null,null,null,null,null,null,null,null,0,null,0,null,0,null,0,null,0,null,0,null,0,null,0,null,0,null,0,null,0,null,0,null,0,null,0,null,0,null,0,null,0]
[null,null,714,"Peru",null,null,null,null,null,null,null,null,null,null,null,null,null,null,null,null,null,null,null,null,null,null,null,null,null,null,null,null,null,null,null,null,null,null,null,null,null,null,null,null,null,null,null,0,null,0,null,0,null,0,null,0,null,0,null,0,null,0,null,0,null,0,null,0,null,0,null,0,null,0,null,0,null,0,null,0]
[null,null,715,"Uruguay",null,null,null,null,null,null,null,null,null,null,null,null,null,null,null,null,null,null,null,null,null,null,null,null,null,null,null,null,null,null,null,null,null,null,null,null,null,null,null,null,null,null,null,0,null,0,null,0,null,0,null,0,null,0,null,0,null,0,null,0,null,0,null,0,null,0,null,0,null,0,null,0,null,0,null,0]
[null,null,801,"United States of America",null,null,null,null,null,null,null,null,null,null,null,null,null,null,null,null,null,null,null,null,null,null,null,null,null,null,null,null,null,null,null,null,null,null,null,null,null,null,null,null,null,null,null,0,null,0,null,0,null,0,null,0,null,0,null,0,null,0,null,0,null,0,null,0,null,0,null,0,null,0,null,0,null,0,null,0]
[null,null,802,"Canada",null,null,null,null,null,null,null,null,null,null,null,null,null,null,null,null,null,null,null,null,null,null,null,null,null,null,null,null,null,null,null,null,null,null,null,null,null,null,null,null,null,null,null,0,null,0,null,0,null,0,null,0,null,0,null,0,null,0,null,0,null,0,null,0,null,0,null,0,null,0,null,0,null,0,null,0]
[null,null,null,null,null,null,null,null,null,null,null,null,null,null,null,null,null,null,null,null,null,null,null,null,null,null,null,null,null,null,null,null,null,null,null,null,null,null,null,null,null,null,null,null,null,null,null,0,null,0,null,0,null,0,null,0,null,0,null,0,null,0,null,0,null,0,null,0,null,0,null,0,null,0,null,0,null,0,null,0]
[null,null,null,null,null,null,null,null,null,null,null,null,null,null,null,null,null,null,null,null,null,null,null,null,null,null,null,null,null,null,null,null,null,null,null,null,null,null,null,null,null,null,null,null,null,null,null,0,null,0,null,0,null,0,null,0,null,0,null,0,null,0,null,0,null,0,null,0,null,0,null,0,null,0,null,0,null,0,null,0]
[null,null,null,null,null,null,null,null,null,null,null,null,null,null,null,null,null,null,null,null,null,null,null,null,null,null,null,null,null,null,null,null,null,null,null,null,null,null,null,null,null,null,null,null,{"$f":"SUM(E117:O117)","v":0},null,null,0,null,0,null,0,null,0,null,0,null,0,null,0,null,0,null,0,null,0,null,0,null,0,null,0,null,0,null,0,null,0,null,0]
[null,null,null,null,null,null,null,null,null,null,null,null,null,null,null,null,null,null,null,null,null,null,null,null,null,null,null,null,null,null,null,null,null,null,null,null,null,null,null,null,null,null,null,null,{"$f":"SUM(E118:O118)","v":0},null,null,0,null,0,null,0,null,0,null,0,null,0,null,0,null,0,null,0,null,0,null,0,null,0,null,0,null,0,null,0,null,0,null,0]
[null,null,null,null,null,null,null,null,null,null,null,null,null,null,null,null,null,null,null,null,null,null,null,null,null,null,null,null,null,null,null,null,null,null,null,null,null,null,null,null,null,null,null,null,{"$f":"SUM(E119:O119)","v":0},null,null,0,null,{"$f":"I119+J119","v":0},null,{"$f":"K119+L119","v":0},null,{"$f":"M119+N119","v":0},null,{"$f":"O119+P119","v":0},null,{"$f":"Q119+R119","v":0},null,{"$f":"S119+T119","v":0},null,{"$f":"U119+V119","v":0},null,{"$f":"W119+X119","v":0},null,0,null,0,null,0,null,0,null,0,null,0,null,0,null,0]
[null,null,null,null,null,null,null,null,null,null,null,null,null,null,null,null,null,null,null,null,null,null,null,null,null,null,null,null,null,null,null,null,null,null,null,null,null,null,null,null,null,null,null,null,null,null,null,0,null,0,null,0,null,0,null,0,null,0,null,0,null,0,null,0,null,0,null,0,null,0,null,0,null,0,null,0,null,0,null,0]
[null,null,null,null,null,null,null,null,null,null,null,null,null,null,null,null,null,null,null,null,null,null,null,null,null,null,null,null,null,null,null,null,null,null,null,null,null,null,null,null,null,null,null,null,null,null,null,0,null,0,null,0,null,0,null,0,null,0,null,0,null,0,null,0,null,0,null,0,null,0,null,0,null,0,null,0,null,0,null,0]
[null,null,null,null,null,null,null,null,null,null,null,null,null,null,null,null,null,null,null,null,null,null,null,null,null,null,null,null,null,null,null,null,null,null,null,null,null,null,null,null,null,null,null,null,null,null,null,0,null,0,null,0,null,0,null,0,null,0,null,0,null,0,null,0,null,0,null,0,null,0,null,0,null,0,null,0,null,0,null,0]
[null,null,null,null,null,null,null,null,null,null,null,null,null,null,null,null,null,null,null,null,null,null,null,null,null,null,null,null,null,null,null,null,null,null,null,null,null,null,null,null,null,null,null,null,null,null,null,0,null,0,null,0,null,0,null,0,null,0,null,0,null,0,null,0,null,0,null,0,null,0,null,0,null,0,null,0,null,0,null,0]
[null,null,null,null,null,null,null,null,null,null,null,null,null,null,null,null,null,null,null,null,null,null,null,null,null,null,null,null,null,null,null,null,null,null,null,null,null,null,null,null,null,null,null,null,null,null,null,0,null,0,null,0,null,0,null,0,null,0,null,0,null,0,null,0,null,0,null,0,null,0,null,0,null,0,null,0,null,0,null,0]
[null,null,null,null,null,null,null,null,null,null,null,null,null,null,null,null,null,null,null,null,null,null,null,null,null,null,null,null,null,null,null,null,null,null,null,null,null,null,null,null,null,null,null,null,null,null,null,0,null,0,null,0,null,0,null,0,null,0,null,0,null,0,null,0,null,0,null,0,null,0,null,0,null,0,null,0,null,0,null,0]
[null,null,null,null,null,null,null,null,null,null,null,null,null,null,null,null,null,null,null,null,null,null,null,null,null,null,null,null,null,null,null,null,null,null,null,null,null,null,null,null,null,null,null,null,null,null,null,0,null,0,null,0,null,0,null,0,null,0,null,0,null,0,null,0,null,0,null,0,null,0,null,0,null,0,null,0,null,0,null,0]
[null,null,null,null,null,null,null,null,null,null,null,null,null,null,null,null,null,null,null,null,null,null,null,null,null,null,null,null,null,null,null,null,null,null,null,null,null,null,null,null,null,null,null,null,null,null,null,0,null,0,null,0,null,0,null,0,null,0,null,0,null,0,null,0,null,0,null,0,null,0,null,0,null,0,null,0,null,0,null,0]
[null,null,null,null,null,null,null,null,null,null,null,null,null,null,null,null,null,null,null,null,null,null,null,null,null,null,null,null,null,null,null,null,null,null,null,null,null,null,null,null,null,null,null,null,null,null,null,0,null,0,null,0,null,0,null,0,null,0,null,0,null,0,null,0,null,0,null,0,null,0,null,0,null,0,null,0,null,0,null,0]
[null,null,null,null,null,null,null,null,null,null,null,null,null,null,null,null,null,null,null,null,null,null,null,null,null,null,null,null,null,null,null,null,null,null,null,null,null,null,null,null,null,null,null,null,null,null,null,0,null,0,null,0,null,0,null,0,null,0,null,0,null,0,null,0,null,0,null,0,null,0,null,0,null,0,null,0,null,0,null,0]
[null,null,null,null,null,null,null,null,null,null,null,null,null,null,null,null,null,null,null,null,null,null,null,null,null,null,null,null,null,null,null,null,null,null,null,null,null,null,null,null,null,null,null,null,null,null,null,{"$f":"+E130+F130+G130+H130","v":0},null,{"$f":"I130+J130","v":0},null,{"$f":"K130+L130","v":0},null,{"$f":"M130+N130","v":0},null,{"$f":"O130+P130","v":0},null,{"$f":"Q130+R130","v":0},null,{"$f":"S130+T130","v":0},null,{"$f":"U130+V130","v":0},null,{"$f":"W130+X130","v":0},null,{"$f":"Y130+Z130","v":0},null,{"$f":"AA130+AB130","v":0},null,{"$f":"AC130+AD130","v":0},null,{"$f":"AE130+AF130","v":0},null,{"$f":"AG130+AH130","v":0},null,{"$f":"AI130+AJ130","v":0},null,{"$f":"AK130+AL130","v":0},null,{"$f":"AM130+AN130","v":0}]
[null,null,null,null,null,null,null,null,null,null,null,null,null,null,null,null,null,null,null,null,null,null,null,null,null,null,null,null,null,null,null,null,null,null,null,null,null,null,null,null,null,null,null,null,null,null,null,0,null,0,null,0,null,0,null,0,null,0,null,0,null,0,null,0,null,0,null,0,null,0,null,0,null,0,null,0,null,0,null,0]
[null,null,null,null,null,null,null,null,null,null,null,null,null,null,null,null,null,null,null,null,null,null,null,null,null,null,null,null,null,null,null,null,null,null,null,null,null,null,null,null,null,null,null,null,null,null,null,0,null,0,null,0,null,0,null,0,null,0,null,0,null,0,null,0,null,0,null,0,null,0,null,0,null,0,null,0,null,0,null,0]
[null,null,null,null,null,null,null,null,null,null,null,null,null,null,null,null,null,null,null,null,null,null,null,null,null,null,null,null,null,null,null,null,null,null,null,null,null,null,null,null,null,null,null,null,null,null,null,0,null,0,null,0,null,0,null,0,null,0,null,0,null,0,null,0,null,0,null,0,null,0,null,0,null,0,null,0,null,0,null,0]
[null,null,null,null,null,null,null,null,null,null,null,null,null,null,null,null,null,null,null,null,null,null,null,null,null,null,null,null,null,null,null,null,null,null,null,null,null,null,null,null,null,null,null,null,null,null,null,0,null,0,null,0,null,0,null,0,null,0,null,0,null,0,null,0,null,0,null,0,null,0,null,0,null,0,null,0,null,0,null,0]
[null,null,null,null,null,null,null,null,null,null,null,null,null,null,null,null,null,null,null,null,null,null,null,null,null,null,null,null,null,null,null,null,null,null,null,null,null,null,null,null,null,null,null,null,null,null,null,0,null,0,null,0,null,0,null,0,null,0,null,0,null,0,null,0,null,0,null,0,null,0,null,0,null,0,null,0,null,0,null,0]
[null,null,null,null,null,null,null,null,null,null,null,null,null,null,null,null,null,null,null,null,null,null,null,null,null,null,null,null,null,null,null,null,null,null,null,null,null,null,null,null,null,null,null,null,null,null,null,0,null,0,null,0,null,0,null,0,null,0,null,0,null,0,null,0,null,0,null,0,null,0,null,0,null,0,null,0,null,0,null,0]
[null,null,null,null,null,null,null,null,null,null,null,null,null,null,null,null,null,null,null,null,null,null,null,null,null,null,null,null,null,null,null,null,null,null,null,null,null,null,null,null,null,null,null,null,null,null,null,0,null,0,null,0,null,0,null,0,null,0,null,0,null,0,null,0,null,0,null,0,null,0,null,0,null,0,null,0,null,0,null,0]
[null,null,null,null,null,null,null,null,null,null,null,null,null,null,null,null,null,null,null,null,null,null,null,null,null,null,null,null,null,null,null,null,null,null,null,null,null,null,null,null,null,null,null,null,null,null,null,0,null,0,null,0,null,0,null,0,null,0,null,0,null,0,null,0,null,0,null,0,null,0,null,0,null,0,null,0,null,0,null,0]
[null,null,null,null,null,null,null,null,null,null,null,null,null,null,null,null,null,null,null,null,null,null,null,null,null,null,null,null,null,null,null,null,null,null,null,null,null,null,null,null,null,null,null,null,null,null,null,0,null,0,null,0,null,0,null,0,null,0,null,0,null,0,null,0,null,0,null,0,null,0,null,0,null,0,null,0,null,0,null,0]
[null,null,null,null,null,null,null,null,null,null,null,null,null,null,null,null,null,null,null,null,null,null,null,null,null,null,null,null,null,null,null,null,null,null,null,null,null,null,null,null,null,null,null,null,null,null,null,0,null,0,null,0,null,0,null,0,null,0,null,0,null,0,null,0,null,0,null,0,null,0,null,0,null,0,null,0,null,0,null,0]
[null,null,null,null,null,null,null,null,null,null,null,null,null,null,null,null,null,null,null,null,null,null,null,null,null,null,null,null,null,null,null,null,null,null,null,null,null,null,null,null,null,null,null,null,null,null,null,0,null,0,null,0,null,0,null,0,null,0,null,0,null,0,null,0,null,0,null,0,null,0,null,0,null,0,null,0,null,0,null,0]
[null,null,null,null,null,null,null,null,null,null,null,null,null,null,null,null,null,null,null,null,null,null,null,null,null,null,null,null,null,null,null,null,null,null,null,null,null,null,null,null,null,null,null,null,null,null,null,0,null,0,null,0,null,0,null,0,null,0,null,0,null,0,null,0,null,0,null,0,null,0,null,0,null,0,null,0,null,0,null,0]
[null,null,null,null,null,null,null,null,null,null,null,null,null,null,null,null,null,null,null,null,null,null,null,null,null,null,null,null,null,null,null,null,null,null,null,null,null,null,null,null,null,null,null,null,null,null,null,0,null,0,null,0,null,0,null,0,null,0,null,0,null,0,null,0,null,0,null,0,null,0,null,0,null,0,null,0,null,0,null,0]
[null,null,null,null,null,null,null,null,null,null,null,null,null,null,null,null,null,null,null,null,null,null,null,null,null,null,null,null,null,null,null,null,null,null,null,null,null,null,null,null,null,null,null,null,null,null,null,0,null,0,null,0,null,0,null,0,null,0,null,0,null,0,null,0,null,0,null,0,null,0,null,0,null,0,null,0,null,0,null,0]
[null,null,null,null,null,null,null,null,null,null,null,null,null,null,null,null,null,null,null,null,null,null,null,null,null,null,null,null,null,null,null,null,null,null,null,null,null,null,null,null,null,null,null,null,null,null,null,0,null,0,null,0,null,0,null,0,null,0,null,0,null,0,null,0,null,0,null,0,null,0,null,0,null,0,null,0,null,0,null,0]
[null,null,null,null,null,null,null,null,null,null,null,null,null,null,null,null,null,null,null,null,null,null,null,null,null,null,null,null,null,null,null,null,null,null,null,null,null,null,null,null,null,null,null,null,null,null,null,0,null,0,null,0,null,0,null,0,null,0,null,0,null,0,null,0,null,0,null,0,null,0,null,0,null,0,null,0,null,0,null,0]
[null,null,null,null,null,null,null,null,null,null,null,null,null,null,null,null,null,null,null,null,null,null,null,null,null,null,null,null,null,null,null,null,null,null,null,null,null,null,null,null,null,null,null,null,null,null,null,0,null,0,null,0,null,0,null,0,null,0,null,0,null,0,null,0,null,0,null,0,null,0,null,0,null,0,null,0,null,0,null,0]
[null,null,null,null,null,null,null,null,null,null,null,null,null,null,null,null,null,null,null,null,null,null,null,null,null,null,null,null,null,null,null,null,null,null,null,null,null,null,null,null,null,null,null,null,null,null,null,0,null,0,null,0,null,0,null,0,null,0,null,0,null,0,null,0,null,0,null,0,null,0,null,0,null,0,null,0,null,0,null,0]
[null,null,null,null,null,null,null,null,null,null,null,null,null,null,null,null,null,null,null,null,null,null,null,null,null,null,null,null,null,null,null,null,null,null,null,null,null,null,null,null,null,null,null,null,null,null,null,0,null,0,null,0,null,0,null,0,null,0,null,0,null,0,null,0,null,0,null,0,null,0,null,0,null,0,null,0,null,0,null,0]
[null,null,null,null,null,null,null,null,null,null,null,null,null,null,null,null,null,null,null,null,null,null,null,null,null,null,null,null,null,null,null,null,null,null,null,null,null,null,null,null,null,null,null,null,null,null,null,0,null,0,null,0,null,0,null,0,null,0,null,0,null,0,null,0,null,0,null,0,null,0,null,0,null,0,null,0,null,0,null,0]
[null,null,null,null,null,null,null,null,null,null,null,null,null,null,null,null,null,null,null,null,null,null,null,null,null,null,null,null,null,null,null,null,null,null,null,null,null,null,null,null,null,null,null,null,null,null,null,0,null,0,null,0,null,0,null,0,null,0,null,0,null,0,null,0,null,0,null,0,null,0,null,0,null,0,null,0,null,0,null,0]
[null,null,null,null,null,null,null,null,null,null,null,null,null,null,null,null,null,null,null,null,null,null,null,null,null,null,null,null,null,null,null,null,null,null,null,null,null,null,null,null,null,null,null,null,null,null,null,0,null,0,null,0,null,0,null,0,null,0,null,0,null,0,null,0,null,0,null,0,null,0,null,0,null,0,null,0,null,0,null,0]
[null,null,null,null,null,null,null,null,null,null,null,null,null,null,null,null,null,null,null,null,null,null,null,null,null,null,null,null,null,null,null,null,null,null,null,null,null,null,null,null,null,null,null,null,null,null,null,0,null,0,null,0,null,0,null,0,null,0,null,0,null,0,null,0,null,0,null,0,null,0,null,0,null,0,null,0,null,0,null,0]
[null,null,null,null,null,null,null,null,null,null,null,null,null,null,null,null,null,null,null,null,null,null,null,null,null,null,null,null,null,null,null,null,null,null,null,null,null,null,null,null,null,null,null,null,null,null,null,0,null,0,null,0,null,0,null,0,null,0,null,0,null,0,null,0,null,0,null,0,null,0,null,0,null,0,null,0,null,0,null,0]
[null,null,null,null,null,null,null,null,null,null,null,null,null,null,null,null,null,null,null,null,null,null,null,null,null,null,null,null,null,null,null,null,null,null,null,null,null,null,null,null,null,null,null,null,null,null,null,0,null,0,null,0,null,0,null,0,null,0,null,0,null,0,null,0,null,0,null,0,null,0,null,0,null,0,null,0,null,0,null,0]
[null,null,null,null,null,null,null,null,null,null,null,null,null,null,null,null,null,null,null,null,null,null,null,null,null,null,null,null,null,null,null,null,null,null,null,null,null,null,null,null,null,null,null,null,null,null,null,0,null,0,null,0,null,0,null,0,null,0,null,0,null,0,null,0,null,0,null,0,null,0,null,0,null,0,null,0,null,0,null,0]
[]
[]
[]
[]
[]
[]
[]
[]
[]
[]
[]
[]
[]
[]
[]
[]
[]
[]
[]
[]
[]
[]
[]
[]
[]
[]
[]
[]
[]
[]
[]
[]
[]
[]
[]
[]
[]
[]
[]
[]
[]
[]
[]
[]
[]
[]
[]
[]
[]
[]
[]
[]
[]
[]
[]
[]
[]
[]
[]
[]
[]
[null,null,null,null,5.98119981586933E-2,0.171959494706243,null,null,null,null,null,null,null,null,null,null,9.4999997876584502E-2,0.229999994859099,null,null,null,null,null,null,null,null,null,null,0.21930000791326201,0.28560001030564303]
[]
[]
[]
[]
[]
[]
[]
[]
[]
[]
[]
[]
[]
[]
[]
[]
[]
[]
[]
[]
[]
[]
[]
[]
[]
[]
[]
[]
[]
[]
[]
[]
[]
[]
[]
[]
[]
[]
[]
[]
[]
[]
[]
[]
[]
[]
[]
[]
[]
[]
[]
[]
[]
[]
[]
[]
[]
[]
[]
[]
[]
[]
[]
[]
[]
[]
[]
[]
[]
[]
[]
[]
[]
[]
[]
[]
[]
[]
[]
[]
[]
[]
[]
[]
[]
[]
[]
[]
[]
[]
[]
[]
[]
[]
[]
[]
[]
[]
[]
[]
[]
[]
[]
[]
[]
[]
[]
[]
[]
[]
[null,null,null,"TOTAL",{"$f":"SUM(E166:E313)","v":5.98119981586933E-2},{"$f":"SUM(F166:F313)","v":0.171959494706243},{"$f":"E329","v":5.98119981586933E-2},{"$f":"F329","v":0.171959494706243},{"$f":"E329","v":5.98119981586933E-2},{"$f":"F329","v":0.171959494706243},{"$f":"E329","v":5.98119981586933E-2},{"$f":"F329","v":0.171959494706243},{"$f":"E329","v":5.98119981586933E-2},{"$f":"F329","v":0.171959494706243},{"$f":"E329","v":5.98119981586933E-2},{"$f":"F329","v":0.171959494706243},{"$f":"SUM(Q166:Q313)","v":9.4999997876584502E-2},{"$f":"SUM(R166:R313)","v":0.229999994859099},{"$f":"Q329","v":9.4999997876584502E-2},{"$f":"R329","v":0.229999994859099},{"$f":"Q329","v":9.4999997876584502E-2},{"$f":"R329","v":0.229999994859099},{"$f":"Q329","v":9.4999997876584502E-2},{"$f":"R329","v":0.229999994859099},{"$f":"Q329","v":9.4999997876584502E-2},{"$f":"R329","v":0.229999994859099},{"$f":"Q329","v":9.4999997876584502E-2},{"$f":"R329","v":0.229999994859099},{"$f":"SUM(AC166:AC313)","v":0.21930000791326201},{"$f":"SUM(AD166:AD313)","v":0.28560001030564303},{"$f":"AC329","v":0.21930000791326201},{"$f":"AD329","v":0.28560001030564303},{"$f":"AC329","v":0.21930000791326201},{"$f":"AD329","v":0.28560001030564303},{"$f":"AC329","v":0.21930000791326201},{"$f":"AD329","v":0.28560001030564303},{"$f":"AC329","v":0.21930000791326201},{"$f":"AD329","v":0.28560001030564303},{"$f":"AC329","v":0.21930000791326201},{"$f":"AD329","v":0.28560001030564303},null,null,null,null,{"$f":"SUM(E163:O163)","v":0},null,null,{"$f":"G329+H329","v":0.23177149286493631},null,{"$f":"I329+J329","v":0.23177149286493631},null,{"$f":"K329+L329","v":0.23177149286493631},null,{"$f":"M329+N329","v":0.23177149286493631},null,{"$f":"O329+P329","v":0.23177149286493631},null,{"$f":"Q329+R329","v":0.32499999273568347},null,{"$f":"S329+T329","v":0.32499999273568347},null,{"$f":"U329+V329","v":0.32499999273568347},null,{"$f":"W329+X329","v":0.32499999273568347},null,{"$f":"Y329+Z329","v":0.32499999273568347},null,{"$f":"AA329+AB329","v":0.32499999273568347},null,{"$f":"AC329+AD329","v":0.50490001821890507},null,{"$f":"AE329+AF329","v":0.50490001821890507},null,{"$f":"AG329+AH329","v":0.50490001821890507},null,{"$f":"AI329+AJ329","v":0.50490001821890507},null,{"$f":"AK329+AL329","v":0.50490001821890507},null,{"$f":"AM329+AN329","v":0.50490001821890507}]
[]
[null,null,{"$f":"C5","v":0},"None Selected",null,null,{"$f":"IF(G$329>0,(G5+E5)/G$329,0)","v":0},{"$f":"IF(H$329>0,(H5+F5)/H$329,0)","v":0},{"$f":"IF(I$329>0,I5/I$329,0)","v":0},0,0,0,0,0,0,0,null,null,{"$f":"IF(S$329>0,(S5+Q5)/S$329,0)","v":0},{"$f":"IF(T$329>0,(T5+R5)/T$329,0)","v":0},{"$f":"IF(U$329>0,U5/U$329,0)","v":0},0,0,0,0,0,0,0,null,null,{"$f":"IF(AE$329>0,(AE5+AC5)/AE$329,0)","v":0},{"$f":"IF(AF$329>0,(AF5+AD5)/AF$329,0)","v":0},{"$f":"IF(AG$329>0,AG5/AG$329,0)","v":0},0,0,0,0,0,0,0,null,null,null,null,null,{"$f":"C165","v":0},0,{"$f":"IF(AV$329>0,(AV5+AT5)/AV$329,0)","v":0},null,{"$f":"IF(AX$329>0,(AX5)/AX$329,0)","v":0},null,{"$f":"IF(AZ$329>0,(AZ5)/AZ$329,0)","v":0},null,{"$f":"IF(BB$329>0,(BB5)/BB$329,0)","v":0},null,{"$f":"IF(BD$329>0,(BD5)/BD$329,0)","v":0},null,null,null,{"$f":"IF(BH$329>0,(BH5+BF5)/BH$329,0)","v":0},null,{"$f":"IF(BJ$329>0,(BJ5)/BJ$329,0)","v":0},null,{"$f":"IF(BL$329>0,(BL5)/BL$329,0)","v":0},null,{"$f":"IF(BN$329>0,(BN5)/BN$329,0)","v":0},null,{"$f":"IF(BP$329>0,(BP5)/BP$329,0)","v":0},null,null,null,{"$f":"IF(BT$329>0,(BT5+BR5)/BT$329,0)","v":0},null,{"$f":"IF(BV$329>0,(BV5)/BV$329,0)","v":0},null,{"$f":"IF(BX$329>0,(BX5)/BX$329,0)","v":0},null,{"$f":"IF(BZ$329>0,(BZ5)/BZ$329,0)","v":0},null,{"$f":"IF(CB$329>0,(CB5)/CB$329,0)","v":0}]
[null,null,102,"Benin",null,null,{"$f":"IF(G$329>0,(G6+E6)/G$329,0)","v":0},{"$f":"IF(H$329>0,(H6+F6)/H$329,0)","v":0},0,0,0,0,0,0,0,0,null,null,{"$f":"IF(S$329>0,(S6+Q6)/S$329,0)","v":0},{"$f":"IF(T$329>0,(T6+R6)/T$329,0)","v":0},0,0,0,0,0,0,0,0,null,null,{"$f":"IF(AE$329>0,(AE6+AC6)/AE$329,0)","v":0},{"$f":"IF(AF$329>0,(AF6+AD6)/AF$329,0)","v":0},0,0,0,0,0,0,0,0,null,null,null,null,null,0,0,0,null,{"$f":"IF(AX$329>0,(AX6)/AX$329,0)","v":0},null,0,null,0,null,0,null,null,null,{"$f":"IF(BH$329>0,(BH6+BF6)/BH$329,0)","v":0},null,0,null,0,null,0,null,0,null,null,null,{"$f":"IF(BT$329>0,(BT6+BR6)/BT$329,0)","v":0},null,0,null,0,null,0,null,0]
[null,null,103,"Botswana",null,null,0,0,0,0,0,0,0,0,0,0,null,null,0,0,0,0,0,0,0,0,0,0,null,null,0,0,0,0,0,0,0,0,0,0,null,null,null,null,null,0,0,0,null,0,null,0,null,0,null,0,null,null,null,0,null,0,null,0,null,0,null,0,null,null,null,0,null,0,null,0,null,0,null,0]
[null,null,104,"Burkina Faso",null,null,0,0,0,0,0,0,0,0,0,0,null,null,0,0,0,0,0,0,0,0,0,0,null,null,0,0,0,0,0,0,0,0,0,0,null,null,null,null,null,0,0,0,null,0,null,0,null,0,null,0,null,null,null,0,null,0,null,0,null,0,null,0,null,null,null,0,null,0,null,0,null,0,null,0]
[null,null,105,"Burundi",null,null,0,0,0,0,0,0,0,0,0,0,null,null,0,0,0,0,0,0,0,0,0,0,null,null,0,0,0,0,0,0,0,0,0,0,null,null,null,null,null,0,0,0,null,0,null,0,null,0,null,0,null,null,null,0,null,0,null,0,null,0,null,0,null,null,null,0,null,0,null,0,null,0,null,0]
[null,null,106,"Cameroon",null,null,0,0,0,0,0,0,0,0,0,0,null,null,0,0,0,0,0,0,0,0,0,0,null,null,0,0,0,0,0,0,0,0,0,0,null,null,null,null,null,0,0,0,null,0,null,0,null,0,null,0,null,null,null,0,null,0,null,0,null,0,null,0,null,null,null,0,null,0,null,0,null,0,null,0]
[null,null,108,"Congo, Rep (Brazzaville)",null,null,0,0,0,0,0,0,0,0,0,0,null,null,0,0,0,0,0,0,0,0,0,0,null,null,0,0,0,0,0,0,0,0,0,0,null,null,null,null,null,0,0,0,null,0,null,0,null,{"$f":"IF(BB$329>0,(BB11)/BB$329,0)","v":0},null,{"$f":"IF(BD$329>0,(BD11)/BD$329,0)","v":0},null,null,null,0,null,{"$f":"IF(BJ$329>0,(BJ11)/BJ$329,0)","v":0},null,{"$f":"IF(BL$329>0,(BL11)/BL$329,0)","v":0},null,{"$f":"IF(BN$329>0,(BN11)/BN$329,0)","v":0},null,{"$f":"IF(BP$329>0,(BP11)/BP$329,0)","v":0},null,null,null,0,null,{"$f":"IF(BV$329>0,(BV11)/BV$329,0)","v":0},null,{"$f":"IF(BX$329>0,(BX11)/BX$329,0)","v":0},null,{"$f":"IF(BZ$329>0,(BZ11)/BZ$329,0)","v":0},null,{"$f":"IF(CB$329>0,(CB11)/CB$329,0)","v":0}]
[null,null,110,"Congo, Dem Rep",null,null,0,0,0,0,0,0,0,0,0,0,null,null,0,0,0,0,0,0,0,0,0,0,null,null,0,0,0,0,0,0,0,0,0,0,null,null,null,null,null,{"$f":"C172","v":0},{"$f":"D172","v":0},{"$f":"IF(AV$329>0,(AV12+AT12)/AV$329,0)","v":0},null,{"$f":"IF(AX$329>0,(AX12)/AX$329,0)","v":0},null,{"$f":"IF(AZ$329>0,(AZ12)/AZ$329,0)","v":0},null,0,null,0,null,null,null,{"$f":"IF(BH$329>0,(BH12+BF12)/BH$329,0)","v":0},null,0,null,0,null,0,null,0,null,null,null,{"$f":"IF(BT$329>0,(BT12+BR12)/BT$329,0)","v":0},null,0,null,0,null,0,null,0]
[null,null,111,"Ethiopia",null,null,0,0,0,0,0,0,0,0,0,0,null,null,0,0,0,0,0,0,0,0,0,0,null,null,0,0,0,0,0,0,0,0,0,0,null,null,null,null,null,0,0,0,null,0,null,0,null,0,null,0,null,null,null,0,null,0,null,0,null,0,null,0,null,null,null,0,null,0,null,0,null,0,null,0]
[null,null,113,"Ghana",null,null,0,0,0,0,0,0,0,0,0,0,null,null,0,0,0,0,0,0,0,0,0,0,null,null,0,0,0,0,0,0,0,0,0,0,null,null,null,null,null,0,0,0,null,0,null,0,null,0,null,0,null,null,null,0,null,0,null,0,null,0,null,0,null,null,null,0,null,0,null,0,null,0,null,0]
[null,null,115,"Guinée Conakry",null,null,0,0,{"$f":"IF(I$329>0,I15/I$329,0)","v":0},0,0,0,0,0,0,0,null,null,0,0,{"$f":"IF(U$329>0,U15/U$329,0)","v":0},0,0,0,0,0,0,0,null,null,0,0,{"$f":"IF(AG$329>0,AG15/AG$329,0)","v":0},0,0,0,0,0,0,0,null,null,null,null,null,0,0,0,null,0,null,0,null,0,null,0,null,null,null,0,null,0,null,0,null,0,null,0,null,null,null,0,null,0,null,0,null,0,null,0]
[null,null,116,"Kenya",null,null,0,0,0,0,0,0,0,0,0,0,null,null,0,0,0,0,0,0,0,0,0,0,null,null,0,0,0,0,0,0,0,0,0,0,null,null,null,null,null,0,0,0,null,0,null,0,null,0,null,0,null,null,null,0,null,0,null,0,null,0,null,0,null,null,null,0,null,0,null,0,null,0,null,0]
[null,null,117,"Lesotho",null,null,0,0,0,0,0,0,0,0,0,0,null,null,0,0,0,0,0,0,0,0,0,0,null,null,0,0,0,0,0,0,0,0,0,0,null,null,null,null,null,0,0,0,null,0,null,0,null,0,null,0,null,null,null,0,null,0,null,0,null,0,null,0,null,null,null,0,null,0,null,0,null,0,null,0]
[null,null,118,"Liberia",null,null,0,0,0,0,0,0,0,0,0,0,null,null,0,0,0,0,0,0,0,0,0,0,null,null,0,0,0,0,0,0,0,0,0,0,null,null,null,null,null,0,0,0,null,0,null,0,null,0,null,0,null,null,null,0,null,0,null,0,null,0,null,0,null,null,null,0,null,0,null,0,null,0,null,0]
[null,null,119,"Madagascar",null,null,0,0,0,0,0,0,0,0,0,0,null,null,0,0,0,0,0,0,0,0,0,0,null,null,0,0,0,0,0,0,0,0,0,0,null,null,null,null,null,0,0,0,null,0,null,0,null,0,null,0,null,null,null,0,null,0,null,0,null,0,null,0,null,null,null,0,null,0,null,0,null,0,null,0]
[null,null,122,"Mauritius",null,null,0,0,0,0,0,0,0,0,0,0,null,null,0,0,0,0,0,0,0,0,0,0,null,null,0,0,0,0,0,0,0,0,0,0,null,null,null,null,null,0,0,0,null,0,null,0,null,0,null,0,null,null,null,0,null,0,null,0,null,0,null,0,null,null,null,0,null,0,null,0,null,0,null,0]
[null,null,124,"Namibia",null,null,0,0,0,0,0,0,0,0,0,0,null,null,0,0,0,0,0,0,0,0,0,0,null,null,0,0,0,0,0,0,0,0,0,0,null,null,null,null,null,0,0,0,null,0,null,0,null,0,null,0,null,null,null,0,null,0,null,0,null,0,null,0,null,null,null,0,null,0,null,0,null,0,null,0]
[null,null,125,"Niger",null,null,0,0,0,0,0,0,0,0,0,0,null,null,0,0,0,0,0,0,0,0,0,0,null,null,0,0,0,0,0,0,0,0,0,0,null,null,null,null,null,0,0,0,null,0,null,0,null,0,null,0,null,null,null,0,null,0,null,0,null,0,null,0,null,null,null,0,null,0,null,0,null,0,null,0]
[null,null,126,"Nigeria",null,null,0,0,0,0,0,0,0,0,0,0,null,null,0,0,0,0,0,0,0,0,0,0,null,null,0,0,0,0,0,0,0,0,0,0,null,null,null,null,null,0,0,0,null,0,null,0,null,0,null,0,null,null,null,0,null,0,null,0,null,0,null,0,null,null,null,0,null,0,null,0,null,0,null,0]
[null,null,127,"Senegal",null,null,0,0,0,0,0,0,0,0,0,0,null,null,0,0,0,0,0,0,0,0,0,0,null,null,0,0,0,0,0,0,0,0,0,0,null,null,null,null,null,0,0,0,null,0,null,0,null,0,null,0,null,null,null,0,null,0,null,0,null,0,null,0,null,null,null,0,null,0,null,0,null,0,null,0]
[null,null,{"$f":"C25","v":130},"South Africa",null,null,0,0,{"$f":"IF(I$329>0,I25/I$329,0)","v":0},0,0,0,0,0,0,0,null,null,0,0,{"$f":"IF(U$329>0,U25/U$329,0)","v":0},0,0,0,0,0,0,0,null,null,0,0,{"$f":"IF(AG$329>0,AG25/AG$329,0)","v":0},0,0,0,0,0,0,0,null,null,null,null,null,0,0,0,null,0,null,0,null,0,null,0,null,null,null,0,null,0,null,0,null,0,null,0,null,null,null,0,null,0,null,0,null,0,null,0]
[null,null,131,"Sudan (south)",null,null,0,0,0,0,0,0,0,0,0,0,null,null,0,0,0,0,0,0,0,0,0,0,null,null,0,0,0,0,0,0,0,0,0,0,null,null,null,null,null,0,0,0,null,0,null,0,null,0,null,0,null,null,null,0,null,0,null,0,null,0,null,0,null,null,null,0,null,0,null,0,null,0,null,0]
[null,null,133,"Tanzania",null,null,0,0,0,0,0,0,0,0,0,0,null,null,0,0,0,0,0,0,0,0,0,0,null,null,0,0,0,0,0,0,0,0,0,0,null,null,null,null,null,0,0,0,null,0,null,0,null,0,null,0,null,null,null,0,null,0,null,0,null,0,null,0,null,null,null,0,null,0,null,0,null,0,null,0]
[null,null,134,"Togo",null,null,0,0,0,0,0,0,0,0,0,0,null,null,0,0,0,0,0,0,0,0,0,0,null,null,0,0,0,0,0,0,0,0,0,0,null,null,null,null,null,0,0,0,null,0,null,0,null,0,null,0,null,null,null,0,null,0,null,0,null,0,null,0,null,null,null,0,null,0,null,0,null,0,null,0]
[null,null,135,"Uganda",null,null,0,0,0,0,0,0,0,0,0,0,null,null,0,0,0,0,0,0,0,0,0,0,null,null,0,0,0,0,0,0,0,0,0,0,null,null,null,null,null,0,0,0,null,0,null,0,null,0,null,0,null,null,null,0,null,0,null,0,null,0,null,0,null,null,null,0,null,0,null,0,null,0,null,0]
[null,null,136,"Zambia",null,null,0,0,0,0,0,0,0,0,0,0,null,null,0,0,0,0,0,0,0,0,0,0,null,null,0,0,0,0,0,0,0,0,0,0,null,null,null,null,null,0,0,0,null,0,null,0,null,0,null,0,null,null,null,0,null,0,null,0,null,0,null,0,null,null,null,0,null,0,null,0,null,0,null,0]
[null,null,137,"Zimbabwe",null,null,0,0,0,0,0,0,0,0,0,0,null,null,0,0,0,0,0,0,0,0,0,0,null,null,0,0,0,0,0,0,0,0,0,0,null,null,null,null,null,0,0,0,null,0,null,0,null,0,null,0,null,null,null,0,null,0,null,0,null,0,null,0,null,null,null,0,null,0,null,0,null,0,null,0]
[null,null,138,"Mauritania",null,null,0,0,0,0,0,0,0,0,0,0,null,null,0,0,0,0,0,0,0,0,0,0,null,null,0,0,0,0,0,0,0,0,0,0,null,null,null,null,null,0,0,0,null,0,null,0,null,0,null,0,null,null,null,0,null,0,null,0,null,0,null,0,null,null,null,0,null,0,null,0,null,0,null,0]
[null,null,202,"Bangladesh",null,null,0,0,0,0,0,0,0,0,0,0,null,null,0,0,0,0,0,0,0,0,0,0,null,null,0,0,0,0,0,0,0,0,0,0,null,null,null,null,null,0,0,0,null,0,null,0,null,0,null,0,null,null,null,0,null,0,null,0,null,0,null,0,null,null,null,0,null,0,null,0,null,0,null,0]
[null,null,204,"China",null,null,0,0,0,0,0,0,0,0,0,0,null,null,0,0,0,0,0,0,0,0,0,0,null,null,0,0,0,0,0,0,0,0,0,0,null,null,null,null,null,0,0,0,null,0,null,0,null,0,null,0,null,null,null,0,null,0,null,0,null,0,null,0,null,null,null,0,null,0,null,0,null,0,null,0]
[null,null,206,"India",null,null,0,0,{"$f":"IF(I$329>0,I35/I$329,0)","v":0},0,0,0,0,0,0,0,null,null,0,0,{"$f":"IF(U$329>0,U35/U$329,0)","v":0},0,0,0,0,0,0,0,null,null,0,0,{"$f":"IF(AG$329>0,AG35/AG$329,0)","v":0},0,0,0,0,0,0,0,null,null,null,null,null,0,0,0,null,0,null,0,null,0,null,0,null,null,null,0,null,0,null,0,null,0,null,0,null,null,null,0,null,0,null,0,null,0,null,0]
[null,null,208,"Japan",null,null,0,0,0,0,0,0,0,0,0,0,null,null,0,0,0,0,0,0,0,0,0,0,null,null,0,0,0,0,0,0,0,0,0,0,null,null,null,null,null,0,0,0,null,0,null,0,null,0,null,0,null,null,null,0,null,0,null,0,null,0,null,0,null,null,null,0,null,0,null,0,null,0,null,0]
[null,null,209,"Kyrgyzstan",null,null,0,0,0,0,0,0,0,0,0,0,null,null,0,0,0,0,0,0,0,0,0,0,null,null,0,0,0,0,0,0,0,0,0,0,null,null,null,null,null,0,0,0,null,0,null,0,null,0,null,0,null,null,null,0,null,0,null,0,null,0,null,0,null,null,null,0,null,0,null,0,null,0,null,0]
[null,null,211,"Malaysia",null,null,0,0,0,0,0,0,0,0,0,0,null,null,0,0,0,0,0,0,0,0,0,0,null,null,0,0,0,0,0,0,0,0,0,0,null,null,null,null,null,0,0,0,null,0,null,0,null,0,null,0,null,null,null,0,null,0,null,0,null,0,null,0,null,null,null,0,null,0,null,0,null,0,null,0]
[null,null,213,"Nepal",null,null,0,0,0,0,0,0,0,0,0,0,null,null,0,0,0,0,0,0,0,0,0,0,null,null,0,0,0,0,0,0,0,0,0,0,null,null,null,null,null,0,0,0,null,0,null,0,null,0,null,0,null,null,null,0,null,0,null,0,null,0,null,0,null,null,null,0,null,0,null,0,null,0,null,0]
[null,null,214,"Pakistan",null,null,0,0,0,0,0,0,0,0,0,0,null,null,0,0,0,0,0,0,0,0,0,0,null,null,0,0,0,0,0,0,0,0,0,0,null,null,null,null,null,0,0,0,null,0,null,0,null,0,null,0,null,null,null,0,null,0,null,0,null,0,null,0,null,null,null,0,null,0,null,0,null,0,null,0]
[null,null,216,"South Korea",null,null,0,0,0,0,0,0,0,0,0,0,null,null,0,0,0,0,0,0,0,0,0,0,null,null,0,0,0,0,0,0,0,0,0,0,null,null,null,null,null,0,0,0,null,0,null,0,null,0,null,0,null,null,null,0,null,0,null,0,null,0,null,0,null,null,null,0,null,0,null,0,null,0,null,0]
[null,null,217,"Thailand",null,null,0,0,0,0,0,0,0,0,0,0,null,null,0,0,0,0,0,0,0,0,0,0,null,null,0,0,0,0,0,0,0,0,0,0,null,null,null,null,null,0,0,0,null,0,null,0,null,0,null,0,null,null,null,0,null,0,null,0,null,0,null,0,null,null,null,0,null,0,null,0,null,0,null,0]
[null,null,218,"Philippines",null,null,0,0,0,0,0,0,0,0,0,0,null,null,0,0,0,0,0,0,0,0,0,0,null,null,0,0,0,0,0,0,0,0,0,0,null,null,null,null,null,0,0,0,null,0,null,0,null,0,null,0,null,null,null,0,null,0,null,0,null,0,null,0,null,null,null,0,null,0,null,0,null,0,null,0]
[null,null,219,"Vietnam",null,null,0,0,0,0,0,0,0,0,0,0,null,null,0,0,0,0,0,0,0,0,0,0,null,null,0,0,0,0,0,0,0,0,0,0,null,null,null,null,null,0,0,0,null,{"$f":"IF(AX$329>0,(AX44)/AX$329,0)","v":0},null,{"$f":"IF(AZ$329>0,(AZ44)/AZ$329,0)","v":0},null,0,null,0,null,null,null,0,null,0,null,0,null,0,null,0,null,null,null,0,null,0,null,0,null,0,null,0]
[null,null,{"$f":"C45","v":220},"Taiwan",null,null,0,0,{"$f":"IF(I$329>0,I45/I$329,0)","v":0},0,0,0,0,0,0,0,null,null,0,0,{"$f":"IF(U$329>0,U45/U$329,0)","v":0},0,0,0,0,0,0,0,null,null,0,0,{"$f":"IF(AG$329>0,AG45/AG$329,0)","v":0},0,0,0,0,0,0,0,null,null,null,null,null,0,0,0,null,0,null,0,null,0,null,0,null,null,null,0,null,0,null,0,null,0,null,0,null,null,null,0,null,0,null,0,null,0,null,0]
[null,null,302,"Belize",null,null,0,0,0,0,0,0,0,0,0,0,null,null,0,0,0,0,0,0,0,0,0,0,null,null,0,0,0,0,0,0,0,0,0,0,null,null,null,null,null,0,0,0,null,0,null,0,null,0,null,0,null,null,null,0,null,0,null,0,null,0,null,0,null,null,null,0,null,0,null,0,null,0,null,0]
[null,null,304,"Dominican Republic",null,null,0,0,0,0,0,0,0,0,0,0,null,null,0,0,0,0,0,0,0,0,0,0,null,null,0,0,0,0,0,0,0,0,0,0,null,null,null,null,null,0,0,0,null,0,null,0,null,0,null,0,null,null,null,0,null,0,null,0,null,0,null,0,null,null,null,0,null,0,null,0,null,0,null,0]
[null,null,305,"Grenada",null,null,0,0,0,0,0,0,0,0,0,0,null,null,0,0,0,0,0,0,0,0,0,0,null,null,0,0,0,0,0,0,0,0,0,0,null,null,null,null,null,0,0,0,null,0,null,0,null,0,null,0,null,null,null,0,null,0,null,0,null,0,null,0,null,null,null,0,null,0,null,0,null,0,null,0]
[null,null,306,"Guyana",null,null,0,0,0,0,0,0,0,0,0,0,null,null,0,0,0,0,0,0,0,0,0,0,null,null,0,0,0,0,0,0,0,0,0,0,null,null,null,null,null,0,0,0,null,0,null,0,null,0,null,0,null,null,null,0,null,0,null,0,null,0,null,0,null,null,null,0,null,0,null,0,null,0,null,0]
[null,null,307,"Haiti",null,null,0,0,0,0,0,0,0,0,0,0,null,null,0,0,0,0,0,0,0,0,0,0,null,null,0,0,0,0,0,0,0,0,0,0,null,null,null,null,null,0,0,0,null,0,null,0,null,0,null,0,null,null,null,0,null,0,null,0,null,0,null,0,null,null,null,0,null,0,null,0,null,0,null,0]
[null,null,308,"Jamaica",null,null,0,0,0,0,0,0,0,0,0,0,null,null,0,0,0,0,0,0,0,0,0,0,null,null,0,0,0,0,0,0,0,0,0,0,null,null,null,null,null,0,0,0,null,0,null,0,null,0,null,0,null,null,null,0,null,0,null,0,null,0,null,0,null,null,null,0,null,0,null,0,null,0,null,0]
[null,null,309,"Puerto Rico",null,null,0,0,0,0,0,0,0,0,0,0,null,null,0,0,0,0,0,0,0,0,0,0,null,null,0,0,0,0,0,0,0,0,0,0,null,null,null,null,null,0,0,0,null,0,null,0,null,0,null,0,null,null,null,0,null,0,null,0,null,0,null,0,null,null,null,0,null,0,null,0,null,0,null,0]
[null,null,310,"St Lucia",null,null,0,0,0,0,0,0,0,0,0,0,null,null,0,0,0,0,0,0,0,0,0,0,null,null,0,0,0,0,0,0,0,0,0,0,null,null,null,null,null,0,0,0,null,0,null,0,null,0,null,0,null,null,null,0,null,0,null,0,null,0,null,0,null,null,null,0,null,0,null,0,null,0,null,0]
[null,null,311,"St. Vincent and The Grenadines",null,null,0,0,0,0,0,0,0,0,0,0,null,null,0,0,0,0,0,0,0,0,0,0,null,null,0,0,0,0,0,0,0,0,0,0,null,null,null,null,null,0,0,0,null,0,null,0,null,0,null,0,null,null,null,0,null,0,null,0,null,0,null,0,null,null,null,0,null,0,null,0,null,0,null,0]
[null,null,312,"Suriname",null,null,0,0,{"$f":"IF(I$329>0,I55/I$329,0)","v":0},0,0,0,0,0,0,0,null,null,0,0,{"$f":"IF(U$329>0,U55/U$329,0)","v":0},0,0,0,0,0,0,0,null,null,0,0,{"$f":"IF(AG$329>0,AG55/AG$329,0)","v":0},0,0,0,0,0,0,0,null,null,null,null,null,0,0,0,null,0,null,0,null,0,null,0,null,null,null,0,null,0,null,0,null,0,null,0,null,null,null,0,null,0,null,0,null,0,null,0]
[null,null,313,"Trinidad & Tobago",null,null,0,0,0,0,0,0,0,0,0,0,null,null,0,0,0,0,0,0,0,0,0,0,null,null,0,0,0,0,0,0,0,0,0,0,null,null,null,null,null,0,0,0,null,0,null,0,null,0,null,0,null,null,null,0,null,0,null,0,null,0,null,0,null,null,null,0,null,0,null,0,null,0,null,0]
[null,null,401,"Austria",null,null,0,0,0,0,0,0,0,0,0,0,null,null,0,0,0,0,0,0,0,0,0,0,null,null,0,0,0,0,0,0,0,0,0,0,null,null,null,null,null,0,0,0,null,0,null,0,null,0,null,0,null,null,null,0,null,0,null,0,null,0,null,0,null,null,null,0,null,0,null,0,null,0,null,0]
[null,null,402,"Belgium",null,null,0,0,0.24999999999999958,0,0,0,0,0,0,8.6956521739130418E-2,null,null,0,0,0,0,0,0,0,0,0,0,null,null,2.325581395348833E-2,1.7857142857142856E-2,0,0,2.325581395348833E-2,1.7857142857142856E-2,0,0,4.6511627906976757E-2,3.5714285714285789E-2,null,null,null,null,null,0,0,0,null,6.4516129032258021E-2,null,0,null,0,null,6.4516129032258021E-2,null,null,null,0,null,0,null,0,null,0,null,0,null,null,null,2.0202020202020186E-2,null,0,null,2.0202020202020186E-2,null,0,null,4.0404040404040456E-2]
[null,null,403,"Belarus",null,null,0,0,0,0,0,0,0,0,0,0,null,null,0,0,0,0,0,0,0,0,0,0,null,null,0,0,0,0,0,0,0,0,0,0,null,null,null,null,null,0,0,0,null,0,null,0,null,0,null,0,null,null,null,0,null,0,null,0,null,0,null,0,null,null,null,0,null,0,null,0,null,0,null,0]
[null,null,404,"Bosnia & Herzegovina",null,null,0,0,0,0,0,0,0,0,0,0,null,null,0,0,0,0,0,0,0,0,0,0,null,null,0,0,0,0,0,0,0,0,0,0,null,null,null,null,null,0,0,0,null,0,null,0,null,0,null,0,null,null,null,0,null,0,null,0,null,0,null,0,null,null,null,0,null,0,null,0,null,0,null,0]
[null,null,405,"Bulgaria",null,null,0,0,0,0,0,0,0,0,0,0,null,null,0,0,0,0,0,0,0,0,0,0,null,null,0,0,0,0,0,0,0,0,0,0,null,null,null,null,null,0,0,0,null,0,null,0,null,0,null,0,null,null,null,0,null,0,null,0,null,0,null,0,null,null,null,0,null,0,null,0,null,0,null,0]
[null,null,406,"Croatia",null,null,0,0,0,0,0,0,0,0,0,0,null,null,0,0,0,0,0,0,0,0,0,0,null,null,0,0,0,0,0,0,0,0,0,0,null,null,null,null,null,0,0,0,null,0,null,0,null,0,null,0,null,null,null,0,null,0,null,0,null,0,null,0,null,null,null,0,null,0,null,0,null,0,null,0]
[null,null,407,"Cyprus",null,null,0,0,0,0,0,0,0,0,0,0,null,null,0,0,0,0,0,0,0,0,0,0,null,null,0,0,0,0,0,0,0,0,0,0,null,null,null,null,null,0,0,0,null,0,null,0,null,0,null,0,null,null,null,0,null,0,null,0,null,0,null,0,null,null,null,0,null,0,null,0,null,0,null,0]
[null,null,408,"Czech Republic",null,null,0,0,0,0,0,0,0,0,0,0,null,null,0,0,0,0,0,0,0,0,0,0,null,null,0,0,0,0,0,0,0,0,0,0,null,null,null,null,null,0,0,0,null,0,null,0,null,0,null,0,null,null,null,0,null,0,null,0,null,0,null,0,null,null,null,0,null,0,null,0,null,0,null,0]
[null,null,{"$f":"C65","v":409},"Denmark",null,null,0,0,{"$f":"IF(I$329>0,I65/I$329,0)","v":0},0,0,0,0,0,0,0,null,null,0,0,{"$f":"IF(U$329>0,U65/U$329,0)","v":0},0,0,0,0,0,0,0,null,null,0,0,{"$f":"IF(AG$329>0,AG65/AG$329,0)","v":0},0,0,0,0,0,0,0,null,null,null,null,null,0,0,0,null,0,null,0,null,0,null,0,null,null,null,0,null,0,null,0,null,0,null,0,null,null,null,0,null,0,null,0,null,0,null,0]
[null,null,410,"Estonia",null,null,0,0,0,0,0,0,0,0,0,0,null,null,0,0,0,0,0,0,0,0,0,0,null,null,0,0,0,0,0,0,0,0,0,0,null,null,null,null,null,0,0,0,null,0,null,0,null,0,null,0,null,null,null,0,null,0,null,0,null,0,null,0,null,null,null,0,null,0,null,0,null,0,null,0]
[null,null,411,"Finland",null,null,0,0,0,0,0,0,0,0,0,0,null,null,0,0,0,0,0,0,0,0,0,0,null,null,0,0,0,0,0,0,0,0,0,0,null,null,null,null,null,0,0,0,null,0,null,0,null,0,null,0,null,null,null,0,null,0,null,0,null,0,null,0,null,null,null,0,null,0,null,0,null,0,null,0]
[null,null,412,"France",null,null,0,0,0,0,0,0,0,0,0,0,null,null,0,0,0,0,0,0,0,0,0,0,null,null,0,0,0,0,0,0,0,0,0,0,null,null,null,null,null,0,0,0,null,0,null,0,null,0,null,0,null,null,null,0,null,0,null,0,null,0,null,0,null,null,null,0,null,0,null,0,null,0,null,0]
[null,null,414,"Germany",null,null,0,0,0,0,0,0,0,0,0,0,null,null,0,0,0,0,0,0,0,0,0,0,null,null,0,0,0,0,0,0,0,0,0,0,null,null,null,null,null,0,0,0,null,0,null,0,null,0,null,0,null,null,null,0,null,0,null,0,null,0,null,0,null,null,null,0,null,0,null,0,null,0,null,0]
[null,null,415,"Greece",null,null,{"$f":"IF(G$329>0,(G70+E70)/G$329,0)","v":0},{"$f":"IF(H$329>0,(H70+F70)/H$329,0)","v":0},0,0,0,0,0,0,0,0,null,null,{"$f":"IF(S$329>0,(S70+Q70)/S$329,0)","v":0},{"$f":"IF(T$329>0,(T70+R70)/T$329,0)","v":0},0,0,0,0,0,0,0,0,null,null,{"$f":"IF(AE$329>0,(AE70+AC70)/AE$329,0)","v":0},{"$f":"IF(AF$329>0,(AF70+AD70)/AF$329,0)","v":0},0,0,0,0,0,0,0,0,null,null,null,null,null,0,0,0,null,0,null,0,null,0,null,0,null,null,null,0,null,0,null,0,null,0,null,0,null,null,null,0,null,0,null,0,null,0,null,0]
[null,null,416,"Hungary",null,null,0,0,0,0,0,0,0,0,0,0,null,null,0,0,0,0,0,0,0,0,0,0,null,null,0,0,0,0,0,0,0,0,0,0,null,null,null,null,null,0,0,0,null,0,null,0,null,0,null,0,null,null,null,0,null,0,null,0,null,0,null,0,null,null,null,0,null,0,null,0,null,0,null,0]
[null,null,417,"Italy",null,null,0,0,0,0,0,0,0,0,0,0,null,null,0,0,0,0,0,0,0,0,0,0,null,null,0,0,0,0,0,0,0,0,0,0,null,null,null,null,null,0,0,0,null,0,null,0,null,0,null,0,null,null,null,0,null,0,null,0,null,0,null,0,null,null,null,0,null,0,null,0,null,0,null,0]
[null,null,418,"Malta",null,null,0,0,0,0,0,0,0,0,0,0,null,null,0,0,0,0,0,0,0,0,0,0,null,null,0,0,0,0,0,0,0,0,0,0,null,null,null,null,null,0,0,0,null,0,null,0,null,0,null,0,null,null,null,0,null,0,null,0,null,0,null,0,null,null,null,0,null,0,null,0,null,0,null,0]
[null,null,420,"Montenegro",null,null,0,0,0,0,0,0,0,0,0,0,null,null,0,0,0,0,0,0,0,0,0,0,null,null,0,0,0,0,0,0,0,0,0,0,null,null,null,null,null,0,0,0,null,0,null,0,null,0,null,0,null,null,null,0,null,0,null,0,null,0,null,0,null,null,null,0,null,0,null,0,null,0,null,0]
[null,null,421,"Netherlands",null,null,0,0,{"$f":"IF(I$329>0,I75/I$329,0)","v":0},0,0,0,0,0,0,0,null,null,0,0,{"$f":"IF(U$329>0,U75/U$329,0)","v":0},0,0,0,0,0,0,0,null,null,0,0,{"$f":"IF(AG$329>0,AG75/AG$329,0)","v":0},0,0,0,0,0,0,0,null,null,null,null,null,0,0,0,null,0,null,0,null,{"$f":"IF(BB$329>0,(BB75)/BB$329,0)","v":0},null,{"$f":"IF(BD$329>0,(BD75)/BD$329,0)","v":0},null,null,null,0,null,{"$f":"IF(BJ$329>0,(BJ75)/BJ$329,0)","v":0},null,{"$f":"IF(BL$329>0,(BL75)/BL$329,0)","v":0},null,{"$f":"IF(BN$329>0,(BN75)/BN$329,0)","v":0},null,{"$f":"IF(BP$329>0,(BP75)/BP$329,0)","v":0},null,null,null,0,null,{"$f":"IF(BV$329>0,(BV75)/BV$329,0)","v":0},null,{"$f":"IF(BX$329>0,(BX75)/BX$329,0)","v":0},null,{"$f":"IF(BZ$329>0,(BZ75)/BZ$329,0)","v":0},null,{"$f":"IF(CB$329>0,(CB75)/CB$329,0)","v":0}]
[null,null,422,"Norway",null,null,0,0,0,0,0,0,0,0,0,0,null,null,0,0,0,0,0,0,0,0,0,0,null,null,0,0,0,0,0,0,0,0,0,0,null,null,null,null,null,{"$f":"C236","v":0},{"$f":"D236","v":0},{"$f":"IF(AV$329>0,(AV76+AT76)/AV$329,0)","v":0},null,{"$f":"IF(AX$329>0,(AX76)/AX$329,0)","v":0},null,{"$f":"IF(AZ$329>0,(AZ76)/AZ$329,0)","v":0},null,0,null,0,null,null,null,{"$f":"IF(BH$329>0,(BH76+BF76)/BH$329,0)","v":0},null,0,null,0,null,0,null,0,null,null,null,{"$f":"IF(BT$329>0,(BT76+BR76)/BT$329,0)","v":0},null,0,null,0,null,0,null,0]
[null,null,423,"Poland",null,null,0,0,0,0,0,0,0,0,0,0,null,null,0,0,0,0,0,0,0,0,0,0,null,null,0,0,0,0,0,0,0,0,0,0,null,null,null,null,null,0,0,0,null,0,null,0,null,0,null,0,null,null,null,0,null,0,null,0,null,0,null,0,null,null,null,0,null,0,null,0,null,0,null,0]
[null,null,424,"Portugal",null,null,0,0,0,0,0,0,0,0,0,0,null,null,0,0,0,0,0,0,0,0,0,0,null,null,0,0,0,0,0,0,0,0,0,0,null,null,null,null,null,0,0,0,null,0,null,0,null,0,null,0,null,null,null,0,null,0,null,0,null,0,null,0,null,null,null,0,null,0,null,0,null,0,null,0]
[null,null,425,"Romania",null,null,0,0,0,0,0,0,0,0,0,0,null,null,0,0,0,0,0,0,0,0,0,0,null,null,0,0,0,0,0,0,0,0,0,0,null,null,null,null,null,0,0,0,null,0,null,0,null,0,null,0,null,null,null,0,null,0,null,0,null,0,null,0,null,null,null,0,null,0,null,0,null,0,null,0]
[null,null,429,"Spain",null,null,0,0,0,0,0,0,0,0,0,0,null,null,0,0,0,0,0,0,0,0,0,0,null,null,0,0,0,0,0,0,0,0,0,0,null,null,null,null,null,0,0,0,null,0,null,0,null,0,null,0,null,null,null,0,null,0,null,0,null,0,null,0,null,null,null,0,null,0,null,0,null,0,null,0]
[null,null,430,"Sweden",null,null,0,0,0,0,0,0,0,0,0,0,null,null,0,0,0,0,0,0,0,0,0,0,null,null,0,0,0,0,0,0,0,0,0,0,null,null,null,null,null,0,0,0,null,0,null,0,null,0,null,0,null,null,null,0,null,0,null,0,null,0,null,0,null,null,null,0,null,0,null,0,null,0,null,0]
[null,null,431,"Switzerland",null,null,0,0,0,0,0,0,0,0,0,0,null,null,0,0,0,0,0,0,0,0,0,0,null,null,0,0,0,0,0,0,0,0,0,0,null,null,null,null,null,0,0,0,null,0,null,0,null,0,null,0,null,null,null,0,null,0,null,0,null,0,null,0,null,null,null,0,null,0,null,0,null,0,null,0]
[null,null,433,"Turkey",null,null,0,0,0,0,0,0,0,0,0,0,null,null,0,0,0,0,0,0,0,0,0,0,null,null,0,0,0,0,0,0,0,0,0,0,null,null,null,null,null,0,0,0,null,0,null,0,null,0,null,0,null,null,null,0,null,0,null,0,null,0,null,0,null,null,null,0,null,0,null,0,null,0,null,0]
[null,null,434,"United Kingdom (incl Northern Ireland, Scotland, Wales)",null,null,0,0,0,0,0,0,0,0,0,0,null,null,0,0,0,0,0,0,0,0,0,0,null,null,0,0,0,0,0,0,0,0,0,0,null,null,null,null,null,0,0,0,null,0,null,0,null,0,null,0,null,null,null,0,null,0,null,0,null,0,null,0,null,null,null,0,null,0,null,0,null,0,null,0]
[null,null,{"$f":"C85","v":436},"Georgia",null,null,0,0,{"$f":"IF(I$329>0,I85/I$329,0)","v":0},0,0,0,0,0,0,0,null,null,0,0,{"$f":"IF(U$329>0,U85/U$329,0)","v":0},0,0,0,0,0,0,0,null,null,0,0,{"$f":"IF(AG$329>0,AG85/AG$329,0)","v":0},0,0,0,0,0,0,0,null,null,null,null,null,0,0,0,null,0,null,0,null,0,null,0,null,null,null,0,null,0,null,0,null,0,null,0,null,null,null,0,null,0,null,0,null,0,null,0]
[null,null,437,"Ireland, Republic of",null,null,0,0,0,0,0,0,0,0,0,0,null,null,0,0,0,0,0,0,0,0,0,0,null,null,0,0,0,0,0,0,0,0,0,0,null,null,null,null,null,0,0,0,null,0,null,0,null,0,null,0,null,null,null,0,null,0,null,0,null,0,null,0,null,null,null,0,null,0,null,0,null,0,null,0]
[null,null,438,"Iceland",null,null,0,0,0,0,0,0,0,0,0,0,null,null,0,0,0,0,0,0,0,0,0,0,null,null,0,0,0,0,0,0,0,0,0,0,null,null,null,null,null,0,0,0,null,0,null,0,null,0,null,0,null,null,null,0,null,0,null,0,null,0,null,0,null,null,null,0,null,0,null,0,null,0,null,0]
[null,null,439,"Kosovo",null,null,0,0,0,0,0,0,0,0,0,0,null,null,0,0,0,0,0,0,0,0,0,0,null,null,0,0,0,0,0,0,0,0,0,0,null,null,null,null,null,0,0,0,null,0,null,0,null,0,null,0,null,null,null,0,null,0,null,0,null,0,null,0,null,null,null,0,null,0,null,0,null,0,null,0]
[null,null,502,"Egypt",null,null,0,0,0,0,0,0,0,0,0,0,null,null,0,0,0,0,0,0,0,0,0,0,null,null,0,0,0,0,0,0,0,0,0,0,null,null,null,null,null,0,0,0,null,0,null,0,null,0,null,0,null,null,null,0,null,0,null,0,null,0,null,0,null,null,null,0,null,0,null,0,null,0,null,0]
[null,null,505,"Israel",null,null,0,0,0,0,0,0,0,0,0,0,null,null,0,0,0,0,0,0,0,0,0,0,null,null,0,0,0,0,0,0,0,0,0,0,null,null,null,null,null,{"$f":"C250","v":0},{"$f":"D250","v":0},0,null,0,null,0,null,0,null,0,null,null,null,0,null,0,null,0,null,0,null,0,null,null,null,0,null,0,null,0,null,0,null,0]
[null,null,506,"Jordan",null,null,0,0,0,0,0,0,0,0,0,0,null,null,0,0,0,0,0,0,0,0,0,0,null,null,0,0,0,0,0,0,0,0,0,0,null,null,null,null,null,{"$f":"C251","v":0},{"$f":"D251","v":0},0,null,0,null,0,null,0,null,0,null,null,null,0,null,0,null,0,null,0,null,0,null,null,null,0,null,0,null,0,null,0,null,0]
[null,null,507,"Lebanon",null,null,0,0,0,0,0,0,0,0,0,0,null,null,0,0,0,0,0,0,0,0,0,0,null,null,0,0,0,0,0,0,0,0,0,0,null,null,null,null,null,0,0,0,null,0,null,0,null,0,null,0,null,null,null,0,null,0,null,0,null,0,null,0,null,null,null,0,null,0,null,0,null,0,null,0]
[null,null,512,"Tunisia",null,null,0,0,0,0,0,0,0,0,0,0,null,null,0,0,0,0,0,0,0,0,0,0,null,null,0,0,0,0,0,0,0,0,0,0,null,null,null,null,null,0,0,0,null,0,null,0,null,0,null,0,null,null,null,0,null,0,null,0,null,0,null,0,null,null,null,0,null,0,null,0,null,0,null,0]
[null,null,513,"United Arab Emirates",null,null,0,0,0,0,0,0,0,0,0,0,null,null,0,0,0,0,0,0,0,0,0,0,null,null,0,0,0,0,0,0,0,0,0,0,null,null,null,null,null,0,0,0,null,0,null,0,null,0,null,0,null,null,null,0,null,0,null,0,null,0,null,0,null,null,null,0,null,0,null,0,null,0,null,0]
[null,null,601,"Australia",null,null,0,0,{"$f":"IF(I$329>0,I95/I$329,0)","v":0},0,0,0,0,0,0,0,null,null,0,0,{"$f":"IF(U$329>0,U95/U$329,0)","v":0},0,0,0,0,0,0,0,null,null,0,0,{"$f":"IF(AG$329>0,AG95/AG$329,0)","v":0},0,0,0,0,0,0,0,null,null,null,null,null,0,0,0,null,0,null,0,null,0,null,0,null,null,null,0,null,0,null,0,null,0,null,0,null,null,null,0,null,0,null,0,null,0,null,0]
[null,null,603,"Fiji",null,null,0,0,0,0,0,0,0,0,0,0,null,null,0,0,0,0,0,0,0,0,0,0,null,null,0,0,0,0,0,0,0,0,0,0,null,null,null,null,null,0,0,0,null,0,null,0,null,0,null,0,null,null,null,0,null,0,null,0,null,0,null,0,null,null,null,0,null,0,null,0,null,0,null,0]
[null,null,605,"Papua New Guinea",null,null,0,0,0,0,0,0,0,0,0,0,null,null,0,0,0,0,0,0,0,0,0,0,null,null,0,0,0,0,0,0,0,0,0,0,null,null,null,null,null,0,0,0,null,0,null,0,null,0,null,0,null,null,null,0,null,0,null,0,null,0,null,0,null,null,null,0,null,0,null,0,null,0,null,0]
[null,null,607,"Tonga",null,null,0,0,0,0,0,0,0,0,0,0,null,null,0,0,0,0,0,0,0,0,0,0,null,null,0,0,0,0,0,0,0,0,0,0,null,null,null,null,null,0,0,0,null,0,null,0,null,0,null,0,null,null,null,0,null,0,null,0,null,0,null,0,null,null,null,0,null,0,null,0,null,0,null,0]
[null,null,609,"New Zealand",null,null,0,0,0,0,0,0,0,0,0,0,null,null,0,0,0,0,0,0,0,0,0,0,null,null,0,0,0,0,0,0,0,0,0,0,null,null,null,null,null,0,0,0,null,0,null,0,null,0,null,0,null,null,null,0,null,0,null,0,null,0,null,0,null,null,null,0,null,0,null,0,null,0,null,0]
[null,null,701,"Argentina",null,null,0,0,0,0,0,0,0,0,0,0,null,null,0,0,0,0,0,0,0,0,0,0,null,null,0,0,0,0,0,0,0,0,0,0,null,null,null,null,null,0,0,0,null,0,null,0,null,0,null,0,null,null,null,0,null,0,null,0,null,0,null,0,null,null,null,0,null,0,null,0,null,0,null,0]
[null,null,702,"Bolivia",null,null,0,0,0,0,0,0,0,0,0,0,null,null,0,0,0,0,0,0,0,0,0,0,null,null,0,0,0,0,0,0,0,0,0,0,null,null,null,null,null,0,0,0,null,0,null,0,null,0,null,0,null,null,null,0,null,0,null,0,null,0,null,0,null,null,null,0,null,0,null,0,null,0,null,0]
[null,null,703,"Brazil",null,null,0,0,0,0,0,0,0,0,0,0,null,null,0,0,0,0,0,0,0,0,0,0,null,null,0,0,0,0,0,0,0,0,0,0,null,null,null,null,null,0,0,0,null,0,null,0,null,0,null,0,null,null,null,0,null,0,null,0,null,0,null,0,null,null,null,0,null,0,null,0,null,0,null,0]
[null,null,704,"Chile",null,null,0,0,0,0,0,0,0,0,0,0,null,null,0,0,0,0,0,0,0,0,0,0,null,null,0,0,0,0,0,0,0,0,0,0,null,null,null,null,null,0,0,0,null,0,null,0,null,0,null,0,null,null,null,0,null,0,null,0,null,0,null,0,null,null,null,0,null,0,null,0,null,0,null,0]
[null,null,706,"Costa Rica",null,null,0,0,0,0,0,0,0,0,0,0,null,null,0,0,0,0,0,0,0,0,0,0,null,null,0,0,0,0,0,0,0,0,0,0,null,null,null,null,null,0,0,0,null,0,null,0,null,0,null,0,null,null,null,0,null,0,null,0,null,0,null,0,null,null,null,0,null,0,null,0,null,0,null,0]
[null,null,{"$f":"C105","v":707},"Ecuador",null,null,0,0,{"$f":"IF(I$329>0,I105/I$329,0)","v":0},0,0,0,0,0,0,0,null,null,0,0,{"$f":"IF(U$329>0,U105/U$329,0)","v":0},0,0,0,0,0,0,0,null,null,0,0,{"$f":"IF(AG$329>0,AG105/AG$329,0)","v":0},0,0,0,0,0,0,0,null,null,null,null,null,0,0,0,null,0,null,0,null,0,null,0,null,null,null,0,null,0,null,0,null,0,null,0,null,null,null,0,null,0,null,0,null,0,null,0]
[null,null,708,"El Salvador",null,null,0,0,0,0,0,0,0,0,0,0,null,null,0,0,0,0,0,0,0,0,0,0,null,null,0,0,0,0,0,0,0,0,0,0,null,null,null,null,null,0,0,0,null,0,null,0,null,0,null,0,null,null,null,0,null,0,null,0,null,0,null,0,null,null,null,0,null,0,null,0,null,0,null,0]
[null,null,709,"Guatemala",null,null,0,0,0,0,0,0,0,0,0,0,null,null,0,0,0,0,0,0,0,0,0,0,null,null,0,0,0,0,0,0,0,0,0,0,null,null,null,null,null,0,0,0,null,0,null,0,null,0,null,0,null,null,null,0,null,0,null,0,null,0,null,0,null,null,null,0,null,0,null,0,null,0,null,0]
[null,null,711,"Mexico",null,null,0,0,0,0,0,0,0,0,0,0,null,null,0,0,0,0,0,0,0,0,0,0,null,null,0,0,0,0,0,0,0,0,0,0,null,null,null,null,null,0,0,0,null,{"$f":"IF(AX$329>0,(AX108)/AX$329,0)","v":0},null,{"$f":"IF(AZ$329>0,(AZ108)/AZ$329,0)","v":0},null,0,null,0,null,null,null,0,null,0,null,0,null,0,null,0,null,null,null,0,null,0,null,0,null,0,null,0]
[null,null,712,"Nicaragua",null,null,0,0,0,0,0,0,0,0,0,0,null,null,0,0,0,0,0,0,0,0,0,0,null,null,0,0,0,0,0,0,0,0,0,0,null,null,null,null,null,0,0,0,null,0,null,0,null,0,null,0,null,null,null,0,null,0,null,0,null,0,null,0,null,null,null,0,null,0,null,0,null,0,null,0]
[null,null,713,"Paraguay",null,null,0,0,0,0,0,0,0,0,0,0,null,null,0,0,0,0,0,0,0,0,0,0,null,null,0,0,0,0,0,0,0,0,0,0,null,null,null,null,null,0,0,0,null,0,null,0,null,0,null,0,null,null,null,0,null,0,null,0,null,0,null,0,null,null,null,0,null,0,null,0,null,0,null,0]
[null,null,714,"Peru",null,null,0,0,0,0,0,0,0,0,0,0,null,null,0,0,0,0,0,0,0,0,0,0,null,null,0,0,0,0,0,0,0,0,0,0,null,null,null,null,null,0,0,0,null,0,null,0,null,0,null,0,null,null,null,0,null,0,null,0,null,0,null,0,null,null,null,0,null,0,null,0,null,0,null,0]
[null,null,715,"Uruguay",null,null,0,0,0,0,0,0,0,0,0,0,null,null,0,0,0,0,0,0,0,0,0,0,null,null,0,0,0,0,0,0,0,0,0,0,null,null,null,null,null,0,0,0,null,0,null,0,null,0,null,0,null,null,null,0,null,0,null,0,null,0,null,0,null,null,null,0,null,0,null,0,null,0,null,0]
[null,null,801,"United States of America",null,null,0,0,0,0,0,0,0,0,0,0,null,null,0,0,0,0,0,0,0,0,0,0,null,null,0,0,0,0,0,0,0,0,0,0,null,null,null,null,null,0,0,0,null,0,null,0,null,0,null,0,null,null,null,0,null,0,null,0,null,0,null,0,null,null,null,0,null,0,null,0,null,0,null,0]
[null,null,802,"Canada",null,null,0,0,0,0,0,0,0,0,0,0,null,null,0,0,0,0,0,0,0,0,0,0,null,null,0,0,0,0,0,0,0,0,0,0,null,null,null,null,null,0,0,0,null,0,null,0,null,0,null,0,null,null,null,0,null,0,null,0,null,0,null,0,null,null,null,0,null,0,null,0,null,0,null,0]
[null,null,0,0,null,null,0,0,{"$f":"IF(I$329>0,I115/I$329,0)","v":0},0,0,0,0,0,0,0,null,null,0,0,{"$f":"IF(U$329>0,U115/U$329,0)","v":0},0,0,0,0,0,0,0,null,null,0,0,{"$f":"IF(AG$329>0,AG115/AG$329,0)","v":0},0,0,0,0,0,0,0,null,null,null,null,null,0,0,0,null,0,null,0,null,0,null,0,null,null,null,0,null,0,null,0,null,0,null,0,null,null,null,0,null,0,null,0,null,0,null,0]
[null,null,0,0,null,null,0,0,0,0,0,0,0,0,0,0,null,null,0,0,0,0,0,0,0,0,0,0,null,null,0,0,0,0,0,0,0,0,0,0,null,null,null,null,null,0,0,0,null,0,null,0,null,0,null,0,null,null,null,0,null,0,null,0,null,0,null,0,null,null,null,0,null,0,null,0,null,0,null,0]
[null,null,0,0,null,null,0,0,0,0,0,0,0,0,0,0,null,null,0,0,0,0,0,0,0,0,0,0,null,null,0,0,0,0,0,0,0,0,0,0,null,null,null,null,null,0,0,0,null,0,null,0,null,0,null,0,null,null,null,0,null,0,null,0,null,0,null,0,null,null,null,0,null,0,null,0,null,0,null,0]
[null,null,0,0,null,null,0,0,0,0,0,0,0,0,0,0,null,null,0,0,0,0,0,0,0,0,0,0,null,null,0,0,0,0,0,0,0,0,0,0,null,null,null,null,null,0,0,0,null,0,null,0,null,0,null,0,null,null,null,0,null,0,null,0,null,0,null,0,null,null,null,0,null,0,null,0,null,0,null,0]
[null,null,0,0,null,null,0,0,0,0,0,0,0,0,0,0,null,null,0,0,0,0,0,0,0,0,0,0,null,null,0,0,0,0,0,0,0,0,0,0,null,null,null,null,null,0,0,0,null,0,null,0,null,0,null,0,null,null,null,0,null,0,null,0,null,0,null,0,null,null,null,0,null,0,null,0,null,0,null,0]
[null,null,0,0,null,null,0,0,0,0,0,0,0,0,0,0,null,null,0,0,0,0,0,0,0,0,0,0,null,null,0,0,0,0,0,0,0,0,0,0,null,null,null,null,null,0,0,0,null,0,null,0,null,0,null,0,null,null,null,0,null,0,null,0,null,0,null,0,null,null,null,0,null,0,null,0,null,0,null,0]
[null,null,0,0,null,null,0,0,0,0,0,0,0,0,0,0,null,null,0,0,0,0,0,0,0,0,0,0,null,null,0,0,0,0,0,0,0,0,0,0,null,null,null,null,null,0,0,0,null,0,null,0,null,0,null,0,null,null,null,0,null,0,null,0,null,0,null,0,null,null,null,0,null,0,null,0,null,0,null,0]
[null,null,0,0,null,null,0,0,0,0,0,0,0,0,0,0,null,null,0,0,0,0,0,0,0,0,0,0,null,null,0,0,0,0,0,0,0,0,0,0,null,null,null,null,null,0,0,0,null,0,null,0,null,0,null,0,null,null,null,0,null,0,null,0,null,0,null,0,null,null,null,0,null,0,null,0,null,0,null,0]
[null,null,0,0,null,null,0,0,0,0,0,0,0,0,0,0,null,null,0,0,0,0,0,0,0,0,0,0,null,null,0,0,0,0,0,0,0,0,0,0,null,null,null,null,null,0,0,0,null,0,null,0,null,0,null,0,null,null,null,0,null,0,null,0,null,0,null,0,null,null,null,0,null,0,null,0,null,0,null,0]
[null,null,0,0,null,null,0,0,0,0,0,0,0,0,0,0,null,null,0,0,0,0,0,0,0,0,0,0,null,null,0,0,0,0,0,0,0,0,0,0,null,null,null,null,null,0,0,0,null,0,null,0,null,0,null,0,null,null,null,0,null,0,null,0,null,0,null,0,null,null,null,0,null,0,null,0,null,0,null,0]
[null,null,{"$f":"C125","v":0},0,null,null,0,0,{"$f":"IF(I$329>0,I125/I$329,0)","v":0},0,0,0,0,0,0,0,null,null,0,0,{"$f":"IF(U$329>0,U125/U$329,0)","v":0},0,0,0,0,0,0,0,null,null,0,0,{"$f":"IF(AG$329>0,AG125/AG$329,0)","v":0},0,0,0,0,0,0,0,null,null,null,null,null,0,0,0,null,0,null,0,null,0,null,0,null,null,null,0,null,0,null,0,null,0,null,0,null,null,null,0,null,0,null,0,null,0,null,0]
[null,null,0,0,null,null,0,0,0,0,0,0,0,0,0,0,null,null,0,0,0,0,0,0,0,0,0,0,null,null,0,0,0,0,0,0,0,0,0,0,null,null,null,null,null,0,0,0,null,0,null,0,null,0,null,0,null,null,null,0,null,0,null,0,null,0,null,0,null,null,null,0,null,0,null,0,null,0,null,0]
[null,null,0,0,null,null,0,0,0,0,0,0,0,0,0,0,null,null,0,0,0,0,0,0,0,0,0,0,null,null,0,0,0,0,0,0,0,0,0,0,null,null,null,null,null,0,0,0,null,0,null,0,null,0,null,0,null,null,null,0,null,0,null,0,null,0,null,0,null,null,null,0,null,0,null,0,null,0,null,0]
[null,null,0,0,null,null,0,0,0,0,0,0,0,0,0,0,null,null,0,0,0,0,0,0,0,0,0,0,null,null,0,0,0,0,0,0,0,0,0,0,null,null,null,null,null,0,0,0,null,0,null,0,null,0,null,0,null,null,null,0,null,0,null,0,null,0,null,0,null,null,null,0,null,0,null,0,null,0,null,0]
[null,null,0,0,null,null,0,0,{"$f":"IF(I$329>0,I129/I$329,0)","v":0},0,0,0,0,0,0,0,null,null,0,0,0,0,0,0,0,0,0,0,null,null,0,0,0,0,0,0,0,0,0,0,null,null,null,null,null,0,0,0,null,0,null,0,null,0,null,0,null,null,null,0,null,0,null,0,null,0,null,0,null,null,null,0,null,0,null,0,null,0,null,0]
[null,null,0,0,null,null,{"$f":"IF(G$329>0,(G130+E130)/G$329,0)","v":0},{"$f":"IF(H$329>0,(H130+F130)/H$329,0)","v":0},{"$f":"IF(I$329>0,I130/I$329,0)","v":0},0,0,0,0,0,0,0,null,null,{"$f":"IF(S$329>0,(S130+Q130)/S$329,0)","v":0},{"$f":"IF(T$329>0,(T130+R130)/T$329,0)","v":0},{"$f":"IF(U$329>0,U130/U$329,0)","v":0},0,0,0,0,0,0,0,null,null,{"$f":"IF(AE$329>0,(AE130+AC130)/AE$329,0)","v":0},{"$f":"IF(AF$329>0,(AF130+AD130)/AF$329,0)","v":0},{"$f":"IF(AG$329>0,AG130/AG$329,0)","v":0},0,0,0,0,0,0,0,null,null,null,null,null,0,0,0,null,0,null,0,null,0,null,0,null,null,null,0,null,0,null,0,null,0,null,0,null,null,null,0,null,0,null,0,null,0,null,0]
[null,null,0,0,null,null,0,0,0,0,0,0,0,0,0,0,null,null,0,0,0,0,0,0,0,0,0,0,null,null,0,0,{"$f":"IF(AG$329>0,AG131/AG$329,0)","v":0},0,0,0,0,0,0,0,null,null,null,null,null,0,0,0,null,0,null,0,null,0,null,0,null,null,null,0,null,0,null,0,null,0,null,0,null,null,null,0,null,0,null,0,null,0,null,0]
[null,null,0,0,null,null,0,0,0,0,0,0,0,0,0,0,null,null,0,0,0,0,0,0,0,0,0,0,null,null,0,0,{"$f":"IF(AG$329>0,AG132/AG$329,0)","v":0},0,0,0,0,0,0,0,null,null,null,null,null,0,0,0,null,0,null,0,null,0,null,0,null,null,null,0,null,0,null,0,null,0,null,0,null,null,null,0,null,0,null,0,null,0,null,0]
[null,null,0,0,null,null,0,0,0,0,0,0,0,0,0,0,null,null,0,0,0,0,0,0,0,0,0,0,null,null,0,0,{"$f":"IF(AG$329>0,AG133/AG$329,0)","v":0},0,0,0,0,0,0,0,null,null,null,null,null,0,0,0,null,0,null,0,null,0,null,0,null,null,null,0,null,0,null,0,null,0,null,0,null,null,null,0,null,0,null,0,null,0,null,0]
[null,null,0,0,null,null,0,0,0,0,0,0,0,0,0,0,null,null,0,0,0,0,0,0,0,0,0,0,null,null,0,0,{"$f":"IF(AG$329>0,AG134/AG$329,0)","v":0},0,0,0,0,0,0,0,null,null,null,null,null,0,0,0,null,0,null,0,null,0,null,0,null,null,null,0,null,0,null,0,null,0,null,0,null,null,null,0,null,0,null,0,null,0,null,0]
[null,null,0,0,null,null,0,0,0,0,0,0,0,0,0,0,null,null,0,0,0,0,0,0,0,0,0,0,null,null,0,0,{"$f":"IF(AG$329>0,AG135/AG$329,0)","v":0},0,0,0,0,0,0,0,null,null,null,null,null,0,0,0,null,0,null,0,null,0,null,0,null,null,null,0,null,0,null,0,null,0,null,0,null,null,null,0,null,0,null,0,null,0,null,0]
[null,null,0,0,null,null,0,0,0,0,0,0,0,0,0,0,null,null,0,0,0,0,0,0,0,0,0,0,null,null,0,0,{"$f":"IF(AG$329>0,AG136/AG$329,0)","v":0},0,0,0,0,0,0,0,null,null,null,null,null,0,0,0,null,0,null,0,null,0,null,0,null,null,null,0,null,0,null,0,null,0,null,0,null,null,null,0,null,0,null,0,null,0,null,0]
[null,null,0,0,null,null,0,0,0,0,0,0,0,0,0,0,null,null,0,0,0,0,0,0,0,0,0,0,null,null,0,0,{"$f":"IF(AG$329>0,AG137/AG$329,0)","v":0},0,0,0,0,0,0,0,null,null,null,null,null,0,0,0,null,0,null,0,null,0,null,0,null,null,null,0,null,0,null,0,null,0,null,0,null,null,null,0,null,0,null,0,null,0,null,0]
[null,null,0,0,null,null,0,0,0,0,0,0,0,0,0,0,null,null,0,0,0,0,0,0,0,0,0,0,null,null,0,0,{"$f":"IF(AG$329>0,AG138/AG$329,0)","v":0},0,0,0,0,0,0,0,null,null,null,null,null,0,0,0,null,0,null,0,null,0,null,0,null,null,null,0,null,0,null,0,null,0,null,0,null,null,null,0,null,0,null,0,null,0,null,0]
[null,null,0,0,null,null,0,0,0,0,0,0,0,0,0,0,null,null,0,0,0,0,0,0,0,0,0,0,null,null,0,0,{"$f":"IF(AG$329>0,AG139/AG$329,0)","v":0},0,0,0,0,0,0,0,null,null,null,null,null,{"$f":"C299","v":0},{"$f":"D299","v":0},0,null,0,null,0,null,{"$f":"IF(BB$329>0,(BB139)/BB$329,0)","v":0},null,{"$f":"IF(BD$329>0,(BD139)/BD$329,0)","v":0},null,null,null,0,null,{"$f":"IF(BJ$329>0,(BJ139)/BJ$329,0)","v":0},null,{"$f":"IF(BL$329>0,(BL139)/BL$329,0)","v":0},null,{"$f":"IF(BN$329>0,(BN139)/BN$329,0)","v":0},null,{"$f":"IF(BP$329>0,(BP139)/BP$329,0)","v":0},null,null,null,0,null,{"$f":"IF(BV$329>0,(BV139)/BV$329,0)","v":0},null,{"$f":"IF(BX$329>0,(BX139)/BX$329,0)","v":0},null,{"$f":"IF(BZ$329>0,(BZ139)/BZ$329,0)","v":0},null,{"$f":"IF(CB$329>0,(CB139)/CB$329,0)","v":0}]
[null,null,0,0,null,null,0,0,{"$f":"IF(I$329>0,I140/I$329,0)","v":0},0,0,0,0,0,0,0,null,null,0,0,{"$f":"IF(U$329>0,U140/U$329,0)","v":0},0,0,0,0,0,0,0,null,null,0,0,{"$f":"IF(AG$329>0,AG140/AG$329,0)","v":0},0,0,0,0,0,0,0,null,null,null,null,null,0,0,{"$f":"IF(AV$329>0,(AV140+AT140)/AV$329,0)","v":0},null,{"$f":"IF(AX$329>0,(AX140)/AX$329,0)","v":0},null,{"$f":"IF(AZ$329>0,(AZ140)/AZ$329,0)","v":0},null,0,null,0,null,null,null,{"$f":"IF(BH$329>0,(BH140+BF140)/BH$329,0)","v":0},null,0,null,0,null,0,null,0,null,null,null,{"$f":"IF(BT$329>0,(BT140+BR140)/BT$329,0)","v":0},null,0,null,0,null,0,null,0]
[null,null,0,0,null,null,0,0,0,0,0,0,0,0,0,0,null,null,0,0,0,0,0,0,0,0,0,0,null,null,0,0,{"$f":"IF(AG$329>0,AG141/AG$329,0)","v":0},0,0,0,0,0,0,0,null,null,null,null,null,0,0,0,null,0,null,0,null,0,null,0,null,null,null,0,null,0,null,0,null,0,null,0,null,null,null,0,null,0,null,0,null,0,null,0]
[null,null,0,0,null,null,0,0,0,0,0,0,0,0,0,0,null,null,0,0,0,0,0,0,0,0,0,0,null,null,0,0,{"$f":"IF(AG$329>0,AG142/AG$329,0)","v":0},0,0,0,0,0,0,0,null,null,null,null,null,0,0,0,null,0,null,0,null,0,null,0,null,null,null,0,null,0,null,0,null,0,null,0,null,null,null,0,null,0,null,0,null,0,null,0]
[null,null,0,0,null,null,0,0,0,0,0,0,0,0,0,0,null,null,0,0,0,0,0,0,0,0,0,0,null,null,0,0,{"$f":"IF(AG$329>0,AG143/AG$329,0)","v":0},0,0,0,0,0,0,0,null,null,null,null,null,0,0,0,null,0,null,0,null,0,null,0,null,null,null,0,null,0,null,0,null,0,null,0,null,null,null,0,null,0,null,0,null,0,null,0]
[null,null,0,0,null,null,0,0,0,0,0,0,0,0,0,0,null,null,0,0,0,0,0,0,0,0,0,0,null,null,0,0,{"$f":"IF(AG$329>0,AG144/AG$329,0)","v":0},0,0,0,0,0,0,0,null,null,null,null,null,0,0,0,null,0,null,0,null,0,null,0,null,null,null,0,null,0,null,0,null,0,null,0,null,null,null,0,null,0,null,0,null,0,null,0]
[null,null,{"$f":"C145","v":0},0,null,null,0,0,0,0,0,0,0,0,0,0,null,null,0,0,0,0,0,0,0,0,0,0,null,null,0,0,{"$f":"IF(AG$329>0,AG145/AG$329,0)","v":0},0,0,0,0,0,0,0,null,null,null,null,null,0,0,0,null,0,null,0,null,0,null,0,null,null,null,0,null,0,null,0,null,0,null,0,null,null,null,0,null,0,null,0,null,0,null,0]
[null,null,0,0,null,null,0,0,0,0,0,0,0,0,0,0,null,null,0,0,0,0,0,0,0,0,0,0,null,null,0,0,{"$f":"IF(AG$329>0,AG146/AG$329,0)","v":0},0,0,0,0,0,0,0,null,null,null,null,null,0,0,0,null,0,null,0,null,0,null,0,null,null,null,0,null,0,null,0,null,0,null,0,null,null,null,0,null,0,null,0,null,0,null,0]
[null,null,0,0,null,null,0,0,0,0,0,0,0,0,0,0,null,null,0,0,0,0,0,0,0,0,0,0,null,null,0,0,{"$f":"IF(AG$329>0,AG147/AG$329,0)","v":0},0,0,0,0,0,0,0,null,null,null,null,null,0,0,0,null,0,null,0,null,0,null,0,null,null,null,0,null,0,null,0,null,0,null,0,null,null,null,0,null,0,null,0,null,0,null,0]
[null,null,0,0,null,null,0,0,0,0,0,0,0,0,0,0,null,null,0,0,0,0,0,0,0,0,0,0,null,null,0,0,{"$f":"IF(AG$329>0,AG148/AG$329,0)","v":0},0,0,0,0,0,0,0,null,null,null,null,null,0,0,0,null,0,null,0,null,0,null,0,null,null,null,0,null,0,null,0,null,0,null,0,null,null,null,0,null,0,null,0,null,0,null,0]
[null,null,0,0,null,null,0,0,0,0,0,0,0,0,0,0,null,null,0,0,0,0,0,0,0,0,0,0,null,null,0,0,{"$f":"IF(AG$329>0,AG149/AG$329,0)","v":0},0,0,0,0,0,0,0,null,null,null,null,null,0,0,0,null,0,null,0,null,0,null,0,null,null,null,0,null,0,null,0,null,0,null,0,null,null,null,0,null,0,null,0,null,0,null,0]
[null,null,0,0,null,null,0,0,{"$f":"IF(I$329>0,I150/I$329,0)","v":0},0,0,0,0,0,0,0,null,null,0,0,{"$f":"IF(U$329>0,U150/U$329,0)","v":0},0,0,0,0,0,0,0,null,null,0,0,{"$f":"IF(AG$329>0,AG150/AG$329,0)","v":0},0,0,0,0,0,0,0,null,null,null,null,null,0,0,0,null,0,null,0,null,0,null,0,null,null,null,0,null,0,null,0,null,0,null,0,null,null,null,0,null,0,null,0,null,0,null,0]
[null,null,0,0,null,null,0,0,0,0,0,0,0,0,0,0,null,null,0,0,0,0,0,0,0,0,0,0,null,null,0,0,{"$f":"IF(AG$329>0,AG151/AG$329,0)","v":0},0,0,0,0,0,0,0,null,null,null,null,null,0,0,0,null,0,null,0,null,0,null,0,null,null,null,0,null,0,null,0,null,0,null,0,null,null,null,0,null,0,null,0,null,0,null,0]
[null,null,0,0,null,null,0,0,0,0,0,0,0,0,0,0,null,null,0,0,0,0,0,0,0,0,0,0,null,null,0,0,{"$f":"IF(AG$329>0,AG152/AG$329,0)","v":0},0,0,0,0,0,0,0,null,null,null,null,null,0,0,0,null,0,null,0,null,0,null,0,null,null,null,0,null,0,null,0,null,0,null,0,null,null,null,0,null,0,null,0,null,0,null,0]
[null,null,0,0,null,null,0,0,0,0,0,0,0,0,0,0,null,null,0,0,0,0,0,0,0,0,0,0,null,null,0,0,{"$f":"IF(AG$329>0,AG153/AG$329,0)","v":0},0,0,0,0,0,0,0,null,null,null,null,null,0,0,0,null,0,null,0,null,0,null,0,null,null,null,0,null,0,null,0,null,0,null,0,null,null,null,0,null,0,null,0,null,0,null,0]
[null,null,0,0,null,null,{"$f":"IF(G$329>0,(G154+E154)/G$329,0)","v":0},0,0,0,0,0,0,0,0,0,null,null,{"$f":"IF(S$329>0,(S154+Q154)/S$329,0)","v":0},0,0,0,0,0,0,0,0,0,null,null,{"$f":"IF(AE$329>0,(AE154+AC154)/AE$329,0)","v":0},0,{"$f":"IF(AG$329>0,AG154/AG$329,0)","v":0},0,0,0,0,0,0,0,null,null,null,null,null,0,0,0,null,0,null,0,null,0,null,0,null,null,null,0,null,0,null,0,null,0,null,0,null,null,null,0,null,0,null,0,null,0,null,0]
[null,null,0,0,null,null,0,0,0,0,0,0,0,0,0,0,null,null,0,0,0,0,0,0,0,0,0,0,null,null,0,0,{"$f":"IF(AG$329>0,AG155/AG$329,0)","v":0},0,0,0,0,0,0,0,null,null,null,null,null,0,0,0,null,0,null,0,null,0,null,0,null,null,null,0,null,0,null,0,null,0,null,0,null,null,null,0,null,0,null,0,null,0,null,0]
[null,null,0,0,null,null,0,0,0,0,0,0,0,0,0,0,null,null,0,0,0,0,0,0,0,0,0,0,null,null,0,0,{"$f":"IF(AG$329>0,AG156/AG$329,0)","v":0},0,0,0,0,0,0,0,null,null,null,null,null,0,0,0,null,0,null,0,null,0,null,0,null,null,null,0,null,0,null,0,null,0,null,0,null,null,null,0,null,0,null,0,null,0,null,0]
[null,null,null,null,null,null,null,null,null,null,null,null,null,null,null,null,null,null,null,null,null,null,null,null,null,null,null,null,null,null,null,null,null,null,null,null,null,null,null,null,null,null,null,null,null,0,0,0,null,0,null,0,null,0,null,0,null,null,null,0,null,0,null,0,null,0,null,0,null,null,null,0,null,0,null,0,null,0,null,0]
[null,null,null,null,null,null,null,null,null,null,null,null,null,null,null,null,null,null,null,null,null,null,null,null,null,null,null,null,null,null,null,null,null,null,null,null,null,null,null,null,null,null,null,null,null,0,0,0,null,0,null,0,null,0,null,0,null,null,null,0,null,0,null,0,null,0,null,0,null,null,null,0,null,0,null,0,null,0,null,0]
["COUNT",null,null,null,null,null,null,null,null,null,null,null,null,null,null,null,null,null,null,null,null,null,null,null,null,null,null,null,null,null,null,null,null,null,null,null,null,null,null,null,null,null,null,null,null,0,0,0,null,0,null,0,null,0,null,0,null,null,null,0,null,0,null,0,null,0,null,0,null,null,null,0,null,0,null,0,null,0,null,0]
[null,null,null,null,{"$f":"E4","v":"Female"},"Male","Female","Male","Female","Male","Female","Male","Female","Male","Female","Male","Female","Male",{"$f":"S3","v":"Women electoral candidates (local, regional, national),"},{"$f":"T3","v":0}]
[null,null,null,null,{"$f":"#REF!","v":{"$error":"#REF!"}},{"$f":"#REF!","v":{"$error":"#REF!"}},{"$f":"#REF!","v":{"$error":"#REF!"}},{"$f":"#REF!","v":{"$error":"#REF!"}},{"$f":"#REF!","v":{"$error":"#REF!"}},{"$f":"#REF!","v":{"$error":"#REF!"}},{"$f":"#REF!","v":{"$error":"#REF!"}},{"$f":"#REF!","v":{"$error":"#REF!"}},{"$f":"#REF!","v":{"$error":"#REF!"}},{"$f":"#REF!","v":{"$error":"#REF!"}},{"$f":"#REF!","v":{"$error":"#REF!"}},{"$f":"#REF!","v":{"$error":"#REF!"}},{"$f":"#REF!","v":{"$error":"#REF!"}},{"$f":"#REF!","v":{"$error":"#REF!"}},{"$f":"S4","v":"Female"},{"$f":"T4","v":"Male"}]
[null,null,{"$f":"C331","v":0},"None Selected",0,0,0,0,0,0,0,0,0,0,0,0,0,0,0,0,0,0,0,0,0,0,0,0,0,0,0,0,0,0,0,0,0,0,0,0,null,null,{"$f":"SUM(E488:AN488)","v":0}]
[null,null,102,"Benin",0,0,0,0,0,0,0,0,0,0,0,0,0,0,0,0,0,0,0,0,0,0,0,0,0,0,0,0,0,0,0,0,0,0,0,0,null,null,{"$f":"SUM(E489:AN489)","v":0}]
[null,null,103,"Botswana",0,0,0,0,0,0,0,0,0,0,0,0,0,0,0,0,0,0,0,0,0,0,0,0,0,0,0,0,0,0,0,0,0,0,0,0,null,null,0]
[null,null,104,"Burkina Faso",0,0,0,0,0,0,0,0,0,0,0,0,0,0,0,0,0,0,0,0,0,0,0,0,0,0,0,0,0,0,0,0,0,0,0,0,null,null,0]
[null,null,105,"Burundi",0,0,0,0,0,0,0,0,0,0,0,0,0,0,0,0,0,0,0,0,0,0,0,0,0,0,0,0,0,0,0,0,0,0,0,0,null,null,0]
[null,null,106,"Cameroon",0,0,0,0,0,0,0,0,0,0,0,0,0,0,0,0,0,0,0,0,0,0,0,0,0,0,0,0,0,0,0,0,0,0,0,0,null,null,0]
[null,null,108,"Congo, Rep (Brazzaville)",0,0,0,0,0,0,0,0,0,0,0,0,0,0,0,0,0,0,0,0,0,0,0,0,0,0,0,0,0,0,0,0,0,0,0,0,null,null,0]
[null,null,110,"Congo, Dem Rep",0,0,0,0,0,0,0,0,0,0,0,0,0,0,0,0,0,0,0,0,0,0,0,0,0,0,0,0,0,0,0,0,0,0,0,0,null,null,0]
[null,null,111,"Ethiopia",0,0,0,0,0,0,0,0,0,0,0,0,0,0,0,0,0,0,0,0,0,0,0,0,0,0,0,0,0,0,0,0,0,0,0,0,null,null,0]
[null,null,113,"Ghana",0,0,0,0,0,0,0,0,0,0,0,0,0,0,0,0,0,0,0,0,0,0,0,0,0,0,0,0,0,0,0,0,0,0,0,0,null,null,0]
[null,null,115,"Guinée Conakry",0,0,0,0,0,0,0,0,0,0,0,0,0,0,0,0,0,0,0,0,0,0,0,0,0,0,0,0,0,0,0,0,0,0,0,0,null,null,0]
[null,null,116,"Kenya",0,0,0,0,0,0,0,0,0,0,0,0,0,0,0,0,0,0,0,0,0,0,0,0,0,0,0,0,0,0,0,0,0,0,0,0,null,null,0]
[null,null,117,"Lesotho",0,0,0,0,0,0,0,0,0,0,0,0,0,0,0,0,0,0,0,0,0,0,0,0,0,0,0,0,0,0,0,0,0,0,0,0,null,null,0]
[null,null,118,"Liberia",0,0,0,0,0,0,0,0,0,0,0,0,0,0,0,0,0,0,0,0,0,0,0,0,0,0,0,0,0,0,0,0,0,0,0,0,null,null,0]
[null,null,119,"Madagascar",0,0,0,0,0,0,0,0,0,0,0,0,0,0,0,0,0,0,0,0,0,0,0,0,0,0,0,0,0,0,0,0,0,0,0,0,null,null,0]
[null,null,122,"Mauritius",0,0,0,0,0,0,0,0,0,0,0,0,0,0,0,0,0,0,0,0,0,0,0,0,0,0,0,0,0,0,0,0,0,0,0,0,null,null,0]
[null,null,124,"Namibia",0,0,0,0,0,0,0,0,0,0,0,0,0,0,0,0,0,0,0,0,0,0,0,0,0,0,0,0,0,0,0,0,0,0,0,0,null,null,0]
[null,null,125,"Niger",0,0,0,0,0,0,0,0,0,0,0,0,0,0,0,0,0,0,0,0,0,0,0,0,0,0,0,0,0,0,0,0,0,0,0,0,null,null,0]
[null,null,126,"Nigeria",0,0,0,0,0,0,0,0,0,0,0,0,0,0,0,0,0,0,0,0,0,0,0,0,0,0,0,0,0,0,0,0,0,0,0,0,null,null,0]
[null,null,127,"Senegal",0,0,0,0,0,0,0,0,0,0,0,0,0,0,0,0,0,0,0,0,0,0,0,0,0,0,0,0,0,0,0,0,0,0,0,0,null,null,0]
[null,null,{"$f":"C351","v":130},"South Africa",0,0,0,0,0,0,0,0,0,0,0,0,0,0,0,0,0,0,0,0,0,0,0,0,0,0,0,0,0,0,0,0,0,0,0,0,null,null,0]
[null,null,131,"Sudan (south)",0,0,0,0,0,0,0,0,0,0,0,0,0,0,0,0,0,0,0,0,0,0,0,0,0,0,0,0,0,0,0,0,0,0,0,0,null,null,0]
[null,null,133,"Tanzania",0,0,0,0,0,0,0,0,0,0,0,0,0,0,0,0,0,0,0,0,0,0,0,0,0,0,0,0,0,0,0,0,0,0,0,0,null,null,0]
[null,null,134,"Togo",0,0,0,0,0,0,0,0,0,0,0,0,0,0,0,0,0,0,0,0,0,0,0,0,0,0,0,0,0,0,0,0,0,0,0,0,null,null,0]
[null,null,135,"Uganda",0,0,0,0,0,0,0,0,0,0,0,0,0,0,0,0,0,0,0,0,0,0,0,0,0,0,0,0,0,0,0,0,0,0,0,0,null,null,0]
[null,null,136,"Zambia",0,0,0,0,0,0,0,0,0,0,0,0,0,0,0,0,0,0,0,0,0,0,0,0,0,0,0,0,0,0,0,0,0,0,0,0,null,null,0]
[null,null,137,"Zimbabwe",0,0,0,0,0,0,0,0,0,0,0,0,0,0,0,0,0,0,0,0,0,0,0,0,0,0,0,0,0,0,0,0,0,0,0,0,null,null,0]
[null,null,138,"Mauritania",0,0,0,0,0,0,0,0,0,0,0,0,0,0,0,0,0,0,0,0,0,0,0,0,0,0,0,0,0,0,0,0,0,0,0,0,null,null,0]
[null,null,202,"Bangladesh",0,0,0,0,0,0,0,0,0,0,0,0,0,0,0,0,0,0,0,0,0,0,0,0,0,0,0,0,0,0,0,0,0,0,0,0,null,null,0]
[null,null,204,"China",0,0,0,0,0,0,0,0,0,0,0,0,0,0,0,0,0,0,0,0,0,0,0,0,0,0,0,0,0,0,0,0,0,0,0,0,null,null,0]
[null,null,206,"India",0,0,0,0,0,0,0,0,0,0,0,0,0,0,0,0,0,0,0,0,0,0,0,0,0,0,0,0,0,0,0,0,0,0,0,0,null,null,0]
[null,null,208,"Japan",0,0,0,0,0,0,0,0,0,0,0,0,0,0,0,0,0,0,0,0,0,0,0,0,0,0,0,0,0,0,0,0,0,0,0,0,null,null,0]
[null,null,209,"Kyrgyzstan",0,0,0,0,0,0,0,0,0,0,0,0,0,0,0,0,0,0,0,0,0,0,0,0,0,0,0,0,0,0,0,0,0,0,0,0,null,null,0]
[null,null,211,"Malaysia",0,0,0,0,0,0,0,0,0,0,0,0,0,0,0,0,0,0,0,0,0,0,0,0,0,0,0,0,0,0,0,0,0,0,0,0,null,null,0]
[null,null,213,"Nepal",0,0,0,0,0,0,0,0,0,0,0,0,0,0,0,0,0,0,0,0,0,0,0,0,0,0,0,0,0,0,0,0,0,0,0,0,null,null,0]
[null,null,214,"Pakistan",0,0,0,0,0,0,0,0,0,0,0,0,0,0,0,0,0,0,0,0,0,0,0,0,0,0,0,0,0,0,0,0,0,0,0,0,null,null,0]
[null,null,216,"South Korea",0,0,0,0,0,0,0,0,0,0,0,0,0,0,0,0,0,0,0,0,0,0,0,0,0,0,0,0,0,0,0,0,0,0,0,0,null,null,0]
[null,null,217,"Thailand",0,0,0,0,0,0,0,0,0,0,0,0,0,0,0,0,0,0,0,0,0,0,0,0,0,0,0,0,0,0,0,0,0,0,0,0,null,null,0]
[null,null,218,"Philippines",0,0,0,0,0,0,0,0,0,0,0,0,0,0,0,0,0,0,0,0,0,0,0,0,0,0,0,0,0,0,0,0,0,0,0,0,null,null,0]
[null,null,219,"Vietnam",0,0,0,0,0,0,0,0,0,0,0,0,0,0,0,0,0,0,0,0,0,0,0,0,0,0,0,0,0,0,0,0,0,0,0,0,null,null,0]
[null,null,{"$f":"C371","v":220},"Taiwan",0,0,0,0,0,0,0,0,0,0,0,0,0,0,0,0,0,0,0,0,0,0,0,0,0,0,0,0,0,0,0,0,0,0,0,0,null,null,0]
[null,null,302,"Belize",0,0,0,0,0,0,0,0,0,0,0,0,0,0,0,0,0,0,0,0,0,0,0,0,0,0,0,0,0,0,0,0,0,0,0,0,null,null,0]
[null,null,304,"Dominican Republic",0,0,0,0,0,0,0,0,0,0,0,0,0,0,0,0,0,0,0,0,0,0,0,0,0,0,0,0,0,0,0,0,0,0,0,0,null,null,0]
[null,null,305,"Grenada",0,0,0,0,0,0,0,0,0,0,0,0,0,0,0,0,0,0,0,0,0,0,0,0,0,0,0,0,0,0,0,0,0,0,0,0,null,null,0]
[null,null,306,"Guyana",0,0,0,0,0,0,0,0,0,0,0,0,0,0,0,0,0,0,0,0,0,0,0,0,0,0,0,0,0,0,0,0,0,0,0,0,null,null,0]
[null,null,307,"Haiti",0,0,0,0,0,0,0,0,0,0,0,0,0,0,0,0,0,0,0,0,0,0,0,0,0,0,0,0,0,0,0,0,0,0,0,0,null,null,0]
[null,null,308,"Jamaica",0,0,0,0,0,0,0,0,0,0,0,0,0,0,0,0,0,0,0,0,0,0,0,0,0,0,0,0,0,0,0,0,0,0,0,0,null,null,0]
[null,null,309,"Puerto Rico",0,0,0,0,0,0,0,0,0,0,0,0,0,0,0,0,0,0,0,0,0,0,0,0,0,0,0,0,0,0,0,0,0,0,0,0,null,null,0]
[null,null,310,"St Lucia",0,0,0,0,0,0,0,0,0,0,0,0,0,0,0,0,0,0,0,0,0,0,0,0,0,0,0,0,0,0,0,0,0,0,0,0,null,null,0]
[null,null,311,"St. Vincent and The Grenadines",0,0,0,0,0,0,0,0,0,0,0,0,0,0,0,0,0,0,0,0,0,0,0,0,0,0,0,0,0,0,0,0,0,0,0,0,null,null,0]
[null,null,312,"Suriname",0,0,0,0,0,0,0,0,0,0,0,0,0,0,0,0,0,0,0,0,0,0,0,0,0,0,0,0,0,0,0,0,0,0,0,0,null,null,0]
[null,null,313,"Trinidad & Tobago",0,0,0,0,0,0,0,0,0,0,0,0,0,0,0,0,0,0,0,0,0,0,0,0,0,0,0,0,0,0,0,0,0,0,0,0,null,null,0]
[null,null,401,"Austria",0,0,0,0,0,0,0,0,0,0,0,0,0,0,0,0,0,0,0,0,0,0,0,0,0,0,0,0,0,0,0,0,0,0,0,0,null,null,0]
[null,null,402,"Belgium",0,0,0,0,2,0,0,0,0,0,0,2,0,0,0,0,0,0,0,0,0,0,0,0,0,0,1,1,0,0,1,1,0,0,2,2,null,null,12]
[null,null,403,"Belarus",0,0,0,0,0,0,0,0,0,0,0,0,0,0,0,0,0,0,0,0,0,0,0,0,0,0,0,0,0,0,0,0,0,0,0,0,null,null,0]
[null,null,404,"Bosnia & Herzegovina",0,0,0,0,0,0,0,0,0,0,0,0,0,0,0,0,0,0,0,0,0,0,0,0,0,0,0,0,0,0,0,0,0,0,0,0,null,null,0]
[null,null,405,"Bulgaria",0,0,0,0,0,0,0,0,0,0,0,0,0,0,0,0,0,0,0,0,0,0,0,0,0,0,0,0,0,0,0,0,0,0,0,0,null,null,0]
[null,null,406,"Croatia",0,0,0,0,0,0,0,0,0,0,0,0,0,0,0,0,0,0,0,0,0,0,0,0,0,0,0,0,0,0,0,0,0,0,0,0,null,null,0]
[null,null,407,"Cyprus",0,0,0,0,0,0,0,0,0,0,0,0,0,0,0,0,0,0,0,0,0,0,0,0,0,0,0,0,0,0,0,0,0,0,0,0,null,null,0]
[null,null,408,"Czech Republic",0,0,0,0,0,0,0,0,0,0,0,0,0,0,0,0,0,0,0,0,0,0,0,0,0,0,0,0,0,0,0,0,0,0,0,0,null,null,0]
[null,null,{"$f":"C391","v":409},"Denmark",0,0,0,0,0,0,0,0,0,0,0,0,0,0,0,0,0,0,0,0,0,0,0,0,0,0,0,0,0,0,0,0,0,0,0,0,null,null,0]
[null,null,410,"Estonia",0,0,0,0,0,0,0,0,0,0,0,0,0,0,0,0,0,0,0,0,0,0,0,0,0,0,0,0,0,0,0,0,0,0,0,0,null,null,0]
[null,null,411,"Finland",0,0,0,0,0,0,0,0,0,0,0,0,0,0,0,0,0,0,0,0,0,0,0,0,0,0,0,0,0,0,0,0,0,0,0,0,null,null,0]
[null,null,412,"France",0,0,0,0,0,0,0,0,0,0,0,0,0,0,0,0,0,0,0,0,0,0,0,0,0,0,0,0,0,0,0,0,0,0,0,0,null,null,0]
[null,null,414,"Germany",0,0,0,0,0,0,0,0,0,0,0,0,0,0,0,0,0,0,0,0,0,0,0,0,0,0,0,0,0,0,0,0,0,0,0,0,null,null,0]
[null,null,415,"Greece",0,0,0,0,0,0,0,0,0,0,0,0,0,0,0,0,0,0,0,0,0,0,0,0,0,0,0,0,0,0,0,0,0,0,0,0,null,null,{"$f":"SUM(E553:AN553)","v":0}]
[null,null,416,"Hungary",0,0,0,0,0,0,0,0,0,0,0,0,0,0,0,0,0,0,0,0,0,0,0,0,0,0,0,0,0,0,0,0,0,0,0,0,null,null,0]
[null,null,417,"Italy",0,0,0,0,0,0,0,0,0,0,0,0,0,0,0,0,0,0,0,0,0,0,0,0,0,0,0,0,0,0,0,0,0,0,0,0,null,null,0]
[null,null,418,"Malta",0,0,0,0,0,0,0,0,0,0,0,0,0,0,0,0,0,0,0,0,0,0,0,0,0,0,0,0,0,0,0,0,0,0,0,0,null,null,0]
[null,null,420,"Montenegro",0,0,0,0,0,0,0,0,0,0,0,0,0,0,0,0,0,0,0,0,0,0,0,0,0,0,0,0,0,0,0,0,0,0,0,0,null,null,0]
[null,null,421,"Netherlands",0,0,0,0,0,0,0,0,0,0,0,0,0,0,0,0,0,0,0,0,0,0,0,0,0,0,0,0,0,0,0,0,0,0,0,0,null,null,0]
[null,null,422,"Norway",0,0,0,0,0,0,0,0,0,0,0,0,0,0,0,0,0,0,0,0,0,0,0,0,0,0,0,0,0,0,0,0,0,0,0,0,null,null,0]
[null,null,423,"Poland",0,0,0,0,0,0,0,0,0,0,0,0,0,0,0,0,0,0,0,0,0,0,0,0,0,0,0,0,0,0,0,0,0,0,0,0,null,null,0]
[null,null,424,"Portugal",0,0,0,0,0,0,0,0,0,0,0,0,0,0,0,0,0,0,0,0,0,0,0,0,0,0,0,0,0,0,0,0,0,0,0,0,null,null,0]
[null,null,425,"Romania",0,0,0,0,0,0,0,0,0,0,0,0,0,0,0,0,0,0,0,0,0,0,0,0,0,0,0,0,0,0,0,0,0,0,0,0,null,null,0]
[null,null,429,"Spain",0,0,0,0,0,0,0,0,0,0,0,0,0,0,0,0,0,0,0,0,0,0,0,0,0,0,0,0,0,0,0,0,0,0,0,0,null,null,0]
[null,null,430,"Sweden",0,0,0,0,0,0,0,0,0,0,0,0,0,0,0,0,0,0,0,0,0,0,0,0,0,0,0,0,0,0,0,0,0,0,0,0,null,null,0]
[null,null,431,"Switzerland",0,0,0,0,0,0,0,0,0,0,0,0,0,0,0,0,0,0,0,0,0,0,0,0,0,0,0,0,0,0,0,0,0,0,0,0,null,null,0]
[null,null,433,"Turkey",0,0,0,0,0,0,0,0,0,0,0,0,0,0,0,0,0,0,0,0,0,0,0,0,0,0,0,0,0,0,0,0,0,0,0,0,null,null,0]
[null,null,434,"United Kingdom (incl Northern Ireland, Scotland, Wales)",0,0,0,0,0,0,0,0,0,0,0,0,0,0,0,0,0,0,0,0,0,0,0,0,0,0,0,0,0,0,0,0,0,0,0,0,null,null,0]
[null,null,{"$f":"C411","v":436},"Georgia",0,0,0,0,0,0,0,0,0,0,0,0,0,0,0,0,0,0,0,0,0,0,0,0,0,0,0,0,0,0,0,0,0,0,0,0,null,null,0]
[null,null,437,"Ireland, Republic of",0,0,0,0,0,0,0,0,0,0,0,0,0,0,0,0,0,0,0,0,0,0,0,0,0,0,0,0,0,0,0,0,0,0,0,0,null,null,0]
[null,null,438,"Iceland",0,0,0,0,0,0,0,0,0,0,0,0,0,0,0,0,0,0,0,0,0,0,0,0,0,0,0,0,0,0,0,0,0,0,0,0,null,null,0]
[null,null,439,"Kosovo",0,0,0,0,0,0,0,0,0,0,0,0,0,0,0,0,0,0,0,0,0,0,0,0,0,0,0,0,0,0,0,0,0,0,0,0,null,null,0]
[null,null,502,"Egypt",0,0,0,0,0,0,0,0,0,0,0,0,0,0,0,0,0,0,0,0,0,0,0,0,0,0,0,0,0,0,0,0,0,0,0,0,null,null,0]
[null,null,505,"Israel",0,0,0,0,0,0,0,0,0,0,0,0,0,0,0,0,0,0,0,0,0,0,0,0,0,0,0,0,0,0,0,0,0,0,0,0,null,null,0]
[null,null,506,"Jordan",0,0,0,0,0,0,0,0,0,0,0,0,0,0,0,0,0,0,0,0,0,0,0,0,0,0,0,0,0,0,0,0,0,0,0,0,null,null,0]
[null,null,507,"Lebanon",0,0,0,0,0,0,0,0,0,0,0,0,0,0,0,0,0,0,0,0,0,0,0,0,0,0,0,0,0,0,0,0,0,0,0,0,null,null,0]
[null,null,512,"Tunisia",0,0,0,0,0,0,0,0,0,0,0,0,0,0,0,0,0,0,0,0,0,0,0,0,0,0,0,0,0,0,0,0,0,0,0,0,null,null,0]
[null,null,513,"United Arab Emirates",0,0,0,0,0,0,0,0,0,0,0,0,0,0,0,0,0,0,0,0,0,0,0,0,0,0,0,0,0,0,0,0,0,0,0,0,null,null,0]
[null,null,601,"Australia",0,0,0,0,0,0,0,0,0,0,0,0,0,0,0,0,0,0,0,0,0,0,0,0,0,0,0,0,0,0,0,0,0,0,0,0,null,null,0]
[null,null,603,"Fiji",0,0,0,0,0,0,0,0,0,0,0,0,0,0,0,0,0,0,0,0,0,0,0,0,0,0,0,0,0,0,0,0,0,0,0,0,null,null,0]
[null,null,605,"Papua New Guinea",0,0,0,0,0,0,0,0,0,0,0,0,0,0,0,0,0,0,0,0,0,0,0,0,0,0,0,0,0,0,0,0,0,0,0,0,null,null,0]
[null,null,607,"Tonga",0,0,0,0,0,0,0,0,0,0,0,0,0,0,0,0,0,0,0,0,0,0,0,0,0,0,0,0,0,0,0,0,0,0,0,0,null,null,0]
[null,null,609,"New Zealand",0,0,0,0,0,0,0,0,0,0,0,0,0,0,0,0,0,0,0,0,0,0,0,0,0,0,0,0,0,0,0,0,0,0,0,0,null,null,0]
[null,null,701,"Argentina",0,0,0,0,0,0,0,0,0,0,0,0,0,0,0,0,0,0,0,0,0,0,0,0,0,0,0,0,0,0,0,0,0,0,0,0,null,null,0]
[null,null,702,"Bolivia",0,0,0,0,0,0,0,0,0,0,0,0,0,0,0,0,0,0,0,0,0,0,0,0,0,0,0,0,0,0,0,0,0,0,0,0,null,null,0]
[null,null,703,"Brazil",0,0,0,0,0,0,0,0,0,0,0,0,0,0,0,0,0,0,0,0,0,0,0,0,0,0,0,0,0,0,0,0,0,0,0,0,null,null,0]
[null,null,704,"Chile",0,0,0,0,0,0,0,0,0,0,0,0,0,0,0,0,0,0,0,0,0,0,0,0,0,0,0,0,0,0,0,0,0,0,0,0,null,null,0]
[null,null,706,"Costa Rica",0,0,0,0,0,0,0,0,0,0,0,0,0,0,0,0,0,0,0,0,0,0,0,0,0,0,0,0,0,0,0,0,0,0,0,0,null,null,0]
[null,null,{"$f":"C431","v":707},"Ecuador",0,0,0,0,0,0,0,0,0,0,0,0,0,0,0,0,0,0,0,0,0,0,0,0,0,0,0,0,0,0,0,0,0,0,0,0,null,null,0]
[null,null,708,"El Salvador",0,0,0,0,0,0,0,0,0,0,0,0,0,0,0,0,0,0,0,0,0,0,0,0,0,0,0,0,0,0,0,0,0,0,0,0,null,null,0]
[null,null,709,"Guatemala",0,0,0,0,0,0,0,0,0,0,0,0,0,0,0,0,0,0,0,0,0,0,0,0,0,0,0,0,0,0,0,0,0,0,0,0,null,null,0]
[null,null,711,"Mexico",0,0,0,0,0,0,0,0,0,0,0,0,0,0,0,0,0,0,0,0,0,0,0,0,0,0,0,0,0,0,0,0,0,0,0,0,null,null,0]
[null,null,712,"Nicaragua",0,0,0,0,0,0,0,0,0,0,0,0,0,0,0,0,0,0,0,0,0,0,0,0,0,0,0,0,0,0,0,0,0,0,0,0,null,null,0]
[null,null,713,"Paraguay",0,0,0,0,0,0,0,0,0,0,0,0,0,0,0,0,0,0,0,0,0,0,0,0,0,0,0,0,0,0,0,0,0,0,0,0,null,null,0]
[null,null,714,"Peru",0,0,0,0,0,0,0,0,0,0,0,0,0,0,0,0,0,0,0,0,0,0,0,0,0,0,0,0,0,0,0,0,0,0,0,0,null,null,0]
[null,null,715,"Uruguay",0,0,0,0,0,0,0,0,0,0,0,0,0,0,0,0,0,0,0,0,0,0,0,0,0,0,0,0,0,0,0,0,0,0,0,0,null,null,0]
[null,null,801,"United States of America",0,0,0,0,0,0,0,0,0,0,0,0,0,0,0,0,0,0,0,0,0,0,0,0,0,0,0,0,0,0,0,0,0,0,0,0,null,null,0]
[null,null,802,"Canada",0,0,0,0,0,0,0,0,0,0,0,0,0,0,0,0,0,0,0,0,0,0,0,0,0,0,0,0,0,0,0,0,0,0,0,0,null,null,0]
[null,null,0,0,null,null,null,null,null,null,null,null,null,null,null,null,null,null,null,null,null,null,null,null,null,null,null,null,null,null,null,null,null,null,null,null,null,null,null,null,null,null,0]
[null,null,0,0,null,null,null,null,null,null,null,null,null,null,null,null,null,null,null,null,null,null,null,null,null,null,null,null,null,null,null,null,null,null,null,null,null,null,null,null,null,null,0]
[null,null,0,0,null,null,null,null,null,null,null,null,null,null,null,null,null,null,null,null,null,null,null,null,null,null,null,null,null,null,null,null,null,null,null,null,null,null,null,null,null,null,0]
[null,null,0,0,null,null,null,null,null,null,null,null,null,null,null,null,null,null,null,null,null,null,null,null,null,null,null,null,null,null,null,null,null,null,null,null,null,null,null,null,null,null,0]
[null,null,0,0,null,null,null,null,null,null,null,null,null,null,null,null,null,null,null,null,null,null,null,null,null,null,null,null,null,null,null,null,null,null,null,null,null,null,null,null,null,null,0]
[null,null,0,0,null,null,null,null,null,null,null,null,null,null,null,null,null,null,null,null,null,null,null,null,null,null,null,null,null,null,null,null,null,null,null,null,null,null,null,null,null,null,0]
[null,null,0,0,null,null,null,null,null,null,null,null,null,null,null,null,null,null,null,null,null,null,null,null,null,null,null,null,null,null,null,null,null,null,null,null,null,null,null,null,null,null,0]
[null,null,0,0,null,null,null,null,null,null,null,null,null,null,null,null,null,null,null,null,null,null,null,null,null,null,null,null,null,null,null,null,null,null,null,null,null,null,null,null,null,null,0]
[null,null,0,0,null,null,null,null,null,null,null,null,null,null,null,null,null,null,null,null,null,null,null,null,null,null,null,null,null,null,null,null,null,null,null,null,null,null,null,null,null,null,0]
[null,null,0,0,null,null,null,null,null,null,null,null,null,null,null,null,null,null,null,null,null,null,null,null,null,null,null,null,null,null,null,null,null,null,null,null,null,null,null,null,null,null,0]
[null,null,{"$f":"C451","v":0},0,null,null,null,null,null,null,null,null,null,null,null,null,null,null,null,null,null,null,null,null,null,null,null,null,null,null,null,null,null,null,null,null,null,null,null,null,null,null,0]
[null,null,0,0,null,null,null,null,null,null,null,null,null,null,null,null,null,null,null,null,null,null,null,null,null,null,null,null,null,null,null,null,null,null,null,null,null,null,null,null,null,null,0]
[null,null,0,0,null,null,null,null,null,null,null,null,null,null,null,null,null,null,null,null,null,null,null,null,null,null,null,null,null,null,null,null,null,null,null,null,null,null,null,null,null,null,0]
[null,null,0,0,null,null,null,null,null,null,null,null,null,null,null,null,null,null,null,null,null,null,null,null,null,null,null,null,null,null,null,null,null,null,null,null,null,null,null,null,null,null,0]
[null,null,0,0,null,null,null,null,null,null,null,null,null,null,null,null,null,null,null,null,null,null,null,null,null,null,null,null,null,null,null,null,null,null,null,null,null,null,null,null,null,null,0]
[null,null,0,0,null,null,null,null,null,null,null,null,null,null,null,null,null,null,null,null,null,null,null,null,null,null,null,null,null,null,null,null,null,null,null,null,null,null,null,null,null,null,0]
[null,null,0,0,null,null,null,null,null,null,null,null,null,null,null,null,null,null,null,null,null,null,null,null,null,null,null,null,null,null,null,null,null,null,null,null,null,null,null,null,null,null,0]
[null,null,0,0,null,null,null,null,null,null,null,null,null,null,null,null,null,null,null,null,null,null,null,null,null,null,null,null,null,null,null,null,null,null,null,null,null,null,null,null,null,null,0]
[null,null,0,0,null,null,null,null,null,null,null,null,null,null,null,null,null,null,null,null,null,null,null,null,null,null,null,null,null,null,null,null,null,null,null,null,null,null,null,null,null,null,0]
[null,null,0,0,null,null,null,null,null,null,null,null,null,null,null,null,null,null,null,null,null,null,null,null,null,null,null,null,null,null,null,null,null,null,null,null,null,null,null,null,null,null,{"$f":"SUM(E617:AN617)","v":0}]
[null,null,0,0,null,null,null,null,null,null,null,null,null,null,null,null,null,null,null,null,null,null,null,null,null,null,null,null,null,null,null,null,null,null,null,null,null,null,null,null,null,null,0]
[null,null,0,0,null,null,null,null,null,null,null,null,null,null,null,null,null,null,null,null,null,null,null,null,null,null,null,null,null,null,null,null,null,null,null,null,null,null,null,null,null,null,0]
[null,null,0,0,null,null,null,null,null,null,null,null,null,null,null,null,null,null,null,null,null,null,null,null,null,null,null,null,null,null,null,null,null,null,null,null,null,null,null,null,null,null,0]
[null,null,0,0,null,null,null,null,null,null,null,null,null,null,null,null,null,null,null,null,null,null,null,null,null,null,null,null,null,null,null,null,null,null,null,null,null,null,null,null,null,null,0]
[null,null,0,0,null,null,null,null,null,null,null,null,null,null,null,null,null,null,null,null,null,null,null,null,null,null,null,null,null,null,null,null,null,null,null,null,null,null,null,null,null,null,0]
[null,null,0,0,null,null,null,null,null,null,null,null,null,null,null,null,null,null,null,null,null,null,null,null,null,null,null,null,null,null,null,null,null,null,null,null,null,null,null,null,null,null,0]
[null,null,0,0,null,null,null,null,null,null,null,null,null,null,null,null,null,null,null,null,null,null,null,null,null,null,null,null,null,null,null,null,null,null,null,null,null,null,null,null,null,null,0]
[null,null,0,0,null,null,null,null,null,null,null,null,null,null,null,null,null,null,null,null,null,null,null,null,null,null,null,null,null,null,null,null,null,null,null,null,null,null,null,null,null,null,0]
[null,null,0,0,null,null,null,null,null,null,null,null,null,null,null,null,null,null,null,null,null,null,null,null,null,null,null,null,null,null,null,null,null,null,null,null,null,null,null,null,null,null,0]
[null,null,0,0,null,null,null,null,null,null,null,null,null,null,null,null,null,null,null,null,null,null,null,null,null,null,null,null,null,null,null,null,null,null,null,null,null,null,null,null,null,null,0]
[null,null,{"$f":"C471","v":0},0,null,null,null,null,null,null,null,null,null,null,null,null,null,null,null,null,null,null,null,null,null,null,null,null,null,null,null,null,null,null,null,null,null,null,null,null,null,null,0]
[null,null,0,0,null,null,null,null,null,null,null,null,null,null,null,null,null,null,null,null,null,null,null,null,null,null,null,null,null,null,null,null,null,null,null,null,null,null,null,null,null,null,0]
[null,null,0,0,null,null,null,null,null,null,null,null,null,null,null,null,null,null,null,null,null,null,null,null,null,null,null,null,null,null,null,null,null,null,null,null,null,null,null,null,null,null,0]
[null,null,0,0,null,null,null,null,null,null,null,null,null,null,null,null,null,null,null,null,null,null,null,null,null,null,null,null,null,null,null,null,null,null,null,null,null,null,null,null,null,null,0]
[null,null,0,0,null,null,null,null,null,null,null,null,null,null,null,null,null,null,null,null,null,null,null,null,null,null,null,null,null,null,null,null,null,null,null,null,null,null,null,null,null,null,0]
[null,null,0,0,null,null,null,null,null,null,null,null,null,null,null,null,null,null,null,null,null,null,null,null,null,null,null,null,null,null,null,null,null,null,null,null,null,null,null,null,null,null,0]
[null,null,0,0,null,null,null,null,null,null,null,null,null,null,null,null,null,null,null,null,null,null,null,null,null,null,null,null,null,null,null,null,null,null,null,null,null,null,null,null,null,null,0]
[null,null,0,0,null,null,null,null,null,null,null,null,null,null,null,null,null,null,null,null,null,null,null,null,null,null,null,null,null,null,null,null,null,null,null,null,null,null,null,null,null,null,0]
[null,null,0,0,null,null,null,null,null,null,null,null,null,null,null,null,null,null,null,null,null,null,null,null,null,null,null,null,null,null,null,null,null,null,null,null,null,null,null,null,null,null,0]
[null,null,0,0,null,null,null,null,null,null,null,null,null,null,null,null,null,null,null,null,null,null,null,null,null,null,null,null,null,null,null,null,null,null,null,null,null,null,null,null,null,null,0]
[null,null,0,0]

{"sheet":"4cF - Themes","index":96,"n_rows":115,"n_cols":35,"rows_kept":115,"cut":false,"hidden":true,"merged":[[2,25,2,34],[3,25,3,26],[3,27,3,28],[3,29,3,30],[3,31,3,32],[3,33,3,34],[2,15,2,24],[3,15,3,16],[3,17,3,18],[3,19,3,20],[3,21,3,22],[3,23,3,24],[3,9,3,10],[3,11,3,12],[3,13,3,14],[2,5,2,14],[3,5,3,6],[3,7,3,8]]}
[{"$f":"'4c'!A1","v":"Selected themes by country dissagregated by news subject"}]
[]
[null,null,null,null,null,"Newspaper",null,null,null,null,null,null,null,null,null,"Radio",null,null,null,null,null,null,null,null,null,"Television"]
[null,null,null,null,null,{"$f":"'4c'!G3","v":"Women electoral candidates (local, regional, national),"},null,{"$f":"'4c'!I3","v":"Peace, negotiations, treaties…(local, regional, national),"},null,{"$f":"'4c'!K3","v":"Poverty, housing, social welfare, aid to those in need …"},null,{"$f":"'4c'!M3","v":"Women's participation in economic processes (informal work, paid employment, unemployment, unpaid labour)"},null,{"$f":"'4c'!O3","v":"Gender-based violence, feminicide, harassment, domestic violence, rape, trafficking, genital mutilation …"},null,{"$f":"F4","v":"Women electoral candidates (local, regional, national),"},null,"Peace, negotiations, treaties…(local, regional, national),",null,"Poverty, housing, social welfare, aid to those in need …",null,"Women's participation in economic processes (informal work, paid employment, unemployment, unpaid labour)",null,"Gender-based violence, feminicide, harassment, domestic violence, rape, trafficking, genital mutilation …",null,{"$f":"F4","v":"Women electoral candidates (local, regional, national),"},null,"Peace, negotiations, treaties…(local, regional, national),",null,"Poverty, housing, social welfare, aid to those in need …",null,"Women's participation in economic processes (informal work, paid employment, unemployment, unpaid labour)",null,"Gender-based violence, feminicide, harassment, domestic violence, rape, trafficking, genital mutilation …"]
[null,null,null,null,"Country","%F","%M","%F","%M","%F","%M","%F","%M","%F","%M","%F","%M","%F","%M","%F","%M","%F","%M","%F","%M","%F","%M","%F","%M","%F","%M","%F","%M","%F","%M"]
[]
[null,null,null,null,{"$f":"'4c'!D331","v":"None Selected"},{"$f":"'4c'!G331","v":0},{"$f":"'4c'!H331","v":0},{"$f":"'4c'!I331","v":0},{"$f":"'4c'!J331","v":0},{"$f":"'4c'!K331","v":0},{"$f":"'4c'!L331","v":0},{"$f":"'4c'!M331","v":0},{"$f":"'4c'!N331","v":0},{"$f":"'4c'!O331","v":0},{"$f":"'4c'!P331","v":0},{"$f":"'4c'!S331","v":0},{"$f":"'4c'!T331","v":0},{"$f":"'4c'!U331","v":0},{"$f":"'4c'!V331","v":0},{"$f":"'4c'!W331","v":0},{"$f":"'4c'!X331","v":0},{"$f":"'4c'!Y331","v":0},{"$f":"'4c'!Z331","v":0},{"$f":"'4c'!AA331","v":0},{"$f":"'4c'!AB331","v":0},{"$f":"'4c'!AE331","v":0},{"$f":"'4c'!AF331","v":0},{"$f":"'4c'!AG331","v":0},{"$f":"'4c'!AH331","v":0},{"$f":"'4c'!AI331","v":0},{"$f":"'4c'!AJ331","v":0},{"$f":"'4c'!AK331","v":0},{"$f":"'4c'!AL331","v":0},{"$f":"'4c'!AM331","v":0},{"$f":"'4c'!AN331","v":0}]
[null,null,null,null,{"$f":"'4c'!D332","v":"Benin"},{"$f":"'4c'!G332","v":0},{"$f":"'4c'!H332","v":0},{"$f":"'4c'!I332","v":0},{"$f":"'4c'!J332","v":0},{"$f":"'4c'!K332","v":0},{"$f":"'4c'!L332","v":0},{"$f":"'4c'!M332","v":0},{"$f":"'4c'!N332","v":0},{"$f":"'4c'!O332","v":0},{"$f":"'4c'!P332","v":0},{"$f":"'4c'!S332","v":0},{"$f":"'4c'!T332","v":0},{"$f":"'4c'!U332","v":0},{"$f":"'4c'!V332","v":0},{"$f":"'4c'!W332","v":0},{"$f":"'4c'!X332","v":0},{"$f":"'4c'!Y332","v":0},{"$f":"'4c'!Z332","v":0},{"$f":"'4c'!AA332","v":0},{"$f":"'4c'!AB332","v":0},{"$f":"'4c'!AE332","v":0},{"$f":"'4c'!AF332","v":0},{"$f":"'4c'!AG332","v":0},{"$f":"'4c'!AH332","v":0},{"$f":"'4c'!AI332","v":0},{"$f":"'4c'!AJ332","v":0},{"$f":"'4c'!AK332","v":0},{"$f":"'4c'!AL332","v":0},{"$f":"'4c'!AM332","v":0},{"$f":"'4c'!AN332","v":0}]
[null,null,null,null,{"$f":"'4c'!D333","v":"Botswana"},{"$f":"'4c'!G333","v":0},{"$f":"'4c'!H333","v":0},{"$f":"'4c'!I333","v":0},{"$f":"'4c'!J333","v":0},{"$f":"'4c'!K333","v":0},{"$f":"'4c'!L333","v":0},{"$f":"'4c'!M333","v":0},{"$f":"'4c'!N333","v":0},{"$f":"'4c'!O333","v":0},{"$f":"'4c'!P333","v":0},{"$f":"'4c'!S333","v":0},{"$f":"'4c'!T333","v":0},{"$f":"'4c'!U333","v":0},{"$f":"'4c'!V333","v":0},{"$f":"'4c'!W333","v":0},{"$f":"'4c'!X333","v":0},{"$f":"'4c'!Y333","v":0},{"$f":"'4c'!Z333","v":0},{"$f":"'4c'!AA333","v":0},{"$f":"'4c'!AB333","v":0},{"$f":"'4c'!AE333","v":0},{"$f":"'4c'!AF333","v":0},{"$f":"'4c'!AG333","v":0},{"$f":"'4c'!AH333","v":0},{"$f":"'4c'!AI333","v":0},{"$f":"'4c'!AJ333","v":0},{"$f":"'4c'!AK333","v":0},{"$f":"'4c'!AL333","v":0},{"$f":"'4c'!AM333","v":0},{"$f":"'4c'!AN333","v":0}]
[null,null,null,null,{"$f":"'4c'!D334","v":"Burkina Faso"},{"$f":"'4c'!G334","v":0},{"$f":"'4c'!H334","v":0},{"$f":"'4c'!I334","v":0},{"$f":"'4c'!J334","v":0},{"$f":"'4c'!K334","v":0},{"$f":"'4c'!L334","v":0},{"$f":"'4c'!M334","v":0},{"$f":"'4c'!N334","v":0},{"$f":"'4c'!O334","v":0},{"$f":"'4c'!P334","v":0},{"$f":"'4c'!S334","v":0},{"$f":"'4c'!T334","v":0},{"$f":"'4c'!U334","v":0},{"$f":"'4c'!V334","v":0},{"$f":"'4c'!W334","v":0},{"$f":"'4c'!X334","v":0},{"$f":"'4c'!Y334","v":0},{"$f":"'4c'!Z334","v":0},{"$f":"'4c'!AA334","v":0},{"$f":"'4c'!AB334","v":0},{"$f":"'4c'!AE334","v":0},{"$f":"'4c'!AF334","v":0},{"$f":"'4c'!AG334","v":0},{"$f":"'4c'!AH334","v":0},{"$f":"'4c'!AI334","v":0},{"$f":"'4c'!AJ334","v":0},{"$f":"'4c'!AK334","v":0},{"$f":"'4c'!AL334","v":0},{"$f":"'4c'!AM334","v":0},{"$f":"'4c'!AN334","v":0}]
[null,null,null,null,{"$f":"'4c'!D335","v":"Burundi"},{"$f":"'4c'!G335","v":0},{"$f":"'4c'!H335","v":0},{"$f":"'4c'!I335","v":0},{"$f":"'4c'!J335","v":0},{"$f":"'4c'!K335","v":0},{"$f":"'4c'!L335","v":0},{"$f":"'4c'!M335","v":0},{"$f":"'4c'!N335","v":0},{"$f":"'4c'!O335","v":0},{"$f":"'4c'!P335","v":0},{"$f":"'4c'!S335","v":0},{"$f":"'4c'!T335","v":0},{"$f":"'4c'!U335","v":0},{"$f":"'4c'!V335","v":0},{"$f":"'4c'!W335","v":0},{"$f":"'4c'!X335","v":0},{"$f":"'4c'!Y335","v":0},{"$f":"'4c'!Z335","v":0},{"$f":"'4c'!AA335","v":0},{"$f":"'4c'!AB335","v":0},{"$f":"'4c'!AE335","v":0},{"$f":"'4c'!AF335","v":0},{"$f":"'4c'!AG335","v":0},{"$f":"'4c'!AH335","v":0},{"$f":"'4c'!AI335","v":0},{"$f":"'4c'!AJ335","v":0},{"$f":"'4c'!AK335","v":0},{"$f":"'4c'!AL335","v":0},{"$f":"'4c'!AM335","v":0},{"$f":"'4c'!AN335","v":0}]
[null,null,null,null,{"$f":"'4c'!D336","v":"Cameroon"},{"$f":"'4c'!G336","v":0},{"$f":"'4c'!H336","v":0},{"$f":"'4c'!I336","v":0},{"$f":"'4c'!J336","v":0},{"$f":"'4c'!K336","v":0},{"$f":"'4c'!L336","v":0},{"$f":"'4c'!M336","v":0},{"$f":"'4c'!N336","v":0},{"$f":"'4c'!O336","v":0},{"$f":"'4c'!P336","v":0},{"$f":"'4c'!S336","v":0},{"$f":"'4c'!T336","v":0},{"$f":"'4c'!U336","v":0},{"$f":"'4c'!V336","v":0},{"$f":"'4c'!W336","v":0},{"$f":"'4c'!X336","v":0},{"$f":"'4c'!Y336","v":0},{"$f":"'4c'!Z336","v":0},{"$f":"'4c'!AA336","v":0},{"$f":"'4c'!AB336","v":0},{"$f":"'4c'!AE336","v":0},{"$f":"'4c'!AF336","v":0},{"$f":"'4c'!AG336","v":0},{"$f":"'4c'!AH336","v":0},{"$f":"'4c'!AI336","v":0},{"$f":"'4c'!AJ336","v":0},{"$f":"'4c'!AK336","v":0},{"$f":"'4c'!AL336","v":0},{"$f":"'4c'!AM336","v":0},{"$f":"'4c'!AN336","v":0}]
[null,null,null,null,{"$f":"'4c'!D337","v":"Congo, Rep (Brazzaville)"},{"$f":"'4c'!G337","v":0},{"$f":"'4c'!H337","v":0},{"$f":"'4c'!I337","v":0},{"$f":"'4c'!J337","v":0},{"$f":"'4c'!K337","v":0},{"$f":"'4c'!L337","v":0},{"$f":"'4c'!M337","v":0},{"$f":"'4c'!N337","v":0},{"$f":"'4c'!O337","v":0},{"$f":"'4c'!P337","v":0},{"$f":"'4c'!S337","v":0},{"$f":"'4c'!T337","v":0},{"$f":"'4c'!U337","v":0},{"$f":"'4c'!V337","v":0},{"$f":"'4c'!W337","v":0},{"$f":"'4c'!X337","v":0},{"$f":"'4c'!Y337","v":0},{"$f":"'4c'!Z337","v":0},{"$f":"'4c'!AA337","v":0},{"$f":"'4c'!AB337","v":0},{"$f":"'4c'!AE337","v":0},{"$f":"'4c'!AF337","v":0},{"$f":"'4c'!AG337","v":0},{"$f":"'4c'!AH337","v":0},{"$f":"'4c'!AI337","v":0},{"$f":"'4c'!AJ337","v":0},{"$f":"'4c'!AK337","v":0},{"$f":"'4c'!AL337","v":0},{"$f":"'4c'!AM337","v":0},{"$f":"'4c'!AN337","v":0}]
[null,null,null,null,{"$f":"'4c'!D338","v":"Congo, Dem Rep"},{"$f":"'4c'!G338","v":0},{"$f":"'4c'!H338","v":0},{"$f":"'4c'!I338","v":0},{"$f":"'4c'!J338","v":0},{"$f":"'4c'!K338","v":0},{"$f":"'4c'!L338","v":0},{"$f":"'4c'!M338","v":0},{"$f":"'4c'!N338","v":0},{"$f":"'4c'!O338","v":0},{"$f":"'4c'!P338","v":0},{"$f":"'4c'!S338","v":0},{"$f":"'4c'!T338","v":0},{"$f":"'4c'!U338","v":0},{"$f":"'4c'!V338","v":0},{"$f":"'4c'!W338","v":0},{"$f":"'4c'!X338","v":0},{"$f":"'4c'!Y338","v":0},{"$f":"'4c'!Z338","v":0},{"$f":"'4c'!AA338","v":0},{"$f":"'4c'!AB338","v":0},{"$f":"'4c'!AE338","v":0},{"$f":"'4c'!AF338","v":0},{"$f":"'4c'!AG338","v":0},{"$f":"'4c'!AH338","v":0},{"$f":"'4c'!AI338","v":0},{"$f":"'4c'!AJ338","v":0},{"$f":"'4c'!AK338","v":0},{"$f":"'4c'!AL338","v":0},{"$f":"'4c'!AM338","v":0},{"$f":"'4c'!AN338","v":0}]
[null,null,null,null,{"$f":"'4c'!D339","v":"Ethiopia"},{"$f":"'4c'!G339","v":0},{"$f":"'4c'!H339","v":0},{"$f":"'4c'!I339","v":0},{"$f":"'4c'!J339","v":0},{"$f":"'4c'!K339","v":0},{"$f":"'4c'!L339","v":0},{"$f":"'4c'!M339","v":0},{"$f":"'4c'!N339","v":0},{"$f":"'4c'!O339","v":0},{"$f":"'4c'!P339","v":0},{"$f":"'4c'!S339","v":0},{"$f":"'4c'!T339","v":0},{"$f":"'4c'!U339","v":0},{"$f":"'4c'!V339","v":0},{"$f":"'4c'!W339","v":0},{"$f":"'4c'!X339","v":0},{"$f":"'4c'!Y339","v":0},{"$f":"'4c'!Z339","v":0},{"$f":"'4c'!AA339","v":0},{"$f":"'4c'!AB339","v":0},{"$f":"'4c'!AE339","v":0},{"$f":"'4c'!AF339","v":0},{"$f":"'4c'!AG339","v":0},{"$f":"'4c'!AH339","v":0},{"$f":"'4c'!AI339","v":0},{"$f":"'4c'!AJ339","v":0},{"$f":"'4c'!AK339","v":0},{"$f":"'4c'!AL339","v":0},{"$f":"'4c'!AM339","v":0},{"$f":"'4c'!AN339","v":0}]
[null,null,null,null,{"$f":"'4c'!D340","v":"Ghana"},{"$f":"'4c'!G340","v":0},{"$f":"'4c'!H340","v":0},{"$f":"'4c'!I340","v":0},{"$f":"'4c'!J340","v":0},{"$f":"'4c'!K340","v":0},{"$f":"'4c'!L340","v":0},{"$f":"'4c'!M340","v":0},{"$f":"'4c'!N340","v":0},{"$f":"'4c'!O340","v":0},{"$f":"'4c'!P340","v":0},{"$f":"'4c'!S340","v":0},{"$f":"'4c'!T340","v":0},{"$f":"'4c'!U340","v":0},{"$f":"'4c'!V340","v":0},{"$f":"'4c'!W340","v":0},{"$f":"'4c'!X340","v":0},{"$f":"'4c'!Y340","v":0},{"$f":"'4c'!Z340","v":0},{"$f":"'4c'!AA340","v":0},{"$f":"'4c'!AB340","v":0},{"$f":"'4c'!AE340","v":0},{"$f":"'4c'!AF340","v":0},{"$f":"'4c'!AG340","v":0},{"$f":"'4c'!AH340","v":0},{"$f":"'4c'!AI340","v":0},{"$f":"'4c'!AJ340","v":0},{"$f":"'4c'!AK340","v":0},{"$f":"'4c'!AL340","v":0},{"$f":"'4c'!AM340","v":0},{"$f":"'4c'!AN340","v":0}]
[null,null,null,null,{"$f":"'4c'!D341","v":"Guinée Conakry"},{"$f":"'4c'!G341","v":0},{"$f":"'4c'!H341","v":0},{"$f":"'4c'!I341","v":0},{"$f":"'4c'!J341","v":0},{"$f":"'4c'!K341","v":0},{"$f":"'4c'!L341","v":0},{"$f":"'4c'!M341","v":0},{"$f":"'4c'!N341","v":0},{"$f":"'4c'!O341","v":0},{"$f":"'4c'!P341","v":0},{"$f":"'4c'!S341","v":0},{"$f":"'4c'!T341","v":0},{"$f":"'4c'!U341","v":0},{"$f":"'4c'!V341","v":0},{"$f":"'4c'!W341","v":0},{"$f":"'4c'!X341","v":0},{"$f":"'4c'!Y341","v":0},{"$f":"'4c'!Z341","v":0},{"$f":"'4c'!AA341","v":0},{"$f":"'4c'!AB341","v":0},{"$f":"'4c'!AE341","v":0},{"$f":"'4c'!AF341","v":0},{"$f":"'4c'!AG341","v":0},{"$f":"'4c'!AH341","v":0},{"$f":"'4c'!AI341","v":0},{"$f":"'4c'!AJ341","v":0},{"$f":"'4c'!AK341","v":0},{"$f":"'4c'!AL341","v":0},{"$f":"'4c'!AM341","v":0},{"$f":"'4c'!AN341","v":0}]
[null,null,null,null,{"$f":"'4c'!D342","v":"Kenya"},{"$f":"'4c'!G342","v":0},{"$f":"'4c'!H342","v":0},{"$f":"'4c'!I342","v":0},{"$f":"'4c'!J342","v":0},{"$f":"'4c'!K342","v":0},{"$f":"'4c'!L342","v":0},{"$f":"'4c'!M342","v":0},{"$f":"'4c'!N342","v":0},{"$f":"'4c'!O342","v":0},{"$f":"'4c'!P342","v":0},{"$f":"'4c'!S342","v":0},{"$f":"'4c'!T342","v":0},{"$f":"'4c'!U342","v":0},{"$f":"'4c'!V342","v":0},{"$f":"'4c'!W342","v":0},{"$f":"'4c'!X342","v":0},{"$f":"'4c'!Y342","v":0},{"$f":"'4c'!Z342","v":0},{"$f":"'4c'!AA342","v":0},{"$f":"'4c'!AB342","v":0},{"$f":"'4c'!AE342","v":0},{"$f":"'4c'!AF342","v":0},{"$f":"'4c'!AG342","v":0},{"$f":"'4c'!AH342","v":0},{"$f":"'4c'!AI342","v":0},{"$f":"'4c'!AJ342","v":0},{"$f":"'4c'!AK342","v":0},{"$f":"'4c'!AL342","v":0},{"$f":"'4c'!AM342","v":0},{"$f":"'4c'!AN342","v":0}]
[null,null,null,null,{"$f":"'4c'!D343","v":"Lesotho"},{"$f":"'4c'!G343","v":0},{"$f":"'4c'!H343","v":0},{"$f":"'4c'!I343","v":0},{"$f":"'4c'!J343","v":0},{"$f":"'4c'!K343","v":0},{"$f":"'4c'!L343","v":0},{"$f":"'4c'!M343","v":0},{"$f":"'4c'!N343","v":0},{"$f":"'4c'!O343","v":0},{"$f":"'4c'!P343","v":0},{"$f":"'4c'!S343","v":0},{"$f":"'4c'!T343","v":0},{"$f":"'4c'!U343","v":0},{"$f":"'4c'!V343","v":0},{"$f":"'4c'!W343","v":0},{"$f":"'4c'!X343","v":0},{"$f":"'4c'!Y343","v":0},{"$f":"'4c'!Z343","v":0},{"$f":"'4c'!AA343","v":0},{"$f":"'4c'!AB343","v":0},{"$f":"'4c'!AE343","v":0},{"$f":"'4c'!AF343","v":0},{"$f":"'4c'!AG343","v":0},{"$f":"'4c'!AH343","v":0},{"$f":"'4c'!AI343","v":0},{"$f":"'4c'!AJ343","v":0},{"$f":"'4c'!AK343","v":0},{"$f":"'4c'!AL343","v":0},{"$f":"'4c'!AM343","v":0},{"$f":"'4c'!AN343","v":0}]
[null,null,null,null,{"$f":"'4c'!D344","v":"Liberia"},{"$f":"'4c'!G344","v":0},{"$f":"'4c'!H344","v":0},{"$f":"'4c'!I344","v":0},{"$f":"'4c'!J344","v":0},{"$f":"'4c'!K344","v":0},{"$f":"'4c'!L344","v":0},{"$f":"'4c'!M344","v":0},{"$f":"'4c'!N344","v":0},{"$f":"'4c'!O344","v":0},{"$f":"'4c'!P344","v":0},{"$f":"'4c'!S344","v":0},{"$f":"'4c'!T344","v":0},{"$f":"'4c'!U344","v":0},{"$f":"'4c'!V344","v":0},{"$f":"'4c'!W344","v":0},{"$f":"'4c'!X344","v":0},{"$f":"'4c'!Y344","v":0},{"$f":"'4c'!Z344","v":0},{"$f":"'4c'!AA344","v":0},{"$f":"'4c'!AB344","v":0},{"$f":"'4c'!AE344","v":0},{"$f":"'4c'!AF344","v":0},{"$f":"'4c'!AG344","v":0},{"$f":"'4c'!AH344","v":0},{"$f":"'4c'!AI344","v":0},{"$f":"'4c'!AJ344","v":0},{"$f":"'4c'!AK344","v":0},{"$f":"'4c'!AL344","v":0},{"$f":"'4c'!AM344","v":0},{"$f":"'4c'!AN344","v":0}]
[null,null,null,null,{"$f":"'4c'!D345","v":"Madagascar"},{"$f":"'4c'!G345","v":0},{"$f":"'4c'!H345","v":0},{"$f":"'4c'!I345","v":0},{"$f":"'4c'!J345","v":0},{"$f":"'4c'!K345","v":0},{"$f":"'4c'!L345","v":0},{"$f":"'4c'!M345","v":0},{"$f":"'4c'!N345","v":0},{"$f":"'4c'!O345","v":0},{"$f":"'4c'!P345","v":0},{"$f":"'4c'!S345","v":0},{"$f":"'4c'!T345","v":0},{"$f":"'4c'!U345","v":0},{"$f":"'4c'!V345","v":0},{"$f":"'4c'!W345","v":0},{"$f":"'4c'!X345","v":0},{"$f":"'4c'!Y345","v":0},{"$f":"'4c'!Z345","v":0},{"$f":"'4c'!AA345","v":0},{"$f":"'4c'!AB345","v":0},{"$f":"'4c'!AE345","v":0},{"$f":"'4c'!AF345","v":0},{"$f":"'4c'!AG345","v":0},{"$f":"'4c'!AH345","v":0},{"$f":"'4c'!AI345","v":0},{"$f":"'4c'!AJ345","v":0},{"$f":"'4c'!AK345","v":0},{"$f":"'4c'!AL345","v":0},{"$f":"'4c'!AM345","v":0},{"$f":"'4c'!AN345","v":0}]
[null,null,null,null,{"$f":"'4c'!D346","v":"Mauritius"},{"$f":"'4c'!G346","v":0},{"$f":"'4c'!H346","v":0},{"$f":"'4c'!I346","v":0},{"$f":"'4c'!J346","v":0},{"$f":"'4c'!K346","v":0},{"$f":"'4c'!L346","v":0},{"$f":"'4c'!M346","v":0},{"$f":"'4c'!N346","v":0},{"$f":"'4c'!O346","v":0},{"$f":"'4c'!P346","v":0},{"$f":"'4c'!S346","v":0},{"$f":"'4c'!T346","v":0},{"$f":"'4c'!U346","v":0},{"$f":"'4c'!V346","v":0},{"$f":"'4c'!W346","v":0},{"$f":"'4c'!X346","v":0},{"$f":"'4c'!Y346","v":0},{"$f":"'4c'!Z346","v":0},{"$f":"'4c'!AA346","v":0},{"$f":"'4c'!AB346","v":0},{"$f":"'4c'!AE346","v":0},{"$f":"'4c'!AF346","v":0},{"$f":"'4c'!AG346","v":0},{"$f":"'4c'!AH346","v":0},{"$f":"'4c'!AI346","v":0},{"$f":"'4c'!AJ346","v":0},{"$f":"'4c'!AK346","v":0},{"$f":"'4c'!AL346","v":0},{"$f":"'4c'!AM346","v":0},{"$f":"'4c'!AN346","v":0}]
[null,null,null,null,{"$f":"'4c'!D347","v":"Namibia"},{"$f":"'4c'!G347","v":0},{"$f":"'4c'!H347","v":0},{"$f":"'4c'!I347","v":0},{"$f":"'4c'!J347","v":0},{"$f":"'4c'!K347","v":0},{"$f":"'4c'!L347","v":0},{"$f":"'4c'!M347","v":0},{"$f":"'4c'!N347","v":0},{"$f":"'4c'!O347","v":0},{"$f":"'4c'!P347","v":0},{"$f":"'4c'!S347","v":0},{"$f":"'4c'!T347","v":0},{"$f":"'4c'!U347","v":0},{"$f":"'4c'!V347","v":0},{"$f":"'4c'!W347","v":0},{"$f":"'4c'!X347","v":0},{"$f":"'4c'!Y347","v":0},{"$f":"'4c'!Z347","v":0},{"$f":"'4c'!AA347","v":0},{"$f":"'4c'!AB347","v":0},{"$f":"'4c'!AE347","v":0},{"$f":"'4c'!AF347","v":0},{"$f":"'4c'!AG347","v":0},{"$f":"'4c'!AH347","v":0},{"$f":"'4c'!AI347","v":0},{"$f":"'4c'!AJ347","v":0},{"$f":"'4c'!AK347","v":0},{"$f":"'4c'!AL347","v":0},{"$f":"'4c'!AM347","v":0},{"$f":"'4c'!AN347","v":0}]
[null,null,null,null,{"$f":"'4c'!D348","v":"Niger"},{"$f":"'4c'!G348","v":0},{"$f":"'4c'!H348","v":0},{"$f":"'4c'!I348","v":0},{"$f":"'4c'!J348","v":0},{"$f":"'4c'!K348","v":0},{"$f":"'4c'!L348","v":0},{"$f":"'4c'!M348","v":0},{"$f":"'4c'!N348","v":0},{"$f":"'4c'!O348","v":0},{"$f":"'4c'!P348","v":0},{"$f":"'4c'!S348","v":0},{"$f":"'4c'!T348","v":0},{"$f":"'4c'!U348","v":0},{"$f":"'4c'!V348","v":0},{"$f":"'4c'!W348","v":0},{"$f":"'4c'!X348","v":0},{"$f":"'4c'!Y348","v":0},{"$f":"'4c'!Z348","v":0},{"$f":"'4c'!AA348","v":0},{"$f":"'4c'!AB348","v":0},{"$f":"'4c'!AE348","v":0},{"$f":"'4c'!AF348","v":0},{"$f":"'4c'!AG348","v":0},{"$f":"'4c'!AH348","v":0},{"$f":"'4c'!AI348","v":0},{"$f":"'4c'!AJ348","v":0},{"$f":"'4c'!AK348","v":0},{"$f":"'4c'!AL348","v":0},{"$f":"'4c'!AM348","v":0},{"$f":"'4c'!AN348","v":0}]
[null,null,null,null,{"$f":"'4c'!D349","v":"Nigeria"},{"$f":"'4c'!G349","v":0},{"$f":"'4c'!H349","v":0},{"$f":"'4c'!I349","v":0},{"$f":"'4c'!J349","v":0},{"$f":"'4c'!K349","v":0},{"$f":"'4c'!L349","v":0},{"$f":"'4c'!M349","v":0},{"$f":"'4c'!N349","v":0},{"$f":"'4c'!O349","v":0},{"$f":"'4c'!P349","v":0},{"$f":"'4c'!S349","v":0},{"$f":"'4c'!T349","v":0},{"$f":"'4c'!U349","v":0},{"$f":"'4c'!V349","v":0},{"$f":"'4c'!W349","v":0},{"$f":"'4c'!X349","v":0},{"$f":"'4c'!Y349","v":0},{"$f":"'4c'!Z349","v":0},{"$f":"'4c'!AA349","v":0},{"$f":"'4c'!AB349","v":0},{"$f":"'4c'!AE349","v":0},{"$f":"'4c'!AF349","v":0},{"$f":"'4c'!AG349","v":0},{"$f":"'4c'!AH349","v":0},{"$f":"'4c'!AI349","v":0},{"$f":"'4c'!AJ349","v":0},{"$f":"'4c'!AK349","v":0},{"$f":"'4c'!AL349","v":0},{"$f":"'4c'!AM349","v":0},{"$f":"'4c'!AN349","v":0}]
[null,null,null,null,{"$f":"'4c'!D350","v":"Senegal"},{"$f":"'4c'!G350","v":0},{"$f":"'4c'!H350","v":0},{"$f":"'4c'!I350","v":0},{"$f":"'4c'!J350","v":0},{"$f":"'4c'!K350","v":0},{"$f":"'4c'!L350","v":0},{"$f":"'4c'!M350","v":0},{"$f":"'4c'!N350","v":0},{"$f":"'4c'!O350","v":0},{"$f":"'4c'!P350","v":0},{"$f":"'4c'!S350","v":0},{"$f":"'4c'!T350","v":0},{"$f":"'4c'!U350","v":0},{"$f":"'4c'!V350","v":0},{"$f":"'4c'!W350","v":0},{"$f":"'4c'!X350","v":0},{"$f":"'4c'!Y350","v":0},{"$f":"'4c'!Z350","v":0},{"$f":"'4c'!AA350","v":0},{"$f":"'4c'!AB350","v":0},{"$f":"'4c'!AE350","v":0},{"$f":"'4c'!AF350","v":0},{"$f":"'4c'!AG350","v":0},{"$f":"'4c'!AH350","v":0},{"$f":"'4c'!AI350","v":0},{"$f":"'4c'!AJ350","v":0},{"$f":"'4c'!AK350","v":0},{"$f":"'4c'!AL350","v":0},{"$f":"'4c'!AM350","v":0},{"$f":"'4c'!AN350","v":0}]
[null,null,null,null,{"$f":"'4c'!D351","v":"South Africa"},{"$f":"'4c'!G351","v":0},{"$f":"'4c'!H351","v":0},{"$f":"'4c'!I351","v":0},{"$f":"'4c'!J351","v":0},{"$f":"'4c'!K351","v":0},{"$f":"'4c'!L351","v":0},{"$f":"'4c'!M351","v":0},{"$f":"'4c'!N351","v":0},{"$f":"'4c'!O351","v":0},{"$f":"'4c'!P351","v":0},{"$f":"'4c'!S351","v":0},{"$f":"'4c'!T351","v":0},{"$f":"'4c'!U351","v":0},{"$f":"'4c'!V351","v":0},{"$f":"'4c'!W351","v":0},{"$f":"'4c'!X351","v":0},{"$f":"'4c'!Y351","v":0},{"$f":"'4c'!Z351","v":0},{"$f":"'4c'!AA351","v":0},{"$f":"'4c'!AB351","v":0},{"$f":"'4c'!AE351","v":0},{"$f":"'4c'!AF351","v":0},{"$f":"'4c'!AG351","v":0},{"$f":"'4c'!AH351","v":0},{"$f":"'4c'!AI351","v":0},{"$f":"'4c'!AJ351","v":0},{"$f":"'4c'!AK351","v":0},{"$f":"'4c'!AL351","v":0},{"$f":"'4c'!AM351","v":0},{"$f":"'4c'!AN351","v":0}]
[null,null,null,null,{"$f":"'4c'!D352","v":"Sudan (south)"},{"$f":"'4c'!G352","v":0},{"$f":"'4c'!H352","v":0},{"$f":"'4c'!I352","v":0},{"$f":"'4c'!J352","v":0},{"$f":"'4c'!K352","v":0},{"$f":"'4c'!L352","v":0},{"$f":"'4c'!M352","v":0},{"$f":"'4c'!N352","v":0},{"$f":"'4c'!O352","v":0},{"$f":"'4c'!P352","v":0},{"$f":"'4c'!S352","v":0},{"$f":"'4c'!T352","v":0},{"$f":"'4c'!U352","v":0},{"$f":"'4c'!V352","v":0},{"$f":"'4c'!W352","v":0},{"$f":"'4c'!X352","v":0},{"$f":"'4c'!Y352","v":0},{"$f":"'4c'!Z352","v":0},{"$f":"'4c'!AA352","v":0},{"$f":"'4c'!AB352","v":0},{"$f":"'4c'!AE352","v":0},{"$f":"'4c'!AF352","v":0},{"$f":"'4c'!AG352","v":0},{"$f":"'4c'!AH352","v":0},{"$f":"'4c'!AI352","v":0},{"$f":"'4c'!AJ352","v":0},{"$f":"'4c'!AK352","v":0},{"$f":"'4c'!AL352","v":0},{"$f":"'4c'!AM352","v":0},{"$f":"'4c'!AN352","v":0}]
[null,null,null,null,{"$f":"'4c'!D353","v":"Tanzania"},{"$f":"'4c'!G353","v":0},{"$f":"'4c'!H353","v":0},{"$f":"'4c'!I353","v":0},{"$f":"'4c'!J353","v":0},{"$f":"'4c'!K353","v":0},{"$f":"'4c'!L353","v":0},{"$f":"'4c'!M353","v":0},{"$f":"'4c'!N353","v":0},{"$f":"'4c'!O353","v":0},{"$f":"'4c'!P353","v":0},{"$f":"'4c'!S353","v":0},{"$f":"'4c'!T353","v":0},{"$f":"'4c'!U353","v":0},{"$f":"'4c'!V353","v":0},{"$f":"'4c'!W353","v":0},{"$f":"'4c'!X353","v":0},{"$f":"'4c'!Y353","v":0},{"$f":"'4c'!Z353","v":0},{"$f":"'4c'!AA353","v":0},{"$f":"'4c'!AB353","v":0},{"$f":"'4c'!AE353","v":0},{"$f":"'4c'!AF353","v":0},{"$f":"'4c'!AG353","v":0},{"$f":"'4c'!AH353","v":0},{"$f":"'4c'!AI353","v":0},{"$f":"'4c'!AJ353","v":0},{"$f":"'4c'!AK353","v":0},{"$f":"'4c'!AL353","v":0},{"$f":"'4c'!AM353","v":0},{"$f":"'4c'!AN353","v":0}]
[null,null,null,null,{"$f":"'4c'!D354","v":"Togo"},{"$f":"'4c'!G354","v":0},{"$f":"'4c'!H354","v":0},{"$f":"'4c'!I354","v":0},{"$f":"'4c'!J354","v":0},{"$f":"'4c'!K354","v":0},{"$f":"'4c'!L354","v":0},{"$f":"'4c'!M354","v":0},{"$f":"'4c'!N354","v":0},{"$f":"'4c'!O354","v":0},{"$f":"'4c'!P354","v":0},{"$f":"'4c'!S354","v":0},{"$f":"'4c'!T354","v":0},{"$f":"'4c'!U354","v":0},{"$f":"'4c'!V354","v":0},{"$f":"'4c'!W354","v":0},{"$f":"'4c'!X354","v":0},{"$f":"'4c'!Y354","v":0},{"$f":"'4c'!Z354","v":0},{"$f":"'4c'!AA354","v":0},{"$f":"'4c'!AB354","v":0},{"$f":"'4c'!AE354","v":0},{"$f":"'4c'!AF354","v":0},{"$f":"'4c'!AG354","v":0},{"$f":"'4c'!AH354","v":0},{"$f":"'4c'!AI354","v":0},{"$f":"'4c'!AJ354","v":0},{"$f":"'4c'!AK354","v":0},{"$f":"'4c'!AL354","v":0},{"$f":"'4c'!AM354","v":0},{"$f":"'4c'!AN354","v":0}]
[null,null,null,null,{"$f":"'4c'!D355","v":"Uganda"},{"$f":"'4c'!G355","v":0},{"$f":"'4c'!H355","v":0},{"$f":"'4c'!I355","v":0},{"$f":"'4c'!J355","v":0},{"$f":"'4c'!K355","v":0},{"$f":"'4c'!L355","v":0},{"$f":"'4c'!M355","v":0},{"$f":"'4c'!N355","v":0},{"$f":"'4c'!O355","v":0},{"$f":"'4c'!P355","v":0},{"$f":"'4c'!S355","v":0},{"$f":"'4c'!T355","v":0},{"$f":"'4c'!U355","v":0},{"$f":"'4c'!V355","v":0},{"$f":"'4c'!W355","v":0},{"$f":"'4c'!X355","v":0},{"$f":"'4c'!Y355","v":0},{"$f":"'4c'!Z355","v":0},{"$f":"'4c'!AA355","v":0},{"$f":"'4c'!AB355","v":0},{"$f":"'4c'!AE355","v":0},{"$f":"'4c'!AF355","v":0},{"$f":"'4c'!AG355","v":0},{"$f":"'4c'!AH355","v":0},{"$f":"'4c'!AI355","v":0},{"$f":"'4c'!AJ355","v":0},{"$f":"'4c'!AK355","v":0},{"$f":"'4c'!AL355","v":0},{"$f":"'4c'!AM355","v":0},{"$f":"'4c'!AN355","v":0}]
[null,null,null,null,{"$f":"'4c'!D356","v":"Zambia"},{"$f":"'4c'!G356","v":0},{"$f":"'4c'!H356","v":0},{"$f":"'4c'!I356","v":0},{"$f":"'4c'!J356","v":0},{"$f":"'4c'!K356","v":0},{"$f":"'4c'!L356","v":0},{"$f":"'4c'!M356","v":0},{"$f":"'4c'!N356","v":0},{"$f":"'4c'!O356","v":0},{"$f":"'4c'!P356","v":0},{"$f":"'4c'!S356","v":0},{"$f":"'4c'!T356","v":0},{"$f":"'4c'!U356","v":0},{"$f":"'4c'!V356","v":0},{"$f":"'4c'!W356","v":0},{"$f":"'4c'!X356","v":0},{"$f":"'4c'!Y356","v":0},{"$f":"'4c'!Z356","v":0},{"$f":"'4c'!AA356","v":0},{"$f":"'4c'!AB356","v":0},{"$f":"'4c'!AE356","v":0},{"$f":"'4c'!AF356","v":0},{"$f":"'4c'!AG356","v":0},{"$f":"'4c'!AH356","v":0},{"$f":"'4c'!AI356","v":0},{"$f":"'4c'!AJ356","v":0},{"$f":"'4c'!AK356","v":0},{"$f":"'4c'!AL356","v":0},{"$f":"'4c'!AM356","v":0},{"$f":"'4c'!AN356","v":0}]
[null,null,null,null,{"$f":"'4c'!D357","v":"Zimbabwe"},{"$f":"'4c'!G357","v":0},{"$f":"'4c'!H357","v":0},{"$f":"'4c'!I357","v":0},{"$f":"'4c'!J357","v":0},{"$f":"'4c'!K357","v":0},{"$f":"'4c'!L357","v":0},{"$f":"'4c'!M357","v":0},{"$f":"'4c'!N357","v":0},{"$f":"'4c'!O357","v":0},{"$f":"'4c'!P357","v":0},{"$f":"'4c'!S357","v":0},{"$f":"'4c'!T357","v":0},{"$f":"'4c'!U357","v":0},{"$f":"'4c'!V357","v":0},{"$f":"'4c'!W357","v":0},{"$f":"'4c'!X357","v":0},{"$f":"'4c'!Y357","v":0},{"$f":"'4c'!Z357","v":0},{"$f":"'4c'!AA357","v":0},{"$f":"'4c'!AB357","v":0},{"$f":"'4c'!AE357","v":0},{"$f":"'4c'!AF357","v":0},{"$f":"'4c'!AG357","v":0},{"$f":"'4c'!AH357","v":0},{"$f":"'4c'!AI357","v":0},{"$f":"'4c'!AJ357","v":0},{"$f":"'4c'!AK357","v":0},{"$f":"'4c'!AL357","v":0},{"$f":"'4c'!AM357","v":0},{"$f":"'4c'!AN357","v":0}]
[null,null,null,null,{"$f":"'4c'!D358","v":"Mauritania"},{"$f":"'4c'!G358","v":0},{"$f":"'4c'!H358","v":0},{"$f":"'4c'!I358","v":0},{"$f":"'4c'!J358","v":0},{"$f":"'4c'!K358","v":0},{"$f":"'4c'!L358","v":0},{"$f":"'4c'!M358","v":0},{"$f":"'4c'!N358","v":0},{"$f":"'4c'!O358","v":0},{"$f":"'4c'!P358","v":0},{"$f":"'4c'!S358","v":0},{"$f":"'4c'!T358","v":0},{"$f":"'4c'!U358","v":0},{"$f":"'4c'!V358","v":0},{"$f":"'4c'!W358","v":0},{"$f":"'4c'!X358","v":0},{"$f":"'4c'!Y358","v":0},{"$f":"'4c'!Z358","v":0},{"$f":"'4c'!AA358","v":0},{"$f":"'4c'!AB358","v":0},{"$f":"'4c'!AE358","v":0},{"$f":"'4c'!AF358","v":0},{"$f":"'4c'!AG358","v":0},{"$f":"'4c'!AH358","v":0},{"$f":"'4c'!AI358","v":0},{"$f":"'4c'!AJ358","v":0},{"$f":"'4c'!AK358","v":0},{"$f":"'4c'!AL358","v":0},{"$f":"'4c'!AM358","v":0},{"$f":"'4c'!AN358","v":0}]
[null,null,null,null,{"$f":"'4c'!D359","v":"Bangladesh"},{"$f":"'4c'!G359","v":0},{"$f":"'4c'!H359","v":0},{"$f":"'4c'!I359","v":0},{"$f":"'4c'!J359","v":0},{"$f":"'4c'!K359","v":0},{"$f":"'4c'!L359","v":0},{"$f":"'4c'!M359","v":0},{"$f":"'4c'!N359","v":0},{"$f":"'4c'!O359","v":0},{"$f":"'4c'!P359","v":0},{"$f":"'4c'!S359","v":0},{"$f":"'4c'!T359","v":0},{"$f":"'4c'!U359","v":0},{"$f":"'4c'!V359","v":0},{"$f":"'4c'!W359","v":0},{"$f":"'4c'!X359","v":0},{"$f":"'4c'!Y359","v":0},{"$f":"'4c'!Z359","v":0},{"$f":"'4c'!AA359","v":0},{"$f":"'4c'!AB359","v":0},{"$f":"'4c'!AE359","v":0},{"$f":"'4c'!AF359","v":0},{"$f":"'4c'!AG359","v":0},{"$f":"'4c'!AH359","v":0},{"$f":"'4c'!AI359","v":0},{"$f":"'4c'!AJ359","v":0},{"$f":"'4c'!AK359","v":0},{"$f":"'4c'!AL359","v":0},{"$f":"'4c'!AM359","v":0},{"$f":"'4c'!AN359","v":0}]
[null,null,null,null,{"$f":"'4c'!D360","v":"China"},{"$f":"'4c'!G360","v":0},{"$f":"'4c'!H360","v":0},{"$f":"'4c'!I360","v":0},{"$f":"'4c'!J360","v":0},{"$f":"'4c'!K360","v":0},{"$f":"'4c'!L360","v":0},{"$f":"'4c'!M360","v":0},{"$f":"'4c'!N360","v":0},{"$f":"'4c'!O360","v":0},{"$f":"'4c'!P360","v":0},{"$f":"'4c'!S360","v":0},{"$f":"'4c'!T360","v":0},{"$f":"'4c'!U360","v":0},{"$f":"'4c'!V360","v":0},{"$f":"'4c'!W360","v":0},{"$f":"'4c'!X360","v":0},{"$f":"'4c'!Y360","v":0},{"$f":"'4c'!Z360","v":0},{"$f":"'4c'!AA360","v":0},{"$f":"'4c'!AB360","v":0},{"$f":"'4c'!AE360","v":0},{"$f":"'4c'!AF360","v":0},{"$f":"'4c'!AG360","v":0},{"$f":"'4c'!AH360","v":0},{"$f":"'4c'!AI360","v":0},{"$f":"'4c'!AJ360","v":0},{"$f":"'4c'!AK360","v":0},{"$f":"'4c'!AL360","v":0},{"$f":"'4c'!AM360","v":0},{"$f":"'4c'!AN360","v":0}]
[null,null,null,null,{"$f":"'4c'!D361","v":"India"},{"$f":"'4c'!G361","v":0},{"$f":"'4c'!H361","v":0},{"$f":"'4c'!I361","v":0},{"$f":"'4c'!J361","v":0},{"$f":"'4c'!K361","v":0},{"$f":"'4c'!L361","v":0},{"$f":"'4c'!M361","v":0},{"$f":"'4c'!N361","v":0},{"$f":"'4c'!O361","v":0},{"$f":"'4c'!P361","v":0},{"$f":"'4c'!S361","v":0},{"$f":"'4c'!T361","v":0},{"$f":"'4c'!U361","v":0},{"$f":"'4c'!V361","v":0},{"$f":"'4c'!W361","v":0},{"$f":"'4c'!X361","v":0},{"$f":"'4c'!Y361","v":0},{"$f":"'4c'!Z361","v":0},{"$f":"'4c'!AA361","v":0},{"$f":"'4c'!AB361","v":0},{"$f":"'4c'!AE361","v":0},{"$f":"'4c'!AF361","v":0},{"$f":"'4c'!AG361","v":0},{"$f":"'4c'!AH361","v":0},{"$f":"'4c'!AI361","v":0},{"$f":"'4c'!AJ361","v":0},{"$f":"'4c'!AK361","v":0},{"$f":"'4c'!AL361","v":0},{"$f":"'4c'!AM361","v":0},{"$f":"'4c'!AN361","v":0}]
[null,null,null,null,{"$f":"'4c'!D362","v":"Japan"},{"$f":"'4c'!G362","v":0},{"$f":"'4c'!H362","v":0},{"$f":"'4c'!I362","v":0},{"$f":"'4c'!J362","v":0},{"$f":"'4c'!K362","v":0},{"$f":"'4c'!L362","v":0},{"$f":"'4c'!M362","v":0},{"$f":"'4c'!N362","v":0},{"$f":"'4c'!O362","v":0},{"$f":"'4c'!P362","v":0},{"$f":"'4c'!S362","v":0},{"$f":"'4c'!T362","v":0},{"$f":"'4c'!U362","v":0},{"$f":"'4c'!V362","v":0},{"$f":"'4c'!W362","v":0},{"$f":"'4c'!X362","v":0},{"$f":"'4c'!Y362","v":0},{"$f":"'4c'!Z362","v":0},{"$f":"'4c'!AA362","v":0},{"$f":"'4c'!AB362","v":0},{"$f":"'4c'!AE362","v":0},{"$f":"'4c'!AF362","v":0},{"$f":"'4c'!AG362","v":0},{"$f":"'4c'!AH362","v":0},{"$f":"'4c'!AI362","v":0},{"$f":"'4c'!AJ362","v":0},{"$f":"'4c'!AK362","v":0},{"$f":"'4c'!AL362","v":0},{"$f":"'4c'!AM362","v":0},{"$f":"'4c'!AN362","v":0}]
[null,null,null,null,{"$f":"'4c'!D363","v":"Kyrgyzstan"},{"$f":"'4c'!G363","v":0},{"$f":"'4c'!H363","v":0},{"$f":"'4c'!I363","v":0},{"$f":"'4c'!J363","v":0},{"$f":"'4c'!K363","v":0},{"$f":"'4c'!L363","v":0},{"$f":"'4c'!M363","v":0},{"$f":"'4c'!N363","v":0},{"$f":"'4c'!O363","v":0},{"$f":"'4c'!P363","v":0},{"$f":"'4c'!S363","v":0},{"$f":"'4c'!T363","v":0},{"$f":"'4c'!U363","v":0},{"$f":"'4c'!V363","v":0},{"$f":"'4c'!W363","v":0},{"$f":"'4c'!X363","v":0},{"$f":"'4c'!Y363","v":0},{"$f":"'4c'!Z363","v":0},{"$f":"'4c'!AA363","v":0},{"$f":"'4c'!AB363","v":0},{"$f":"'4c'!AE363","v":0},{"$f":"'4c'!AF363","v":0},{"$f":"'4c'!AG363","v":0},{"$f":"'4c'!AH363","v":0},{"$f":"'4c'!AI363","v":0},{"$f":"'4c'!AJ363","v":0},{"$f":"'4c'!AK363","v":0},{"$f":"'4c'!AL363","v":0},{"$f":"'4c'!AM363","v":0},{"$f":"'4c'!AN363","v":0}]
[null,null,null,null,{"$f":"'4c'!D364","v":"Malaysia"},{"$f":"'4c'!G364","v":0},{"$f":"'4c'!H364","v":0},{"$f":"'4c'!I364","v":0},{"$f":"'4c'!J364","v":0},{"$f":"'4c'!K364","v":0},{"$f":"'4c'!L364","v":0},{"$f":"'4c'!M364","v":0},{"$f":"'4c'!N364","v":0},{"$f":"'4c'!O364","v":0},{"$f":"'4c'!P364","v":0},{"$f":"'4c'!S364","v":0},{"$f":"'4c'!T364","v":0},{"$f":"'4c'!U364","v":0},{"$f":"'4c'!V364","v":0},{"$f":"'4c'!W364","v":0},{"$f":"'4c'!X364","v":0},{"$f":"'4c'!Y364","v":0},{"$f":"'4c'!Z364","v":0},{"$f":"'4c'!AA364","v":0},{"$f":"'4c'!AB364","v":0},{"$f":"'4c'!AE364","v":0},{"$f":"'4c'!AF364","v":0},{"$f":"'4c'!AG364","v":0},{"$f":"'4c'!AH364","v":0},{"$f":"'4c'!AI364","v":0},{"$f":"'4c'!AJ364","v":0},{"$f":"'4c'!AK364","v":0},{"$f":"'4c'!AL364","v":0},{"$f":"'4c'!AM364","v":0},{"$f":"'4c'!AN364","v":0}]
[null,null,null,null,{"$f":"'4c'!D365","v":"Nepal"},{"$f":"'4c'!G365","v":0},{"$f":"'4c'!H365","v":0},{"$f":"'4c'!I365","v":0},{"$f":"'4c'!J365","v":0},{"$f":"'4c'!K365","v":0},{"$f":"'4c'!L365","v":0},{"$f":"'4c'!M365","v":0},{"$f":"'4c'!N365","v":0},{"$f":"'4c'!O365","v":0},{"$f":"'4c'!P365","v":0},{"$f":"'4c'!S365","v":0},{"$f":"'4c'!T365","v":0},{"$f":"'4c'!U365","v":0},{"$f":"'4c'!V365","v":0},{"$f":"'4c'!W365","v":0},{"$f":"'4c'!X365","v":0},{"$f":"'4c'!Y365","v":0},{"$f":"'4c'!Z365","v":0},{"$f":"'4c'!AA365","v":0},{"$f":"'4c'!AB365","v":0},{"$f":"'4c'!AE365","v":0},{"$f":"'4c'!AF365","v":0},{"$f":"'4c'!AG365","v":0},{"$f":"'4c'!AH365","v":0},{"$f":"'4c'!AI365","v":0},{"$f":"'4c'!AJ365","v":0},{"$f":"'4c'!AK365","v":0},{"$f":"'4c'!AL365","v":0},{"$f":"'4c'!AM365","v":0},{"$f":"'4c'!AN365","v":0}]
[null,null,null,null,{"$f":"'4c'!D366","v":"Pakistan"},{"$f":"'4c'!G366","v":0},{"$f":"'4c'!H366","v":0},{"$f":"'4c'!I366","v":0},{"$f":"'4c'!J366","v":0},{"$f":"'4c'!K366","v":0},{"$f":"'4c'!L366","v":0},{"$f":"'4c'!M366","v":0},{"$f":"'4c'!N366","v":0},{"$f":"'4c'!O366","v":0},{"$f":"'4c'!P366","v":0},{"$f":"'4c'!S366","v":0},{"$f":"'4c'!T366","v":0},{"$f":"'4c'!U366","v":0},{"$f":"'4c'!V366","v":0},{"$f":"'4c'!W366","v":0},{"$f":"'4c'!X366","v":0},{"$f":"'4c'!Y366","v":0},{"$f":"'4c'!Z366","v":0},{"$f":"'4c'!AA366","v":0},{"$f":"'4c'!AB366","v":0},{"$f":"'4c'!AE366","v":0},{"$f":"'4c'!AF366","v":0},{"$f":"'4c'!AG366","v":0},{"$f":"'4c'!AH366","v":0},{"$f":"'4c'!AI366","v":0},{"$f":"'4c'!AJ366","v":0},{"$f":"'4c'!AK366","v":0},{"$f":"'4c'!AL366","v":0},{"$f":"'4c'!AM366","v":0},{"$f":"'4c'!AN366","v":0}]
[null,null,null,null,{"$f":"'4c'!D367","v":"South Korea"},{"$f":"'4c'!G367","v":0},{"$f":"'4c'!H367","v":0},{"$f":"'4c'!I367","v":0},{"$f":"'4c'!J367","v":0},{"$f":"'4c'!K367","v":0},{"$f":"'4c'!L367","v":0},{"$f":"'4c'!M367","v":0},{"$f":"'4c'!N367","v":0},{"$f":"'4c'!O367","v":0},{"$f":"'4c'!P367","v":0},{"$f":"'4c'!S367","v":0},{"$f":"'4c'!T367","v":0},{"$f":"'4c'!U367","v":0},{"$f":"'4c'!V367","v":0},{"$f":"'4c'!W367","v":0},{"$f":"'4c'!X367","v":0},{"$f":"'4c'!Y367","v":0},{"$f":"'4c'!Z367","v":0},{"$f":"'4c'!AA367","v":0},{"$f":"'4c'!AB367","v":0},{"$f":"'4c'!AE367","v":0},{"$f":"'4c'!AF367","v":0},{"$f":"'4c'!AG367","v":0},{"$f":"'4c'!AH367","v":0},{"$f":"'4c'!AI367","v":0},{"$f":"'4c'!AJ367","v":0},{"$f":"'4c'!AK367","v":0},{"$f":"'4c'!AL367","v":0},{"$f":"'4c'!AM367","v":0},{"$f":"'4c'!AN367","v":0}]
[null,null,null,null,{"$f":"'4c'!D368","v":"Thailand"},{"$f":"'4c'!G368","v":0},{"$f":"'4c'!H368","v":0},{"$f":"'4c'!I368","v":0},{"$f":"'4c'!J368","v":0},{"$f":"'4c'!K368","v":0},{"$f":"'4c'!L368","v":0},{"$f":"'4c'!M368","v":0},{"$f":"'4c'!N368","v":0},{"$f":"'4c'!O368","v":0},{"$f":"'4c'!P368","v":0},{"$f":"'4c'!S368","v":0},{"$f":"'4c'!T368","v":0},{"$f":"'4c'!U368","v":0},{"$f":"'4c'!V368","v":0},{"$f":"'4c'!W368","v":0},{"$f":"'4c'!X368","v":0},{"$f":"'4c'!Y368","v":0},{"$f":"'4c'!Z368","v":0},{"$f":"'4c'!AA368","v":0},{"$f":"'4c'!AB368","v":0},{"$f":"'4c'!AE368","v":0},{"$f":"'4c'!AF368","v":0},{"$f":"'4c'!AG368","v":0},{"$f":"'4c'!AH368","v":0},{"$f":"'4c'!AI368","v":0},{"$f":"'4c'!AJ368","v":0},{"$f":"'4c'!AK368","v":0},{"$f":"'4c'!AL368","v":0},{"$f":"'4c'!AM368","v":0},{"$f":"'4c'!AN368","v":0}]
[null,null,null,null,{"$f":"'4c'!D369","v":"Philippines"},{"$f":"'4c'!G369","v":0},{"$f":"'4c'!H369","v":0},{"$f":"'4c'!I369","v":0},{"$f":"'4c'!J369","v":0},{"$f":"'4c'!K369","v":0},{"$f":"'4c'!L369","v":0},{"$f":"'4c'!M369","v":0},{"$f":"'4c'!N369","v":0},{"$f":"'4c'!O369","v":0},{"$f":"'4c'!P369","v":0},{"$f":"'4c'!S369","v":0},{"$f":"'4c'!T369","v":0},{"$f":"'4c'!U369","v":0},{"$f":"'4c'!V369","v":0},{"$f":"'4c'!W369","v":0},{"$f":"'4c'!X369","v":0},{"$f":"'4c'!Y369","v":0},{"$f":"'4c'!Z369","v":0},{"$f":"'4c'!AA369","v":0},{"$f":"'4c'!AB369","v":0},{"$f":"'4c'!AE369","v":0},{"$f":"'4c'!AF369","v":0},{"$f":"'4c'!AG369","v":0},{"$f":"'4c'!AH369","v":0},{"$f":"'4c'!AI369","v":0},{"$f":"'4c'!AJ369","v":0},{"$f":"'4c'!AK369","v":0},{"$f":"'4c'!AL369","v":0},{"$f":"'4c'!AM369","v":0},{"$f":"'4c'!AN369","v":0}]
[null,null,null,null,{"$f":"'4c'!D370","v":"Vietnam"},{"$f":"'4c'!G370","v":0},{"$f":"'4c'!H370","v":0},{"$f":"'4c'!I370","v":0},{"$f":"'4c'!J370","v":0},{"$f":"'4c'!K370","v":0},{"$f":"'4c'!L370","v":0},{"$f":"'4c'!M370","v":0},{"$f":"'4c'!N370","v":0},{"$f":"'4c'!O370","v":0},{"$f":"'4c'!P370","v":0},{"$f":"'4c'!S370","v":0},{"$f":"'4c'!T370","v":0},{"$f":"'4c'!U370","v":0},{"$f":"'4c'!V370","v":0},{"$f":"'4c'!W370","v":0},{"$f":"'4c'!X370","v":0},{"$f":"'4c'!Y370","v":0},{"$f":"'4c'!Z370","v":0},{"$f":"'4c'!AA370","v":0},{"$f":"'4c'!AB370","v":0},{"$f":"'4c'!AE370","v":0},{"$f":"'4c'!AF370","v":0},{"$f":"'4c'!AG370","v":0},{"$f":"'4c'!AH370","v":0},{"$f":"'4c'!AI370","v":0},{"$f":"'4c'!AJ370","v":0},{"$f":"'4c'!AK370","v":0},{"$f":"'4c'!AL370","v":0},{"$f":"'4c'!AM370","v":0},{"$f":"'4c'!AN370","v":0}]
[null,null,null,null,{"$f":"'4c'!D371","v":"Taiwan"},{"$f":"'4c'!G371","v":0},{"$f":"'4c'!H371","v":0},{"$f":"'4c'!I371","v":0},{"$f":"'4c'!J371","v":0},{"$f":"'4c'!K371","v":0},{"$f":"'4c'!L371","v":0},{"$f":"'4c'!M371","v":0},{"$f":"'4c'!N371","v":0},{"$f":"'4c'!O371","v":0},{"$f":"'4c'!P371","v":0},{"$f":"'4c'!S371","v":0},{"$f":"'4c'!T371","v":0},{"$f":"'4c'!U371","v":0},{"$f":"'4c'!V371","v":0},{"$f":"'4c'!W371","v":0},{"$f":"'4c'!X371","v":0},{"$f":"'4c'!Y371","v":0},{"$f":"'4c'!Z371","v":0},{"$f":"'4c'!AA371","v":0},{"$f":"'4c'!AB371","v":0},{"$f":"'4c'!AE371","v":0},{"$f":"'4c'!AF371","v":0},{"$f":"'4c'!AG371","v":0},{"$f":"'4c'!AH371","v":0},{"$f":"'4c'!AI371","v":0},{"$f":"'4c'!AJ371","v":0},{"$f":"'4c'!AK371","v":0},{"$f":"'4c'!AL371","v":0},{"$f":"'4c'!AM371","v":0},{"$f":"'4c'!AN371","v":0}]
[null,null,null,null,{"$f":"'4c'!D372","v":"Belize"},{"$f":"'4c'!G372","v":0},{"$f":"'4c'!H372","v":0},{"$f":"'4c'!I372","v":0},{"$f":"'4c'!J372","v":0},{"$f":"'4c'!K372","v":0},{"$f":"'4c'!L372","v":0},{"$f":"'4c'!M372","v":0},{"$f":"'4c'!N372","v":0},{"$f":"'4c'!O372","v":0},{"$f":"'4c'!P372","v":0},{"$f":"'4c'!S372","v":0},{"$f":"'4c'!T372","v":0},{"$f":"'4c'!U372","v":0},{"$f":"'4c'!V372","v":0},{"$f":"'4c'!W372","v":0},{"$f":"'4c'!X372","v":0},{"$f":"'4c'!Y372","v":0},{"$f":"'4c'!Z372","v":0},{"$f":"'4c'!AA372","v":0},{"$f":"'4c'!AB372","v":0},{"$f":"'4c'!AE372","v":0},{"$f":"'4c'!AF372","v":0},{"$f":"'4c'!AG372","v":0},{"$f":"'4c'!AH372","v":0},{"$f":"'4c'!AI372","v":0},{"$f":"'4c'!AJ372","v":0},{"$f":"'4c'!AK372","v":0},{"$f":"'4c'!AL372","v":0},{"$f":"'4c'!AM372","v":0},{"$f":"'4c'!AN372","v":0}]
[null,null,null,null,{"$f":"'4c'!D373","v":"Dominican Republic"},{"$f":"'4c'!G373","v":0},{"$f":"'4c'!H373","v":0},{"$f":"'4c'!I373","v":0},{"$f":"'4c'!J373","v":0},{"$f":"'4c'!K373","v":0},{"$f":"'4c'!L373","v":0},{"$f":"'4c'!M373","v":0},{"$f":"'4c'!N373","v":0},{"$f":"'4c'!O373","v":0},{"$f":"'4c'!P373","v":0},{"$f":"'4c'!S373","v":0},{"$f":"'4c'!T373","v":0},{"$f":"'4c'!U373","v":0},{"$f":"'4c'!V373","v":0},{"$f":"'4c'!W373","v":0},{"$f":"'4c'!X373","v":0},{"$f":"'4c'!Y373","v":0},{"$f":"'4c'!Z373","v":0},{"$f":"'4c'!AA373","v":0},{"$f":"'4c'!AB373","v":0},{"$f":"'4c'!AE373","v":0},{"$f":"'4c'!AF373","v":0},{"$f":"'4c'!AG373","v":0},{"$f":"'4c'!AH373","v":0},{"$f":"'4c'!AI373","v":0},{"$f":"'4c'!AJ373","v":0},{"$f":"'4c'!AK373","v":0},{"$f":"'4c'!AL373","v":0},{"$f":"'4c'!AM373","v":0},{"$f":"'4c'!AN373","v":0}]
[null,null,null,null,{"$f":"'4c'!D374","v":"Grenada"},{"$f":"'4c'!G374","v":0},{"$f":"'4c'!H374","v":0},{"$f":"'4c'!I374","v":0},{"$f":"'4c'!J374","v":0},{"$f":"'4c'!K374","v":0},{"$f":"'4c'!L374","v":0},{"$f":"'4c'!M374","v":0},{"$f":"'4c'!N374","v":0},{"$f":"'4c'!O374","v":0},{"$f":"'4c'!P374","v":0},{"$f":"'4c'!S374","v":0},{"$f":"'4c'!T374","v":0},{"$f":"'4c'!U374","v":0},{"$f":"'4c'!V374","v":0},{"$f":"'4c'!W374","v":0},{"$f":"'4c'!X374","v":0},{"$f":"'4c'!Y374","v":0},{"$f":"'4c'!Z374","v":0},{"$f":"'4c'!AA374","v":0},{"$f":"'4c'!AB374","v":0},{"$f":"'4c'!AE374","v":0},{"$f":"'4c'!AF374","v":0},{"$f":"'4c'!AG374","v":0},{"$f":"'4c'!AH374","v":0},{"$f":"'4c'!AI374","v":0},{"$f":"'4c'!AJ374","v":0},{"$f":"'4c'!AK374","v":0},{"$f":"'4c'!AL374","v":0},{"$f":"'4c'!AM374","v":0},{"$f":"'4c'!AN374","v":0}]
[null,null,null,null,{"$f":"'4c'!D375","v":"Guyana"},{"$f":"'4c'!G375","v":0},{"$f":"'4c'!H375","v":0},{"$f":"'4c'!I375","v":0},{"$f":"'4c'!J375","v":0},{"$f":"'4c'!K375","v":0},{"$f":"'4c'!L375","v":0},{"$f":"'4c'!M375","v":0},{"$f":"'4c'!N375","v":0},{"$f":"'4c'!O375","v":0},{"$f":"'4c'!P375","v":0},{"$f":"'4c'!S375","v":0},{"$f":"'4c'!T375","v":0},{"$f":"'4c'!U375","v":0},{"$f":"'4c'!V375","v":0},{"$f":"'4c'!W375","v":0},{"$f":"'4c'!X375","v":0},{"$f":"'4c'!Y375","v":0},{"$f":"'4c'!Z375","v":0},{"$f":"'4c'!AA375","v":0},{"$f":"'4c'!AB375","v":0},{"$f":"'4c'!AE375","v":0},{"$f":"'4c'!AF375","v":0},{"$f":"'4c'!AG375","v":0},{"$f":"'4c'!AH375","v":0},{"$f":"'4c'!AI375","v":0},{"$f":"'4c'!AJ375","v":0},{"$f":"'4c'!AK375","v":0},{"$f":"'4c'!AL375","v":0},{"$f":"'4c'!AM375","v":0},{"$f":"'4c'!AN375","v":0}]
[null,null,null,null,{"$f":"'4c'!D376","v":"Haiti"},{"$f":"'4c'!G376","v":0},{"$f":"'4c'!H376","v":0},{"$f":"'4c'!I376","v":0},{"$f":"'4c'!J376","v":0},{"$f":"'4c'!K376","v":0},{"$f":"'4c'!L376","v":0},{"$f":"'4c'!M376","v":0},{"$f":"'4c'!N376","v":0},{"$f":"'4c'!O376","v":0},{"$f":"'4c'!P376","v":0},{"$f":"'4c'!S376","v":0},{"$f":"'4c'!T376","v":0},{"$f":"'4c'!U376","v":0},{"$f":"'4c'!V376","v":0},{"$f":"'4c'!W376","v":0},{"$f":"'4c'!X376","v":0},{"$f":"'4c'!Y376","v":0},{"$f":"'4c'!Z376","v":0},{"$f":"'4c'!AA376","v":0},{"$f":"'4c'!AB376","v":0},{"$f":"'4c'!AE376","v":0},{"$f":"'4c'!AF376","v":0},{"$f":"'4c'!AG376","v":0},{"$f":"'4c'!AH376","v":0},{"$f":"'4c'!AI376","v":0},{"$f":"'4c'!AJ376","v":0},{"$f":"'4c'!AK376","v":0},{"$f":"'4c'!AL376","v":0},{"$f":"'4c'!AM376","v":0},{"$f":"'4c'!AN376","v":0}]
[null,null,null,null,{"$f":"'4c'!D377","v":"Jamaica"},{"$f":"'4c'!G377","v":0},{"$f":"'4c'!H377","v":0},{"$f":"'4c'!I377","v":0},{"$f":"'4c'!J377","v":0},{"$f":"'4c'!K377","v":0},{"$f":"'4c'!L377","v":0},{"$f":"'4c'!M377","v":0},{"$f":"'4c'!N377","v":0},{"$f":"'4c'!O377","v":0},{"$f":"'4c'!P377","v":0},{"$f":"'4c'!S377","v":0},{"$f":"'4c'!T377","v":0},{"$f":"'4c'!U377","v":0},{"$f":"'4c'!V377","v":0},{"$f":"'4c'!W377","v":0},{"$f":"'4c'!X377","v":0},{"$f":"'4c'!Y377","v":0},{"$f":"'4c'!Z377","v":0},{"$f":"'4c'!AA377","v":0},{"$f":"'4c'!AB377","v":0},{"$f":"'4c'!AE377","v":0},{"$f":"'4c'!AF377","v":0},{"$f":"'4c'!AG377","v":0},{"$f":"'4c'!AH377","v":0},{"$f":"'4c'!AI377","v":0},{"$f":"'4c'!AJ377","v":0},{"$f":"'4c'!AK377","v":0},{"$f":"'4c'!AL377","v":0},{"$f":"'4c'!AM377","v":0},{"$f":"'4c'!AN377","v":0}]
[null,null,null,null,{"$f":"'4c'!D378","v":"Puerto Rico"},{"$f":"'4c'!G378","v":0},{"$f":"'4c'!H378","v":0},{"$f":"'4c'!I378","v":0},{"$f":"'4c'!J378","v":0},{"$f":"'4c'!K378","v":0},{"$f":"'4c'!L378","v":0},{"$f":"'4c'!M378","v":0},{"$f":"'4c'!N378","v":0},{"$f":"'4c'!O378","v":0},{"$f":"'4c'!P378","v":0},{"$f":"'4c'!S378","v":0},{"$f":"'4c'!T378","v":0},{"$f":"'4c'!U378","v":0},{"$f":"'4c'!V378","v":0},{"$f":"'4c'!W378","v":0},{"$f":"'4c'!X378","v":0},{"$f":"'4c'!Y378","v":0},{"$f":"'4c'!Z378","v":0},{"$f":"'4c'!AA378","v":0},{"$f":"'4c'!AB378","v":0},{"$f":"'4c'!AE378","v":0},{"$f":"'4c'!AF378","v":0},{"$f":"'4c'!AG378","v":0},{"$f":"'4c'!AH378","v":0},{"$f":"'4c'!AI378","v":0},{"$f":"'4c'!AJ378","v":0},{"$f":"'4c'!AK378","v":0},{"$f":"'4c'!AL378","v":0},{"$f":"'4c'!AM378","v":0},{"$f":"'4c'!AN378","v":0}]
[null,null,null,null,{"$f":"'4c'!D379","v":"St Lucia"},{"$f":"'4c'!G379","v":0},{"$f":"'4c'!H379","v":0},{"$f":"'4c'!I379","v":0},{"$f":"'4c'!J379","v":0},{"$f":"'4c'!K379","v":0},{"$f":"'4c'!L379","v":0},{"$f":"'4c'!M379","v":0},{"$f":"'4c'!N379","v":0},{"$f":"'4c'!O379","v":0},{"$f":"'4c'!P379","v":0},{"$f":"'4c'!S379","v":0},{"$f":"'4c'!T379","v":0},{"$f":"'4c'!U379","v":0},{"$f":"'4c'!V379","v":0},{"$f":"'4c'!W379","v":0},{"$f":"'4c'!X379","v":0},{"$f":"'4c'!Y379","v":0},{"$f":"'4c'!Z379","v":0},{"$f":"'4c'!AA379","v":0},{"$f":"'4c'!AB379","v":0},{"$f":"'4c'!AE379","v":0},{"$f":"'4c'!AF379","v":0},{"$f":"'4c'!AG379","v":0},{"$f":"'4c'!AH379","v":0},{"$f":"'4c'!AI379","v":0},{"$f":"'4c'!AJ379","v":0},{"$f":"'4c'!AK379","v":0},{"$f":"'4c'!AL379","v":0},{"$f":"'4c'!AM379","v":0},{"$f":"'4c'!AN379","v":0}]
[null,null,null,null,{"$f":"'4c'!D380","v":"St. Vincent and The Grenadines"},{"$f":"'4c'!G380","v":0},{"$f":"'4c'!H380","v":0},{"$f":"'4c'!I380","v":0},{"$f":"'4c'!J380","v":0},{"$f":"'4c'!K380","v":0},{"$f":"'4c'!L380","v":0},{"$f":"'4c'!M380","v":0},{"$f":"'4c'!N380","v":0},{"$f":"'4c'!O380","v":0},{"$f":"'4c'!P380","v":0},{"$f":"'4c'!S380","v":0},{"$f":"'4c'!T380","v":0},{"$f":"'4c'!U380","v":0},{"$f":"'4c'!V380","v":0},{"$f":"'4c'!W380","v":0},{"$f":"'4c'!X380","v":0},{"$f":"'4c'!Y380","v":0},{"$f":"'4c'!Z380","v":0},{"$f":"'4c'!AA380","v":0},{"$f":"'4c'!AB380","v":0},{"$f":"'4c'!AE380","v":0},{"$f":"'4c'!AF380","v":0},{"$f":"'4c'!AG380","v":0},{"$f":"'4c'!AH380","v":0},{"$f":"'4c'!AI380","v":0},{"$f":"'4c'!AJ380","v":0},{"$f":"'4c'!AK380","v":0},{"$f":"'4c'!AL380","v":0},{"$f":"'4c'!AM380","v":0},{"$f":"'4c'!AN380","v":0}]
[null,null,null,null,{"$f":"'4c'!D381","v":"Suriname"},{"$f":"'4c'!G381","v":0},{"$f":"'4c'!H381","v":0},{"$f":"'4c'!I381","v":0},{"$f":"'4c'!J381","v":0},{"$f":"'4c'!K381","v":0},{"$f":"'4c'!L381","v":0},{"$f":"'4c'!M381","v":0},{"$f":"'4c'!N381","v":0},{"$f":"'4c'!O381","v":0},{"$f":"'4c'!P381","v":0},{"$f":"'4c'!S381","v":0},{"$f":"'4c'!T381","v":0},{"$f":"'4c'!U381","v":0},{"$f":"'4c'!V381","v":0},{"$f":"'4c'!W381","v":0},{"$f":"'4c'!X381","v":0},{"$f":"'4c'!Y381","v":0},{"$f":"'4c'!Z381","v":0},{"$f":"'4c'!AA381","v":0},{"$f":"'4c'!AB381","v":0},{"$f":"'4c'!AE381","v":0},{"$f":"'4c'!AF381","v":0},{"$f":"'4c'!AG381","v":0},{"$f":"'4c'!AH381","v":0},{"$f":"'4c'!AI381","v":0},{"$f":"'4c'!AJ381","v":0},{"$f":"'4c'!AK381","v":0},{"$f":"'4c'!AL381","v":0},{"$f":"'4c'!AM381","v":0},{"$f":"'4c'!AN381","v":0}]
[null,null,null,null,{"$f":"'4c'!D382","v":"Trinidad & Tobago"},{"$f":"'4c'!G382","v":0},{"$f":"'4c'!H382","v":0},{"$f":"'4c'!I382","v":0},{"$f":"'4c'!J382","v":0},{"$f":"'4c'!K382","v":0},{"$f":"'4c'!L382","v":0},{"$f":"'4c'!M382","v":0},{"$f":"'4c'!N382","v":0},{"$f":"'4c'!O382","v":0},{"$f":"'4c'!P382","v":0},{"$f":"'4c'!S382","v":0},{"$f":"'4c'!T382","v":0},{"$f":"'4c'!U382","v":0},{"$f":"'4c'!V382","v":0},{"$f":"'4c'!W382","v":0},{"$f":"'4c'!X382","v":0},{"$f":"'4c'!Y382","v":0},{"$f":"'4c'!Z382","v":0},{"$f":"'4c'!AA382","v":0},{"$f":"'4c'!AB382","v":0},{"$f":"'4c'!AE382","v":0},{"$f":"'4c'!AF382","v":0},{"$f":"'4c'!AG382","v":0},{"$f":"'4c'!AH382","v":0},{"$f":"'4c'!AI382","v":0},{"$f":"'4c'!AJ382","v":0},{"$f":"'4c'!AK382","v":0},{"$f":"'4c'!AL382","v":0},{"$f":"'4c'!AM382","v":0},{"$f":"'4c'!AN382","v":0}]
[null,null,null,null,{"$f":"'4c'!D383","v":"Austria"},{"$f":"'4c'!G383","v":0},{"$f":"'4c'!H383","v":0},{"$f":"'4c'!I383","v":0},{"$f":"'4c'!J383","v":0},{"$f":"'4c'!K383","v":0},{"$f":"'4c'!L383","v":0},{"$f":"'4c'!M383","v":0},{"$f":"'4c'!N383","v":0},{"$f":"'4c'!O383","v":0},{"$f":"'4c'!P383","v":0},{"$f":"'4c'!S383","v":0},{"$f":"'4c'!T383","v":0},{"$f":"'4c'!U383","v":0},{"$f":"'4c'!V383","v":0},{"$f":"'4c'!W383","v":0},{"$f":"'4c'!X383","v":0},{"$f":"'4c'!Y383","v":0},{"$f":"'4c'!Z383","v":0},{"$f":"'4c'!AA383","v":0},{"$f":"'4c'!AB383","v":0},{"$f":"'4c'!AE383","v":0},{"$f":"'4c'!AF383","v":0},{"$f":"'4c'!AG383","v":0},{"$f":"'4c'!AH383","v":0},{"$f":"'4c'!AI383","v":0},{"$f":"'4c'!AJ383","v":0},{"$f":"'4c'!AK383","v":0},{"$f":"'4c'!AL383","v":0},{"$f":"'4c'!AM383","v":0},{"$f":"'4c'!AN383","v":0}]
[null,null,null,null,{"$f":"'4c'!D384","v":"Belgium"},{"$f":"'4c'!G384","v":0},{"$f":"'4c'!H384","v":0},{"$f":"'4c'!I384","v":0.24999999999999958},{"$f":"'4c'!J384","v":0},{"$f":"'4c'!K384","v":0},{"$f":"'4c'!L384","v":0},{"$f":"'4c'!M384","v":0},{"$f":"'4c'!N384","v":0},{"$f":"'4c'!O384","v":0},{"$f":"'4c'!P384","v":8.6956521739130418E-2},{"$f":"'4c'!S384","v":0},{"$f":"'4c'!T384","v":0},{"$f":"'4c'!U384","v":0},{"$f":"'4c'!V384","v":0},{"$f":"'4c'!W384","v":0},{"$f":"'4c'!X384","v":0},{"$f":"'4c'!Y384","v":0},{"$f":"'4c'!Z384","v":0},{"$f":"'4c'!AA384","v":0},{"$f":"'4c'!AB384","v":0},{"$f":"'4c'!AE384","v":2.325581395348833E-2},{"$f":"'4c'!AF384","v":1.7857142857142856E-2},{"$f":"'4c'!AG384","v":0},{"$f":"'4c'!AH384","v":0},{"$f":"'4c'!AI384","v":2.325581395348833E-2},{"$f":"'4c'!AJ384","v":1.7857142857142856E-2},{"$f":"'4c'!AK384","v":0},{"$f":"'4c'!AL384","v":0},{"$f":"'4c'!AM384","v":4.6511627906976757E-2},{"$f":"'4c'!AN384","v":3.5714285714285789E-2}]
[null,null,null,null,{"$f":"'4c'!D385","v":"Belarus"},{"$f":"'4c'!G385","v":0},{"$f":"'4c'!H385","v":0},{"$f":"'4c'!I385","v":0},{"$f":"'4c'!J385","v":0},{"$f":"'4c'!K385","v":0},{"$f":"'4c'!L385","v":0},{"$f":"'4c'!M385","v":0},{"$f":"'4c'!N385","v":0},{"$f":"'4c'!O385","v":0},{"$f":"'4c'!P385","v":0},{"$f":"'4c'!S385","v":0},{"$f":"'4c'!T385","v":0},{"$f":"'4c'!U385","v":0},{"$f":"'4c'!V385","v":0},{"$f":"'4c'!W385","v":0},{"$f":"'4c'!X385","v":0},{"$f":"'4c'!Y385","v":0},{"$f":"'4c'!Z385","v":0},{"$f":"'4c'!AA385","v":0},{"$f":"'4c'!AB385","v":0},{"$f":"'4c'!AE385","v":0},{"$f":"'4c'!AF385","v":0},{"$f":"'4c'!AG385","v":0},{"$f":"'4c'!AH385","v":0},{"$f":"'4c'!AI385","v":0},{"$f":"'4c'!AJ385","v":0},{"$f":"'4c'!AK385","v":0},{"$f":"'4c'!AL385","v":0},{"$f":"'4c'!AM385","v":0},{"$f":"'4c'!AN385","v":0}]
[null,null,null,null,{"$f":"'4c'!D386","v":"Bosnia & Herzegovina"},{"$f":"'4c'!G386","v":0},{"$f":"'4c'!H386","v":0},{"$f":"'4c'!I386","v":0},{"$f":"'4c'!J386","v":0},{"$f":"'4c'!K386","v":0},{"$f":"'4c'!L386","v":0},{"$f":"'4c'!M386","v":0},{"$f":"'4c'!N386","v":0},{"$f":"'4c'!O386","v":0},{"$f":"'4c'!P386","v":0},{"$f":"'4c'!S386","v":0},{"$f":"'4c'!T386","v":0},{"$f":"'4c'!U386","v":0},{"$f":"'4c'!V386","v":0},{"$f":"'4c'!W386","v":0},{"$f":"'4c'!X386","v":0},{"$f":"'4c'!Y386","v":0},{"$f":"'4c'!Z386","v":0},{"$f":"'4c'!AA386","v":0},{"$f":"'4c'!AB386","v":0},{"$f":"'4c'!AE386","v":0},{"$f":"'4c'!AF386","v":0},{"$f":"'4c'!AG386","v":0},{"$f":"'4c'!AH386","v":0},{"$f":"'4c'!AI386","v":0},{"$f":"'4c'!AJ386","v":0},{"$f":"'4c'!AK386","v":0},{"$f":"'4c'!AL386","v":0},{"$f":"'4c'!AM386","v":0},{"$f":"'4c'!AN386","v":0}]
[null,null,null,null,{"$f":"'4c'!D387","v":"Bulgaria"},{"$f":"'4c'!G387","v":0},{"$f":"'4c'!H387","v":0},{"$f":"'4c'!I387","v":0},{"$f":"'4c'!J387","v":0},{"$f":"'4c'!K387","v":0},{"$f":"'4c'!L387","v":0},{"$f":"'4c'!M387","v":0},{"$f":"'4c'!N387","v":0},{"$f":"'4c'!O387","v":0},{"$f":"'4c'!P387","v":0},{"$f":"'4c'!S387","v":0},{"$f":"'4c'!T387","v":0},{"$f":"'4c'!U387","v":0},{"$f":"'4c'!V387","v":0},{"$f":"'4c'!W387","v":0},{"$f":"'4c'!X387","v":0},{"$f":"'4c'!Y387","v":0},{"$f":"'4c'!Z387","v":0},{"$f":"'4c'!AA387","v":0},{"$f":"'4c'!AB387","v":0},{"$f":"'4c'!AE387","v":0},{"$f":"'4c'!AF387","v":0},{"$f":"'4c'!AG387","v":0},{"$f":"'4c'!AH387","v":0},{"$f":"'4c'!AI387","v":0},{"$f":"'4c'!AJ387","v":0},{"$f":"'4c'!AK387","v":0},{"$f":"'4c'!AL387","v":0},{"$f":"'4c'!AM387","v":0},{"$f":"'4c'!AN387","v":0}]
[null,null,null,null,{"$f":"'4c'!D388","v":"Croatia"},{"$f":"'4c'!G388","v":0},{"$f":"'4c'!H388","v":0},{"$f":"'4c'!I388","v":0},{"$f":"'4c'!J388","v":0},{"$f":"'4c'!K388","v":0},{"$f":"'4c'!L388","v":0},{"$f":"'4c'!M388","v":0},{"$f":"'4c'!N388","v":0},{"$f":"'4c'!O388","v":0},{"$f":"'4c'!P388","v":0},{"$f":"'4c'!S388","v":0},{"$f":"'4c'!T388","v":0},{"$f":"'4c'!U388","v":0},{"$f":"'4c'!V388","v":0},{"$f":"'4c'!W388","v":0},{"$f":"'4c'!X388","v":0},{"$f":"'4c'!Y388","v":0},{"$f":"'4c'!Z388","v":0},{"$f":"'4c'!AA388","v":0},{"$f":"'4c'!AB388","v":0},{"$f":"'4c'!AE388","v":0},{"$f":"'4c'!AF388","v":0},{"$f":"'4c'!AG388","v":0},{"$f":"'4c'!AH388","v":0},{"$f":"'4c'!AI388","v":0},{"$f":"'4c'!AJ388","v":0},{"$f":"'4c'!AK388","v":0},{"$f":"'4c'!AL388","v":0},{"$f":"'4c'!AM388","v":0},{"$f":"'4c'!AN388","v":0}]
[null,null,null,null,{"$f":"'4c'!D389","v":"Cyprus"},{"$f":"'4c'!G389","v":0},{"$f":"'4c'!H389","v":0},{"$f":"'4c'!I389","v":0},{"$f":"'4c'!J389","v":0},{"$f":"'4c'!K389","v":0},{"$f":"'4c'!L389","v":0},{"$f":"'4c'!M389","v":0},{"$f":"'4c'!N389","v":0},{"$f":"'4c'!O389","v":0},{"$f":"'4c'!P389","v":0},{"$f":"'4c'!S389","v":0},{"$f":"'4c'!T389","v":0},{"$f":"'4c'!U389","v":0},{"$f":"'4c'!V389","v":0},{"$f":"'4c'!W389","v":0},{"$f":"'4c'!X389","v":0},{"$f":"'4c'!Y389","v":0},{"$f":"'4c'!Z389","v":0},{"$f":"'4c'!AA389","v":0},{"$f":"'4c'!AB389","v":0},{"$f":"'4c'!AE389","v":0},{"$f":"'4c'!AF389","v":0},{"$f":"'4c'!AG389","v":0},{"$f":"'4c'!AH389","v":0},{"$f":"'4c'!AI389","v":0},{"$f":"'4c'!AJ389","v":0},{"$f":"'4c'!AK389","v":0},{"$f":"'4c'!AL389","v":0},{"$f":"'4c'!AM389","v":0},{"$f":"'4c'!AN389","v":0}]
[null,null,null,null,{"$f":"'4c'!D390","v":"Czech Republic"},{"$f":"'4c'!G390","v":0},{"$f":"'4c'!H390","v":0},{"$f":"'4c'!I390","v":0},{"$f":"'4c'!J390","v":0},{"$f":"'4c'!K390","v":0},{"$f":"'4c'!L390","v":0},{"$f":"'4c'!M390","v":0},{"$f":"'4c'!N390","v":0},{"$f":"'4c'!O390","v":0},{"$f":"'4c'!P390","v":0},{"$f":"'4c'!S390","v":0},{"$f":"'4c'!T390","v":0},{"$f":"'4c'!U390","v":0},{"$f":"'4c'!V390","v":0},{"$f":"'4c'!W390","v":0},{"$f":"'4c'!X390","v":0},{"$f":"'4c'!Y390","v":0},{"$f":"'4c'!Z390","v":0},{"$f":"'4c'!AA390","v":0},{"$f":"'4c'!AB390","v":0},{"$f":"'4c'!AE390","v":0},{"$f":"'4c'!AF390","v":0},{"$f":"'4c'!AG390","v":0},{"$f":"'4c'!AH390","v":0},{"$f":"'4c'!AI390","v":0},{"$f":"'4c'!AJ390","v":0},{"$f":"'4c'!AK390","v":0},{"$f":"'4c'!AL390","v":0},{"$f":"'4c'!AM390","v":0},{"$f":"'4c'!AN390","v":0}]
[null,null,null,null,{"$f":"'4c'!D391","v":"Denmark"},{"$f":"'4c'!G391","v":0},{"$f":"'4c'!H391","v":0},{"$f":"'4c'!I391","v":0},{"$f":"'4c'!J391","v":0},{"$f":"'4c'!K391","v":0},{"$f":"'4c'!L391","v":0},{"$f":"'4c'!M391","v":0},{"$f":"'4c'!N391","v":0},{"$f":"'4c'!O391","v":0},{"$f":"'4c'!P391","v":0},{"$f":"'4c'!S391","v":0},{"$f":"'4c'!T391","v":0},{"$f":"'4c'!U391","v":0},{"$f":"'4c'!V391","v":0},{"$f":"'4c'!W391","v":0},{"$f":"'4c'!X391","v":0},{"$f":"'4c'!Y391","v":0},{"$f":"'4c'!Z391","v":0},{"$f":"'4c'!AA391","v":0},{"$f":"'4c'!AB391","v":0},{"$f":"'4c'!AE391","v":0},{"$f":"'4c'!AF391","v":0},{"$f":"'4c'!AG391","v":0},{"$f":"'4c'!AH391","v":0},{"$f":"'4c'!AI391","v":0},{"$f":"'4c'!AJ391","v":0},{"$f":"'4c'!AK391","v":0},{"$f":"'4c'!AL391","v":0},{"$f":"'4c'!AM391","v":0},{"$f":"'4c'!AN391","v":0}]
[null,null,null,null,{"$f":"'4c'!D392","v":"Estonia"},{"$f":"'4c'!G392","v":0},{"$f":"'4c'!H392","v":0},{"$f":"'4c'!I392","v":0},{"$f":"'4c'!J392","v":0},{"$f":"'4c'!K392","v":0},{"$f":"'4c'!L392","v":0},{"$f":"'4c'!M392","v":0},{"$f":"'4c'!N392","v":0},{"$f":"'4c'!O392","v":0},{"$f":"'4c'!P392","v":0},{"$f":"'4c'!S392","v":0},{"$f":"'4c'!T392","v":0},{"$f":"'4c'!U392","v":0},{"$f":"'4c'!V392","v":0},{"$f":"'4c'!W392","v":0},{"$f":"'4c'!X392","v":0},{"$f":"'4c'!Y392","v":0},{"$f":"'4c'!Z392","v":0},{"$f":"'4c'!AA392","v":0},{"$f":"'4c'!AB392","v":0},{"$f":"'4c'!AE392","v":0},{"$f":"'4c'!AF392","v":0},{"$f":"'4c'!AG392","v":0},{"$f":"'4c'!AH392","v":0},{"$f":"'4c'!AI392","v":0},{"$f":"'4c'!AJ392","v":0},{"$f":"'4c'!AK392","v":0},{"$f":"'4c'!AL392","v":0},{"$f":"'4c'!AM392","v":0},{"$f":"'4c'!AN392","v":0}]
[null,null,null,null,{"$f":"'4c'!D393","v":"Finland"},{"$f":"'4c'!G393","v":0},{"$f":"'4c'!H393","v":0},{"$f":"'4c'!I393","v":0},{"$f":"'4c'!J393","v":0},{"$f":"'4c'!K393","v":0},{"$f":"'4c'!L393","v":0},{"$f":"'4c'!M393","v":0},{"$f":"'4c'!N393","v":0},{"$f":"'4c'!O393","v":0},{"$f":"'4c'!P393","v":0},{"$f":"'4c'!S393","v":0},{"$f":"'4c'!T393","v":0},{"$f":"'4c'!U393","v":0},{"$f":"'4c'!V393","v":0},{"$f":"'4c'!W393","v":0},{"$f":"'4c'!X393","v":0},{"$f":"'4c'!Y393","v":0},{"$f":"'4c'!Z393","v":0},{"$f":"'4c'!AA393","v":0},{"$f":"'4c'!AB393","v":0},{"$f":"'4c'!AE393","v":0},{"$f":"'4c'!AF393","v":0},{"$f":"'4c'!AG393","v":0},{"$f":"'4c'!AH393","v":0},{"$f":"'4c'!AI393","v":0},{"$f":"'4c'!AJ393","v":0},{"$f":"'4c'!AK393","v":0},{"$f":"'4c'!AL393","v":0},{"$f":"'4c'!AM393","v":0},{"$f":"'4c'!AN393","v":0}]
[null,null,null,null,{"$f":"'4c'!D394","v":"France"},{"$f":"'4c'!G394","v":0},{"$f":"'4c'!H394","v":0},{"$f":"'4c'!I394","v":0},{"$f":"'4c'!J394","v":0},{"$f":"'4c'!K394","v":0},{"$f":"'4c'!L394","v":0},{"$f":"'4c'!M394","v":0},{"$f":"'4c'!N394","v":0},{"$f":"'4c'!O394","v":0},{"$f":"'4c'!P394","v":0},{"$f":"'4c'!S394","v":0},{"$f":"'4c'!T394","v":0},{"$f":"'4c'!U394","v":0},{"$f":"'4c'!V394","v":0},{"$f":"'4c'!W394","v":0},{"$f":"'4c'!X394","v":0},{"$f":"'4c'!Y394","v":0},{"$f":"'4c'!Z394","v":0},{"$f":"'4c'!AA394","v":0},{"$f":"'4c'!AB394","v":0},{"$f":"'4c'!AE394","v":0},{"$f":"'4c'!AF394","v":0},{"$f":"'4c'!AG394","v":0},{"$f":"'4c'!AH394","v":0},{"$f":"'4c'!AI394","v":0},{"$f":"'4c'!AJ394","v":0},{"$f":"'4c'!AK394","v":0},{"$f":"'4c'!AL394","v":0},{"$f":"'4c'!AM394","v":0},{"$f":"'4c'!AN394","v":0}]
[null,null,null,null,{"$f":"'4c'!D395","v":"Germany"},{"$f":"'4c'!G395","v":0},{"$f":"'4c'!H395","v":0},{"$f":"'4c'!I395","v":0},{"$f":"'4c'!J395","v":0},{"$f":"'4c'!K395","v":0},{"$f":"'4c'!L395","v":0},{"$f":"'4c'!M395","v":0},{"$f":"'4c'!N395","v":0},{"$f":"'4c'!O395","v":0},{"$f":"'4c'!P395","v":0},{"$f":"'4c'!S395","v":0},{"$f":"'4c'!T395","v":0},{"$f":"'4c'!U395","v":0},{"$f":"'4c'!V395","v":0},{"$f":"'4c'!W395","v":0},{"$f":"'4c'!X395","v":0},{"$f":"'4c'!Y395","v":0},{"$f":"'4c'!Z395","v":0},{"$f":"'4c'!AA395","v":0},{"$f":"'4c'!AB395","v":0},{"$f":"'4c'!AE395","v":0},{"$f":"'4c'!AF395","v":0},{"$f":"'4c'!AG395","v":0},{"$f":"'4c'!AH395","v":0},{"$f":"'4c'!AI395","v":0},{"$f":"'4c'!AJ395","v":0},{"$f":"'4c'!AK395","v":0},{"$f":"'4c'!AL395","v":0},{"$f":"'4c'!AM395","v":0},{"$f":"'4c'!AN395","v":0}]
[null,null,null,null,{"$f":"'4c'!D396","v":"Greece"},{"$f":"'4c'!G396","v":0},{"$f":"'4c'!H396","v":0},{"$f":"'4c'!I396","v":0},{"$f":"'4c'!J396","v":0},{"$f":"'4c'!K396","v":0},{"$f":"'4c'!L396","v":0},{"$f":"'4c'!M396","v":0},{"$f":"'4c'!N396","v":0},{"$f":"'4c'!O396","v":0},{"$f":"'4c'!P396","v":0},{"$f":"'4c'!S396","v":0},{"$f":"'4c'!T396","v":0},{"$f":"'4c'!U396","v":0},{"$f":"'4c'!V396","v":0},{"$f":"'4c'!W396","v":0},{"$f":"'4c'!X396","v":0},{"$f":"'4c'!Y396","v":0},{"$f":"'4c'!Z396","v":0},{"$f":"'4c'!AA396","v":0},{"$f":"'4c'!AB396","v":0},{"$f":"'4c'!AE396","v":0},{"$f":"'4c'!AF396","v":0},{"$f":"'4c'!AG396","v":0},{"$f":"'4c'!AH396","v":0},{"$f":"'4c'!AI396","v":0},{"$f":"'4c'!AJ396","v":0},{"$f":"'4c'!AK396","v":0},{"$f":"'4c'!AL396","v":0},{"$f":"'4c'!AM396","v":0},{"$f":"'4c'!AN396","v":0}]
[null,null,null,null,{"$f":"'4c'!D397","v":"Hungary"},{"$f":"'4c'!G397","v":0},{"$f":"'4c'!H397","v":0},{"$f":"'4c'!I397","v":0},{"$f":"'4c'!J397","v":0},{"$f":"'4c'!K397","v":0},{"$f":"'4c'!L397","v":0},{"$f":"'4c'!M397","v":0},{"$f":"'4c'!N397","v":0},{"$f":"'4c'!O397","v":0},{"$f":"'4c'!P397","v":0},{"$f":"'4c'!S397","v":0},{"$f":"'4c'!T397","v":0},{"$f":"'4c'!U397","v":0},{"$f":"'4c'!V397","v":0},{"$f":"'4c'!W397","v":0},{"$f":"'4c'!X397","v":0},{"$f":"'4c'!Y397","v":0},{"$f":"'4c'!Z397","v":0},{"$f":"'4c'!AA397","v":0},{"$f":"'4c'!AB397","v":0},{"$f":"'4c'!AE397","v":0},{"$f":"'4c'!AF397","v":0},{"$f":"'4c'!AG397","v":0},{"$f":"'4c'!AH397","v":0},{"$f":"'4c'!AI397","v":0},{"$f":"'4c'!AJ397","v":0},{"$f":"'4c'!AK397","v":0},{"$f":"'4c'!AL397","v":0},{"$f":"'4c'!AM397","v":0},{"$f":"'4c'!AN397","v":0}]
[null,null,null,null,{"$f":"'4c'!D398","v":"Italy"},{"$f":"'4c'!G398","v":0},{"$f":"'4c'!H398","v":0},{"$f":"'4c'!I398","v":0},{"$f":"'4c'!J398","v":0},{"$f":"'4c'!K398","v":0},{"$f":"'4c'!L398","v":0},{"$f":"'4c'!M398","v":0},{"$f":"'4c'!N398","v":0},{"$f":"'4c'!O398","v":0},{"$f":"'4c'!P398","v":0},{"$f":"'4c'!S398","v":0},{"$f":"'4c'!T398","v":0},{"$f":"'4c'!U398","v":0},{"$f":"'4c'!V398","v":0},{"$f":"'4c'!W398","v":0},{"$f":"'4c'!X398","v":0},{"$f":"'4c'!Y398","v":0},{"$f":"'4c'!Z398","v":0},{"$f":"'4c'!AA398","v":0},{"$f":"'4c'!AB398","v":0},{"$f":"'4c'!AE398","v":0},{"$f":"'4c'!AF398","v":0},{"$f":"'4c'!AG398","v":0},{"$f":"'4c'!AH398","v":0},{"$f":"'4c'!AI398","v":0},{"$f":"'4c'!AJ398","v":0},{"$f":"'4c'!AK398","v":0},{"$f":"'4c'!AL398","v":0},{"$f":"'4c'!AM398","v":0},{"$f":"'4c'!AN398","v":0}]
[null,null,null,null,{"$f":"'4c'!D399","v":"Malta"},{"$f":"'4c'!G399","v":0},{"$f":"'4c'!H399","v":0},{"$f":"'4c'!I399","v":0},{"$f":"'4c'!J399","v":0},{"$f":"'4c'!K399","v":0},{"$f":"'4c'!L399","v":0},{"$f":"'4c'!M399","v":0},{"$f":"'4c'!N399","v":0},{"$f":"'4c'!O399","v":0},{"$f":"'4c'!P399","v":0},{"$f":"'4c'!S399","v":0},{"$f":"'4c'!T399","v":0},{"$f":"'4c'!U399","v":0},{"$f":"'4c'!V399","v":0},{"$f":"'4c'!W399","v":0},{"$f":"'4c'!X399","v":0},{"$f":"'4c'!Y399","v":0},{"$f":"'4c'!Z399","v":0},{"$f":"'4c'!AA399","v":0},{"$f":"'4c'!AB399","v":0},{"$f":"'4c'!AE399","v":0},{"$f":"'4c'!AF399","v":0},{"$f":"'4c'!AG399","v":0},{"$f":"'4c'!AH399","v":0},{"$f":"'4c'!AI399","v":0},{"$f":"'4c'!AJ399","v":0},{"$f":"'4c'!AK399","v":0},{"$f":"'4c'!AL399","v":0},{"$f":"'4c'!AM399","v":0},{"$f":"'4c'!AN399","v":0}]
[null,null,null,null,{"$f":"'4c'!D400","v":"Montenegro"},{"$f":"'4c'!G400","v":0},{"$f":"'4c'!H400","v":0},{"$f":"'4c'!I400","v":0},{"$f":"'4c'!J400","v":0},{"$f":"'4c'!K400","v":0},{"$f":"'4c'!L400","v":0},{"$f":"'4c'!M400","v":0},{"$f":"'4c'!N400","v":0},{"$f":"'4c'!O400","v":0},{"$f":"'4c'!P400","v":0},{"$f":"'4c'!S400","v":0},{"$f":"'4c'!T400","v":0},{"$f":"'4c'!U400","v":0},{"$f":"'4c'!V400","v":0},{"$f":"'4c'!W400","v":0},{"$f":"'4c'!X400","v":0},{"$f":"'4c'!Y400","v":0},{"$f":"'4c'!Z400","v":0},{"$f":"'4c'!AA400","v":0},{"$f":"'4c'!AB400","v":0},{"$f":"'4c'!AE400","v":0},{"$f":"'4c'!AF400","v":0},{"$f":"'4c'!AG400","v":0},{"$f":"'4c'!AH400","v":0},{"$f":"'4c'!AI400","v":0},{"$f":"'4c'!AJ400","v":0},{"$f":"'4c'!AK400","v":0},{"$f":"'4c'!AL400","v":0},{"$f":"'4c'!AM400","v":0},{"$f":"'4c'!AN400","v":0}]
[null,null,null,null,{"$f":"'4c'!D401","v":"Netherlands"},{"$f":"'4c'!G401","v":0},{"$f":"'4c'!H401","v":0},{"$f":"'4c'!I401","v":0},{"$f":"'4c'!J401","v":0},{"$f":"'4c'!K401","v":0},{"$f":"'4c'!L401","v":0},{"$f":"'4c'!M401","v":0},{"$f":"'4c'!N401","v":0},{"$f":"'4c'!O401","v":0},{"$f":"'4c'!P401","v":0},{"$f":"'4c'!S401","v":0},{"$f":"'4c'!T401","v":0},{"$f":"'4c'!U401","v":0},{"$f":"'4c'!V401","v":0},{"$f":"'4c'!W401","v":0},{"$f":"'4c'!X401","v":0},{"$f":"'4c'!Y401","v":0},{"$f":"'4c'!Z401","v":0},{"$f":"'4c'!AA401","v":0},{"$f":"'4c'!AB401","v":0},{"$f":"'4c'!AE401","v":0},{"$f":"'4c'!AF401","v":0},{"$f":"'4c'!AG401","v":0},{"$f":"'4c'!AH401","v":0},{"$f":"'4c'!AI401","v":0},{"$f":"'4c'!AJ401","v":0},{"$f":"'4c'!AK401","v":0},{"$f":"'4c'!AL401","v":0},{"$f":"'4c'!AM401","v":0},{"$f":"'4c'!AN401","v":0}]
[null,null,null,null,{"$f":"'4c'!D402","v":"Norway"},{"$f":"'4c'!G402","v":0},{"$f":"'4c'!H402","v":0},{"$f":"'4c'!I402","v":0},{"$f":"'4c'!J402","v":0},{"$f":"'4c'!K402","v":0},{"$f":"'4c'!L402","v":0},{"$f":"'4c'!M402","v":0},{"$f":"'4c'!N402","v":0},{"$f":"'4c'!O402","v":0},{"$f":"'4c'!P402","v":0},{"$f":"'4c'!S402","v":0},{"$f":"'4c'!T402","v":0},{"$f":"'4c'!U402","v":0},{"$f":"'4c'!V402","v":0},{"$f":"'4c'!W402","v":0},{"$f":"'4c'!X402","v":0},{"$f":"'4c'!Y402","v":0},{"$f":"'4c'!Z402","v":0},{"$f":"'4c'!AA402","v":0},{"$f":"'4c'!AB402","v":0},{"$f":"'4c'!AE402","v":0},{"$f":"'4c'!AF402","v":0},{"$f":"'4c'!AG402","v":0},{"$f":"'4c'!AH402","v":0},{"$f":"'4c'!AI402","v":0},{"$f":"'4c'!AJ402","v":0},{"$f":"'4c'!AK402","v":0},{"$f":"'4c'!AL402","v":0},{"$f":"'4c'!AM402","v":0},{"$f":"'4c'!AN402","v":0}]
[null,null,null,null,{"$f":"'4c'!D403","v":"Poland"},{"$f":"'4c'!G403","v":0},{"$f":"'4c'!H403","v":0},{"$f":"'4c'!I403","v":0},{"$f":"'4c'!J403","v":0},{"$f":"'4c'!K403","v":0},{"$f":"'4c'!L403","v":0},{"$f":"'4c'!M403","v":0},{"$f":"'4c'!N403","v":0},{"$f":"'4c'!O403","v":0},{"$f":"'4c'!P403","v":0},{"$f":"'4c'!S403","v":0},{"$f":"'4c'!T403","v":0},{"$f":"'4c'!U403","v":0},{"$f":"'4c'!V403","v":0},{"$f":"'4c'!W403","v":0},{"$f":"'4c'!X403","v":0},{"$f":"'4c'!Y403","v":0},{"$f":"'4c'!Z403","v":0},{"$f":"'4c'!AA403","v":0},{"$f":"'4c'!AB403","v":0},{"$f":"'4c'!AE403","v":0},{"$f":"'4c'!AF403","v":0},{"$f":"'4c'!AG403","v":0},{"$f":"'4c'!AH403","v":0},{"$f":"'4c'!AI403","v":0},{"$f":"'4c'!AJ403","v":0},{"$f":"'4c'!AK403","v":0},{"$f":"'4c'!AL403","v":0},{"$f":"'4c'!AM403","v":0},{"$f":"'4c'!AN403","v":0}]
[null,null,null,null,{"$f":"'4c'!D404","v":"Portugal"},{"$f":"'4c'!G404","v":0},{"$f":"'4c'!H404","v":0},{"$f":"'4c'!I404","v":0},{"$f":"'4c'!J404","v":0},{"$f":"'4c'!K404","v":0},{"$f":"'4c'!L404","v":0},{"$f":"'4c'!M404","v":0},{"$f":"'4c'!N404","v":0},{"$f":"'4c'!O404","v":0},{"$f":"'4c'!P404","v":0},{"$f":"'4c'!S404","v":0},{"$f":"'4c'!T404","v":0},{"$f":"'4c'!U404","v":0},{"$f":"'4c'!V404","v":0},{"$f":"'4c'!W404","v":0},{"$f":"'4c'!X404","v":0},{"$f":"'4c'!Y404","v":0},{"$f":"'4c'!Z404","v":0},{"$f":"'4c'!AA404","v":0},{"$f":"'4c'!AB404","v":0},{"$f":"'4c'!AE404","v":0},{"$f":"'4c'!AF404","v":0},{"$f":"'4c'!AG404","v":0},{"$f":"'4c'!AH404","v":0},{"$f":"'4c'!AI404","v":0},{"$f":"'4c'!AJ404","v":0},{"$f":"'4c'!AK404","v":0},{"$f":"'4c'!AL404","v":0},{"$f":"'4c'!AM404","v":0},{"$f":"'4c'!AN404","v":0}]
[null,null,null,null,{"$f":"'4c'!D405","v":"Romania"},{"$f":"'4c'!G405","v":0},{"$f":"'4c'!H405","v":0},{"$f":"'4c'!I405","v":0},{"$f":"'4c'!J405","v":0},{"$f":"'4c'!K405","v":0},{"$f":"'4c'!L405","v":0},{"$f":"'4c'!M405","v":0},{"$f":"'4c'!N405","v":0},{"$f":"'4c'!O405","v":0},{"$f":"'4c'!P405","v":0},{"$f":"'4c'!S405","v":0},{"$f":"'4c'!T405","v":0},{"$f":"'4c'!U405","v":0},{"$f":"'4c'!V405","v":0},{"$f":"'4c'!W405","v":0},{"$f":"'4c'!X405","v":0},{"$f":"'4c'!Y405","v":0},{"$f":"'4c'!Z405","v":0},{"$f":"'4c'!AA405","v":0},{"$f":"'4c'!AB405","v":0},{"$f":"'4c'!AE405","v":0},{"$f":"'4c'!AF405","v":0},{"$f":"'4c'!AG405","v":0},{"$f":"'4c'!AH405","v":0},{"$f":"'4c'!AI405","v":0},{"$f":"'4c'!AJ405","v":0},{"$f":"'4c'!AK405","v":0},{"$f":"'4c'!AL405","v":0},{"$f":"'4c'!AM405","v":0},{"$f":"'4c'!AN405","v":0}]
[null,null,null,null,{"$f":"'4c'!D406","v":"Spain"},{"$f":"'4c'!G406","v":0},{"$f":"'4c'!H406","v":0},{"$f":"'4c'!I406","v":0},{"$f":"'4c'!J406","v":0},{"$f":"'4c'!K406","v":0},{"$f":"'4c'!L406","v":0},{"$f":"'4c'!M406","v":0},{"$f":"'4c'!N406","v":0},{"$f":"'4c'!O406","v":0},{"$f":"'4c'!P406","v":0},{"$f":"'4c'!S406","v":0},{"$f":"'4c'!T406","v":0},{"$f":"'4c'!U406","v":0},{"$f":"'4c'!V406","v":0},{"$f":"'4c'!W406","v":0},{"$f":"'4c'!X406","v":0},{"$f":"'4c'!Y406","v":0},{"$f":"'4c'!Z406","v":0},{"$f":"'4c'!AA406","v":0},{"$f":"'4c'!AB406","v":0},{"$f":"'4c'!AE406","v":0},{"$f":"'4c'!AF406","v":0},{"$f":"'4c'!AG406","v":0},{"$f":"'4c'!AH406","v":0},{"$f":"'4c'!AI406","v":0},{"$f":"'4c'!AJ406","v":0},{"$f":"'4c'!AK406","v":0},{"$f":"'4c'!AL406","v":0},{"$f":"'4c'!AM406","v":0},{"$f":"'4c'!AN406","v":0}]
[null,null,null,null,{"$f":"'4c'!D407","v":"Sweden"},{"$f":"'4c'!G407","v":0},{"$f":"'4c'!H407","v":0},{"$f":"'4c'!I407","v":0},{"$f":"'4c'!J407","v":0},{"$f":"'4c'!K407","v":0},{"$f":"'4c'!L407","v":0},{"$f":"'4c'!M407","v":0},{"$f":"'4c'!N407","v":0},{"$f":"'4c'!O407","v":0},{"$f":"'4c'!P407","v":0},{"$f":"'4c'!S407","v":0},{"$f":"'4c'!T407","v":0},{"$f":"'4c'!U407","v":0},{"$f":"'4c'!V407","v":0},{"$f":"'4c'!W407","v":0},{"$f":"'4c'!X407","v":0},{"$f":"'4c'!Y407","v":0},{"$f":"'4c'!Z407","v":0},{"$f":"'4c'!AA407","v":0},{"$f":"'4c'!AB407","v":0},{"$f":"'4c'!AE407","v":0},{"$f":"'4c'!AF407","v":0},{"$f":"'4c'!AG407","v":0},{"$f":"'4c'!AH407","v":0},{"$f":"'4c'!AI407","v":0},{"$f":"'4c'!AJ407","v":0},{"$f":"'4c'!AK407","v":0},{"$f":"'4c'!AL407","v":0},{"$f":"'4c'!AM407","v":0},{"$f":"'4c'!AN407","v":0}]
[null,null,null,null,{"$f":"'4c'!D408","v":"Switzerland"},{"$f":"'4c'!G408","v":0},{"$f":"'4c'!H408","v":0},{"$f":"'4c'!I408","v":0},{"$f":"'4c'!J408","v":0},{"$f":"'4c'!K408","v":0},{"$f":"'4c'!L408","v":0},{"$f":"'4c'!M408","v":0},{"$f":"'4c'!N408","v":0},{"$f":"'4c'!O408","v":0},{"$f":"'4c'!P408","v":0},{"$f":"'4c'!S408","v":0},{"$f":"'4c'!T408","v":0},{"$f":"'4c'!U408","v":0},{"$f":"'4c'!V408","v":0},{"$f":"'4c'!W408","v":0},{"$f":"'4c'!X408","v":0},{"$f":"'4c'!Y408","v":0},{"$f":"'4c'!Z408","v":0},{"$f":"'4c'!AA408","v":0},{"$f":"'4c'!AB408","v":0},{"$f":"'4c'!AE408","v":0},{"$f":"'4c'!AF408","v":0},{"$f":"'4c'!AG408","v":0},{"$f":"'4c'!AH408","v":0},{"$f":"'4c'!AI408","v":0},{"$f":"'4c'!AJ408","v":0},{"$f":"'4c'!AK408","v":0},{"$f":"'4c'!AL408","v":0},{"$f":"'4c'!AM408","v":0},{"$f":"'4c'!AN408","v":0}]
[null,null,null,null,{"$f":"'4c'!D409","v":"Turkey"},{"$f":"'4c'!G409","v":0},{"$f":"'4c'!H409","v":0},{"$f":"'4c'!I409","v":0},{"$f":"'4c'!J409","v":0},{"$f":"'4c'!K409","v":0},{"$f":"'4c'!L409","v":0},{"$f":"'4c'!M409","v":0},{"$f":"'4c'!N409","v":0},{"$f":"'4c'!O409","v":0},{"$f":"'4c'!P409","v":0},{"$f":"'4c'!S409","v":0},{"$f":"'4c'!T409","v":0},{"$f":"'4c'!U409","v":0},{"$f":"'4c'!V409","v":0},{"$f":"'4c'!W409","v":0},{"$f":"'4c'!X409","v":0},{"$f":"'4c'!Y409","v":0},{"$f":"'4c'!Z409","v":0},{"$f":"'4c'!AA409","v":0},{"$f":"'4c'!AB409","v":0},{"$f":"'4c'!AE409","v":0},{"$f":"'4c'!AF409","v":0},{"$f":"'4c'!AG409","v":0},{"$f":"'4c'!AH409","v":0},{"$f":"'4c'!AI409","v":0},{"$f":"'4c'!AJ409","v":0},{"$f":"'4c'!AK409","v":0},{"$f":"'4c'!AL409","v":0},{"$f":"'4c'!AM409","v":0},{"$f":"'4c'!AN409","v":0}]
[null,null,null,null,{"$f":"'4c'!D410","v":"United Kingdom (incl Northern Ireland, Scotland, Wales)"},{"$f":"'4c'!G410","v":0},{"$f":"'4c'!H410","v":0},{"$f":"'4c'!I410","v":0},{"$f":"'4c'!J410","v":0},{"$f":"'4c'!K410","v":0},{"$f":"'4c'!L410","v":0},{"$f":"'4c'!M410","v":0},{"$f":"'4c'!N410","v":0},{"$f":"'4c'!O410","v":0},{"$f":"'4c'!P410","v":0},{"$f":"'4c'!S410","v":0},{"$f":"'4c'!T410","v":0},{"$f":"'4c'!U410","v":0},{"$f":"'4c'!V410","v":0},{"$f":"'4c'!W410","v":0},{"$f":"'4c'!X410","v":0},{"$f":"'4c'!Y410","v":0},{"$f":"'4c'!Z410","v":0},{"$f":"'4c'!AA410","v":0},{"$f":"'4c'!AB410","v":0},{"$f":"'4c'!AE410","v":0},{"$f":"'4c'!AF410","v":0},{"$f":"'4c'!AG410","v":0},{"$f":"'4c'!AH410","v":0},{"$f":"'4c'!AI410","v":0},{"$f":"'4c'!AJ410","v":0},{"$f":"'4c'!AK410","v":0},{"$f":"'4c'!AL410","v":0},{"$f":"'4c'!AM410","v":0},{"$f":"'4c'!AN410","v":0}]
[null,null,null,null,{"$f":"'4c'!D411","v":"Georgia"},{"$f":"'4c'!G411","v":0},{"$f":"'4c'!H411","v":0},{"$f":"'4c'!I411","v":0},{"$f":"'4c'!J411","v":0},{"$f":"'4c'!K411","v":0},{"$f":"'4c'!L411","v":0},{"$f":"'4c'!M411","v":0},{"$f":"'4c'!N411","v":0},{"$f":"'4c'!O411","v":0},{"$f":"'4c'!P411","v":0},{"$f":"'4c'!S411","v":0},{"$f":"'4c'!T411","v":0},{"$f":"'4c'!U411","v":0},{"$f":"'4c'!V411","v":0},{"$f":"'4c'!W411","v":0},{"$f":"'4c'!X411","v":0},{"$f":"'4c'!Y411","v":0},{"$f":"'4c'!Z411","v":0},{"$f":"'4c'!AA411","v":0},{"$f":"'4c'!AB411","v":0},{"$f":"'4c'!AE411","v":0},{"$f":"'4c'!AF411","v":0},{"$f":"'4c'!AG411","v":0},{"$f":"'4c'!AH411","v":0},{"$f":"'4c'!AI411","v":0},{"$f":"'4c'!AJ411","v":0},{"$f":"'4c'!AK411","v":0},{"$f":"'4c'!AL411","v":0},{"$f":"'4c'!AM411","v":0},{"$f":"'4c'!AN411","v":0}]
[null,null,null,null,{"$f":"'4c'!D412","v":"Ireland, Republic of"},{"$f":"'4c'!G412","v":0},{"$f":"'4c'!H412","v":0},{"$f":"'4c'!I412","v":0},{"$f":"'4c'!J412","v":0},{"$f":"'4c'!K412","v":0},{"$f":"'4c'!L412","v":0},{"$f":"'4c'!M412","v":0},{"$f":"'4c'!N412","v":0},{"$f":"'4c'!O412","v":0},{"$f":"'4c'!P412","v":0},{"$f":"'4c'!S412","v":0},{"$f":"'4c'!T412","v":0},{"$f":"'4c'!U412","v":0},{"$f":"'4c'!V412","v":0},{"$f":"'4c'!W412","v":0},{"$f":"'4c'!X412","v":0},{"$f":"'4c'!Y412","v":0},{"$f":"'4c'!Z412","v":0},{"$f":"'4c'!AA412","v":0},{"$f":"'4c'!AB412","v":0},{"$f":"'4c'!AE412","v":0},{"$f":"'4c'!AF412","v":0},{"$f":"'4c'!AG412","v":0},{"$f":"'4c'!AH412","v":0},{"$f":"'4c'!AI412","v":0},{"$f":"'4c'!AJ412","v":0},{"$f":"'4c'!AK412","v":0},{"$f":"'4c'!AL412","v":0},{"$f":"'4c'!AM412","v":0},{"$f":"'4c'!AN412","v":0}]
[null,null,null,null,{"$f":"'4c'!D413","v":"Iceland"},{"$f":"'4c'!G413","v":0},{"$f":"'4c'!H413","v":0},{"$f":"'4c'!I413","v":0},{"$f":"'4c'!J413","v":0},{"$f":"'4c'!K413","v":0},{"$f":"'4c'!L413","v":0},{"$f":"'4c'!M413","v":0},{"$f":"'4c'!N413","v":0},{"$f":"'4c'!O413","v":0},{"$f":"'4c'!P413","v":0},{"$f":"'4c'!S413","v":0},{"$f":"'4c'!T413","v":0},{"$f":"'4c'!U413","v":0},{"$f":"'4c'!V413","v":0},{"$f":"'4c'!W413","v":0},{"$f":"'4c'!X413","v":0},{"$f":"'4c'!Y413","v":0},{"$f":"'4c'!Z413","v":0},{"$f":"'4c'!AA413","v":0},{"$f":"'4c'!AB413","v":0},{"$f":"'4c'!AE413","v":0},{"$f":"'4c'!AF413","v":0},{"$f":"'4c'!AG413","v":0},{"$f":"'4c'!AH413","v":0},{"$f":"'4c'!AI413","v":0},{"$f":"'4c'!AJ413","v":0},{"$f":"'4c'!AK413","v":0},{"$f":"'4c'!AL413","v":0},{"$f":"'4c'!AM413","v":0},{"$f":"'4c'!AN413","v":0}]
[null,null,null,null,{"$f":"'4c'!D414","v":"Kosovo"},{"$f":"'4c'!G414","v":0},{"$f":"'4c'!H414","v":0},{"$f":"'4c'!I414","v":0},{"$f":"'4c'!J414","v":0},{"$f":"'4c'!K414","v":0},{"$f":"'4c'!L414","v":0},{"$f":"'4c'!M414","v":0},{"$f":"'4c'!N414","v":0},{"$f":"'4c'!O414","v":0},{"$f":"'4c'!P414","v":0},{"$f":"'4c'!S414","v":0},{"$f":"'4c'!T414","v":0},{"$f":"'4c'!U414","v":0},{"$f":"'4c'!V414","v":0},{"$f":"'4c'!W414","v":0},{"$f":"'4c'!X414","v":0},{"$f":"'4c'!Y414","v":0},{"$f":"'4c'!Z414","v":0},{"$f":"'4c'!AA414","v":0},{"$f":"'4c'!AB414","v":0},{"$f":"'4c'!AE414","v":0},{"$f":"'4c'!AF414","v":0},{"$f":"'4c'!AG414","v":0},{"$f":"'4c'!AH414","v":0},{"$f":"'4c'!AI414","v":0},{"$f":"'4c'!AJ414","v":0},{"$f":"'4c'!AK414","v":0},{"$f":"'4c'!AL414","v":0},{"$f":"'4c'!AM414","v":0},{"$f":"'4c'!AN414","v":0}]
[null,null,null,null,{"$f":"'4c'!D415","v":"Egypt"},{"$f":"'4c'!G415","v":0},{"$f":"'4c'!H415","v":0},{"$f":"'4c'!I415","v":0},{"$f":"'4c'!J415","v":0},{"$f":"'4c'!K415","v":0},{"$f":"'4c'!L415","v":0},{"$f":"'4c'!M415","v":0},{"$f":"'4c'!N415","v":0},{"$f":"'4c'!O415","v":0},{"$f":"'4c'!P415","v":0},{"$f":"'4c'!S415","v":0},{"$f":"'4c'!T415","v":0},{"$f":"'4c'!U415","v":0},{"$f":"'4c'!V415","v":0},{"$f":"'4c'!W415","v":0},{"$f":"'4c'!X415","v":0},{"$f":"'4c'!Y415","v":0},{"$f":"'4c'!Z415","v":0},{"$f":"'4c'!AA415","v":0},{"$f":"'4c'!AB415","v":0},{"$f":"'4c'!AE415","v":0},{"$f":"'4c'!AF415","v":0},{"$f":"'4c'!AG415","v":0},{"$f":"'4c'!AH415","v":0},{"$f":"'4c'!AI415","v":0},{"$f":"'4c'!AJ415","v":0},{"$f":"'4c'!AK415","v":0},{"$f":"'4c'!AL415","v":0},{"$f":"'4c'!AM415","v":0},{"$f":"'4c'!AN415","v":0}]
[null,null,null,null,{"$f":"'4c'!D416","v":"Israel"},{"$f":"'4c'!G416","v":0},{"$f":"'4c'!H416","v":0},{"$f":"'4c'!I416","v":0},{"$f":"'4c'!J416","v":0},{"$f":"'4c'!K416","v":0},{"$f":"'4c'!L416","v":0},{"$f":"'4c'!M416","v":0},{"$f":"'4c'!N416","v":0},{"$f":"'4c'!O416","v":0},{"$f":"'4c'!P416","v":0},{"$f":"'4c'!S416","v":0},{"$f":"'4c'!T416","v":0},{"$f":"'4c'!U416","v":0},{"$f":"'4c'!V416","v":0},{"$f":"'4c'!W416","v":0},{"$f":"'4c'!X416","v":0},{"$f":"'4c'!Y416","v":0},{"$f":"'4c'!Z416","v":0},{"$f":"'4c'!AA416","v":0},{"$f":"'4c'!AB416","v":0},{"$f":"'4c'!AE416","v":0},{"$f":"'4c'!AF416","v":0},{"$f":"'4c'!AG416","v":0},{"$f":"'4c'!AH416","v":0},{"$f":"'4c'!AI416","v":0},{"$f":"'4c'!AJ416","v":0},{"$f":"'4c'!AK416","v":0},{"$f":"'4c'!AL416","v":0},{"$f":"'4c'!AM416","v":0},{"$f":"'4c'!AN416","v":0}]
[null,null,null,null,{"$f":"'4c'!D417","v":"Jordan"},{"$f":"'4c'!G417","v":0},{"$f":"'4c'!H417","v":0},{"$f":"'4c'!I417","v":0},{"$f":"'4c'!J417","v":0},{"$f":"'4c'!K417","v":0},{"$f":"'4c'!L417","v":0},{"$f":"'4c'!M417","v":0},{"$f":"'4c'!N417","v":0},{"$f":"'4c'!O417","v":0},{"$f":"'4c'!P417","v":0},{"$f":"'4c'!S417","v":0},{"$f":"'4c'!T417","v":0},{"$f":"'4c'!U417","v":0},{"$f":"'4c'!V417","v":0},{"$f":"'4c'!W417","v":0},{"$f":"'4c'!X417","v":0},{"$f":"'4c'!Y417","v":0},{"$f":"'4c'!Z417","v":0},{"$f":"'4c'!AA417","v":0},{"$f":"'4c'!AB417","v":0},{"$f":"'4c'!AE417","v":0},{"$f":"'4c'!AF417","v":0},{"$f":"'4c'!AG417","v":0},{"$f":"'4c'!AH417","v":0},{"$f":"'4c'!AI417","v":0},{"$f":"'4c'!AJ417","v":0},{"$f":"'4c'!AK417","v":0},{"$f":"'4c'!AL417","v":0},{"$f":"'4c'!AM417","v":0},{"$f":"'4c'!AN417","v":0}]
[null,null,null,null,{"$f":"'4c'!D418","v":"Lebanon"},{"$f":"'4c'!G418","v":0},{"$f":"'4c'!H418","v":0},{"$f":"'4c'!I418","v":0},{"$f":"'4c'!J418","v":0},{"$f":"'4c'!K418","v":0},{"$f":"'4c'!L418","v":0},{"$f":"'4c'!M418","v":0},{"$f":"'4c'!N418","v":0},{"$f":"'4c'!O418","v":0},{"$f":"'4c'!P418","v":0},{"$f":"'4c'!S418","v":0},{"$f":"'4c'!T418","v":0},{"$f":"'4c'!U418","v":0},{"$f":"'4c'!V418","v":0},{"$f":"'4c'!W418","v":0},{"$f":"'4c'!X418","v":0},{"$f":"'4c'!Y418","v":0},{"$f":"'4c'!Z418","v":0},{"$f":"'4c'!AA418","v":0},{"$f":"'4c'!AB418","v":0},{"$f":"'4c'!AE418","v":0},{"$f":"'4c'!AF418","v":0},{"$f":"'4c'!AG418","v":0},{"$f":"'4c'!AH418","v":0},{"$f":"'4c'!AI418","v":0},{"$f":"'4c'!AJ418","v":0},{"$f":"'4c'!AK418","v":0},{"$f":"'4c'!AL418","v":0},{"$f":"'4c'!AM418","v":0},{"$f":"'4c'!AN418","v":0}]
[null,null,null,null,{"$f":"'4c'!D419","v":"Tunisia"},{"$f":"'4c'!G419","v":0},{"$f":"'4c'!H419","v":0},{"$f":"'4c'!I419","v":0},{"$f":"'4c'!J419","v":0},{"$f":"'4c'!K419","v":0},{"$f":"'4c'!L419","v":0},{"$f":"'4c'!M419","v":0},{"$f":"'4c'!N419","v":0},{"$f":"'4c'!O419","v":0},{"$f":"'4c'!P419","v":0},{"$f":"'4c'!S419","v":0},{"$f":"'4c'!T419","v":0},{"$f":"'4c'!U419","v":0},{"$f":"'4c'!V419","v":0},{"$f":"'4c'!W419","v":0},{"$f":"'4c'!X419","v":0},{"$f":"'4c'!Y419","v":0},{"$f":"'4c'!Z419","v":0},{"$f":"'4c'!AA419","v":0},{"$f":"'4c'!AB419","v":0},{"$f":"'4c'!AE419","v":0},{"$f":"'4c'!AF419","v":0},{"$f":"'4c'!AG419","v":0},{"$f":"'4c'!AH419","v":0},{"$f":"'4c'!AI419","v":0},{"$f":"'4c'!AJ419","v":0},{"$f":"'4c'!AK419","v":0},{"$f":"'4c'!AL419","v":0},{"$f":"'4c'!AM419","v":0},{"$f":"'4c'!AN419","v":0}]
[null,null,null,null,{"$f":"'4c'!D420","v":"United Arab Emirates"},{"$f":"'4c'!G420","v":0},{"$f":"'4c'!H420","v":0},{"$f":"'4c'!I420","v":0},{"$f":"'4c'!J420","v":0},{"$f":"'4c'!K420","v":0},{"$f":"'4c'!L420","v":0},{"$f":"'4c'!M420","v":0},{"$f":"'4c'!N420","v":0},{"$f":"'4c'!O420","v":0},{"$f":"'4c'!P420","v":0},{"$f":"'4c'!S420","v":0},{"$f":"'4c'!T420","v":0},{"$f":"'4c'!U420","v":0},{"$f":"'4c'!V420","v":0},{"$f":"'4c'!W420","v":0},{"$f":"'4c'!X420","v":0},{"$f":"'4c'!Y420","v":0},{"$f":"'4c'!Z420","v":0},{"$f":"'4c'!AA420","v":0},{"$f":"'4c'!AB420","v":0},{"$f":"'4c'!AE420","v":0},{"$f":"'4c'!AF420","v":0},{"$f":"'4c'!AG420","v":0},{"$f":"'4c'!AH420","v":0},{"$f":"'4c'!AI420","v":0},{"$f":"'4c'!AJ420","v":0},{"$f":"'4c'!AK420","v":0},{"$f":"'4c'!AL420","v":0},{"$f":"'4c'!AM420","v":0},{"$f":"'4c'!AN420","v":0}]
[null,null,null,null,{"$f":"'4c'!D421","v":"Australia"},{"$f":"'4c'!G421","v":0},{"$f":"'4c'!H421","v":0},{"$f":"'4c'!I421","v":0},{"$f":"'4c'!J421","v":0},{"$f":"'4c'!K421","v":0},{"$f":"'4c'!L421","v":0},{"$f":"'4c'!M421","v":0},{"$f":"'4c'!N421","v":0},{"$f":"'4c'!O421","v":0},{"$f":"'4c'!P421","v":0},{"$f":"'4c'!S421","v":0},{"$f":"'4c'!T421","v":0},{"$f":"'4c'!U421","v":0},{"$f":"'4c'!V421","v":0},{"$f":"'4c'!W421","v":0},{"$f":"'4c'!X421","v":0},{"$f":"'4c'!Y421","v":0},{"$f":"'4c'!Z421","v":0},{"$f":"'4c'!AA421","v":0},{"$f":"'4c'!AB421","v":0},{"$f":"'4c'!AE421","v":0},{"$f":"'4c'!AF421","v":0},{"$f":"'4c'!AG421","v":0},{"$f":"'4c'!AH421","v":0},{"$f":"'4c'!AI421","v":0},{"$f":"'4c'!AJ421","v":0},{"$f":"'4c'!AK421","v":0},{"$f":"'4c'!AL421","v":0},{"$f":"'4c'!AM421","v":0},{"$f":"'4c'!AN421","v":0}]
[null,null,null,null,{"$f":"'4c'!D422","v":"Fiji"},{"$f":"'4c'!G422","v":0},{"$f":"'4c'!H422","v":0},{"$f":"'4c'!I422","v":0},{"$f":"'4c'!J422","v":0},{"$f":"'4c'!K422","v":0},{"$f":"'4c'!L422","v":0},{"$f":"'4c'!M422","v":0},{"$f":"'4c'!N422","v":0},{"$f":"'4c'!O422","v":0},{"$f":"'4c'!P422","v":0},{"$f":"'4c'!S422","v":0},{"$f":"'4c'!T422","v":0},{"$f":"'4c'!U422","v":0},{"$f":"'4c'!V422","v":0},{"$f":"'4c'!W422","v":0},{"$f":"'4c'!X422","v":0},{"$f":"'4c'!Y422","v":0},{"$f":"'4c'!Z422","v":0},{"$f":"'4c'!AA422","v":0},{"$f":"'4c'!AB422","v":0},{"$f":"'4c'!AE422","v":0},{"$f":"'4c'!AF422","v":0},{"$f":"'4c'!AG422","v":0},{"$f":"'4c'!AH422","v":0},{"$f":"'4c'!AI422","v":0},{"$f":"'4c'!AJ422","v":0},{"$f":"'4c'!AK422","v":0},{"$f":"'4c'!AL422","v":0},{"$f":"'4c'!AM422","v":0},{"$f":"'4c'!AN422","v":0}]
[null,null,null,null,{"$f":"'4c'!D423","v":"Papua New Guinea"},{"$f":"'4c'!G423","v":0},{"$f":"'4c'!H423","v":0},{"$f":"'4c'!I423","v":0},{"$f":"'4c'!J423","v":0},{"$f":"'4c'!K423","v":0},{"$f":"'4c'!L423","v":0},{"$f":"'4c'!M423","v":0},{"$f":"'4c'!N423","v":0},{"$f":"'4c'!O423","v":0},{"$f":"'4c'!P423","v":0},{"$f":"'4c'!S423","v":0},{"$f":"'4c'!T423","v":0},{"$f":"'4c'!U423","v":0},{"$f":"'4c'!V423","v":0},{"$f":"'4c'!W423","v":0},{"$f":"'4c'!X423","v":0},{"$f":"'4c'!Y423","v":0},{"$f":"'4c'!Z423","v":0},{"$f":"'4c'!AA423","v":0},{"$f":"'4c'!AB423","v":0},{"$f":"'4c'!AE423","v":0},{"$f":"'4c'!AF423","v":0},{"$f":"'4c'!AG423","v":0},{"$f":"'4c'!AH423","v":0},{"$f":"'4c'!AI423","v":0},{"$f":"'4c'!AJ423","v":0},{"$f":"'4c'!AK423","v":0},{"$f":"'4c'!AL423","v":0},{"$f":"'4c'!AM423","v":0},{"$f":"'4c'!AN423","v":0}]
[null,null,null,null,{"$f":"'4c'!D424","v":"Tonga"},{"$f":"'4c'!G424","v":0},{"$f":"'4c'!H424","v":0},{"$f":"'4c'!I424","v":0},{"$f":"'4c'!J424","v":0},{"$f":"'4c'!K424","v":0},{"$f":"'4c'!L424","v":0},{"$f":"'4c'!M424","v":0},{"$f":"'4c'!N424","v":0},{"$f":"'4c'!O424","v":0},{"$f":"'4c'!P424","v":0},{"$f":"'4c'!S424","v":0},{"$f":"'4c'!T424","v":0},{"$f":"'4c'!U424","v":0},{"$f":"'4c'!V424","v":0},{"$f":"'4c'!W424","v":0},{"$f":"'4c'!X424","v":0},{"$f":"'4c'!Y424","v":0},{"$f":"'4c'!Z424","v":0},{"$f":"'4c'!AA424","v":0},{"$f":"'4c'!AB424","v":0},{"$f":"'4c'!AE424","v":0},{"$f":"'4c'!AF424","v":0},{"$f":"'4c'!AG424","v":0},{"$f":"'4c'!AH424","v":0},{"$f":"'4c'!AI424","v":0},{"$f":"'4c'!AJ424","v":0},{"$f":"'4c'!AK424","v":0},{"$f":"'4c'!AL424","v":0},{"$f":"'4c'!AM424","v":0},{"$f":"'4c'!AN424","v":0}]
[null,null,null,null,{"$f":"'4c'!D425","v":"New Zealand"},{"$f":"'4c'!G425","v":0},{"$f":"'4c'!H425","v":0},{"$f":"'4c'!I425","v":0},{"$f":"'4c'!J425","v":0},{"$f":"'4c'!K425","v":0},{"$f":"'4c'!L425","v":0},{"$f":"'4c'!M425","v":0},{"$f":"'4c'!N425","v":0},{"$f":"'4c'!O425","v":0},{"$f":"'4c'!P425","v":0},{"$f":"'4c'!S425","v":0},{"$f":"'4c'!T425","v":0},{"$f":"'4c'!U425","v":0},{"$f":"'4c'!V425","v":0},{"$f":"'4c'!W425","v":0},{"$f":"'4c'!X425","v":0},{"$f":"'4c'!Y425","v":0},{"$f":"'4c'!Z425","v":0},{"$f":"'4c'!AA425","v":0},{"$f":"'4c'!AB425","v":0},{"$f":"'4c'!AE425","v":0},{"$f":"'4c'!AF425","v":0},{"$f":"'4c'!AG425","v":0},{"$f":"'4c'!AH425","v":0},{"$f":"'4c'!AI425","v":0},{"$f":"'4c'!AJ425","v":0},{"$f":"'4c'!AK425","v":0},{"$f":"'4c'!AL425","v":0},{"$f":"'4c'!AM425","v":0},{"$f":"'4c'!AN425","v":0}]
[null,null,null,null,{"$f":"'4c'!D426","v":"Argentina"},{"$f":"'4c'!G426","v":0},{"$f":"'4c'!H426","v":0},{"$f":"'4c'!I426","v":0},{"$f":"'4c'!J426","v":0},{"$f":"'4c'!K426","v":0},{"$f":"'4c'!L426","v":0},{"$f":"'4c'!M426","v":0},{"$f":"'4c'!N426","v":0},{"$f":"'4c'!O426","v":0},{"$f":"'4c'!P426","v":0},{"$f":"'4c'!S426","v":0},{"$f":"'4c'!T426","v":0},{"$f":"'4c'!U426","v":0},{"$f":"'4c'!V426","v":0},{"$f":"'4c'!W426","v":0},{"$f":"'4c'!X426","v":0},{"$f":"'4c'!Y426","v":0},{"$f":"'4c'!Z426","v":0},{"$f":"'4c'!AA426","v":0},{"$f":"'4c'!AB426","v":0},{"$f":"'4c'!AE426","v":0},{"$f":"'4c'!AF426","v":0},{"$f":"'4c'!AG426","v":0},{"$f":"'4c'!AH426","v":0},{"$f":"'4c'!AI426","v":0},{"$f":"'4c'!AJ426","v":0},{"$f":"'4c'!AK426","v":0},{"$f":"'4c'!AL426","v":0},{"$f":"'4c'!AM426","v":0},{"$f":"'4c'!AN426","v":0}]
[null,null,null,null,{"$f":"'4c'!D427","v":"Bolivia"},{"$f":"'4c'!G427","v":0},{"$f":"'4c'!H427","v":0},{"$f":"'4c'!I427","v":0},{"$f":"'4c'!J427","v":0},{"$f":"'4c'!K427","v":0},{"$f":"'4c'!L427","v":0},{"$f":"'4c'!M427","v":0},{"$f":"'4c'!N427","v":0},{"$f":"'4c'!O427","v":0},{"$f":"'4c'!P427","v":0},{"$f":"'4c'!S427","v":0},{"$f":"'4c'!T427","v":0},{"$f":"'4c'!U427","v":0},{"$f":"'4c'!V427","v":0},{"$f":"'4c'!W427","v":0},{"$f":"'4c'!X427","v":0},{"$f":"'4c'!Y427","v":0},{"$f":"'4c'!Z427","v":0},{"$f":"'4c'!AA427","v":0},{"$f":"'4c'!AB427","v":0},{"$f":"'4c'!AE427","v":0},{"$f":"'4c'!AF427","v":0},{"$f":"'4c'!AG427","v":0},{"$f":"'4c'!AH427","v":0},{"$f":"'4c'!AI427","v":0},{"$f":"'4c'!AJ427","v":0},{"$f":"'4c'!AK427","v":0},{"$f":"'4c'!AL427","v":0},{"$f":"'4c'!AM427","v":0},{"$f":"'4c'!AN427","v":0}]
[null,null,null,null,{"$f":"'4c'!D428","v":"Brazil"},{"$f":"'4c'!G428","v":0},{"$f":"'4c'!H428","v":0},{"$f":"'4c'!I428","v":0},{"$f":"'4c'!J428","v":0},{"$f":"'4c'!K428","v":0},{"$f":"'4c'!L428","v":0},{"$f":"'4c'!M428","v":0},{"$f":"'4c'!N428","v":0},{"$f":"'4c'!O428","v":0},{"$f":"'4c'!P428","v":0},{"$f":"'4c'!S428","v":0},{"$f":"'4c'!T428","v":0},{"$f":"'4c'!U428","v":0},{"$f":"'4c'!V428","v":0},{"$f":"'4c'!W428","v":0},{"$f":"'4c'!X428","v":0},{"$f":"'4c'!Y428","v":0},{"$f":"'4c'!Z428","v":0},{"$f":"'4c'!AA428","v":0},{"$f":"'4c'!AB428","v":0},{"$f":"'4c'!AE428","v":0},{"$f":"'4c'!AF428","v":0},{"$f":"'4c'!AG428","v":0},{"$f":"'4c'!AH428","v":0},{"$f":"'4c'!AI428","v":0},{"$f":"'4c'!AJ428","v":0},{"$f":"'4c'!AK428","v":0},{"$f":"'4c'!AL428","v":0},{"$f":"'4c'!AM428","v":0},{"$f":"'4c'!AN428","v":0}]
[null,null,null,null,{"$f":"'4c'!D429","v":"Chile"},{"$f":"'4c'!G429","v":0},{"$f":"'4c'!H429","v":0},{"$f":"'4c'!I429","v":0},{"$f":"'4c'!J429","v":0},{"$f":"'4c'!K429","v":0},{"$f":"'4c'!L429","v":0},{"$f":"'4c'!M429","v":0},{"$f":"'4c'!N429","v":0},{"$f":"'4c'!O429","v":0},{"$f":"'4c'!P429","v":0},{"$f":"'4c'!S429","v":0},{"$f":"'4c'!T429","v":0},{"$f":"'4c'!U429","v":0},{"$f":"'4c'!V429","v":0},{"$f":"'4c'!W429","v":0},{"$f":"'4c'!X429","v":0},{"$f":"'4c'!Y429","v":0},{"$f":"'4c'!Z429","v":0},{"$f":"'4c'!AA429","v":0},{"$f":"'4c'!AB429","v":0},{"$f":"'4c'!AE429","v":0},{"$f":"'4c'!AF429","v":0},{"$f":"'4c'!AG429","v":0},{"$f":"'4c'!AH429","v":0},{"$f":"'4c'!AI429","v":0},{"$f":"'4c'!AJ429","v":0},{"$f":"'4c'!AK429","v":0},{"$f":"'4c'!AL429","v":0},{"$f":"'4c'!AM429","v":0},{"$f":"'4c'!AN429","v":0}]
[null,null,null,null,{"$f":"'4c'!D430","v":"Costa Rica"},{"$f":"'4c'!G430","v":0},{"$f":"'4c'!H430","v":0},{"$f":"'4c'!I430","v":0},{"$f":"'4c'!J430","v":0},{"$f":"'4c'!K430","v":0},{"$f":"'4c'!L430","v":0},{"$f":"'4c'!M430","v":0},{"$f":"'4c'!N430","v":0},{"$f":"'4c'!O430","v":0},{"$f":"'4c'!P430","v":0},{"$f":"'4c'!S430","v":0},{"$f":"'4c'!T430","v":0},{"$f":"'4c'!U430","v":0},{"$f":"'4c'!V430","v":0},{"$f":"'4c'!W430","v":0},{"$f":"'4c'!X430","v":0},{"$f":"'4c'!Y430","v":0},{"$f":"'4c'!Z430","v":0},{"$f":"'4c'!AA430","v":0},{"$f":"'4c'!AB430","v":0},{"$f":"'4c'!AE430","v":0},{"$f":"'4c'!AF430","v":0},{"$f":"'4c'!AG430","v":0},{"$f":"'4c'!AH430","v":0},{"$f":"'4c'!AI430","v":0},{"$f":"'4c'!AJ430","v":0},{"$f":"'4c'!AK430","v":0},{"$f":"'4c'!AL430","v":0},{"$f":"'4c'!AM430","v":0},{"$f":"'4c'!AN430","v":0}]
[null,null,null,null,{"$f":"'4c'!D431","v":"Ecuador"},{"$f":"'4c'!G431","v":0},{"$f":"'4c'!H431","v":0},{"$f":"'4c'!I431","v":0},{"$f":"'4c'!J431","v":0},{"$f":"'4c'!K431","v":0},{"$f":"'4c'!L431","v":0},{"$f":"'4c'!M431","v":0},{"$f":"'4c'!N431","v":0},{"$f":"'4c'!O431","v":0},{"$f":"'4c'!P431","v":0},{"$f":"'4c'!S431","v":0},{"$f":"'4c'!T431","v":0},{"$f":"'4c'!U431","v":0},{"$f":"'4c'!V431","v":0},{"$f":"'4c'!W431","v":0},{"$f":"'4c'!X431","v":0},{"$f":"'4c'!Y431","v":0},{"$f":"'4c'!Z431","v":0},{"$f":"'4c'!AA431","v":0},{"$f":"'4c'!AB431","v":0},{"$f":"'4c'!AE431","v":0},{"$f":"'4c'!AF431","v":0},{"$f":"'4c'!AG431","v":0},{"$f":"'4c'!AH431","v":0},{"$f":"'4c'!AI431","v":0},{"$f":"'4c'!AJ431","v":0},{"$f":"'4c'!AK431","v":0},{"$f":"'4c'!AL431","v":0},{"$f":"'4c'!AM431","v":0},{"$f":"'4c'!AN431","v":0}]
[null,null,null,null,{"$f":"'4c'!D432","v":"El Salvador"},{"$f":"'4c'!G432","v":0},{"$f":"'4c'!H432","v":0},{"$f":"'4c'!I432","v":0},{"$f":"'4c'!J432","v":0},{"$f":"'4c'!K432","v":0},{"$f":"'4c'!L432","v":0},{"$f":"'4c'!M432","v":0},{"$f":"'4c'!N432","v":0},{"$f":"'4c'!O432","v":0},{"$f":"'4c'!P432","v":0},{"$f":"'4c'!S432","v":0},{"$f":"'4c'!T432","v":0},{"$f":"'4c'!U432","v":0},{"$f":"'4c'!V432","v":0},{"$f":"'4c'!W432","v":0},{"$f":"'4c'!X432","v":0},{"$f":"'4c'!Y432","v":0},{"$f":"'4c'!Z432","v":0},{"$f":"'4c'!AA432","v":0},{"$f":"'4c'!AB432","v":0},{"$f":"'4c'!AE432","v":0},{"$f":"'4c'!AF432","v":0},{"$f":"'4c'!AG432","v":0},{"$f":"'4c'!AH432","v":0},{"$f":"'4c'!AI432","v":0},{"$f":"'4c'!AJ432","v":0},{"$f":"'4c'!AK432","v":0},{"$f":"'4c'!AL432","v":0},{"$f":"'4c'!AM432","v":0},{"$f":"'4c'!AN432","v":0}]
[null,null,null,null,{"$f":"'4c'!D433","v":"Guatemala"},{"$f":"'4c'!G433","v":0},{"$f":"'4c'!H433","v":0},{"$f":"'4c'!I433","v":0},{"$f":"'4c'!J433","v":0},{"$f":"'4c'!K433","v":0},{"$f":"'4c'!L433","v":0},{"$f":"'4c'!M433","v":0},{"$f":"'4c'!N433","v":0},{"$f":"'4c'!O433","v":0},{"$f":"'4c'!P433","v":0},{"$f":"'4c'!S433","v":0},{"$f":"'4c'!T433","v":0},{"$f":"'4c'!U433","v":0},{"$f":"'4c'!V433","v":0},{"$f":"'4c'!W433","v":0},{"$f":"'4c'!X433","v":0},{"$f":"'4c'!Y433","v":0},{"$f":"'4c'!Z433","v":0},{"$f":"'4c'!AA433","v":0},{"$f":"'4c'!AB433","v":0},{"$f":"'4c'!AE433","v":0},{"$f":"'4c'!AF433","v":0},{"$f":"'4c'!AG433","v":0},{"$f":"'4c'!AH433","v":0},{"$f":"'4c'!AI433","v":0},{"$f":"'4c'!AJ433","v":0},{"$f":"'4c'!AK433","v":0},{"$f":"'4c'!AL433","v":0},{"$f":"'4c'!AM433","v":0},{"$f":"'4c'!AN433","v":0}]
[null,null,null,null,{"$f":"'4c'!D434","v":"Mexico"},{"$f":"'4c'!G434","v":0},{"$f":"'4c'!H434","v":0},{"$f":"'4c'!I434","v":0},{"$f":"'4c'!J434","v":0},{"$f":"'4c'!K434","v":0},{"$f":"'4c'!L434","v":0},{"$f":"'4c'!M434","v":0},{"$f":"'4c'!N434","v":0},{"$f":"'4c'!O434","v":0},{"$f":"'4c'!P434","v":0},{"$f":"'4c'!S434","v":0},{"$f":"'4c'!T434","v":0},{"$f":"'4c'!U434","v":0},{"$f":"'4c'!V434","v":0},{"$f":"'4c'!W434","v":0},{"$f":"'4c'!X434","v":0},{"$f":"'4c'!Y434","v":0},{"$f":"'4c'!Z434","v":0},{"$f":"'4c'!AA434","v":0},{"$f":"'4c'!AB434","v":0},{"$f":"'4c'!AE434","v":0},{"$f":"'4c'!AF434","v":0},{"$f":"'4c'!AG434","v":0},{"$f":"'4c'!AH434","v":0},{"$f":"'4c'!AI434","v":0},{"$f":"'4c'!AJ434","v":0},{"$f":"'4c'!AK434","v":0},{"$f":"'4c'!AL434","v":0},{"$f":"'4c'!AM434","v":0},{"$f":"'4c'!AN434","v":0}]
[null,null,null,null,{"$f":"'4c'!D435","v":"Nicaragua"},{"$f":"'4c'!G435","v":0},{"$f":"'4c'!H435","v":0},{"$f":"'4c'!I435","v":0},{"$f":"'4c'!J435","v":0},{"$f":"'4c'!K435","v":0},{"$f":"'4c'!L435","v":0},{"$f":"'4c'!M435","v":0},{"$f":"'4c'!N435","v":0},{"$f":"'4c'!O435","v":0},{"$f":"'4c'!P435","v":0},{"$f":"'4c'!S435","v":0},{"$f":"'4c'!T435","v":0},{"$f":"'4c'!U435","v":0},{"$f":"'4c'!V435","v":0},{"$f":"'4c'!W435","v":0},{"$f":"'4c'!X435","v":0},{"$f":"'4c'!Y435","v":0},{"$f":"'4c'!Z435","v":0},{"$f":"'4c'!AA435","v":0},{"$f":"'4c'!AB435","v":0},{"$f":"'4c'!AE435","v":0},{"$f":"'4c'!AF435","v":0},{"$f":"'4c'!AG435","v":0},{"$f":"'4c'!AH435","v":0},{"$f":"'4c'!AI435","v":0},{"$f":"'4c'!AJ435","v":0},{"$f":"'4c'!AK435","v":0},{"$f":"'4c'!AL435","v":0},{"$f":"'4c'!AM435","v":0},{"$f":"'4c'!AN435","v":0}]
[null,null,null,null,{"$f":"'4c'!D436","v":"Paraguay"},{"$f":"'4c'!G436","v":0},{"$f":"'4c'!H436","v":0},{"$f":"'4c'!I436","v":0},{"$f":"'4c'!J436","v":0},{"$f":"'4c'!K436","v":0},{"$f":"'4c'!L436","v":0},{"$f":"'4c'!M436","v":0},{"$f":"'4c'!N436","v":0},{"$f":"'4c'!O436","v":0},{"$f":"'4c'!P436","v":0},{"$f":"'4c'!S436","v":0},{"$f":"'4c'!T436","v":0},{"$f":"'4c'!U436","v":0},{"$f":"'4c'!V436","v":0},{"$f":"'4c'!W436","v":0},{"$f":"'4c'!X436","v":0},{"$f":"'4c'!Y436","v":0},{"$f":"'4c'!Z436","v":0},{"$f":"'4c'!AA436","v":0},{"$f":"'4c'!AB436","v":0},{"$f":"'4c'!AE436","v":0},{"$f":"'4c'!AF436","v":0},{"$f":"'4c'!AG436","v":0},{"$f":"'4c'!AH436","v":0},{"$f":"'4c'!AI436","v":0},{"$f":"'4c'!AJ436","v":0},{"$f":"'4c'!AK436","v":0},{"$f":"'4c'!AL436","v":0},{"$f":"'4c'!AM436","v":0},{"$f":"'4c'!AN436","v":0}]
[null,null,null,null,{"$f":"'4c'!D437","v":"Peru"},{"$f":"'4c'!G437","v":0},{"$f":"'4c'!H437","v":0},{"$f":"'4c'!I437","v":0},{"$f":"'4c'!J437","v":0},{"$f":"'4c'!K437","v":0},{"$f":"'4c'!L437","v":0},{"$f":"'4c'!M437","v":0},{"$f":"'4c'!N437","v":0},{"$f":"'4c'!O437","v":0},{"$f":"'4c'!P437","v":0},{"$f":"'4c'!S437","v":0},{"$f":"'4c'!T437","v":0},{"$f":"'4c'!U437","v":0},{"$f":"'4c'!V437","v":0},{"$f":"'4c'!W437","v":0},{"$f":"'4c'!X437","v":0},{"$f":"'4c'!Y437","v":0},{"$f":"'4c'!Z437","v":0},{"$f":"'4c'!AA437","v":0},{"$f":"'4c'!AB437","v":0},{"$f":"'4c'!AE437","v":0},{"$f":"'4c'!AF437","v":0},{"$f":"'4c'!AG437","v":0},{"$f":"'4c'!AH437","v":0},{"$f":"'4c'!AI437","v":0},{"$f":"'4c'!AJ437","v":0},{"$f":"'4c'!AK437","v":0},{"$f":"'4c'!AL437","v":0},{"$f":"'4c'!AM437","v":0},{"$f":"'4c'!AN437","v":0}]
[null,null,null,null,{"$f":"'4c'!D438","v":"Uruguay"},{"$f":"'4c'!G438","v":0},{"$f":"'4c'!H438","v":0},{"$f":"'4c'!I438","v":0},{"$f":"'4c'!J438","v":0},{"$f":"'4c'!K438","v":0},{"$f":"'4c'!L438","v":0},{"$f":"'4c'!M438","v":0},{"$f":"'4c'!N438","v":0},{"$f":"'4c'!O438","v":0},{"$f":"'4c'!P438","v":0},{"$f":"'4c'!S438","v":0},{"$f":"'4c'!T438","v":0},{"$f":"'4c'!U438","v":0},{"$f":"'4c'!V438","v":0},{"$f":"'4c'!W438","v":0},{"$f":"'4c'!X438","v":0},{"$f":"'4c'!Y438","v":0},{"$f":"'4c'!Z438","v":0},{"$f":"'4c'!AA438","v":0},{"$f":"'4c'!AB438","v":0},{"$f":"'4c'!AE438","v":0},{"$f":"'4c'!AF438","v":0},{"$f":"'4c'!AG438","v":0},{"$f":"'4c'!AH438","v":0},{"$f":"'4c'!AI438","v":0},{"$f":"'4c'!AJ438","v":0},{"$f":"'4c'!AK438","v":0},{"$f":"'4c'!AL438","v":0},{"$f":"'4c'!AM438","v":0},{"$f":"'4c'!AN438","v":0}]
[null,null,null,null,{"$f":"'4c'!D439","v":"United States of America"},{"$f":"'4c'!G439","v":0},{"$f":"'4c'!H439","v":0},{"$f":"'4c'!I439","v":0},{"$f":"'4c'!J439","v":0},{"$f":"'4c'!K439","v":0},{"$f":"'4c'!L439","v":0},{"$f":"'4c'!M439","v":0},{"$f":"'4c'!N439","v":0},{"$f":"'4c'!O439","v":0},{"$f":"'4c'!P439","v":0},{"$f":"'4c'!S439","v":0},{"$f":"'4c'!T439","v":0},{"$f":"'4c'!U439","v":0},{"$f":"'4c'!V439","v":0},{"$f":"'4c'!W439","v":0},{"$f":"'4c'!X439","v":0},{"$f":"'4c'!Y439","v":0},{"$f":"'4c'!Z439","v":0},{"$f":"'4c'!AA439","v":0},{"$f":"'4c'!AB439","v":0},{"$f":"'4c'!AE439","v":0},{"$f":"'4c'!AF439","v":0},{"$f":"'4c'!AG439","v":0},{"$f":"'4c'!AH439","v":0},{"$f":"'4c'!AI439","v":0},{"$f":"'4c'!AJ439","v":0},{"$f":"'4c'!AK439","v":0},{"$f":"'4c'!AL439","v":0},{"$f":"'4c'!AM439","v":0},{"$f":"'4c'!AN439","v":0}]

{"sheet":"3d","index":97,"n_rows":205,"n_cols":53,"rows_kept":205,"cut":false,"hidden":true,"merged":[]}
["Topics in the news - Detail"]
[null,null,null,null,"Newpaper",null,"Radio",null,"Television",null,null,null,null,null,null,null,null,null,null,null,null,null,null,null,null,null,null,null,null,null,null,null,null,null,null,null,null,null,null,null,null,null,null,null,null,{"$f":"E2","v":"Newpaper"},0,"Radio",0,"Television",0,0,0]
[null,null,null,null,"Female","Male","Female","Male","Female","Male",null,null,null,null,null,null,null,null,null,null,null,null,null,null,null,null,null,null,null,null,null,null,null,null,null,null,null,null,null,null,null,null,null,null,null,"Female","Male","Female","Male","Female","Male",0,0]
[null,null,null,null,null,null,null,null,null,null,null,null,null,null,null,null,null,null,null,null,null,null,null,null,null,null,null,null,null,null,null,null,null,null,null,null,null,null,null,null,null,null,null,null,"TOTAL",0,0,0,0,0,0,0,0]
[null,null,1,"Women in political power and decision-making (local, regional, national),",null,null,null,null,null,null,null,null,null,null,null,null,null,null,null,null,null,null,null,null,null,null,null,null,null,null,null,null,null,null,null,null,null,null,null,null,null,null,null,null,{"$f":"SUM(E5:O5)","v":0},{"$f":"IF((E5+F5)>0,E5/(E5+F5),0)","v":0},{"$f":"IF((E5+F5)>0,F5/(E5+F5),0)","v":0},{"$f":"IF((G5+H5)>0,G5/(G5+H5),0)","v":0},{"$f":"IF((G5+H5)>0,H5/(G5+H5),0)","v":0},{"$f":"IF((I5+J5)>0,I5/(I5+J5),0)","v":0},{"$f":"IF((I5+J5)>0,J5/(I5+J5),0)","v":0},{"$f":"IF((K5+L5)>0,K5/(K5+L5),0)","v":0},{"$f":"IF((K5+L5)>0,L5/(K5+L5),0)","v":0}]
[null,null,2,"Women electoral candidates (local, regional, national),",null,null,null,null,5.1000001840293399E-3,5.1000001840293399E-3,null,null,null,null,null,null,null,null,null,null,null,null,null,null,null,null,null,null,null,null,null,null,null,null,null,null,null,null,null,null,null,null,null,null,1.020000036805868E-2,0,0,0,0,0.5,0.5,0,0]
[null,null,3,"Peace, negotiations, treaties…(local, regional, national),",1.4952999539673301E-2,null,null,null,null,null,null,null,null,null,null,null,null,null,null,null,null,null,null,null,null,null,null,null,null,null,null,null,null,null,null,null,null,null,null,null,null,null,null,null,1.4952999539673301E-2,1,0,0,0,0,0,0,0]
[null,null,4,"Other domestic politics/government (local, regional, national), elections, speeches, the political process …",null,1.4952999539673301E-2,null,1.9999999552965199E-2,1.5300000552088E-2,2.0400000736117401E-2,null,null,null,null,null,null,null,null,null,null,null,null,null,null,null,null,null,null,null,null,null,null,null,null,null,null,null,null,null,null,null,null,null,null,7.0653000380843906E-2,0,1,0,1,0.42857142857142777,0.57142857142857229,0,0]
[null,null,5,"Global partnerships (international trade and finance systems, e.g. WTO, IMF, World Bank, debt) …",null,null,null,null,null,null,null,null,null,null,null,null,null,null,null,null,null,null,null,null,null,null,null,null,null,null,null,null,null,null,null,null,null,null,null,null,null,null,null,null,0,0,0,0,0,0,0,0,0]
[null,null,6,"Foreign/international politics, relations with other countries, negotiations, treaties, UN peacekeeping …",7.4764997698366599E-3,1.4952999539673301E-2,1.9999999552965199E-2,3.4999999217689003E-2,1.0200000368058701E-2,3.0600001104175999E-2,null,null,null,null,null,null,null,null,null,null,null,null,null,null,null,null,null,null,null,null,null,null,null,null,null,null,null,null,null,null,null,null,null,null,0.11822949955239886,0.33333333333333359,0.66666666666666641,0.36363636363636426,0.63636363636363569,0.25000000000000061,0.74999999999999944,0,0]
[null,null,7,"National defence, military spending, military training, military parades, internal security …",7.4764997698366599E-3,null,null,4.9999998882412902E-3,null,5.1000001840293399E-3,null,null,null,null,null,null,null,null,null,null,null,null,null,null,null,null,null,null,null,null,null,null,null,null,null,null,null,null,null,null,null,null,null,null,1.7576499842107289E-2,1,0,0,1,0,1,0,0]
[null,null,8,"Other stories on politics and government (specify the subject in 'Comments' section of coding sheet)",null,2.9905999079346698E-2,9.9999997764825804E-3,9.9999997764825804E-3,5.1000001840293399E-3,1.5300000552088E-2,null,null,null,null,null,null,null,null,null,null,null,null,null,null,null,null,null,null,null,null,null,null,null,null,null,null,null,null,null,null,null,null,null,null,7.0305999368429198E-2,0,1,0.5,0.5,0.25000000000000028,0.74999999999999978,0,0]
[null,null,9,"Economic policies, strategies, models (national, international) …",null,1.4952999539673301E-2,null,4.9999998882412902E-3,null,1.0200000368058701E-2,null,null,null,null,null,null,null,null,null,null,null,null,null,null,null,null,null,null,null,null,null,null,null,null,null,null,null,null,null,null,null,null,null,null,3.0152999795973294E-2,0,1,0,1,0,1,0,0]
[null,null,10,"Economic indicators, statistics, business, trade, stock markets …",null,null,null,null,null,5.1000001840293399E-3,null,null,null,null,null,null,null,null,null,null,null,null,null,null,null,null,null,null,null,null,null,null,null,null,null,null,null,null,null,null,null,null,null,null,5.1000001840293399E-3,0,0,0,0,0,1,0,0]
[null,null,11,"Economic crisis, state bailouts of companies, company takeovers and mergers …",null,null,4.9999998882412902E-3,4.9999998882412902E-3,null,null,null,null,null,null,null,null,null,null,null,null,null,null,null,null,null,null,null,null,null,null,null,null,null,null,null,null,null,null,null,null,null,null,null,null,9.9999997764825804E-3,0,0,0.5,0.5,0,0,0,0]
[null,null,12,"Poverty, housing, social welfare, aid to those in need …",null,null,null,null,5.1000001840293399E-3,5.1000001840293399E-3,null,null,null,null,null,null,null,null,null,null,null,null,null,null,null,null,null,null,null,null,null,null,null,null,null,null,null,null,null,null,null,null,null,null,1.020000036805868E-2,0,0,0,0,0.5,0.5,0,0]
[null,null,13,"Women's participation in economic processes (informal work, paid employment, unemployment, unpaid labour)",null,null,null,null,null,null,null,null,null,null,null,null,null,null,null,null,null,null,null,null,null,null,null,null,null,null,null,null,null,null,null,null,null,null,null,null,null,null,null,null,0,0,0,0,0,0,0,0,0]
[null,null,14,"Other labour issues, strikes, trade unions, negotiations, other employment and unemployment …",null,7.4764997698366599E-3,4.9999998882412902E-3,1.4999999664723899E-2,null,null,null,null,null,null,null,null,null,null,null,null,null,null,null,null,null,null,null,null,null,null,null,null,null,null,null,null,null,null,null,null,null,null,null,null,2.7476499322801849E-2,0,1,0.24999999999999967,0.75000000000000044,0,0,0,0]
[null,null,15,"Rural economy, agriculture, farming practices, agricultural policy, land rights …",null,null,null,null,null,null,null,null,null,null,null,null,null,null,null,null,null,null,null,null,null,null,null,null,null,null,null,null,null,null,null,null,null,null,null,null,null,null,null,null,0,0,0,0,0,0,0,0,0]
[null,null,16,"Consumer issues, consumer protection, regulation, prices, consumer fraud …",null,7.4764997698366599E-3,null,4.9999998882412902E-3,5.1000001840293399E-3,5.1000001840293399E-3,null,null,null,null,null,null,null,null,null,null,null,null,null,null,null,null,null,null,null,null,null,null,null,null,null,null,null,null,null,null,null,null,null,null,2.267650002613663E-2,0,1,0,1,0.5,0.5,0,0]
[null,null,17,"Transport, traffic, roads ……",null,null,null,null,5.1000001840293399E-3,null,null,null,null,null,null,null,null,null,null,null,null,null,null,null,null,null,null,null,null,null,null,null,null,null,null,null,null,null,null,null,null,null,null,null,5.1000001840293399E-3,0,0,0,0,1,0,0,0]
[null,null,18,"Other stories on the economy (specify the subject in 'Comments' section of coding sheet)",null,null,null,null,5.1000001840293399E-3,5.1000001840293399E-3,null,null,null,null,null,null,null,null,null,null,null,null,null,null,null,null,null,null,null,null,null,null,null,null,null,null,null,null,null,null,null,null,null,null,1.020000036805868E-2,0,0,0,0,0.5,0.5,0,0]
[null,null,19,"Science, technology, research, funding, discoveries, developments …",null,null,null,null,5.1000001840293399E-3,5.1000001840293399E-3,null,null,null,null,null,null,null,null,null,null,null,null,null,null,null,null,null,null,null,null,null,null,null,null,null,null,null,null,null,null,null,null,null,null,1.020000036805868E-2,0,0,0,0,0.5,0.5,0,0]
[null,null,20,"Medicine, health, hygiene, safety, disability, medical research, funding (apart from HIV-AIDS)…",null,null,null,null,5.1000001840293399E-3,5.1000001840293399E-3,null,null,null,null,null,null,null,null,null,null,null,null,null,null,null,null,null,null,null,null,null,null,null,null,null,null,null,null,null,null,null,null,null,null,1.020000036805868E-2,0,0,0,0,0.5,0.5,0,0]
[null,null,21,"HIV and AIDS, incidence, policy, treatment, people affected …",null,null,null,null,null,null,null,null,null,null,null,null,null,null,null,null,null,null,null,null,null,null,null,null,null,null,null,null,null,null,null,null,null,null,null,null,null,null,null,null,0,0,0,0,0,0,0,0,0]
[null,null,22,"Other epidemics, viruses, contagions, Influenza, BSE, SARS …",null,null,9.9999997764825804E-3,4.9999998882412902E-3,1.5300000552088E-2,2.0400000736117401E-2,null,null,null,null,null,null,null,null,null,null,null,null,null,null,null,null,null,null,null,null,null,null,null,null,null,null,null,null,null,null,null,null,null,null,5.0700000952929272E-2,0,0,0.66666666666666674,0.33333333333333337,0.42857142857142777,0.57142857142857229,0,0]
[null,null,23,"Birth control, fertility, sterilisation, amniocentesis, termination of pregnancy …",null,null,null,null,null,null,null,null,null,null,null,null,null,null,null,null,null,null,null,null,null,null,null,null,null,null,null,null,null,null,null,null,null,null,null,null,null,null,null,null,0,0,0,0,0,0,0,0,0]
[null,null,24,"Environment, nature,   pollution, global warming, ecology, tourism …",7.4764997698366599E-3,null,null,null,5.1000001840293399E-3,5.1000001840293399E-3,null,null,null,null,null,null,null,null,null,null,null,null,null,null,null,null,null,null,null,null,null,null,null,null,null,null,null,null,null,null,null,null,null,null,1.7676500137895339E-2,1,0,0,0,0.5,0.5,0,0]
[null,null,25,"Other stories on science or health (specify the subject in 'Comments' section of coding sheet)",null,null,null,null,1.0200000368058701E-2,null,null,null,null,null,null,null,null,null,null,null,null,null,null,null,null,null,null,null,null,null,null,null,null,null,null,null,null,null,null,null,null,null,null,null,1.0200000368058701E-2,0,0,0,0,1,0,0,0]
[null,null,26,"Development issues, sustainability, community development …",null,null,null,null,null,null,null,null,null,null,null,null,null,null,null,null,null,null,null,null,null,null,null,null,null,null,null,null,null,null,null,null,null,null,null,null,null,null,null,null,0,0,0,0,0,0,0,0,0]
[null,null,27,"Education, child care, nurseries, pre-school to university, adult education, literacy …",null,7.4764997698366599E-3,4.9999998882412902E-3,1.4999999664723899E-2,2.0400000736117401E-2,1.5300000552088E-2,null,null,null,null,null,null,null,null,null,null,null,null,null,null,null,null,null,null,null,null,null,null,null,null,null,null,null,null,null,null,null,null,null,null,6.3176500611007241E-2,0,1,0.24999999999999967,0.75000000000000044,0.57142857142857229,0.42857142857142777,0,0]
[null,null,28,"Family relations, inter-generational conflict, single parents …",null,null,null,null,null,null,null,null,null,null,null,null,null,null,null,null,null,null,null,null,null,null,null,null,null,null,null,null,null,null,null,null,null,null,null,null,null,null,null,null,0,0,0,0,0,0,0,0,0]
[null,null,29,"Human rights, women's rights, children's rights, gay & lesbian rights, rights of minorities ..",null,null,null,9.9999997764825804E-3,null,null,null,null,null,null,null,null,null,null,null,null,null,null,null,null,null,null,null,null,null,null,null,null,null,null,null,null,null,null,null,null,null,null,null,null,9.9999997764825804E-3,0,0,0,1,0,0,0,0]
[null,null,30,"Religion, culture, tradition, controversies, teachings, celebrations, practices …",null,null,null,null,null,null,null,null,null,null,null,null,null,null,null,null,null,null,null,null,null,null,null,null,null,null,null,null,null,null,null,null,null,null,null,null,null,null,null,null,0,0,0,0,0,0,0,0,0]
[null,null,31,"Migration, refugees, asylum seekers, ethnic conflict, integration, racism, xenophobia …",null,null,null,null,null,null,null,null,null,null,null,null,null,null,null,null,null,null,null,null,null,null,null,null,null,null,null,null,null,null,null,null,null,null,null,null,null,null,null,null,0,0,0,0,0,0,0,0,0]
[null,null,32,"Women's movement, activism, events, demonstrations, gender equality advocacy …",null,null,null,null,null,null,null,null,null,null,null,null,null,null,null,null,null,null,null,null,null,null,null,null,null,null,null,null,null,null,null,null,null,null,null,null,null,null,null,null,0,0,0,0,0,0,0,0,0]
[null,null,33,"Changing gender relations, roles and relationships of women and men inside and outside the home …",null,null,null,null,null,null,null,null,null,null,null,null,null,null,null,null,null,null,null,null,null,null,null,null,null,null,null,null,null,null,null,null,null,null,null,null,null,null,null,null,{"$f":"SUM(E37:O37)","v":0},{"$f":"IF((E37+F37)>0,E37/(E37+F37),0)","v":0},{"$f":"IF((E37+F37)>0,F37/(E37+F37),0)","v":0},{"$f":"IF((G37+H37)>0,G37/(G37+H37),0)","v":0},{"$f":"IF((G37+H37)>0,H37/(G37+H37),0)","v":0},{"$f":"IF((I37+J37)>0,I37/(I37+J37),0)","v":0},{"$f":"IF((I37+J37)>0,J37/(I37+J37),0)","v":0},{"$f":"IF((K37+L37)>0,K37/(K37+L37),0)","v":0},{"$f":"IF((K37+L37)>0,L37/(K37+L37),0)","v":0}]
[null,null,34,"Family law, family codes, property law, inheritance law and rights …",null,null,null,null,null,null,null,null,null,null,null,null,null,null,null,null,null,null,null,null,null,null,null,null,null,null,null,null,null,null,null,null,null,null,null,null,null,null,null,null,0,0,0,0,0,0,0,0,0]
[null,null,35,"Legal system, judicial system, legislation (apart from family, property & inheritance law) …",null,null,null,1.9999999552965199E-2,1.0200000368058701E-2,null,null,null,null,null,null,null,null,null,null,null,null,null,null,null,null,null,null,null,null,null,null,null,null,null,null,null,null,null,null,null,null,null,null,null,3.0199999921023901E-2,0,0,0,1,1,0,0,0]
[null,null,36,"Other stories on social or legal issues (specify the subject in 'Comments' section of coding sheet)",null,null,1.4999999664723899E-2,1.4999999664723899E-2,3.0600001104175999E-2,2.55000009201467E-2,null,null,null,null,null,null,null,null,null,null,null,null,null,null,null,null,null,null,null,null,null,null,null,null,null,null,null,null,null,null,null,null,null,null,8.6100001353770494E-2,0,0,0.5,0.5,0.54545454545454508,0.45454545454545486,0,0]
[null,null,37,"Non-violent crime, bribery, theft, drug-dealing, corruption, (including political corruption/malpractice) …",null,7.4764997698366599E-3,null,9.9999997764825804E-3,5.1000001840293399E-3,5.1000001840293399E-3,null,null,null,null,null,null,null,null,null,null,null,null,null,null,null,null,null,null,null,null,null,null,null,null,null,null,null,null,null,null,null,null,null,null,2.7676499914377921E-2,0,1,0,1,0.5,0.5,0,0]
[null,null,38,"Violent crime, murder, abduction, kidnapping, assault, drug-related violence …",null,null,4.9999998882412902E-3,2.49999994412065E-2,null,null,null,null,null,null,null,null,null,null,null,null,null,null,null,null,null,null,null,null,null,null,null,null,null,null,null,null,null,null,null,null,null,null,null,null,2.9999999329447791E-2,0,0,0.16666666666666638,0.83333333333333359,0,0,0,0]
[null,null,39,"Gender-based violence, feminicide, harassment, domestic violence, rape, trafficking, genital mutilation …",null,1.4952999539673301E-2,null,null,1.0200000368058701E-2,1.0200000368058701E-2,null,null,null,null,null,null,null,null,null,null,null,null,null,null,null,null,null,null,null,null,null,null,null,null,null,null,null,null,null,null,null,null,null,null,3.5353000275790705E-2,0,1,0,0,0.5,0.5,0,0]
[null,null,40,"Child abuse, sexual violence against children, trafficking, neglect.",null,null,null,null,1.0200000368058701E-2,2.0400000736117401E-2,null,null,null,null,null,null,null,null,null,null,null,null,null,null,null,null,null,null,null,null,null,null,null,null,null,null,null,null,null,null,null,null,null,null,3.06000011041761E-2,0,0,0,0,0.33333333333333337,0.66666666666666674,0,0]
[null,null,41,"War, civil war, terrorism, state-based violence …",7.4764997698366599E-3,null,9.9999997764825804E-3,4.9999998882412902E-3,1.0200000368058701E-2,2.0400000736117401E-2,null,null,null,null,null,null,null,null,null,null,null,null,null,null,null,null,null,null,null,null,null,null,null,null,null,null,null,null,null,null,null,null,null,null,5.3076500538736637E-2,1,0,0.66666666666666674,0.33333333333333337,0.33333333333333337,0.66666666666666674,0,0]
[null,null,42,"Riots, demonstrations, public disorder …",null,null,null,null,null,null,null,null,null,null,null,null,null,null,null,null,null,null,null,null,null,null,null,null,null,null,null,null,null,null,null,null,null,null,null,null,null,null,null,null,0,0,0,0,0,0,0,0,0]
[null,null,43,"Disaster, accident, famine, earthquake, flood, hurricane, plane crash, car crash …",null,null,null,4.9999998882412902E-3,1.0200000368058701E-2,1.5300000552088E-2,null,null,null,null,null,null,null,null,null,null,null,null,null,null,null,null,null,null,null,null,null,null,null,null,null,null,null,null,null,null,null,null,null,null,3.0500000808387988E-2,0,0,0,1,0.4000000000000008,0.5999999999999992,0,0]
[null,null,44,"Other stories on crime and violence (specify the subject in 'Comments' section of coding sheet)",null,7.4764997698366599E-3,null,4.9999998882412902E-3,null,null,null,null,null,null,null,null,null,null,null,null,null,null,null,null,null,null,null,null,null,null,null,null,null,null,null,null,null,null,null,null,null,null,null,null,1.247649965807795E-2,0,1,0,1,0,0,0,0]
[null,null,45,"Celebrity news, births, marriages, deaths, obituaries, famous people, royalty …",null,null,null,null,null,null,null,null,null,null,null,null,null,null,null,null,null,null,null,null,null,null,null,null,null,null,null,null,null,null,null,null,null,null,null,null,null,null,null,null,0,0,0,0,0,0,0,0,0]
[null,null,46,"Arts, entertainment, leisure, cinema, theatre, books, dance …",7.4764997698366599E-3,2.9905999079346698E-2,4.9999998882412902E-3,1.4999999664723899E-2,1.0200000368058701E-2,1.5300000552088E-2,null,null,null,null,null,null,null,null,null,null,null,null,null,null,null,null,null,null,null,null,null,null,null,null,null,null,null,null,null,null,null,null,null,null,8.2882499322295244E-2,0.19999999999999971,0.80000000000000038,0.24999999999999967,0.75000000000000044,0.4000000000000008,0.5999999999999992,0,0]
[null,null,47,"Media, including new media (computers, internet), portrayal of women and/or men, pornography …",null,null,null,null,null,null,null,null,null,null,null,null,null,null,null,null,null,null,null,null,null,null,null,null,null,null,null,null,null,null,null,null,null,null,null,null,null,null,null,null,0,0,0,0,0,0,0,0,0]
[null,null,48,"Beauty contests, models, fashion, beauty aids, cosmetic surgery …",null,null,null,null,null,null,null,null,null,null,null,null,null,null,null,null,null,null,null,null,null,null,null,null,null,null,null,null,null,null,null,null,null,null,null,null,null,null,null,null,0,0,0,0,0,0,0,0,0]
[null,null,49,"Sports, events, players, facilities, training, policies, funding …",null,1.4952999539673301E-2,4.9999998882412902E-3,null,null,5.1000001840293399E-3,null,null,null,null,null,null,null,null,null,null,null,null,null,null,null,null,null,null,null,null,null,null,null,null,null,null,null,null,null,null,null,null,null,null,2.5052999611943932E-2,0,1,1,0,0,1,0,0]
[null,null,50,"Other stories on celebrities, arts, media (specify the subject in 'Comments' section of coding sheet)",7.4764997698366599E-3,null,null,null,null,1.0200000368058701E-2,null,null,null,null,null,null,null,null,null,null,null,null,null,null,null,null,null,null,null,null,null,null,null,null,null,null,null,null,null,null,null,null,null,null,1.767650013789536E-2,1,0,0,0,0,1,0,0]
[null,null,51,"News about the girl child, including, cultural attitudes and practices impinging on girls, education, health, economic exploitation, violence (ONLY WHERE EMPHASIS IS ON THE GIRL CHILD)…",null,null,null,null,null,null,null,null,null,null,null,null,null,null,null,null,null,null,null,null,null,null,null,null,null,null,null,null,null,null,null,null,null,null,null,null,null,null,null,null,0,0,0,0,0,0,0,0,0]
[null,null,52,"Other subject: use only if none of the above subject codes is suitable (specify the subject in 'Comments' section of coding sheet)",null,null,null,null,5.1000001840293399E-3,null,null,null,null,null,null,null,null,null,null,null,null,null,null,null,null,null,null,null,null,null,null,null,null,null,null,null,null,null,null,null,null,null,null,null,5.1000001840293399E-3,0,0,0,0,1,0,0,0]
[null,null,null,null,null,null,null,null,null,null,null,null,null,null,null,null,null,null,null,null,null,null,null,null,null,null,null,null,null,null,null,null,null,null,null,null,null,null,null,null,null,null,null,null,0,0,0,0,0,0,0,0,0]
[null,null,null,null,null,null,null,null,null,null,null,null,null,null,null,null,null,null,null,null,null,null,null,null,null,null,null,null,null,null,null,null,null,null,null,null,null,null,null,null,null,null,null,null,0,0,0,0,0,0,0,0,0]
[null,null,null,null,null,null,null,null,null,null,null,null,null,null,null,null,null,null,null,null,null,null,null,null,null,null,null,null,null,null,null,null,null,null,null,null,null,null,null,null,null,null,null,null,0,0,0,0,0,0,0,0,0]
[null,null,null,null,null,null,null,null,null,null,null,null,null,null,null,null,null,null,null,null,null,null,null,null,null,null,null,null,null,null,null,null,null,null,null,null,null,null,null,null,null,null,null,null,0,0,0,0,0,0,0,0,0]
[null,null,null,null,null,null,null,null,null,null,null,null,null,null,null,null,null,null,null,null,null,null,null,null,null,null,null,null,null,null,null,null,null,null,null,null,null,null,null,null,null,null,null,null,0,0,0,0,0,0,0,0,0]
[null,null,null,null,null,null,null,null,null,null,null,null,null,null,null,null,null,null,null,null,null,null,null,null,null,null,null,null,null,null,null,null,null,null,null,null,null,null,null,null,null,null,null,null,0,0,0,0,0,0,0,0,0]
[null,null,null,null,null,null,null,null,null,null,null,null,null,null,null,null,null,null,null,null,null,null,null,null,null,null,null,null,null,null,null,null,null,null,null,null,null,null,null,null,null,null,null,null,0,0,0,0,0,0,0,0,0]
[null,null,null,null,null,null,null,null,null,null,null,null,null,null,null,null,null,null,null,null,null,null,null,null,null,null,null,null,null,null,null,null,null,null,null,null,null,null,null,null,null,null,null,null,0,0,0,0,0,0,0,0,0]
[null,null,null,null,null,null,null,null,null,null,null,null,null,null,null,null,null,null,null,null,null,null,null,null,null,null,null,null,null,null,null,null,null,null,null,null,null,null,null,null,null,null,null,null,0,0,0,0,0,0,0,0,0]
[null,null,null,null,null,null,null,null,null,null,null,null,null,null,null,null,null,null,null,null,null,null,null,null,null,null,null,null,null,null,null,null,null,null,null,null,null,null,null,null,null,null,null,null,0,0,0,0,0,0,0,0,0]
[null,null,null,null,null,null,null,null,null,null,null,null,null,null,null,null,null,null,null,null,null,null,null,null,null,null,null,null,null,null,null,null,null,null,null,null,null,null,null,null,null,null,null,null,0,0,0,0,0,0,0,0,0]
[null,null,null,"TOTAL",{"$f":"SUM(E5:E67)","v":5.9811998158693251E-2},0.17195949470624319,9.4999997876584585E-2,0.22999999485909958,0.21930000791326176,0.28560001030564314,null,null,null,null,null,null,null,null,null,null,null,null,null,null,null,null,null,null,null,null,null,null,null,null,null,null,null,null,null,null,null,null,null,null,1.0616715038195255,0.25806451612903214,0.74193548387096786,0.29230769230769227,0.70769230769230784,0.43434343434343436,0.56565656565656552,0,0]
[]
[null,null,{"$f":"C5","v":1},"Women in political power and decision-making (local, regional, national),",{"$f":"IF(E$68>0,E5/E$68,0)","v":0},0,0,0,0,0,0,0,0,0,0,0,0,0,0,0]
[null,null,2,"Women electoral candidates (local, regional, national),",{"$f":"IF(E$68>0,E6/E$68,0)","v":0},0,0,0,2.3255813953488358E-2,1.7857142857142849E-2,0,0,0,0,0,0,0,0,0,0]
[null,null,3,"Peace, negotiations, treaties…(local, regional, national),",{"$f":"IF(E$68>0,E7/E$68,0)","v":0.24999999999999981},0,0,0,0,0,0,0,0,0,0,0,0,0,0,0]
[null,null,4,"Other domestic politics/government (local, regional, national), elections, speeches, the political process …",{"$f":"IF(E$68>0,E8/E$68,0)","v":0},8.6956521739130321E-2,0,8.6956521739130516E-2,6.9767441860464977E-2,7.142857142857155E-2,0,0,0,0,0,0,0,0,0,0]
[null,null,5,"Global partnerships (international trade and finance systems, e.g. WTO, IMF, World Bank, debt) …",{"$f":"IF(E$68>0,E9/E$68,0)","v":0},0,0,0,0,0,0,0,0,0,0,0,0,0,0,0]
[null,null,6,"Foreign/international politics, relations with other countries, negotiations, treaties, UN peacekeeping …",{"$f":"IF(E$68>0,E10/E$68,0)","v":0.12500000000000006},8.6956521739130321E-2,0.21052631578947392,0.15217391304347799,4.6511627906976806E-2,0.10714285714285697,0,0,0,0,0,0,0,0,0,0]
[null,null,7,"National defence, military spending, military training, military parades, internal security …",{"$f":"IF(E$68>0,E11/E$68,0)","v":0.12500000000000006},0,0,2.1739130434782587E-2,0,1.7857142857142849E-2,0,0,0,0,0,0,0,0,0,0]
[null,null,8,"Other stories on politics and government (specify the subject in 'Comments' section of coding sheet)",{"$f":"IF(E$68>0,E12/E$68,0)","v":0},0.1739130434782612,0.10526315789473677,4.3478260869565175E-2,2.3255813953488358E-2,5.3571428571428485E-2,0,0,0,0,0,0,0,0,0,0]
[null,null,9,"Economic policies, strategies, models (national, international) …",{"$f":"IF(E$68>0,E13/E$68,0)","v":0},8.6956521739130321E-2,0,2.1739130434782587E-2,0,3.5714285714285775E-2,0,0,0,0,0,0,0,0,0,0]
[null,null,10,"Economic indicators, statistics, business, trade, stock markets …",{"$f":"IF(E$68>0,E14/E$68,0)","v":0},0,0,0,0,1.7857142857142849E-2,0,0,0,0,0,0,0,0,0,0]
[null,null,11,"Economic crisis, state bailouts of companies, company takeovers and mergers …",{"$f":"IF(E$68>0,E15/E$68,0)","v":0},0,5.2631578947368383E-2,2.1739130434782587E-2,0,0,0,0,0,0,0,0,0,0,0,0]
[null,null,12,"Poverty, housing, social welfare, aid to those in need …",{"$f":"IF(E$68>0,E16/E$68,0)","v":0},0,0,0,2.3255813953488358E-2,1.7857142857142849E-2,0,0,0,0,0,0,0,0,0,0]
[null,null,13,"Women's participation in economic processes (informal work, paid employment, unemployment, unpaid labour)",{"$f":"IF(E$68>0,E17/E$68,0)","v":0},0,0,0,0,0,0,0,0,0,0,0,0,0,0,0]
[null,null,14,"Other labour issues, strikes, trade unions, negotiations, other employment and unemployment …",{"$f":"IF(E$68>0,E18/E$68,0)","v":0},4.3478260869565216E-2,5.2631578947368383E-2,6.521739130434788E-2,0,0,0,0,0,0,0,0,0,0,0,0]
[null,null,15,"Rural economy, agriculture, farming practices, agricultural policy, land rights …",{"$f":"IF(E$68>0,E19/E$68,0)","v":0},0,0,0,0,0,0,0,0,0,0,0,0,0,0,0]
[null,null,16,"Consumer issues, consumer protection, regulation, prices, consumer fraud …",{"$f":"IF(E$68>0,E20/E$68,0)","v":0},4.3478260869565216E-2,0,2.1739130434782587E-2,2.3255813953488358E-2,1.7857142857142849E-2,0,0,0,0,0,0,0,0,0,0]
[null,null,17,"Transport, traffic, roads ……",{"$f":"IF(E$68>0,E21/E$68,0)","v":0},0,0,0,2.3255813953488358E-2,0,0,0,0,0,0,0,0,0,0,0]
[null,null,18,"Other stories on the economy (specify the subject in 'Comments' section of coding sheet)",{"$f":"IF(E$68>0,E22/E$68,0)","v":0},0,0,0,2.3255813953488358E-2,1.7857142857142849E-2,0,0,0,0,0,0,0,0,0,0]
[null,null,19,"Science, technology, research, funding, discoveries, developments …",{"$f":"IF(E$68>0,E23/E$68,0)","v":0},0,0,0,2.3255813953488358E-2,1.7857142857142849E-2,0,0,0,0,0,0,0,0,0,0]
[null,null,20,"Medicine, health, hygiene, safety, disability, medical research, funding (apart from HIV-AIDS)…",{"$f":"IF(E$68>0,E24/E$68,0)","v":0},0,0,0,2.3255813953488358E-2,1.7857142857142849E-2,0,0,0,0,0,0,0,0,0,0]
[null,null,{"$f":"C25","v":21},"HIV and AIDS, incidence, policy, treatment, people affected …",{"$f":"IF(E$68>0,E25/E$68,0)","v":0},0,0,0,0,0,0,0,0,0,0,0,0,0,0,0]
[null,null,22,"Other epidemics, viruses, contagions, Influenza, BSE, SARS …",{"$f":"IF(E$68>0,E26/E$68,0)","v":0},0,0.10526315789473677,2.1739130434782587E-2,6.9767441860464977E-2,7.142857142857155E-2,0,0,0,0,0,0,0,0,0,0]
[null,null,23,"Birth control, fertility, sterilisation, amniocentesis, termination of pregnancy …",{"$f":"IF(E$68>0,E27/E$68,0)","v":0},0,0,0,0,0,0,0,0,0,0,0,0,0,0,0]
[null,null,24,"Environment, nature,   pollution, global warming, ecology, tourism …",{"$f":"IF(E$68>0,E28/E$68,0)","v":0.12500000000000006},0,0,0,2.3255813953488358E-2,1.7857142857142849E-2,0,0,0,0,0,0,0,0,0,0]
[null,null,25,"Other stories on science or health (specify the subject in 'Comments' section of coding sheet)",{"$f":"IF(E$68>0,E29/E$68,0)","v":0},0,0,0,4.6511627906976806E-2,0,0,0,0,0,0,0,0,0,0,0]
[null,null,26,"Development issues, sustainability, community development …",{"$f":"IF(E$68>0,E30/E$68,0)","v":0},0,0,0,0,0,0,0,0,0,0,0,0,0,0,0]
[null,null,27,"Education, child care, nurseries, pre-school to university, adult education, literacy …",{"$f":"IF(E$68>0,E31/E$68,0)","v":0},4.3478260869565216E-2,5.2631578947368383E-2,6.521739130434788E-2,9.3023255813953612E-2,5.3571428571428485E-2,0,0,0,0,0,0,0,0,0,0]
[null,null,28,"Family relations, inter-generational conflict, single parents …",{"$f":"IF(E$68>0,E32/E$68,0)","v":0},0,0,0,0,0,0,0,0,0,0,0,0,0,0,0]
[null,null,29,"Human rights, women's rights, children's rights, gay & lesbian rights, rights of minorities ..",{"$f":"IF(E$68>0,E33/E$68,0)","v":0},0,0,4.3478260869565175E-2,0,0,0,0,0,0,0,0,0,0,0,0]
[null,null,30,"Religion, culture, tradition, controversies, teachings, celebrations, practices …",{"$f":"IF(E$68>0,E34/E$68,0)","v":0},0,0,0,0,0,0,0,0,0,0,0,0,0,0,0]
[null,null,31,"Migration, refugees, asylum seekers, ethnic conflict, integration, racism, xenophobia …",{"$f":"IF(E$68>0,E35/E$68,0)","v":0},0,0,0,0,0,0,0,0,0,0,0,0,0,0,0]
[null,null,32,"Women's movement, activism, events, demonstrations, gender equality advocacy …",{"$f":"IF(E$68>0,E36/E$68,0)","v":0},0,0,0,0,0,0,0,0,0,0,0,0,0,0,0]
[null,null,33,"Changing gender relations, roles and relationships of women and men inside and outside the home …",{"$f":"IF(E$68>0,E37/E$68,0)","v":0},0,0,0,0,0,0,0,0,0,0,0,0,0,0,0]
[null,null,34,"Family law, family codes, property law, inheritance law and rights …",{"$f":"IF(E$68>0,E38/E$68,0)","v":0},0,0,0,0,0,0,0,0,0,0,0,0,0,0,0]
[null,null,35,"Legal system, judicial system, legislation (apart from family, property & inheritance law) …",{"$f":"IF(E$68>0,E39/E$68,0)","v":0},0,0,8.6956521739130516E-2,4.6511627906976806E-2,0,0,0,0,0,0,0,0,0,0,0]
[null,null,36,"Other stories on social or legal issues (specify the subject in 'Comments' section of coding sheet)",{"$f":"IF(E$68>0,E40/E$68,0)","v":0},0,0.15789473684210545,6.521739130434788E-2,0.13953488372092995,8.928571428571426E-2,0,0,0,0,0,0,0,0,0,0]
[null,null,37,"Non-violent crime, bribery, theft, drug-dealing, corruption, (including political corruption/malpractice) …",{"$f":"IF(E$68>0,E41/E$68,0)","v":0},4.3478260869565216E-2,0,4.3478260869565175E-2,2.3255813953488358E-2,1.7857142857142849E-2,0,0,0,0,0,0,0,0,0,0]
[null,null,38,"Violent crime, murder, abduction, kidnapping, assault, drug-related violence …",{"$f":"IF(E$68>0,E42/E$68,0)","v":0},0,5.2631578947368383E-2,0.10869565217391315,0,0,0,0,0,0,0,0,0,0,0,0]
[null,null,39,"Gender-based violence, feminicide, harassment, domestic violence, rape, trafficking, genital mutilation …",{"$f":"IF(E$68>0,E43/E$68,0)","v":0},8.6956521739130321E-2,0,0,4.6511627906976806E-2,3.5714285714285775E-2,0,0,0,0,0,0,0,0,0,0]
[null,null,40,"Child abuse, sexual violence against children, trafficking, neglect.",{"$f":"IF(E$68>0,E44/E$68,0)","v":0},0,0,0,4.6511627906976806E-2,7.142857142857155E-2,0,0,0,0,0,0,0,0,0,0]
[null,null,{"$f":"C45","v":41},"War, civil war, terrorism, state-based violence …",{"$f":"IF(E$68>0,E45/E$68,0)","v":0.12500000000000006},0,0.10526315789473677,2.1739130434782587E-2,4.6511627906976806E-2,7.142857142857155E-2,0,0,0,0,0,0,0,0,0,0]
[null,null,42,"Riots, demonstrations, public disorder …",{"$f":"IF(E$68>0,E46/E$68,0)","v":0},0,0,0,0,0,0,0,0,0,0,0,0,0,0,0]
[null,null,43,"Disaster, accident, famine, earthquake, flood, hurricane, plane crash, car crash …",{"$f":"IF(E$68>0,E47/E$68,0)","v":0},0,0,2.1739130434782587E-2,4.6511627906976806E-2,5.3571428571428485E-2,0,0,0,0,0,0,0,0,0,0]
[null,null,44,"Other stories on crime and violence (specify the subject in 'Comments' section of coding sheet)",{"$f":"IF(E$68>0,E48/E$68,0)","v":0},4.3478260869565216E-2,0,2.1739130434782587E-2,0,0,0,0,0,0,0,0,0,0,0,0]
[null,null,45,"Celebrity news, births, marriages, deaths, obituaries, famous people, royalty …",{"$f":"IF(E$68>0,E49/E$68,0)","v":0},0,0,0,0,0,0,0,0,0,0,0,0,0,0,0]
[null,null,46,"Arts, entertainment, leisure, cinema, theatre, books, dance …",{"$f":"IF(E$68>0,E50/E$68,0)","v":0.12500000000000006},0.1739130434782612,5.2631578947368383E-2,6.521739130434788E-2,4.6511627906976806E-2,5.3571428571428485E-2,0,0,0,0,0,0,0,0,0,0]
[null,null,47,"Media, including new media (computers, internet), portrayal of women and/or men, pornography …",{"$f":"IF(E$68>0,E51/E$68,0)","v":0},0,0,0,0,0,0,0,0,0,0,0,0,0,0,0]
[null,null,48,"Beauty contests, models, fashion, beauty aids, cosmetic surgery …",{"$f":"IF(E$68>0,E52/E$68,0)","v":0},0,0,0,0,0,0,0,0,0,0,0,0,0,0,0]
[null,null,49,"Sports, events, players, facilities, training, policies, funding …",{"$f":"IF(E$68>0,E53/E$68,0)","v":0},8.6956521739130321E-2,5.2631578947368383E-2,0,0,1.7857142857142849E-2,0,0,0,0,0,0,0,0,0,0]
[null,null,50,"Other stories on celebrities, arts, media (specify the subject in 'Comments' section of coding sheet)",{"$f":"IF(E$68>0,E54/E$68,0)","v":0.12500000000000006},0,0,0,0,3.5714285714285775E-2,0,0,0,0,0,0,0,0,0,0]
[null,null,51,"News about the girl child, including, cultural attitudes and practices impinging on girls, education, health, economic exploitation, violence (ONLY WHERE EMPHASIS IS ON THE GIRL CHILD)…",{"$f":"IF(E$68>0,E55/E$68,0)","v":0},0,0,0,0,0,0,0,0,0,0,0,0,0,0,0]
[null,null,52,"Other subject: use only if none of the above subject codes is suitable (specify the subject in 'Comments' section of coding sheet)",{"$f":"IF(E$68>0,E56/E$68,0)","v":0},0,0,0,2.3255813953488358E-2,0,0,0,0,0,0,0,0,0,0,0]
[null,null,0,0,{"$f":"IF(E$68>0,E57/E$68,0)","v":0},0,0,0,0,0,0,0,0,0,0,0,0,0,0,0]
[null,null,0,0,{"$f":"IF(E$68>0,E58/E$68,0)","v":0},0,0,0,0,0,0,0,0,0,0,0,0,0,0,0]
[null,null,0,0,{"$f":"IF(E$68>0,E59/E$68,0)","v":0},0,0,0,0,0,0,0,0,0,0,0,0,0,0,0]
[null,null,0,0,{"$f":"IF(E$68>0,E60/E$68,0)","v":0},0,0,0,0,0,0,0,0,0,0,0,0,0,0,0]
[null,null,0,0,{"$f":"IF(E$68>0,E61/E$68,0)","v":0},0,0,0,0,0,0,0,0,0,0,0,0,0,0,0]
[null,null,0,0,{"$f":"IF(E$68>0,E62/E$68,0)","v":0},0,0,0,0,0,0,0,0,0,0,0,0,0,0,0]
[]
[]
[]
[]
[]
[]
[]
[]
[]
[]
[]
[]
[]
[]
[]
[]
[]
[]
[]
[]
["COUNT"]
[null,null,null,null,{"$f":"E3","v":"Female"},"Male","Female","Male","Female","Male",0,0,0,0,0,0,0,0,0,0]
[null,null,null,null,{"$f":"E4","v":0},0,0,0,0,0,0,0,0,0,0,0,0,0,0,0]
[null,null,{"$f":"C5","v":1},"Women in political power and decision-making (local, regional, national),",0,0,0,0,0,0]
[null,null,2,"Women electoral candidates (local, regional, national),",0,0,0,0,1,1]
[null,null,3,"Peace, negotiations, treaties…(local, regional, national),",2,0,0,0,0,0]
[null,null,4,"Other domestic politics/government (local, regional, national), elections, speeches, the political process …",0,2,0,4,3,4]
[null,null,5,"Global partnerships (international trade and finance systems, e.g. WTO, IMF, World Bank, debt) …",0,0,0,0,0,0]
[null,null,6,"Foreign/international politics, relations with other countries, negotiations, treaties, UN peacekeeping …",1,2,4,7,2,6]
[null,null,7,"National defence, military spending, military training, military parades, internal security …",1,0,0,1,0,1]
[null,null,8,"Other stories on politics and government (specify the subject in 'Comments' section of coding sheet)",0,4,2,2,1,3]
[null,null,9,"Economic policies, strategies, models (national, international) …",0,2,0,1,0,2]
[null,null,10,"Economic indicators, statistics, business, trade, stock markets …",0,0,0,0,0,1]
[null,null,11,"Economic crisis, state bailouts of companies, company takeovers and mergers …",0,0,1,1,0,0]
[null,null,12,"Poverty, housing, social welfare, aid to those in need …",0,0,0,0,1,1]
[null,null,13,"Women's participation in economic processes (informal work, paid employment, unemployment, unpaid labour)",0,0,0,0,0,0]
[null,null,14,"Other labour issues, strikes, trade unions, negotiations, other employment and unemployment …",0,1,1,3,0,0]
[null,null,15,"Rural economy, agriculture, farming practices, agricultural policy, land rights …",0,0,0,0,0,0]
[null,null,16,"Consumer issues, consumer protection, regulation, prices, consumer fraud …",0,1,0,1,1,1]
[null,null,17,"Transport, traffic, roads ……",0,0,0,0,1,0]
[null,null,18,"Other stories on the economy (specify the subject in 'Comments' section of coding sheet)",0,0,0,0,1,1]
[null,null,19,"Science, technology, research, funding, discoveries, developments …",0,0,0,0,1,1]
[null,null,20,"Medicine, health, hygiene, safety, disability, medical research, funding (apart from HIV-AIDS)…",0,0,0,0,1,1]
[null,null,{"$f":"C25","v":21},"HIV and AIDS, incidence, policy, treatment, people affected …",0,0,0,0,0,0]
[null,null,22,"Other epidemics, viruses, contagions, Influenza, BSE, SARS …",0,0,2,1,3,4]
[null,null,23,"Birth control, fertility, sterilisation, amniocentesis, termination of pregnancy …",0,0,0,0,0,0]
[null,null,24,"Environment, nature,   pollution, global warming, ecology, tourism …",1,0,0,0,1,1]
[null,null,25,"Other stories on science or health (specify the subject in 'Comments' section of coding sheet)",0,0,0,0,2,0]
[null,null,26,"Development issues, sustainability, community development …",0,0,0,0,0,0]
[null,null,27,"Education, child care, nurseries, pre-school to university, adult education, literacy …",0,1,1,3,4,3]
[null,null,28,"Family relations, inter-generational conflict, single parents …",0,0,0,0,0,0]
[null,null,29,"Human rights, women's rights, children's rights, gay & lesbian rights, rights of minorities ..",0,0,0,2,0,0]
[null,null,30,"Religion, culture, tradition, controversies, teachings, celebrations, practices …",0,0,0,0,0,0]
[null,null,31,"Migration, refugees, asylum seekers, ethnic conflict, integration, racism, xenophobia …",0,0,0,0,0,0]
[null,null,32,"Women's movement, activism, events, demonstrations, gender equality advocacy …",0,0,0,0,0,0]
[null,null,33,"Changing gender relations, roles and relationships of women and men inside and outside the home …",0,0,0,0,0,0]
[null,null,34,"Family law, family codes, property law, inheritance law and rights …",0,0,0,0,0,0]
[null,null,35,"Legal system, judicial system, legislation (apart from family, property & inheritance law) …",0,0,0,4,2,0]
[null,null,36,"Other stories on social or legal issues (specify the subject in 'Comments' section of coding sheet)",0,0,3,3,6,5]
[null,null,37,"Non-violent crime, bribery, theft, drug-dealing, corruption, (including political corruption/malpractice) …",0,1,0,2,1,1]
[null,null,38,"Violent crime, murder, abduction, kidnapping, assault, drug-related violence …",0,0,1,5,0,0]
[null,null,39,"Gender-based violence, feminicide, harassment, domestic violence, rape, trafficking, genital mutilation …",0,2,0,0,2,2]
[null,null,40,"Child abuse, sexual violence against children, trafficking, neglect.",0,0,0,0,2,4]
[null,null,{"$f":"C45","v":41},"War, civil war, terrorism, state-based violence …",1,0,2,1,2,4]
[null,null,42,"Riots, demonstrations, public disorder …",0,0,0,0,0,0]
[null,null,43,"Disaster, accident, famine, earthquake, flood, hurricane, plane crash, car crash …",0,0,0,1,2,3]
[null,null,44,"Other stories on crime and violence (specify the subject in 'Comments' section of coding sheet)",0,1,0,1,0,0]
[null,null,45,"Celebrity news, births, marriages, deaths, obituaries, famous people, royalty …",0,0,0,0,0,0]
[null,null,46,"Arts, entertainment, leisure, cinema, theatre, books, dance …",1,4,1,3,2,3]
[null,null,47,"Media, including new media (computers, internet), portrayal of women and/or men, pornography …",0,0,0,0,0,0]
[null,null,48,"Beauty contests, models, fashion, beauty aids, cosmetic surgery …",0,0,0,0,0,0]
[null,null,49,"Sports, events, players, facilities, training, policies, funding …",0,2,1,0,0,1]
[null,null,50,"Other stories on celebrities, arts, media (specify the subject in 'Comments' section of coding sheet)",1,0,0,0,0,2]
[null,null,51,"News about the girl child, including, cultural attitudes and practices impinging on girls, education, health, economic exploitation, violence (ONLY WHERE EMPHASIS IS ON THE GIRL CHILD)…",0,0,0,0,0,0]
[null,null,52,"Other subject: use only if none of the above subject codes is suitable (specify the subject in 'Comments' section of coding sheet)",0,0,0,0,1,0]
[null,null,0,0]
[null,null,0,0]
[null,null,0,0]

{"sheet":"3dF - Topics","index":98,"n_rows":59,"n_cols":32,"rows_kept":59,"cut":false,"hidden":false,"merged":[[1,23,1,30],[2,23,2,25],[2,26,2,28],[2,29,2,31],[1,17,1,22],[2,17,2,18],[2,19,2,20],[2,21,2,22],[1,11,1,16],[2,11,2,12],[2,13,2,14],[2,15,2,16],[1,5,1,10],[2,5,2,6],[2,7,2,8],[2,9,2,10]]}
[{"$f":"'3d'!$A$1","v":"Topics in the news - Detail"}]
[null,null,null,null,null,1995,null,null,null,null,null,2000,null,null,null,null,null,2005,null,null,null,null,null,2010]
[null,null,null,null,null,"Newpaper",null,"Radio",null,"Television",null,"Newpaper",null,"Radio",null,"Television",null,"Newpaper",null,"Radio",null,"Television",null,"Newpaper",null,null,"Radio",null,null,"Television"]
[null,null,null,null,"Topic","Female","Male","Female","Male","Female","Male","Female","Male","Female","Male","Female","Male","Female","Male","Female","Male","Female","Male","Female","Male","N","Female","Male","N","Female","Male","N"]
[]
[null,null,null,null,{"$f":"'3d'!D5","v":"Women in political power and decision-making (local, regional, national),"},0,0,0,0,0,0,0,0,0,0,0,0,0,0,0,0,0,0,{"$f":"'3d'!E70","v":0},{"$f":"'3d'!F70","v":0},{"$f":"'3d'!E151+'3d'!F151","v":0},{"$f":"'3d'!G70","v":0},{"$f":"'3d'!H70","v":0},{"$f":"'3d'!G151+'3d'!H151","v":0},{"$f":"'3d'!I70","v":0},{"$f":"'3d'!J70","v":0},{"$f":"'3d'!I151+'3d'!J151","v":0}]
[null,null,null,null,{"$f":"'3d'!D6","v":"Women electoral candidates (local, regional, national),"},0,0,0,0,0,0,0,0,0,0,0,0,0,0,0,0,0,0,{"$f":"'3d'!E71","v":0},{"$f":"'3d'!F71","v":0},{"$f":"'3d'!E152+'3d'!F152","v":0},{"$f":"'3d'!G71","v":0},{"$f":"'3d'!H71","v":0},{"$f":"'3d'!G152+'3d'!H152","v":0},{"$f":"'3d'!I71","v":2.3255813953488358E-2},{"$f":"'3d'!J71","v":1.7857142857142849E-2},{"$f":"'3d'!I152+'3d'!J152","v":2}]
[null,null,null,null,{"$f":"'3d'!D7","v":"Peace, negotiations, treaties…(local, regional, national),"},0,0,0,0,0,0,0,0,0,0,0,0,0,0,0,0,0,0,{"$f":"'3d'!E72","v":0.24999999999999981},{"$f":"'3d'!F72","v":0},{"$f":"'3d'!E153+'3d'!F153","v":2},{"$f":"'3d'!G72","v":0},{"$f":"'3d'!H72","v":0},{"$f":"'3d'!G153+'3d'!H153","v":0},{"$f":"'3d'!I72","v":0},{"$f":"'3d'!J72","v":0},{"$f":"'3d'!I153+'3d'!J153","v":0}]
[null,null,null,null,{"$f":"'3d'!D8","v":"Other domestic politics/government (local, regional, national), elections, speeches, the political process …"},0,0,0,0,0,0,0,0,0,0,0,0,0,0,0,0,0,0,{"$f":"'3d'!E73","v":0},{"$f":"'3d'!F73","v":8.6956521739130321E-2},{"$f":"'3d'!E154+'3d'!F154","v":2},{"$f":"'3d'!G73","v":0},{"$f":"'3d'!H73","v":8.6956521739130516E-2},{"$f":"'3d'!G154+'3d'!H154","v":4},{"$f":"'3d'!I73","v":6.9767441860464977E-2},{"$f":"'3d'!J73","v":7.142857142857155E-2},{"$f":"'3d'!I154+'3d'!J154","v":7}]
[null,null,null,null,{"$f":"'3d'!D9","v":"Global partnerships (international trade and finance systems, e.g. WTO, IMF, World Bank, debt) …"},0,0,0,0,0,0,0,0,0,0,0,0,0,0,0,0,0,0,{"$f":"'3d'!E74","v":0},{"$f":"'3d'!F74","v":0},{"$f":"'3d'!E155+'3d'!F155","v":0},{"$f":"'3d'!G74","v":0},{"$f":"'3d'!H74","v":0},{"$f":"'3d'!G155+'3d'!H155","v":0},{"$f":"'3d'!I74","v":0},{"$f":"'3d'!J74","v":0},{"$f":"'3d'!I155+'3d'!J155","v":0}]
[null,null,null,null,{"$f":"'3d'!D10","v":"Foreign/international politics, relations with other countries, negotiations, treaties, UN peacekeeping …"},0,0,0,0,0,0,0,0,0,0,0,0,0,0,0,0,0,0,{"$f":"'3d'!E75","v":0.12500000000000006},{"$f":"'3d'!F75","v":8.6956521739130321E-2},{"$f":"'3d'!E156+'3d'!F156","v":3},{"$f":"'3d'!G75","v":0.21052631578947392},{"$f":"'3d'!H75","v":0.15217391304347799},{"$f":"'3d'!G156+'3d'!H156","v":11},{"$f":"'3d'!I75","v":4.6511627906976806E-2},{"$f":"'3d'!J75","v":0.10714285714285697},{"$f":"'3d'!I156+'3d'!J156","v":8}]
[null,null,null,null,{"$f":"'3d'!D11","v":"National defence, military spending, military training, military parades, internal security …"},0,0,0,0,0,0,0,0,0,0,0,0,0,0,0,0,0,0,{"$f":"'3d'!E76","v":0.12500000000000006},{"$f":"'3d'!F76","v":0},{"$f":"'3d'!E157+'3d'!F157","v":1},{"$f":"'3d'!G76","v":0},{"$f":"'3d'!H76","v":2.1739130434782587E-2},{"$f":"'3d'!G157+'3d'!H157","v":1},{"$f":"'3d'!I76","v":0},{"$f":"'3d'!J76","v":1.7857142857142849E-2},{"$f":"'3d'!I157+'3d'!J157","v":1}]
[null,null,null,null,{"$f":"'3d'!D12","v":"Other stories on politics and government (specify the subject in 'Comments' section of coding sheet)"},0,0,0,0,0,0,0,0,0,0,0,0,0,0,0,0,0,0,{"$f":"'3d'!E77","v":0},{"$f":"'3d'!F77","v":0.1739130434782612},{"$f":"'3d'!E158+'3d'!F158","v":4},{"$f":"'3d'!G77","v":0.10526315789473677},{"$f":"'3d'!H77","v":4.3478260869565175E-2},{"$f":"'3d'!G158+'3d'!H158","v":4},{"$f":"'3d'!I77","v":2.3255813953488358E-2},{"$f":"'3d'!J77","v":5.3571428571428485E-2},{"$f":"'3d'!I158+'3d'!J158","v":4}]
[null,null,null,null,{"$f":"'3d'!D13","v":"Economic policies, strategies, models (national, international) …"},0,0,0,0,0,0,0,0,0,0,0,0,0,0,0,0,0,0,{"$f":"'3d'!E78","v":0},{"$f":"'3d'!F78","v":8.6956521739130321E-2},{"$f":"'3d'!E159+'3d'!F159","v":2},{"$f":"'3d'!G78","v":0},{"$f":"'3d'!H78","v":2.1739130434782587E-2},{"$f":"'3d'!G159+'3d'!H159","v":1},{"$f":"'3d'!I78","v":0},{"$f":"'3d'!J78","v":3.5714285714285775E-2},{"$f":"'3d'!I159+'3d'!J159","v":2}]
[null,null,null,null,{"$f":"'3d'!D14","v":"Economic indicators, statistics, business, trade, stock markets …"},0,0,0,0,0,0,0,0,0,0,0,0,0,0,0,0,0,0,{"$f":"'3d'!E79","v":0},{"$f":"'3d'!F79","v":0},{"$f":"'3d'!E160+'3d'!F160","v":0},{"$f":"'3d'!G79","v":0},{"$f":"'3d'!H79","v":0},{"$f":"'3d'!G160+'3d'!H160","v":0},{"$f":"'3d'!I79","v":0},{"$f":"'3d'!J79","v":1.7857142857142849E-2},{"$f":"'3d'!I160+'3d'!J160","v":1}]
[null,null,null,null,{"$f":"'3d'!D15","v":"Economic crisis, state bailouts of companies, company takeovers and mergers …"},0,0,0,0,0,0,0,0,0,0,0,0,0,0,0,0,0,0,{"$f":"'3d'!E80","v":0},{"$f":"'3d'!F80","v":0},{"$f":"'3d'!E161+'3d'!F161","v":0},{"$f":"'3d'!G80","v":5.2631578947368383E-2},{"$f":"'3d'!H80","v":2.1739130434782587E-2},{"$f":"'3d'!G161+'3d'!H161","v":2},{"$f":"'3d'!I80","v":0},{"$f":"'3d'!J80","v":0},{"$f":"'3d'!I161+'3d'!J161","v":0}]
[null,null,null,null,{"$f":"'3d'!D16","v":"Poverty, housing, social welfare, aid to those in need …"},0,0,0,0,0,0,0,0,0,0,0,0,0,0,0,0,0,0,{"$f":"'3d'!E81","v":0},{"$f":"'3d'!F81","v":0},{"$f":"'3d'!E162+'3d'!F162","v":0},{"$f":"'3d'!G81","v":0},{"$f":"'3d'!H81","v":0},{"$f":"'3d'!G162+'3d'!H162","v":0},{"$f":"'3d'!I81","v":2.3255813953488358E-2},{"$f":"'3d'!J81","v":1.7857142857142849E-2},{"$f":"'3d'!I162+'3d'!J162","v":2}]
[null,null,null,null,{"$f":"'3d'!D17","v":"Women's participation in economic processes (informal work, paid employment, unemployment, unpaid labour)"},0,0,0,0,0,0,0,0,0,0,0,0,0,0,0,0,0,0,{"$f":"'3d'!E82","v":0},{"$f":"'3d'!F82","v":0},{"$f":"'3d'!E163+'3d'!F163","v":0},{"$f":"'3d'!G82","v":0},{"$f":"'3d'!H82","v":0},{"$f":"'3d'!G163+'3d'!H163","v":0},{"$f":"'3d'!I82","v":0},{"$f":"'3d'!J82","v":0},{"$f":"'3d'!I163+'3d'!J163","v":0}]
[null,null,null,null,{"$f":"'3d'!D18","v":"Other labour issues, strikes, trade unions, negotiations, other employment and unemployment …"},0,0,0,0,0,0,0,0,0,0,0,0,0,0,0,0,0,0,{"$f":"'3d'!E83","v":0},{"$f":"'3d'!F83","v":4.3478260869565216E-2},{"$f":"'3d'!E164+'3d'!F164","v":1},{"$f":"'3d'!G83","v":5.2631578947368383E-2},{"$f":"'3d'!H83","v":6.521739130434788E-2},{"$f":"'3d'!G164+'3d'!H164","v":4},{"$f":"'3d'!I83","v":0},{"$f":"'3d'!J83","v":0},{"$f":"'3d'!I164+'3d'!J164","v":0}]
[null,null,null,null,{"$f":"'3d'!D19","v":"Rural economy, agriculture, farming practices, agricultural policy, land rights …"},0,0,0,0,0,0,0,0,0,0,0,0,0,0,0,0,0,0,{"$f":"'3d'!E84","v":0},{"$f":"'3d'!F84","v":0},{"$f":"'3d'!E165+'3d'!F165","v":0},{"$f":"'3d'!G84","v":0},{"$f":"'3d'!H84","v":0},{"$f":"'3d'!G165+'3d'!H165","v":0},{"$f":"'3d'!I84","v":0},{"$f":"'3d'!J84","v":0},{"$f":"'3d'!I165+'3d'!J165","v":0}]
[null,null,null,null,{"$f":"'3d'!D20","v":"Consumer issues, consumer protection, regulation, prices, consumer fraud …"},0,0,0,0,0,0,0,0,0,0,0,0,0,0,0,0,0,0,{"$f":"'3d'!E85","v":0},{"$f":"'3d'!F85","v":4.3478260869565216E-2},{"$f":"'3d'!E166+'3d'!F166","v":1},{"$f":"'3d'!G85","v":0},{"$f":"'3d'!H85","v":2.1739130434782587E-2},{"$f":"'3d'!G166+'3d'!H166","v":1},{"$f":"'3d'!I85","v":2.3255813953488358E-2},{"$f":"'3d'!J85","v":1.7857142857142849E-2},{"$f":"'3d'!I166+'3d'!J166","v":2}]
[null,null,null,null,{"$f":"'3d'!D21","v":"Transport, traffic, roads ……"},0,0,0,0,0,0,0,0,0,0,0,0,0,0,0,0,0,0,{"$f":"'3d'!E86","v":0},{"$f":"'3d'!F86","v":0},{"$f":"'3d'!E167+'3d'!F167","v":0},{"$f":"'3d'!G86","v":0},{"$f":"'3d'!H86","v":0},{"$f":"'3d'!G167+'3d'!H167","v":0},{"$f":"'3d'!I86","v":2.3255813953488358E-2},{"$f":"'3d'!J86","v":0},{"$f":"'3d'!I167+'3d'!J167","v":1}]
[null,null,null,null,{"$f":"'3d'!D22","v":"Other stories on the economy (specify the subject in 'Comments' section of coding sheet)"},0,0,0,0,0,0,0,0,0,0,0,0,0,0,0,0,0,0,{"$f":"'3d'!E87","v":0},{"$f":"'3d'!F87","v":0},{"$f":"'3d'!E168+'3d'!F168","v":0},{"$f":"'3d'!G87","v":0},{"$f":"'3d'!H87","v":0},{"$f":"'3d'!G168+'3d'!H168","v":0},{"$f":"'3d'!I87","v":2.3255813953488358E-2},{"$f":"'3d'!J87","v":1.7857142857142849E-2},{"$f":"'3d'!I168+'3d'!J168","v":2}]
[null,null,null,null,{"$f":"'3d'!D23","v":"Science, technology, research, funding, discoveries, developments …"},0,0,0,0,0,0,0,0,0,0,0,0,0,0,0,0,0,0,{"$f":"'3d'!E88","v":0},{"$f":"'3d'!F88","v":0},{"$f":"'3d'!E169+'3d'!F169","v":0},{"$f":"'3d'!G88","v":0},{"$f":"'3d'!H88","v":0},{"$f":"'3d'!G169+'3d'!H169","v":0},{"$f":"'3d'!I88","v":2.3255813953488358E-2},{"$f":"'3d'!J88","v":1.7857142857142849E-2},{"$f":"'3d'!I169+'3d'!J169","v":2}]
[null,null,null,null,{"$f":"'3d'!D24","v":"Medicine, health, hygiene, safety, disability, medical research, funding (apart from HIV-AIDS)…"},0,0,0,0,0,0,0,0,0,0,0,0,0,0,0,0,0,0,{"$f":"'3d'!E89","v":0},{"$f":"'3d'!F89","v":0},{"$f":"'3d'!E170+'3d'!F170","v":0},{"$f":"'3d'!G89","v":0},{"$f":"'3d'!H89","v":0},{"$f":"'3d'!G170+'3d'!H170","v":0},{"$f":"'3d'!I89","v":2.3255813953488358E-2},{"$f":"'3d'!J89","v":1.7857142857142849E-2},{"$f":"'3d'!I170+'3d'!J170","v":2}]
[null,null,null,null,{"$f":"'3d'!D25","v":"HIV and AIDS, incidence, policy, treatment, people affected …"},0,0,0,0,0,0,0,0,0,0,0,0,0,0,0,0,0,0,{"$f":"'3d'!E90","v":0},{"$f":"'3d'!F90","v":0},{"$f":"'3d'!E171+'3d'!F171","v":0},{"$f":"'3d'!G90","v":0},{"$f":"'3d'!H90","v":0},{"$f":"'3d'!G171+'3d'!H171","v":0},{"$f":"'3d'!I90","v":0},{"$f":"'3d'!J90","v":0},{"$f":"'3d'!I171+'3d'!J171","v":0}]
[null,null,null,null,{"$f":"'3d'!D26","v":"Other epidemics, viruses, contagions, Influenza, BSE, SARS …"},0,0,0,0,0,0,0,0,0,0,0,0,0,0,0,0,0,0,{"$f":"'3d'!E91","v":0},{"$f":"'3d'!F91","v":0},{"$f":"'3d'!E172+'3d'!F172","v":0},{"$f":"'3d'!G91","v":0.10526315789473677},{"$f":"'3d'!H91","v":2.1739130434782587E-2},{"$f":"'3d'!G172+'3d'!H172","v":3},{"$f":"'3d'!I91","v":6.9767441860464977E-2},{"$f":"'3d'!J91","v":7.142857142857155E-2},{"$f":"'3d'!I172+'3d'!J172","v":7}]
[null,null,null,null,{"$f":"'3d'!D27","v":"Birth control, fertility, sterilisation, amniocentesis, termination of pregnancy …"},0,0,0,0,0,0,0,0,0,0,0,0,0,0,0,0,0,0,{"$f":"'3d'!E92","v":0},{"$f":"'3d'!F92","v":0},{"$f":"'3d'!E173+'3d'!F173","v":0},{"$f":"'3d'!G92","v":0},{"$f":"'3d'!H92","v":0},{"$f":"'3d'!G173+'3d'!H173","v":0},{"$f":"'3d'!I92","v":0},{"$f":"'3d'!J92","v":0},{"$f":"'3d'!I173+'3d'!J173","v":0}]
[null,null,null,null,{"$f":"'3d'!D28","v":"Environment, nature,   pollution, global warming, ecology, tourism …"},0,0,0,0,0,0,0,0,0,0,0,0,0,0,0,0,0,0,{"$f":"'3d'!E93","v":0.12500000000000006},{"$f":"'3d'!F93","v":0},{"$f":"'3d'!E174+'3d'!F174","v":1},{"$f":"'3d'!G93","v":0},{"$f":"'3d'!H93","v":0},{"$f":"'3d'!G174+'3d'!H174","v":0},{"$f":"'3d'!I93","v":2.3255813953488358E-2},{"$f":"'3d'!J93","v":1.7857142857142849E-2},{"$f":"'3d'!I174+'3d'!J174","v":2}]
[null,null,null,null,{"$f":"'3d'!D29","v":"Other stories on science or health (specify the subject in 'Comments' section of coding sheet)"},0,0,0,0,0,0,0,0,0,0,0,0,0,0,0,0,0,0,{"$f":"'3d'!E94","v":0},{"$f":"'3d'!F94","v":0},{"$f":"'3d'!E175+'3d'!F175","v":0},{"$f":"'3d'!G94","v":0},{"$f":"'3d'!H94","v":0},{"$f":"'3d'!G175+'3d'!H175","v":0},{"$f":"'3d'!I94","v":4.6511627906976806E-2},{"$f":"'3d'!J94","v":0},{"$f":"'3d'!I175+'3d'!J175","v":2}]
[null,null,null,null,{"$f":"'3d'!D30","v":"Development issues, sustainability, community development …"},0,0,0,0,0,0,0,0,0,0,0,0,0,0,0,0,0,0,{"$f":"'3d'!E95","v":0},{"$f":"'3d'!F95","v":0},{"$f":"'3d'!E176+'3d'!F176","v":0},{"$f":"'3d'!G95","v":0},{"$f":"'3d'!H95","v":0},{"$f":"'3d'!G176+'3d'!H176","v":0},{"$f":"'3d'!I95","v":0},{"$f":"'3d'!J95","v":0},{"$f":"'3d'!I176+'3d'!J176","v":0}]
[null,null,null,null,{"$f":"'3d'!D31","v":"Education, child care, nurseries, pre-school to university, adult education, literacy …"},0,0,0,0,0,0,0,0,0,0,0,0,0,0,0,0,0,0,{"$f":"'3d'!E96","v":0},{"$f":"'3d'!F96","v":4.3478260869565216E-2},{"$f":"'3d'!E177+'3d'!F177","v":1},{"$f":"'3d'!G96","v":5.2631578947368383E-2},{"$f":"'3d'!H96","v":6.521739130434788E-2},{"$f":"'3d'!G177+'3d'!H177","v":4},{"$f":"'3d'!I96","v":9.3023255813953612E-2},{"$f":"'3d'!J96","v":5.3571428571428485E-2},{"$f":"'3d'!I177+'3d'!J177","v":7}]
[null,null,null,null,{"$f":"'3d'!D32","v":"Family relations, inter-generational conflict, single parents …"},0,0,0,0,0,0,0,0,0,0,0,0,0,0,0,0,0,0,{"$f":"'3d'!E97","v":0},{"$f":"'3d'!F97","v":0},{"$f":"'3d'!E178+'3d'!F178","v":0},{"$f":"'3d'!G97","v":0},{"$f":"'3d'!H97","v":0},{"$f":"'3d'!G178+'3d'!H178","v":0},{"$f":"'3d'!I97","v":0},{"$f":"'3d'!J97","v":0},{"$f":"'3d'!I178+'3d'!J178","v":0}]
[null,null,null,null,{"$f":"'3d'!D33","v":"Human rights, women's rights, children's rights, gay & lesbian rights, rights of minorities .."},0,0,0,0,0,0,0,0,0,0,0,0,0,0,0,0,0,0,{"$f":"'3d'!E98","v":0},{"$f":"'3d'!F98","v":0},{"$f":"'3d'!E179+'3d'!F179","v":0},{"$f":"'3d'!G98","v":0},{"$f":"'3d'!H98","v":4.3478260869565175E-2},{"$f":"'3d'!G179+'3d'!H179","v":2},{"$f":"'3d'!I98","v":0},{"$f":"'3d'!J98","v":0},{"$f":"'3d'!I179+'3d'!J179","v":0}]
[null,null,null,null,{"$f":"'3d'!D34","v":"Religion, culture, tradition, controversies, teachings, celebrations, practices …"},0,0,0,0,0,0,0,0,0,0,0,0,0,0,0,0,0,0,{"$f":"'3d'!E99","v":0},{"$f":"'3d'!F99","v":0},{"$f":"'3d'!E180+'3d'!F180","v":0},{"$f":"'3d'!G99","v":0},{"$f":"'3d'!H99","v":0},{"$f":"'3d'!G180+'3d'!H180","v":0},{"$f":"'3d'!I99","v":0},{"$f":"'3d'!J99","v":0},{"$f":"'3d'!I180+'3d'!J180","v":0}]
[null,null,null,null,{"$f":"'3d'!D35","v":"Migration, refugees, asylum seekers, ethnic conflict, integration, racism, xenophobia …"},0,0,0,0,0,0,0,0,0,0,0,0,0,0,0,0,0,0,{"$f":"'3d'!E100","v":0},{"$f":"'3d'!F100","v":0},{"$f":"'3d'!E181+'3d'!F181","v":0},{"$f":"'3d'!G100","v":0},{"$f":"'3d'!H100","v":0},{"$f":"'3d'!G181+'3d'!H181","v":0},{"$f":"'3d'!I100","v":0},{"$f":"'3d'!J100","v":0},{"$f":"'3d'!I181+'3d'!J181","v":0}]
[null,null,null,null,{"$f":"'3d'!D36","v":"Women's movement, activism, events, demonstrations, gender equality advocacy …"},0,0,0,0,0,0,0,0,0,0,0,0,0,0,0,0,0,0,{"$f":"'3d'!E101","v":0},{"$f":"'3d'!F101","v":0},{"$f":"'3d'!E182+'3d'!F182","v":0},{"$f":"'3d'!G101","v":0},{"$f":"'3d'!H101","v":0},{"$f":"'3d'!G182+'3d'!H182","v":0},{"$f":"'3d'!I101","v":0},{"$f":"'3d'!J101","v":0},{"$f":"'3d'!I182+'3d'!J182","v":0}]
[null,null,null,null,{"$f":"'3d'!D37","v":"Changing gender relations, roles and relationships of women and men inside and outside the home …"},0,0,0,0,0,0,0,0,0,0,0,0,0,0,0,0,0,0,{"$f":"'3d'!E102","v":0},{"$f":"'3d'!F102","v":0},{"$f":"'3d'!E183+'3d'!F183","v":0},{"$f":"'3d'!G102","v":0},{"$f":"'3d'!H102","v":0},{"$f":"'3d'!G183+'3d'!H183","v":0},{"$f":"'3d'!I102","v":0},{"$f":"'3d'!J102","v":0},{"$f":"'3d'!I183+'3d'!J183","v":0}]
[null,null,null,null,{"$f":"'3d'!D38","v":"Family law, family codes, property law, inheritance law and rights …"},0,0,0,0,0,0,0,0,0,0,0,0,0,0,0,0,0,0,{"$f":"'3d'!E103","v":0},{"$f":"'3d'!F103","v":0},{"$f":"'3d'!E184+'3d'!F184","v":0},{"$f":"'3d'!G103","v":0},{"$f":"'3d'!H103","v":0},{"$f":"'3d'!G184+'3d'!H184","v":0},{"$f":"'3d'!I103","v":0},{"$f":"'3d'!J103","v":0},{"$f":"'3d'!I184+'3d'!J184","v":0}]
[null,null,null,null,{"$f":"'3d'!D39","v":"Legal system, judicial system, legislation (apart from family, property & inheritance law) …"},0,0,0,0,0,0,0,0,0,0,0,0,0,0,0,0,0,0,{"$f":"'3d'!E104","v":0},{"$f":"'3d'!F104","v":0},{"$f":"'3d'!E185+'3d'!F185","v":0},{"$f":"'3d'!G104","v":0},{"$f":"'3d'!H104","v":8.6956521739130516E-2},{"$f":"'3d'!G185+'3d'!H185","v":4},{"$f":"'3d'!I104","v":4.6511627906976806E-2},{"$f":"'3d'!J104","v":0},{"$f":"'3d'!I185+'3d'!J185","v":2}]
[null,null,null,null,{"$f":"'3d'!D40","v":"Other stories on social or legal issues (specify the subject in 'Comments' section of coding sheet)"},0,0,0,0,0,0,0,0,0,0,0,0,0,0,0,0,0,0,{"$f":"'3d'!E105","v":0},{"$f":"'3d'!F105","v":0},{"$f":"'3d'!E186+'3d'!F186","v":0},{"$f":"'3d'!G105","v":0.15789473684210545},{"$f":"'3d'!H105","v":6.521739130434788E-2},{"$f":"'3d'!G186+'3d'!H186","v":6},{"$f":"'3d'!I105","v":0.13953488372092995},{"$f":"'3d'!J105","v":8.928571428571426E-2},{"$f":"'3d'!I186+'3d'!J186","v":11}]
[null,null,null,null,{"$f":"'3d'!D41","v":"Non-violent crime, bribery, theft, drug-dealing, corruption, (including political corruption/malpractice) …"},0,0,0,0,0,0,0,0,0,0,0,0,0,0,0,0,0,0,{"$f":"'3d'!E106","v":0},{"$f":"'3d'!F106","v":4.3478260869565216E-2},{"$f":"'3d'!E187+'3d'!F187","v":1},{"$f":"'3d'!G106","v":0},{"$f":"'3d'!H106","v":4.3478260869565175E-2},{"$f":"'3d'!G187+'3d'!H187","v":2},{"$f":"'3d'!I106","v":2.3255813953488358E-2},{"$f":"'3d'!J106","v":1.7857142857142849E-2},{"$f":"'3d'!I187+'3d'!J187","v":2}]
[null,null,null,null,{"$f":"'3d'!D42","v":"Violent crime, murder, abduction, kidnapping, assault, drug-related violence …"},0,0,0,0,0,0,0,0,0,0,0,0,0,0,0,0,0,0,{"$f":"'3d'!E107","v":0},{"$f":"'3d'!F107","v":0},{"$f":"'3d'!E188+'3d'!F188","v":0},{"$f":"'3d'!G107","v":5.2631578947368383E-2},{"$f":"'3d'!H107","v":0.10869565217391315},{"$f":"'3d'!G188+'3d'!H188","v":6},{"$f":"'3d'!I107","v":0},{"$f":"'3d'!J107","v":0},{"$f":"'3d'!I188+'3d'!J188","v":0}]
[null,null,null,null,{"$f":"'3d'!D43","v":"Gender-based violence, feminicide, harassment, domestic violence, rape, trafficking, genital mutilation …"},0,0,0,0,0,0,0,0,0,0,0,0,0,0,0,0,0,0,{"$f":"'3d'!E108","v":0},{"$f":"'3d'!F108","v":8.6956521739130321E-2},{"$f":"'3d'!E189+'3d'!F189","v":2},{"$f":"'3d'!G108","v":0},{"$f":"'3d'!H108","v":0},{"$f":"'3d'!G189+'3d'!H189","v":0},{"$f":"'3d'!I108","v":4.6511627906976806E-2},{"$f":"'3d'!J108","v":3.5714285714285775E-2},{"$f":"'3d'!I189+'3d'!J189","v":4}]
[null,null,null,null,{"$f":"'3d'!D44","v":"Child abuse, sexual violence against children, trafficking, neglect."},0,0,0,0,0,0,0,0,0,0,0,0,0,0,0,0,0,0,{"$f":"'3d'!E109","v":0},{"$f":"'3d'!F109","v":0},{"$f":"'3d'!E190+'3d'!F190","v":0},{"$f":"'3d'!G109","v":0},{"$f":"'3d'!H109","v":0},{"$f":"'3d'!G190+'3d'!H190","v":0},{"$f":"'3d'!I109","v":4.6511627906976806E-2},{"$f":"'3d'!J109","v":7.142857142857155E-2},{"$f":"'3d'!I190+'3d'!J190","v":6}]
[null,null,null,null,{"$f":"'3d'!D45","v":"War, civil war, terrorism, state-based violence …"},0,0,0,0,0,0,0,0,0,0,0,0,0,0,0,0,0,0,{"$f":"'3d'!E110","v":0.12500000000000006},{"$f":"'3d'!F110","v":0},{"$f":"'3d'!E191+'3d'!F191","v":1},{"$f":"'3d'!G110","v":0.10526315789473677},{"$f":"'3d'!H110","v":2.1739130434782587E-2},{"$f":"'3d'!G191+'3d'!H191","v":3},{"$f":"'3d'!I110","v":4.6511627906976806E-2},{"$f":"'3d'!J110","v":7.142857142857155E-2},{"$f":"'3d'!I191+'3d'!J191","v":6}]
[null,null,null,null,{"$f":"'3d'!D46","v":"Riots, demonstrations, public disorder …"},0,0,0,0,0,0,0,0,0,0,0,0,0,0,0,0,0,0,{"$f":"'3d'!E111","v":0},{"$f":"'3d'!F111","v":0},{"$f":"'3d'!E192+'3d'!F192","v":0},{"$f":"'3d'!G111","v":0},{"$f":"'3d'!H111","v":0},{"$f":"'3d'!G192+'3d'!H192","v":0},{"$f":"'3d'!I111","v":0},{"$f":"'3d'!J111","v":0},{"$f":"'3d'!I192+'3d'!J192","v":0}]
[null,null,null,null,{"$f":"'3d'!D47","v":"Disaster, accident, famine, earthquake, flood, hurricane, plane crash, car crash …"},0,0,0,0,0,0,0,0,0,0,0,0,0,0,0,0,0,0,{"$f":"'3d'!E112","v":0},{"$f":"'3d'!F112","v":0},{"$f":"'3d'!E193+'3d'!F193","v":0},{"$f":"'3d'!G112","v":0},{"$f":"'3d'!H112","v":2.1739130434782587E-2},{"$f":"'3d'!G193+'3d'!H193","v":1},{"$f":"'3d'!I112","v":4.6511627906976806E-2},{"$f":"'3d'!J112","v":5.3571428571428485E-2},{"$f":"'3d'!I193+'3d'!J193","v":5}]
[null,null,null,null,{"$f":"'3d'!D48","v":"Other stories on crime and violence (specify the subject in 'Comments' section of coding sheet)"},0,0,0,0,0,0,0,0,0,0,0,0,0,0,0,0,0,0,{"$f":"'3d'!E113","v":0},{"$f":"'3d'!F113","v":4.3478260869565216E-2},{"$f":"'3d'!E194+'3d'!F194","v":1},{"$f":"'3d'!G113","v":0},{"$f":"'3d'!H113","v":2.1739130434782587E-2},{"$f":"'3d'!G194+'3d'!H194","v":1},{"$f":"'3d'!I113","v":0},{"$f":"'3d'!J113","v":0},{"$f":"'3d'!I194+'3d'!J194","v":0}]
[null,null,null,null,{"$f":"'3d'!D49","v":"Celebrity news, births, marriages, deaths, obituaries, famous people, royalty …"},0,0,0,0,0,0,0,0,0,0,0,0,0,0,0,0,0,0,{"$f":"'3d'!E114","v":0},{"$f":"'3d'!F114","v":0},{"$f":"'3d'!E195+'3d'!F195","v":0},{"$f":"'3d'!G114","v":0},{"$f":"'3d'!H114","v":0},{"$f":"'3d'!G195+'3d'!H195","v":0},{"$f":"'3d'!I114","v":0},{"$f":"'3d'!J114","v":0},{"$f":"'3d'!I195+'3d'!J195","v":0}]
[null,null,null,null,{"$f":"'3d'!D50","v":"Arts, entertainment, leisure, cinema, theatre, books, dance …"},0,0,0,0,0,0,0,0,0,0,0,0,0,0,0,0,0,0,{"$f":"'3d'!E115","v":0.12500000000000006},{"$f":"'3d'!F115","v":0.1739130434782612},{"$f":"'3d'!E196+'3d'!F196","v":5},{"$f":"'3d'!G115","v":5.2631578947368383E-2},{"$f":"'3d'!H115","v":6.521739130434788E-2},{"$f":"'3d'!G196+'3d'!H196","v":4},{"$f":"'3d'!I115","v":4.6511627906976806E-2},{"$f":"'3d'!J115","v":5.3571428571428485E-2},{"$f":"'3d'!I196+'3d'!J196","v":5}]
[null,null,null,null,{"$f":"'3d'!D51","v":"Media, including new media (computers, internet), portrayal of women and/or men, pornography …"},0,0,0,0,0,0,0,0,0,0,0,0,0,0,0,0,0,0,{"$f":"'3d'!E116","v":0},{"$f":"'3d'!F116","v":0},{"$f":"'3d'!E197+'3d'!F197","v":0},{"$f":"'3d'!G116","v":0},{"$f":"'3d'!H116","v":0},{"$f":"'3d'!G197+'3d'!H197","v":0},{"$f":"'3d'!I116","v":0},{"$f":"'3d'!J116","v":0},{"$f":"'3d'!I197+'3d'!J197","v":0}]
[null,null,null,null,{"$f":"'3d'!D52","v":"Beauty contests, models, fashion, beauty aids, cosmetic surgery …"},0,0,0,0,0,0,0,0,0,0,0,0,0,0,0,0,0,0,{"$f":"'3d'!E117","v":0},{"$f":"'3d'!F117","v":0},{"$f":"'3d'!E198+'3d'!F198","v":0},{"$f":"'3d'!G117","v":0},{"$f":"'3d'!H117","v":0},{"$f":"'3d'!G198+'3d'!H198","v":0},{"$f":"'3d'!I117","v":0},{"$f":"'3d'!J117","v":0},{"$f":"'3d'!I198+'3d'!J198","v":0}]
[null,null,null,null,{"$f":"'3d'!D53","v":"Sports, events, players, facilities, training, policies, funding …"},0,0,0,0,0,0,0,0,0,0,0,0,0,0,0,0,0,0,{"$f":"'3d'!E118","v":0},{"$f":"'3d'!F118","v":8.6956521739130321E-2},{"$f":"'3d'!E199+'3d'!F199","v":2},{"$f":"'3d'!G118","v":5.2631578947368383E-2},{"$f":"'3d'!H118","v":0},{"$f":"'3d'!G199+'3d'!H199","v":1},{"$f":"'3d'!I118","v":0},{"$f":"'3d'!J118","v":1.7857142857142849E-2},{"$f":"'3d'!I199+'3d'!J199","v":1}]
[null,null,null,null,{"$f":"'3d'!D54","v":"Other stories on celebrities, arts, media (specify the subject in 'Comments' section of coding sheet)"},0,0,0,0,0,0,0,0,0,0,0,0,0,0,0,0,0,0,{"$f":"'3d'!E119","v":0.12500000000000006},{"$f":"'3d'!F119","v":0},{"$f":"'3d'!E200+'3d'!F200","v":1},{"$f":"'3d'!G119","v":0},{"$f":"'3d'!H119","v":0},{"$f":"'3d'!G200+'3d'!H200","v":0},{"$f":"'3d'!I119","v":0},{"$f":"'3d'!J119","v":3.5714285714285775E-2},{"$f":"'3d'!I200+'3d'!J200","v":2}]
[null,null,null,null,{"$f":"'3d'!D55","v":"News about the girl child, including, cultural attitudes and practices impinging on girls, education, health, economic exploitation, violence (ONLY WHERE EMPHASIS IS ON THE GIRL CHILD)…"},0,0,0,0,0,0,0,0,0,0,0,0,0,0,0,0,0,0,{"$f":"'3d'!E120","v":0},{"$f":"'3d'!F120","v":0},{"$f":"'3d'!E201+'3d'!F201","v":0},{"$f":"'3d'!G120","v":0},{"$f":"'3d'!H120","v":0},{"$f":"'3d'!G201+'3d'!H201","v":0},{"$f":"'3d'!I120","v":0},{"$f":"'3d'!J120","v":0},{"$f":"'3d'!I201+'3d'!J201","v":0}]
[null,null,null,null,{"$f":"'3d'!D56","v":"Other subject: use only if none of the above subject codes is suitable (specify the subject in 'Comments' section of coding sheet)"},0,0,0,0,0,0,0,0,0,0,0,0,0,0,0,0,0,0,{"$f":"'3d'!E121","v":0},{"$f":"'3d'!F121","v":0},{"$f":"'3d'!E202+'3d'!F202","v":0},{"$f":"'3d'!G121","v":0},{"$f":"'3d'!H121","v":0},{"$f":"'3d'!G202+'3d'!H202","v":0},{"$f":"'3d'!I121","v":2.3255813953488358E-2},{"$f":"'3d'!J121","v":0},{"$f":"'3d'!I202+'3d'!J202","v":1}]
[]
[null,null,null,null,"Total",null,null,null,null,null,null,null,null,null,null,null,null,null,null,null,null,null,null,null,null,{"$f":"SUM(Z6:Z58)","v":31},null,null,{"$f":"SUM(AC6:AC58)","v":65},null,null,{"$f":"SUM(AF6:AF58)","v":99}]